{"text_format":"1","workbook":"xlsx","n_sheets":19,"sheets":["Accueil","Données patrimoniales","Inventaire Référence","Cache inventaire","Données FPC","Mesures_FPC","Inventaire Contrôle","Potentiel EnR","Objectifs","Indicateurs","Actions","Actions_FPC","UREBA VS CdM","Hypothèses & Méthodo","Calcul obj relatif","Hypothèses","Categories","Suivi objectifs","ldv"],"not_rendered":{"charts":0,"images":7,"macros":1,"external_links":1,"defined_names":179,"comments":0,"pivot_tables":1},"unopened":[],"bounds":{"document_bytes":16777216,"sheet_cells":100000,"rows_first":2000,"rows_last":500,"rows_between":2000,"halvings":0,"cell_chars":16384,"cell_head_chars":4096},"cells_cut":0,"cells_raw":0,"read":"whole","date_system":"1900"}

{"sheet":"Accueil","index":0,"n_rows":113,"n_cols":12,"rows_kept":113,"cut":false,"hidden":false,"merged":[[36,1,36,5],[14,0,16,6],[34,1,34,5],[33,1,33,5],[32,1,32,5],[35,1,35,5]]}
[]
[]
[]
[null,null,null,null,null,null,null,null,2020,2010,"OUI",0]
[null,null,null,null,null,null,null,null,2021,2011,"NON",0.01]
[null,null,null,null,null,null,null,null,null,2012,null,0.02]
[null,null,null,null,null,null,null,null,null,2013,null,0.03]
[null,null,null,null,null,null,null,null,null,2014,null,0.04]
[null,null,null,null,null,null,null,null,null,2015,null,0.05]
[null,null,null,null,null,null,null,null,null,2016,null,0.06]
[null,null,null,null,null,null,null,null,null,2017,null,7.0000000000000007E-2]
[null,null,null,null,null,null,null,null,null,2018,null,0.08]
[null,null,null,null,null,null,null,null,null,2019,null,0.09]
[null,null,null,null,null,null,null,null,null,2020,null,0.1]
["Rapportage appels POLLEC 2020 et 2021",null,null,null,null,null,null,null,null,2021,null,0.11]
[null,null,null,null,null,null,null,null,null,2022,null,0.12]
[null,null,null,null,null,null,null,null,null,null,null,0.13]
[null,null,null,null,null,null,null,null,null,null,null,0.14000000000000001]
[null,null,null,null,null,"Version du 05/12/2022",null,null,null,null,null,0.15]
[null,null,null,null,null,null,null,null,null,null,null,0.16]
[null,null,null,null,null,null,null,null,null,null,null,0.17]
[null,null,null,null,null,null,null,null,null,null,null,0.18]
[null,null,null,"Commune",null,null,null,null,null,null,null,0.19]
[null,null,null,"Appel POLLEC",null,null,null,null,null,null,null,0.2]
[null,null,null,"Année de référence",2006,"Année de l'inventaire de référence des émissions (BEI) - Fixée à 2006 dans le cadre de POLLEC"]
[null,null,null,"Année de contrôle ",null,"Année de l'inventaire de contrôle des émissions (MEI)",null,null,null,null,null,0.21]
[null,null,null,"Année de lancement ",null,"Année lors le PAEDC a été approuvé par le Conseil Communal",null,null,null,null,null,0.22]
[null,null,null,"Année de suivi",null,"Année lors de laquelle le suivi a été réalisé (utile pour le rapportage)",null,null,null,null,null,0.23]
[null,null,null,"Inclusion de l'industrie dans le bilan? ",null,null,null,null,null,null,null,0.24]
[null,null,null,"Part du trafic autouroutier prise en compte",null,null,null,null,null,null,null,0.25]
[null,null,null,null,null,null,null,null,null,null,null,0.26]
["Comment importer les données issues de votre fichier FPC dans ce canevas?"]
["1."," Sélectionnez votre commune dans le menu déroulant"]
["2. "," Sélectionnez l'année de contrôle, l'année de lancement du PAEDC et l'année suivi dans les menus déroulants (champs à compléter obligatoirement pour que l'importation fonctionne)"]
["3. "," Importez les données de votre PAEDC fournies par FutureProofed City. Pour ce faire, cliquez sur le bouton \"Importer depuis rapport FPC\" ci-dessus et sélectionner dans la fenêtre pop-up le fichier fourni par FPC"]
["4."," Encodez les données manquantes dans les différentes feuilles du présent fichier (cellules bleues)"]
["5. "," Envoyez ce fichier via le formulaire disponible sur le Guichet des pouvoirs locaux"]
[]
[]
[null,null,null,null,null,null,null,null,null,null,null,0.27]
[null,null,null,null,null,null,null,null,null,null,null,0.28000000000000003]
[null,null,null,null,null,null,null,null,null,null,null,0.28999999999999998]
[null,null,null,null,null,null,null,null,null,null,null,0.3]
[null,null,null,null,null,null,null,null,null,null,null,0.31]
[null,null,null,null,null,null,null,null,null,null,null,0.32]
[null,null,null,null,null,null,null,null,null,null,null,0.33]
[null,null,null,null,null,null,null,null,null,null,null,0.34]
[null,null,null,null,null,null,null,null,null,null,null,0.35]
[null,null,null,null,null,null,null,null,null,null,null,0.36]
[null,null,null,null,null,null,null,null,null,null,null,0.37]
[null,null,null,null,null,null,null,null,null,null,null,0.38]
[null,null,null,null,null,null,null,null,null,null,null,0.39]
[null,null,null,null,null,null,null,null,null,null,null,0.4]
[null,null,null,null,null,null,null,null,null,null,null,0.41]
[null,null,null,null,null,null,null,null,null,null,null,0.42]
[null,null,null,null,null,null,null,null,null,null,null,0.43]
[null,null,null,null,null,null,null,null,null,null,null,0.44]
[null,null,null,null,null,null,null,null,null,null,null,0.45]
[null,null,null,null,null,null,null,null,null,null,null,0.46]
[null,null,null,null,null,null,null,null,null,null,null,0.47]
[null,null,null,null,null,null,null,null,null,null,null,0.48]
[null,null,null,null,null,null,null,null,null,null,null,0.49]
[null,null,null,null,null,null,null,null,null,null,null,0.5]
[null,null,null,null,null,null,null,null,null,null,null,0.51]
[null,null,null,null,null,null,null,null,null,null,null,0.52]
[null,null,null,null,null,null,null,null,null,null,null,0.53]
[null,null,null,null,null,null,null,null,null,null,null,0.54]
[null,null,null,null,null,null,null,null,null,null,null,0.55000000000000004]
[null,null,null,null,null,null,null,null,null,null,null,0.56000000000000005]
[null,null,null,null,null,null,null,null,null,null,null,0.56999999999999995]
[null,null,null,null,null,null,null,null,null,null,null,0.57999999999999996]
[null,null,null,null,null,null,null,null,null,null,null,0.59]
[null,null,null,null,null,null,null,null,null,null,null,0.6]
[null,null,null,null,null,null,null,null,null,null,null,0.61]
[null,null,null,null,null,null,null,null,null,null,null,0.62]
[null,null,null,null,null,null,null,null,null,null,null,0.63]
[null,null,null,null,null,null,null,null,null,null,null,0.64]
[null,null,null,null,null,null,null,null,null,null,null,0.65]
[null,null,null,null,null,null,null,null,null,null,null,0.66]
[null,null,null,null,null,null,null,null,null,null,null,0.67]
[null,null,null,null,null,null,null,null,null,null,null,0.68]
[null,null,null,null,null,null,null,null,null,null,null,0.69]
[null,null,null,null,null,null,null,null,null,null,null,0.7]
[null,null,null,null,null,null,null,null,null,null,null,0.71]
[null,null,null,null,null,null,null,null,null,null,null,0.72]
[null,null,null,null,null,null,null,null,null,null,null,0.73]
[null,null,null,null,null,null,null,null,null,null,null,0.74]
[null,null,null,null,null,null,null,null,null,null,null,0.75]
[null,null,null,null,null,null,null,null,null,null,null,0.76]
[null,null,null,null,null,null,null,null,null,null,null,0.77]
[null,null,null,null,null,null,null,null,null,null,null,0.78]
[null,null,null,null,null,null,null,null,null,null,null,0.79]
[null,null,null,null,null,null,null,null,null,null,null,0.8]
[null,null,null,null,null,null,null,null,null,null,null,0.81]
[null,null,null,null,null,null,null,null,null,null,null,0.82]
[null,null,null,null,null,null,null,null,null,null,null,0.83]
[null,null,null,null,null,null,null,null,null,null,null,0.84]
[null,null,null,null,null,null,null,null,null,null,null,0.85]
[null,null,null,null,null,null,null,null,null,null,null,0.86]
[null,null,null,null,null,null,null,null,null,null,null,0.87]
[null,null,null,null,null,null,null,null,null,null,null,0.88]
[null,null,null,null,null,null,null,null,null,null,null,0.89]
[null,null,null,null,null,null,null,null,null,null,null,0.9]
[null,null,null,null,null,null,null,null,null,null,null,0.91]
[null,null,null,null,null,null,null,null,null,null,null,0.92]
[null,null,null,null,null,null,null,null,null,null,null,0.93]
[null,null,null,null,null,null,null,null,null,null,null,0.94]
[null,null,null,null,null,null,null,null,null,null,null,0.95]
[null,null,null,null,null,null,null,null,null,null,null,0.96]
[null,null,null,null,null,null,null,null,null,null,null,0.97]
[null,null,null,null,null,null,null,null,null,null,null,0.98]
[null,null,null,null,null,null,null,null,null,null,null,0.99]
[null,null,null,null,null,null,null,null,null,null,null,1]

{"sheet":"Données patrimoniales","index":1,"n_rows":359,"n_cols":47,"rows_kept":359,"cut":false,"hidden":false,"merged":[[353,2,353,3],[354,2,354,3],[355,2,355,3],[356,2,356,3],[357,2,357,3],[358,2,358,3],[343,1,343,3],[344,1,344,3],[348,1,348,3],[349,1,349,3],[337,1,337,3],[338,1,338,3],[339,1,339,3],[340,1,340,3],[341,1,341,3],[342,1,342,3],[331,1,331,3],[332,1,332,3],[333,1,333,3],[334,1,334,3],[335,1,335,3],[336,1,336,3],[325,1,325,3],[326,1,326,3],[327,1,327,3],[328,1,328,3],[329,1,329,3],[330,1,330,3],[319,1,319,3],[320,1,320,3],[321,1,321,3],[322,1,322,3],[323,1,323,3],[324,1,324,3],[310,1,310,3],[314,1,314,3],[315,1,315,3],[316,1,316,3],[317,1,317,3],[318,1,318,3],[304,1,304,3],[305,1,305,3],[306,1,306,3],[307,1,307,3],[308,1,308,3],[309,1,309,3],[298,1,298,3],[299,1,299,3],[300,1,300,3],[301,1,301,3],[302,1,302,3],[303,1,303,3],[292,1,292,3],[293,1,293,3],[294,1,294,3],[295,1,295,3],[296,1,296,3],[297,1,297,3],[286,1,286,3],[287,1,287,3],[288,1,288,3],[289,1,289,3],[290,1,290,3],[291,1,291,3],[280,1,280,3],[281,1,281,3],[282,1,282,3],[283,1,283,3],[284,1,284,3],[285,1,285,3],[274,1,274,3],[275,1,275,3],[276,1,276,3],[277,1,277,3],[278,1,278,3],[279,1,279,3],[268,1,268,3],[269,1,269,3],[270,1,270,3],[271,1,271,3],[272,1,272,3],[273,1,273,3],[262,1,262,3],[263,1,263,3],[264,1,264,3],[265,1,265,3],[266,1,266,3],[267,1,267,3],[256,1,256,3],[257,1,257,3],[258,1,258,3],[259,1,259,3],[260,1,260,3],[261,1,261,3],[250,1,250,3],[251,1,251,3],[252,1,252,3],[253,1,253,3],[254,1,254,3],[255,1,255,3],[244,1,244,3],[245,1,245,3],[246,1,246,3],[247,1,247,3],[248,1,248,3],[249,1,249,3],[238,1,238,3],[239,1,239,3],[240,1,240,3],[241,1,241,3],[242,1,242,3],[243,1,243,3],[232,1,232,3],[233,1,233,3],[234,1,234,3],[235,1,235,3],[236,1,236,3],[237,1,237,3],[226,1,226,3],[227,1,227,3],[228,1,228,3],[229,1,229,3],[230,1,230,3],[231,1,231,3],[220,1,220,3],[221,1,221,3],[222,1,222,3],[223,1,223,3],[224,1,224,3],[225,1,225,3],[214,1,214,3],[215,1,215,3],[216,1,216,3],[217,1,217,3],[218,1,218,3],[219,1,219,3],[208,1,208,3],[209,1,209,3],[210,1,210,3],[211,1,211,3],[212,1,212,3],[213,1,213,3],[202,1,202,3],[203,1,203,3],[204,1,204,3],[205,1,205,3],[206,1,206,3],[207,1,207,3],[196,1,196,3],[197,1,197,3],[198,1,198,3],[199,1,199,3],[200,1,200,3],[201,1,201,3],[190,1,190,3],[191,1,191,3],[192,1,192,3],[193,1,193,3],[194,1,194,3],[195,1,195,3],[184,1,184,3],[185,1,185,3],[186,1,186,3],[187,1,187,3],[188,1,188,3],[189,1,189,3],[178,1,178,3],[179,1,179,3],[180,1,180,3],[181,1,181,3],[182,1,182,3],[183,1,183,3],[172,1,172,3],[173,1,173,3],[174,1,174,3],[175,1,175,3],[176,1,176,3],[177,1,177,3],[166,1,166,3],[167,1,167,3],[168,1,168,3],[169,1,169,3],[170,1,170,3],[171,1,171,3],[160,1,160,3],[161,1,161,3],[162,1,162,3],[163,1,163,3],[164,1,164,3],[165,1,165,3]]}
["Données de bilan patrimonial"]
[]
[null,"Navigation dans la feuille:"]
[]
[]
["Chauffage des bâtiments",null,null,null,null,null,null,null,null,null,null,null,null,null,null,null,null,null,null,null,null,null,null,null,null,"kWh"]
["N°","Nom du bâtiment","Vecteur","Unité",2006,2010,2011,2012,2013,2014,2015,2016,2017,2018,2019,2020,2021,2022,2023,"Branche d'activité (choisir dans la liste déroulante)","Superficie chauffée (m²)","Nombre d'emploi (ETP)","Nombre d'élèves (enseignement)","Nombre de lits (soins de santé, internat)",null,2006,2010,2011,2012,2013,2014,2015,2016,2017,2018,2019,2020,2021,2022,2023,2024,2025,2026,2027,2028,2029,2030]
[1,null,null,{"$f":"IF(ISNA(VLOOKUP(C8,Hypothèses!$D$6:$G$14,4,0)),\"\",VLOOKUP(C8,Hypothèses!$D$6:$G$14,4,0))","v":""},null,null,null,null,null,null,null,null,null,null,null,null,null,null,null,null,null,null,null,null,null,{"$f":"IF(ISNA(E8*VLOOKUP($C8,Hypothèses!$D$6:$F$13,3,0)),0,E8*VLOOKUP($C8,Hypothèses!$D$6:$F$13,3,0))","v":0},{"$f":"IF(ISNA(F8*VLOOKUP($C8,Hypothèses!$D$6:$F$13,3,0)),0,F8*VLOOKUP($C8,Hypothèses!$D$6:$F$13,3,0))","v":0},{"$f":"IF(ISNA(G8*VLOOKUP($C8,Hypothèses!$D$6:$F$13,3,0)),0,G8*VLOOKUP($C8,Hypothèses!$D$6:$F$13,3,0))","v":0},{"$f":"IF(ISNA(H8*VLOOKUP($C8,Hypothèses!$D$6:$F$13,3,0)),0,H8*VLOOKUP($C8,Hypothèses!$D$6:$F$13,3,0))","v":0},{"$f":"IF(ISNA(I8*VLOOKUP($C8,Hypothèses!$D$6:$F$13,3,0)),0,I8*VLOOKUP($C8,Hypothèses!$D$6:$F$13,3,0))","v":0},{"$f":"IF(ISNA(J8*VLOOKUP($C8,Hypothèses!$D$6:$F$13,3,0)),0,J8*VLOOKUP($C8,Hypothèses!$D$6:$F$13,3,0))","v":0},{"$f":"IF(ISNA(K8*VLOOKUP($C8,Hypothèses!$D$6:$F$13,3,0)),0,K8*VLOOKUP($C8,Hypothèses!$D$6:$F$13,3,0))","v":0},{"$f":"IF(ISNA(L8*VLOOKUP($C8,Hypothèses!$D$6:$F$13,3,0)),0,L8*VLOOKUP($C8,Hypothèses!$D$6:$F$13,3,0))","v":0},{"$f":"IF(ISNA(M8*VLOOKUP($C8,Hypothèses!$D$6:$F$13,3,0)),0,M8*VLOOKUP($C8,Hypothèses!$D$6:$F$13,3,0))","v":0},{"$f":"IF(ISNA(N8*VLOOKUP($C8,Hypothèses!$D$6:$F$13,3,0)),0,N8*VLOOKUP($C8,Hypothèses!$D$6:$F$13,3,0))","v":0},{"$f":"IF(ISNA(O8*VLOOKUP($C8,Hypothèses!$D$6:$F$13,3,0)),0,O8*VLOOKUP($C8,Hypothèses!$D$6:$F$13,3,0))","v":0},{"$f":"IF(ISNA(P8*VLOOKUP($C8,Hypothèses!$D$6:$F$13,3,0)),0,P8*VLOOKUP($C8,Hypothèses!$D$6:$F$13,3,0))","v":0},{"$f":"IF(ISNA(Q8*VLOOKUP($C8,Hypothèses!$D$6:$F$13,3,0)),0,Q8*VLOOKUP($C8,Hypothèses!$D$6:$F$13,3,0))","v":0},{"$f":"IF(ISNA(R8*VLOOKUP($C8,Hypothèses!$D$6:$F$13,3,0)),0,R8*VLOOKUP($C8,Hypothèses!$D$6:$F$13,3,0))","v":0},{"$f":"IF(ISNA(S8*VLOOKUP($C8,Hypothèses!$D$6:$F$13,3,0)),0,S8*VLOOKUP($C8,Hypothèses!$D$6:$F$13,3,0))","v":0},{"$f":"IF(ISNA(#REF!*VLOOKUP($C8,Hypothèses!$D$6:$F$13,3,0)),0,#REF!*VLOOKUP($C8,Hypothèses!$D$6:$F$13,3,0))","v":{"$error":"#REF!"}},{"$f":"IF(ISNA(#REF!*VLOOKUP($C8,Hypothèses!$D$6:$F$13,3,0)),0,#REF!*VLOOKUP($C8,Hypothèses!$D$6:$F$13,3,0))","v":{"$error":"#REF!"}},{"$f":"IF(ISNA(#REF!*VLOOKUP($C8,Hypothèses!$D$6:$F$13,3,0)),0,#REF!*VLOOKUP($C8,Hypothèses!$D$6:$F$13,3,0))","v":{"$error":"#REF!"}},{"$f":"IF(ISNA(#REF!*VLOOKUP($C8,Hypothèses!$D$6:$F$13,3,0)),0,#REF!*VLOOKUP($C8,Hypothèses!$D$6:$F$13,3,0))","v":{"$error":"#REF!"}},{"$f":"IF(ISNA(#REF!*VLOOKUP($C8,Hypothèses!$D$6:$F$13,3,0)),0,#REF!*VLOOKUP($C8,Hypothèses!$D$6:$F$13,3,0))","v":{"$error":"#REF!"}},{"$f":"IF(ISNA(#REF!*VLOOKUP($C8,Hypothèses!$D$6:$F$13,3,0)),0,#REF!*VLOOKUP($C8,Hypothèses!$D$6:$F$13,3,0))","v":{"$error":"#REF!"}},{"$f":"IF(ISNA(#REF!*VLOOKUP($C8,Hypothèses!$D$6:$F$13,3,0)),0,#REF!*VLOOKUP($C8,Hypothèses!$D$6:$F$13,3,0))","v":{"$error":"#REF!"}}]
[2,null,null,{"$f":"IF(ISNA(VLOOKUP(C9,Hypothèses!$D$6:$G$14,4,0)),\"\",VLOOKUP(C9,Hypothèses!$D$6:$G$14,4,0))","v":""},null,null,null,null,null,null,null,null,null,null,null,null,null,null,null,null,null,null,null,null,null,{"$f":"IF(ISNA(E9*VLOOKUP($C9,Hypothèses!$D$6:$F$13,3,0)),0,E9*VLOOKUP($C9,Hypothèses!$D$6:$F$13,3,0))","v":0},{"$f":"IF(ISNA(F9*VLOOKUP($C9,Hypothèses!$D$6:$F$13,3,0)),0,F9*VLOOKUP($C9,Hypothèses!$D$6:$F$13,3,0))","v":0},{"$f":"IF(ISNA(G9*VLOOKUP($C9,Hypothèses!$D$6:$F$13,3,0)),0,G9*VLOOKUP($C9,Hypothèses!$D$6:$F$13,3,0))","v":0},{"$f":"IF(ISNA(H9*VLOOKUP($C9,Hypothèses!$D$6:$F$13,3,0)),0,H9*VLOOKUP($C9,Hypothèses!$D$6:$F$13,3,0))","v":0},{"$f":"IF(ISNA(I9*VLOOKUP($C9,Hypothèses!$D$6:$F$13,3,0)),0,I9*VLOOKUP($C9,Hypothèses!$D$6:$F$13,3,0))","v":0},{"$f":"IF(ISNA(J9*VLOOKUP($C9,Hypothèses!$D$6:$F$13,3,0)),0,J9*VLOOKUP($C9,Hypothèses!$D$6:$F$13,3,0))","v":0},{"$f":"IF(ISNA(K9*VLOOKUP($C9,Hypothèses!$D$6:$F$13,3,0)),0,K9*VLOOKUP($C9,Hypothèses!$D$6:$F$13,3,0))","v":0},{"$f":"IF(ISNA(L9*VLOOKUP($C9,Hypothèses!$D$6:$F$13,3,0)),0,L9*VLOOKUP($C9,Hypothèses!$D$6:$F$13,3,0))","v":0},{"$f":"IF(ISNA(M9*VLOOKUP($C9,Hypothèses!$D$6:$F$13,3,0)),0,M9*VLOOKUP($C9,Hypothèses!$D$6:$F$13,3,0))","v":0},{"$f":"IF(ISNA(N9*VLOOKUP($C9,Hypothèses!$D$6:$F$13,3,0)),0,N9*VLOOKUP($C9,Hypothèses!$D$6:$F$13,3,0))","v":0},{"$f":"IF(ISNA(O9*VLOOKUP($C9,Hypothèses!$D$6:$F$13,3,0)),0,O9*VLOOKUP($C9,Hypothèses!$D$6:$F$13,3,0))","v":0},{"$f":"IF(ISNA(P9*VLOOKUP($C9,Hypothèses!$D$6:$F$13,3,0)),0,P9*VLOOKUP($C9,Hypothèses!$D$6:$F$13,3,0))","v":0},{"$f":"IF(ISNA(Q9*VLOOKUP($C9,Hypothèses!$D$6:$F$13,3,0)),0,Q9*VLOOKUP($C9,Hypothèses!$D$6:$F$13,3,0))","v":0},{"$f":"IF(ISNA(R9*VLOOKUP($C9,Hypothèses!$D$6:$F$13,3,0)),0,R9*VLOOKUP($C9,Hypothèses!$D$6:$F$13,3,0))","v":0},{"$f":"IF(ISNA(S9*VLOOKUP($C9,Hypothèses!$D$6:$F$13,3,0)),0,S9*VLOOKUP($C9,Hypothèses!$D$6:$F$13,3,0))","v":0},{"$f":"IF(ISNA(#REF!*VLOOKUP($C9,Hypothèses!$D$6:$F$13,3,0)),0,#REF!*VLOOKUP($C9,Hypothèses!$D$6:$F$13,3,0))","v":{"$error":"#REF!"}},{"$f":"IF(ISNA(#REF!*VLOOKUP($C9,Hypothèses!$D$6:$F$13,3,0)),0,#REF!*VLOOKUP($C9,Hypothèses!$D$6:$F$13,3,0))","v":{"$error":"#REF!"}},{"$f":"IF(ISNA(#REF!*VLOOKUP($C9,Hypothèses!$D$6:$F$13,3,0)),0,#REF!*VLOOKUP($C9,Hypothèses!$D$6:$F$13,3,0))","v":{"$error":"#REF!"}},{"$f":"IF(ISNA(#REF!*VLOOKUP($C9,Hypothèses!$D$6:$F$13,3,0)),0,#REF!*VLOOKUP($C9,Hypothèses!$D$6:$F$13,3,0))","v":{"$error":"#REF!"}},{"$f":"IF(ISNA(#REF!*VLOOKUP($C9,Hypothèses!$D$6:$F$13,3,0)),0,#REF!*VLOOKUP($C9,Hypothèses!$D$6:$F$13,3,0))","v":{"$error":"#REF!"}},{"$f":"IF(ISNA(#REF!*VLOOKUP($C9,Hypothèses!$D$6:$F$13,3,0)),0,#REF!*VLOOKUP($C9,Hypothèses!$D$6:$F$13,3,0))","v":{"$error":"#REF!"}},{"$f":"IF(ISNA(#REF!*VLOOKUP($C9,Hypothèses!$D$6:$F$13,3,0)),0,#REF!*VLOOKUP($C9,Hypothèses!$D$6:$F$13,3,0))","v":{"$error":"#REF!"}}]
[3,null,null,{"$f":"IF(ISNA(VLOOKUP(C10,Hypothèses!$D$6:$G$14,4,0)),\"\",VLOOKUP(C10,Hypothèses!$D$6:$G$14,4,0))","v":""},null,null,null,null,null,null,null,null,null,null,null,null,null,null,null,null,null,null,null,null,null,{"$f":"IF(ISNA(E10*VLOOKUP($C10,Hypothèses!$D$6:$F$13,3,0)),0,E10*VLOOKUP($C10,Hypothèses!$D$6:$F$13,3,0))","v":0},{"$f":"IF(ISNA(F10*VLOOKUP($C10,Hypothèses!$D$6:$F$13,3,0)),0,F10*VLOOKUP($C10,Hypothèses!$D$6:$F$13,3,0))","v":0},{"$f":"IF(ISNA(G10*VLOOKUP($C10,Hypothèses!$D$6:$F$13,3,0)),0,G10*VLOOKUP($C10,Hypothèses!$D$6:$F$13,3,0))","v":0},{"$f":"IF(ISNA(H10*VLOOKUP($C10,Hypothèses!$D$6:$F$13,3,0)),0,H10*VLOOKUP($C10,Hypothèses!$D$6:$F$13,3,0))","v":0},{"$f":"IF(ISNA(I10*VLOOKUP($C10,Hypothèses!$D$6:$F$13,3,0)),0,I10*VLOOKUP($C10,Hypothèses!$D$6:$F$13,3,0))","v":0},{"$f":"IF(ISNA(J10*VLOOKUP($C10,Hypothèses!$D$6:$F$13,3,0)),0,J10*VLOOKUP($C10,Hypothèses!$D$6:$F$13,3,0))","v":0},{"$f":"IF(ISNA(K10*VLOOKUP($C10,Hypothèses!$D$6:$F$13,3,0)),0,K10*VLOOKUP($C10,Hypothèses!$D$6:$F$13,3,0))","v":0},{"$f":"IF(ISNA(L10*VLOOKUP($C10,Hypothèses!$D$6:$F$13,3,0)),0,L10*VLOOKUP($C10,Hypothèses!$D$6:$F$13,3,0))","v":0},{"$f":"IF(ISNA(M10*VLOOKUP($C10,Hypothèses!$D$6:$F$13,3,0)),0,M10*VLOOKUP($C10,Hypothèses!$D$6:$F$13,3,0))","v":0},{"$f":"IF(ISNA(N10*VLOOKUP($C10,Hypothèses!$D$6:$F$13,3,0)),0,N10*VLOOKUP($C10,Hypothèses!$D$6:$F$13,3,0))","v":0},{"$f":"IF(ISNA(O10*VLOOKUP($C10,Hypothèses!$D$6:$F$13,3,0)),0,O10*VLOOKUP($C10,Hypothèses!$D$6:$F$13,3,0))","v":0},{"$f":"IF(ISNA(P10*VLOOKUP($C10,Hypothèses!$D$6:$F$13,3,0)),0,P10*VLOOKUP($C10,Hypothèses!$D$6:$F$13,3,0))","v":0},{"$f":"IF(ISNA(Q10*VLOOKUP($C10,Hypothèses!$D$6:$F$13,3,0)),0,Q10*VLOOKUP($C10,Hypothèses!$D$6:$F$13,3,0))","v":0},{"$f":"IF(ISNA(R10*VLOOKUP($C10,Hypothèses!$D$6:$F$13,3,0)),0,R10*VLOOKUP($C10,Hypothèses!$D$6:$F$13,3,0))","v":0},{"$f":"IF(ISNA(S10*VLOOKUP($C10,Hypothèses!$D$6:$F$13,3,0)),0,S10*VLOOKUP($C10,Hypothèses!$D$6:$F$13,3,0))","v":0},{"$f":"IF(ISNA(#REF!*VLOOKUP($C10,Hypothèses!$D$6:$F$13,3,0)),0,#REF!*VLOOKUP($C10,Hypothèses!$D$6:$F$13,3,0))","v":{"$error":"#REF!"}},{"$f":"IF(ISNA(#REF!*VLOOKUP($C10,Hypothèses!$D$6:$F$13,3,0)),0,#REF!*VLOOKUP($C10,Hypothèses!$D$6:$F$13,3,0))","v":{"$error":"#REF!"}},{"$f":"IF(ISNA(#REF!*VLOOKUP($C10,Hypothèses!$D$6:$F$13,3,0)),0,#REF!*VLOOKUP($C10,Hypothèses!$D$6:$F$13,3,0))","v":{"$error":"#REF!"}},{"$f":"IF(ISNA(#REF!*VLOOKUP($C10,Hypothèses!$D$6:$F$13,3,0)),0,#REF!*VLOOKUP($C10,Hypothèses!$D$6:$F$13,3,0))","v":{"$error":"#REF!"}},{"$f":"IF(ISNA(#REF!*VLOOKUP($C10,Hypothèses!$D$6:$F$13,3,0)),0,#REF!*VLOOKUP($C10,Hypothèses!$D$6:$F$13,3,0))","v":{"$error":"#REF!"}},{"$f":"IF(ISNA(#REF!*VLOOKUP($C10,Hypothèses!$D$6:$F$13,3,0)),0,#REF!*VLOOKUP($C10,Hypothèses!$D$6:$F$13,3,0))","v":{"$error":"#REF!"}},{"$f":"IF(ISNA(#REF!*VLOOKUP($C10,Hypothèses!$D$6:$F$13,3,0)),0,#REF!*VLOOKUP($C10,Hypothèses!$D$6:$F$13,3,0))","v":{"$error":"#REF!"}}]
[4,null,null,{"$f":"IF(ISNA(VLOOKUP(C11,Hypothèses!$D$6:$G$14,4,0)),\"\",VLOOKUP(C11,Hypothèses!$D$6:$G$14,4,0))","v":""},null,null,null,null,null,null,null,null,null,null,null,null,null,null,null,null,null,null,null,null,null,{"$f":"IF(ISNA(E11*VLOOKUP($C11,Hypothèses!$D$6:$F$13,3,0)),0,E11*VLOOKUP($C11,Hypothèses!$D$6:$F$13,3,0))","v":0},{"$f":"IF(ISNA(F11*VLOOKUP($C11,Hypothèses!$D$6:$F$13,3,0)),0,F11*VLOOKUP($C11,Hypothèses!$D$6:$F$13,3,0))","v":0},{"$f":"IF(ISNA(G11*VLOOKUP($C11,Hypothèses!$D$6:$F$13,3,0)),0,G11*VLOOKUP($C11,Hypothèses!$D$6:$F$13,3,0))","v":0},{"$f":"IF(ISNA(H11*VLOOKUP($C11,Hypothèses!$D$6:$F$13,3,0)),0,H11*VLOOKUP($C11,Hypothèses!$D$6:$F$13,3,0))","v":0},{"$f":"IF(ISNA(I11*VLOOKUP($C11,Hypothèses!$D$6:$F$13,3,0)),0,I11*VLOOKUP($C11,Hypothèses!$D$6:$F$13,3,0))","v":0},{"$f":"IF(ISNA(J11*VLOOKUP($C11,Hypothèses!$D$6:$F$13,3,0)),0,J11*VLOOKUP($C11,Hypothèses!$D$6:$F$13,3,0))","v":0},{"$f":"IF(ISNA(K11*VLOOKUP($C11,Hypothèses!$D$6:$F$13,3,0)),0,K11*VLOOKUP($C11,Hypothèses!$D$6:$F$13,3,0))","v":0},{"$f":"IF(ISNA(L11*VLOOKUP($C11,Hypothèses!$D$6:$F$13,3,0)),0,L11*VLOOKUP($C11,Hypothèses!$D$6:$F$13,3,0))","v":0},{"$f":"IF(ISNA(M11*VLOOKUP($C11,Hypothèses!$D$6:$F$13,3,0)),0,M11*VLOOKUP($C11,Hypothèses!$D$6:$F$13,3,0))","v":0},{"$f":"IF(ISNA(N11*VLOOKUP($C11,Hypothèses!$D$6:$F$13,3,0)),0,N11*VLOOKUP($C11,Hypothèses!$D$6:$F$13,3,0))","v":0},{"$f":"IF(ISNA(O11*VLOOKUP($C11,Hypothèses!$D$6:$F$13,3,0)),0,O11*VLOOKUP($C11,Hypothèses!$D$6:$F$13,3,0))","v":0},{"$f":"IF(ISNA(P11*VLOOKUP($C11,Hypothèses!$D$6:$F$13,3,0)),0,P11*VLOOKUP($C11,Hypothèses!$D$6:$F$13,3,0))","v":0},{"$f":"IF(ISNA(Q11*VLOOKUP($C11,Hypothèses!$D$6:$F$13,3,0)),0,Q11*VLOOKUP($C11,Hypothèses!$D$6:$F$13,3,0))","v":0},{"$f":"IF(ISNA(R11*VLOOKUP($C11,Hypothèses!$D$6:$F$13,3,0)),0,R11*VLOOKUP($C11,Hypothèses!$D$6:$F$13,3,0))","v":0},{"$f":"IF(ISNA(S11*VLOOKUP($C11,Hypothèses!$D$6:$F$13,3,0)),0,S11*VLOOKUP($C11,Hypothèses!$D$6:$F$13,3,0))","v":0},{"$f":"IF(ISNA(#REF!*VLOOKUP($C11,Hypothèses!$D$6:$F$13,3,0)),0,#REF!*VLOOKUP($C11,Hypothèses!$D$6:$F$13,3,0))","v":{"$error":"#REF!"}},{"$f":"IF(ISNA(#REF!*VLOOKUP($C11,Hypothèses!$D$6:$F$13,3,0)),0,#REF!*VLOOKUP($C11,Hypothèses!$D$6:$F$13,3,0))","v":{"$error":"#REF!"}},{"$f":"IF(ISNA(#REF!*VLOOKUP($C11,Hypothèses!$D$6:$F$13,3,0)),0,#REF!*VLOOKUP($C11,Hypothèses!$D$6:$F$13,3,0))","v":{"$error":"#REF!"}},{"$f":"IF(ISNA(#REF!*VLOOKUP($C11,Hypothèses!$D$6:$F$13,3,0)),0,#REF!*VLOOKUP($C11,Hypothèses!$D$6:$F$13,3,0))","v":{"$error":"#REF!"}},{"$f":"IF(ISNA(#REF!*VLOOKUP($C11,Hypothèses!$D$6:$F$13,3,0)),0,#REF!*VLOOKUP($C11,Hypothèses!$D$6:$F$13,3,0))","v":{"$error":"#REF!"}},{"$f":"IF(ISNA(#REF!*VLOOKUP($C11,Hypothèses!$D$6:$F$13,3,0)),0,#REF!*VLOOKUP($C11,Hypothèses!$D$6:$F$13,3,0))","v":{"$error":"#REF!"}},{"$f":"IF(ISNA(#REF!*VLOOKUP($C11,Hypothèses!$D$6:$F$13,3,0)),0,#REF!*VLOOKUP($C11,Hypothèses!$D$6:$F$13,3,0))","v":{"$error":"#REF!"}}]
[5,null,null,{"$f":"IF(ISNA(VLOOKUP(C12,Hypothèses!$D$6:$G$14,4,0)),\"\",VLOOKUP(C12,Hypothèses!$D$6:$G$14,4,0))","v":""},null,null,null,null,null,null,null,null,null,null,null,null,null,null,null,null,null,null,null,null,null,{"$f":"IF(ISNA(E12*VLOOKUP($C12,Hypothèses!$D$6:$F$13,3,0)),0,E12*VLOOKUP($C12,Hypothèses!$D$6:$F$13,3,0))","v":0},{"$f":"IF(ISNA(F12*VLOOKUP($C12,Hypothèses!$D$6:$F$13,3,0)),0,F12*VLOOKUP($C12,Hypothèses!$D$6:$F$13,3,0))","v":0},{"$f":"IF(ISNA(G12*VLOOKUP($C12,Hypothèses!$D$6:$F$13,3,0)),0,G12*VLOOKUP($C12,Hypothèses!$D$6:$F$13,3,0))","v":0},{"$f":"IF(ISNA(H12*VLOOKUP($C12,Hypothèses!$D$6:$F$13,3,0)),0,H12*VLOOKUP($C12,Hypothèses!$D$6:$F$13,3,0))","v":0},{"$f":"IF(ISNA(I12*VLOOKUP($C12,Hypothèses!$D$6:$F$13,3,0)),0,I12*VLOOKUP($C12,Hypothèses!$D$6:$F$13,3,0))","v":0},{"$f":"IF(ISNA(J12*VLOOKUP($C12,Hypothèses!$D$6:$F$13,3,0)),0,J12*VLOOKUP($C12,Hypothèses!$D$6:$F$13,3,0))","v":0},{"$f":"IF(ISNA(K12*VLOOKUP($C12,Hypothèses!$D$6:$F$13,3,0)),0,K12*VLOOKUP($C12,Hypothèses!$D$6:$F$13,3,0))","v":0},{"$f":"IF(ISNA(L12*VLOOKUP($C12,Hypothèses!$D$6:$F$13,3,0)),0,L12*VLOOKUP($C12,Hypothèses!$D$6:$F$13,3,0))","v":0},{"$f":"IF(ISNA(M12*VLOOKUP($C12,Hypothèses!$D$6:$F$13,3,0)),0,M12*VLOOKUP($C12,Hypothèses!$D$6:$F$13,3,0))","v":0},{"$f":"IF(ISNA(N12*VLOOKUP($C12,Hypothèses!$D$6:$F$13,3,0)),0,N12*VLOOKUP($C12,Hypothèses!$D$6:$F$13,3,0))","v":0},{"$f":"IF(ISNA(O12*VLOOKUP($C12,Hypothèses!$D$6:$F$13,3,0)),0,O12*VLOOKUP($C12,Hypothèses!$D$6:$F$13,3,0))","v":0},{"$f":"IF(ISNA(P12*VLOOKUP($C12,Hypothèses!$D$6:$F$13,3,0)),0,P12*VLOOKUP($C12,Hypothèses!$D$6:$F$13,3,0))","v":0},{"$f":"IF(ISNA(Q12*VLOOKUP($C12,Hypothèses!$D$6:$F$13,3,0)),0,Q12*VLOOKUP($C12,Hypothèses!$D$6:$F$13,3,0))","v":0},{"$f":"IF(ISNA(R12*VLOOKUP($C12,Hypothèses!$D$6:$F$13,3,0)),0,R12*VLOOKUP($C12,Hypothèses!$D$6:$F$13,3,0))","v":0},{"$f":"IF(ISNA(S12*VLOOKUP($C12,Hypothèses!$D$6:$F$13,3,0)),0,S12*VLOOKUP($C12,Hypothèses!$D$6:$F$13,3,0))","v":0},{"$f":"IF(ISNA(#REF!*VLOOKUP($C12,Hypothèses!$D$6:$F$13,3,0)),0,#REF!*VLOOKUP($C12,Hypothèses!$D$6:$F$13,3,0))","v":{"$error":"#REF!"}},{"$f":"IF(ISNA(#REF!*VLOOKUP($C12,Hypothèses!$D$6:$F$13,3,0)),0,#REF!*VLOOKUP($C12,Hypothèses!$D$6:$F$13,3,0))","v":{"$error":"#REF!"}},{"$f":"IF(ISNA(#REF!*VLOOKUP($C12,Hypothèses!$D$6:$F$13,3,0)),0,#REF!*VLOOKUP($C12,Hypothèses!$D$6:$F$13,3,0))","v":{"$error":"#REF!"}},{"$f":"IF(ISNA(#REF!*VLOOKUP($C12,Hypothèses!$D$6:$F$13,3,0)),0,#REF!*VLOOKUP($C12,Hypothèses!$D$6:$F$13,3,0))","v":{"$error":"#REF!"}},{"$f":"IF(ISNA(#REF!*VLOOKUP($C12,Hypothèses!$D$6:$F$13,3,0)),0,#REF!*VLOOKUP($C12,Hypothèses!$D$6:$F$13,3,0))","v":{"$error":"#REF!"}},{"$f":"IF(ISNA(#REF!*VLOOKUP($C12,Hypothèses!$D$6:$F$13,3,0)),0,#REF!*VLOOKUP($C12,Hypothèses!$D$6:$F$13,3,0))","v":{"$error":"#REF!"}},{"$f":"IF(ISNA(#REF!*VLOOKUP($C12,Hypothèses!$D$6:$F$13,3,0)),0,#REF!*VLOOKUP($C12,Hypothèses!$D$6:$F$13,3,0))","v":{"$error":"#REF!"}}]
[6,null,null,{"$f":"IF(ISNA(VLOOKUP(C13,Hypothèses!$D$6:$G$14,4,0)),\"\",VLOOKUP(C13,Hypothèses!$D$6:$G$14,4,0))","v":""},null,null,null,null,null,null,null,null,null,null,null,null,null,null,null,null,null,null,null,null,null,{"$f":"IF(ISNA(E13*VLOOKUP($C13,Hypothèses!$D$6:$F$13,3,0)),0,E13*VLOOKUP($C13,Hypothèses!$D$6:$F$13,3,0))","v":0},{"$f":"IF(ISNA(F13*VLOOKUP($C13,Hypothèses!$D$6:$F$13,3,0)),0,F13*VLOOKUP($C13,Hypothèses!$D$6:$F$13,3,0))","v":0},{"$f":"IF(ISNA(G13*VLOOKUP($C13,Hypothèses!$D$6:$F$13,3,0)),0,G13*VLOOKUP($C13,Hypothèses!$D$6:$F$13,3,0))","v":0},{"$f":"IF(ISNA(H13*VLOOKUP($C13,Hypothèses!$D$6:$F$13,3,0)),0,H13*VLOOKUP($C13,Hypothèses!$D$6:$F$13,3,0))","v":0},{"$f":"IF(ISNA(I13*VLOOKUP($C13,Hypothèses!$D$6:$F$13,3,0)),0,I13*VLOOKUP($C13,Hypothèses!$D$6:$F$13,3,0))","v":0},{"$f":"IF(ISNA(J13*VLOOKUP($C13,Hypothèses!$D$6:$F$13,3,0)),0,J13*VLOOKUP($C13,Hypothèses!$D$6:$F$13,3,0))","v":0},{"$f":"IF(ISNA(K13*VLOOKUP($C13,Hypothèses!$D$6:$F$13,3,0)),0,K13*VLOOKUP($C13,Hypothèses!$D$6:$F$13,3,0))","v":0},{"$f":"IF(ISNA(L13*VLOOKUP($C13,Hypothèses!$D$6:$F$13,3,0)),0,L13*VLOOKUP($C13,Hypothèses!$D$6:$F$13,3,0))","v":0},{"$f":"IF(ISNA(M13*VLOOKUP($C13,Hypothèses!$D$6:$F$13,3,0)),0,M13*VLOOKUP($C13,Hypothèses!$D$6:$F$13,3,0))","v":0},{"$f":"IF(ISNA(N13*VLOOKUP($C13,Hypothèses!$D$6:$F$13,3,0)),0,N13*VLOOKUP($C13,Hypothèses!$D$6:$F$13,3,0))","v":0},{"$f":"IF(ISNA(O13*VLOOKUP($C13,Hypothèses!$D$6:$F$13,3,0)),0,O13*VLOOKUP($C13,Hypothèses!$D$6:$F$13,3,0))","v":0},{"$f":"IF(ISNA(P13*VLOOKUP($C13,Hypothèses!$D$6:$F$13,3,0)),0,P13*VLOOKUP($C13,Hypothèses!$D$6:$F$13,3,0))","v":0},{"$f":"IF(ISNA(Q13*VLOOKUP($C13,Hypothèses!$D$6:$F$13,3,0)),0,Q13*VLOOKUP($C13,Hypothèses!$D$6:$F$13,3,0))","v":0},{"$f":"IF(ISNA(R13*VLOOKUP($C13,Hypothèses!$D$6:$F$13,3,0)),0,R13*VLOOKUP($C13,Hypothèses!$D$6:$F$13,3,0))","v":0},{"$f":"IF(ISNA(S13*VLOOKUP($C13,Hypothèses!$D$6:$F$13,3,0)),0,S13*VLOOKUP($C13,Hypothèses!$D$6:$F$13,3,0))","v":0},{"$f":"IF(ISNA(#REF!*VLOOKUP($C13,Hypothèses!$D$6:$F$13,3,0)),0,#REF!*VLOOKUP($C13,Hypothèses!$D$6:$F$13,3,0))","v":{"$error":"#REF!"}},{"$f":"IF(ISNA(#REF!*VLOOKUP($C13,Hypothèses!$D$6:$F$13,3,0)),0,#REF!*VLOOKUP($C13,Hypothèses!$D$6:$F$13,3,0))","v":{"$error":"#REF!"}},{"$f":"IF(ISNA(#REF!*VLOOKUP($C13,Hypothèses!$D$6:$F$13,3,0)),0,#REF!*VLOOKUP($C13,Hypothèses!$D$6:$F$13,3,0))","v":{"$error":"#REF!"}},{"$f":"IF(ISNA(#REF!*VLOOKUP($C13,Hypothèses!$D$6:$F$13,3,0)),0,#REF!*VLOOKUP($C13,Hypothèses!$D$6:$F$13,3,0))","v":{"$error":"#REF!"}},{"$f":"IF(ISNA(#REF!*VLOOKUP($C13,Hypothèses!$D$6:$F$13,3,0)),0,#REF!*VLOOKUP($C13,Hypothèses!$D$6:$F$13,3,0))","v":{"$error":"#REF!"}},{"$f":"IF(ISNA(#REF!*VLOOKUP($C13,Hypothèses!$D$6:$F$13,3,0)),0,#REF!*VLOOKUP($C13,Hypothèses!$D$6:$F$13,3,0))","v":{"$error":"#REF!"}},{"$f":"IF(ISNA(#REF!*VLOOKUP($C13,Hypothèses!$D$6:$F$13,3,0)),0,#REF!*VLOOKUP($C13,Hypothèses!$D$6:$F$13,3,0))","v":{"$error":"#REF!"}}]
[7,null,null,{"$f":"IF(ISNA(VLOOKUP(C14,Hypothèses!$D$6:$G$14,4,0)),\"\",VLOOKUP(C14,Hypothèses!$D$6:$G$14,4,0))","v":""},null,null,null,null,null,null,null,null,null,null,null,null,null,null,null,null,null,null,null,null,null,{"$f":"IF(ISNA(E14*VLOOKUP($C14,Hypothèses!$D$6:$F$13,3,0)),0,E14*VLOOKUP($C14,Hypothèses!$D$6:$F$13,3,0))","v":0},{"$f":"IF(ISNA(F14*VLOOKUP($C14,Hypothèses!$D$6:$F$13,3,0)),0,F14*VLOOKUP($C14,Hypothèses!$D$6:$F$13,3,0))","v":0},{"$f":"IF(ISNA(G14*VLOOKUP($C14,Hypothèses!$D$6:$F$13,3,0)),0,G14*VLOOKUP($C14,Hypothèses!$D$6:$F$13,3,0))","v":0},{"$f":"IF(ISNA(H14*VLOOKUP($C14,Hypothèses!$D$6:$F$13,3,0)),0,H14*VLOOKUP($C14,Hypothèses!$D$6:$F$13,3,0))","v":0},{"$f":"IF(ISNA(I14*VLOOKUP($C14,Hypothèses!$D$6:$F$13,3,0)),0,I14*VLOOKUP($C14,Hypothèses!$D$6:$F$13,3,0))","v":0},{"$f":"IF(ISNA(J14*VLOOKUP($C14,Hypothèses!$D$6:$F$13,3,0)),0,J14*VLOOKUP($C14,Hypothèses!$D$6:$F$13,3,0))","v":0},{"$f":"IF(ISNA(K14*VLOOKUP($C14,Hypothèses!$D$6:$F$13,3,0)),0,K14*VLOOKUP($C14,Hypothèses!$D$6:$F$13,3,0))","v":0},{"$f":"IF(ISNA(L14*VLOOKUP($C14,Hypothèses!$D$6:$F$13,3,0)),0,L14*VLOOKUP($C14,Hypothèses!$D$6:$F$13,3,0))","v":0},{"$f":"IF(ISNA(M14*VLOOKUP($C14,Hypothèses!$D$6:$F$13,3,0)),0,M14*VLOOKUP($C14,Hypothèses!$D$6:$F$13,3,0))","v":0},{"$f":"IF(ISNA(N14*VLOOKUP($C14,Hypothèses!$D$6:$F$13,3,0)),0,N14*VLOOKUP($C14,Hypothèses!$D$6:$F$13,3,0))","v":0},{"$f":"IF(ISNA(O14*VLOOKUP($C14,Hypothèses!$D$6:$F$13,3,0)),0,O14*VLOOKUP($C14,Hypothèses!$D$6:$F$13,3,0))","v":0},{"$f":"IF(ISNA(P14*VLOOKUP($C14,Hypothèses!$D$6:$F$13,3,0)),0,P14*VLOOKUP($C14,Hypothèses!$D$6:$F$13,3,0))","v":0},{"$f":"IF(ISNA(Q14*VLOOKUP($C14,Hypothèses!$D$6:$F$13,3,0)),0,Q14*VLOOKUP($C14,Hypothèses!$D$6:$F$13,3,0))","v":0},{"$f":"IF(ISNA(R14*VLOOKUP($C14,Hypothèses!$D$6:$F$13,3,0)),0,R14*VLOOKUP($C14,Hypothèses!$D$6:$F$13,3,0))","v":0},{"$f":"IF(ISNA(S14*VLOOKUP($C14,Hypothèses!$D$6:$F$13,3,0)),0,S14*VLOOKUP($C14,Hypothèses!$D$6:$F$13,3,0))","v":0},{"$f":"IF(ISNA(#REF!*VLOOKUP($C14,Hypothèses!$D$6:$F$13,3,0)),0,#REF!*VLOOKUP($C14,Hypothèses!$D$6:$F$13,3,0))","v":{"$error":"#REF!"}},{"$f":"IF(ISNA(#REF!*VLOOKUP($C14,Hypothèses!$D$6:$F$13,3,0)),0,#REF!*VLOOKUP($C14,Hypothèses!$D$6:$F$13,3,0))","v":{"$error":"#REF!"}},{"$f":"IF(ISNA(#REF!*VLOOKUP($C14,Hypothèses!$D$6:$F$13,3,0)),0,#REF!*VLOOKUP($C14,Hypothèses!$D$6:$F$13,3,0))","v":{"$error":"#REF!"}},{"$f":"IF(ISNA(#REF!*VLOOKUP($C14,Hypothèses!$D$6:$F$13,3,0)),0,#REF!*VLOOKUP($C14,Hypothèses!$D$6:$F$13,3,0))","v":{"$error":"#REF!"}},{"$f":"IF(ISNA(#REF!*VLOOKUP($C14,Hypothèses!$D$6:$F$13,3,0)),0,#REF!*VLOOKUP($C14,Hypothèses!$D$6:$F$13,3,0))","v":{"$error":"#REF!"}},{"$f":"IF(ISNA(#REF!*VLOOKUP($C14,Hypothèses!$D$6:$F$13,3,0)),0,#REF!*VLOOKUP($C14,Hypothèses!$D$6:$F$13,3,0))","v":{"$error":"#REF!"}},{"$f":"IF(ISNA(#REF!*VLOOKUP($C14,Hypothèses!$D$6:$F$13,3,0)),0,#REF!*VLOOKUP($C14,Hypothèses!$D$6:$F$13,3,0))","v":{"$error":"#REF!"}}]
[8,null,null,{"$f":"IF(ISNA(VLOOKUP(C15,Hypothèses!$D$6:$G$14,4,0)),\"\",VLOOKUP(C15,Hypothèses!$D$6:$G$14,4,0))","v":""},null,null,null,null,null,null,null,null,null,null,null,null,null,null,null,null,null,null,null,null,null,{"$f":"IF(ISNA(E15*VLOOKUP($C15,Hypothèses!$D$6:$F$13,3,0)),0,E15*VLOOKUP($C15,Hypothèses!$D$6:$F$13,3,0))","v":0},{"$f":"IF(ISNA(F15*VLOOKUP($C15,Hypothèses!$D$6:$F$13,3,0)),0,F15*VLOOKUP($C15,Hypothèses!$D$6:$F$13,3,0))","v":0},{"$f":"IF(ISNA(G15*VLOOKUP($C15,Hypothèses!$D$6:$F$13,3,0)),0,G15*VLOOKUP($C15,Hypothèses!$D$6:$F$13,3,0))","v":0},{"$f":"IF(ISNA(H15*VLOOKUP($C15,Hypothèses!$D$6:$F$13,3,0)),0,H15*VLOOKUP($C15,Hypothèses!$D$6:$F$13,3,0))","v":0},{"$f":"IF(ISNA(I15*VLOOKUP($C15,Hypothèses!$D$6:$F$13,3,0)),0,I15*VLOOKUP($C15,Hypothèses!$D$6:$F$13,3,0))","v":0},{"$f":"IF(ISNA(J15*VLOOKUP($C15,Hypothèses!$D$6:$F$13,3,0)),0,J15*VLOOKUP($C15,Hypothèses!$D$6:$F$13,3,0))","v":0},{"$f":"IF(ISNA(K15*VLOOKUP($C15,Hypothèses!$D$6:$F$13,3,0)),0,K15*VLOOKUP($C15,Hypothèses!$D$6:$F$13,3,0))","v":0},{"$f":"IF(ISNA(L15*VLOOKUP($C15,Hypothèses!$D$6:$F$13,3,0)),0,L15*VLOOKUP($C15,Hypothèses!$D$6:$F$13,3,0))","v":0},{"$f":"IF(ISNA(M15*VLOOKUP($C15,Hypothèses!$D$6:$F$13,3,0)),0,M15*VLOOKUP($C15,Hypothèses!$D$6:$F$13,3,0))","v":0},{"$f":"IF(ISNA(N15*VLOOKUP($C15,Hypothèses!$D$6:$F$13,3,0)),0,N15*VLOOKUP($C15,Hypothèses!$D$6:$F$13,3,0))","v":0},{"$f":"IF(ISNA(O15*VLOOKUP($C15,Hypothèses!$D$6:$F$13,3,0)),0,O15*VLOOKUP($C15,Hypothèses!$D$6:$F$13,3,0))","v":0},{"$f":"IF(ISNA(P15*VLOOKUP($C15,Hypothèses!$D$6:$F$13,3,0)),0,P15*VLOOKUP($C15,Hypothèses!$D$6:$F$13,3,0))","v":0},{"$f":"IF(ISNA(Q15*VLOOKUP($C15,Hypothèses!$D$6:$F$13,3,0)),0,Q15*VLOOKUP($C15,Hypothèses!$D$6:$F$13,3,0))","v":0},{"$f":"IF(ISNA(R15*VLOOKUP($C15,Hypothèses!$D$6:$F$13,3,0)),0,R15*VLOOKUP($C15,Hypothèses!$D$6:$F$13,3,0))","v":0},{"$f":"IF(ISNA(S15*VLOOKUP($C15,Hypothèses!$D$6:$F$13,3,0)),0,S15*VLOOKUP($C15,Hypothèses!$D$6:$F$13,3,0))","v":0},{"$f":"IF(ISNA(#REF!*VLOOKUP($C15,Hypothèses!$D$6:$F$13,3,0)),0,#REF!*VLOOKUP($C15,Hypothèses!$D$6:$F$13,3,0))","v":{"$error":"#REF!"}},{"$f":"IF(ISNA(#REF!*VLOOKUP($C15,Hypothèses!$D$6:$F$13,3,0)),0,#REF!*VLOOKUP($C15,Hypothèses!$D$6:$F$13,3,0))","v":{"$error":"#REF!"}},{"$f":"IF(ISNA(#REF!*VLOOKUP($C15,Hypothèses!$D$6:$F$13,3,0)),0,#REF!*VLOOKUP($C15,Hypothèses!$D$6:$F$13,3,0))","v":{"$error":"#REF!"}},{"$f":"IF(ISNA(#REF!*VLOOKUP($C15,Hypothèses!$D$6:$F$13,3,0)),0,#REF!*VLOOKUP($C15,Hypothèses!$D$6:$F$13,3,0))","v":{"$error":"#REF!"}},{"$f":"IF(ISNA(#REF!*VLOOKUP($C15,Hypothèses!$D$6:$F$13,3,0)),0,#REF!*VLOOKUP($C15,Hypothèses!$D$6:$F$13,3,0))","v":{"$error":"#REF!"}},{"$f":"IF(ISNA(#REF!*VLOOKUP($C15,Hypothèses!$D$6:$F$13,3,0)),0,#REF!*VLOOKUP($C15,Hypothèses!$D$6:$F$13,3,0))","v":{"$error":"#REF!"}},{"$f":"IF(ISNA(#REF!*VLOOKUP($C15,Hypothèses!$D$6:$F$13,3,0)),0,#REF!*VLOOKUP($C15,Hypothèses!$D$6:$F$13,3,0))","v":{"$error":"#REF!"}}]
[9,null,null,{"$f":"IF(ISNA(VLOOKUP(C16,Hypothèses!$D$6:$G$14,4,0)),\"\",VLOOKUP(C16,Hypothèses!$D$6:$G$14,4,0))","v":""},null,null,null,null,null,null,null,null,null,null,null,null,null,null,null,null,null,null,null,null,null,{"$f":"IF(ISNA(E16*VLOOKUP($C16,Hypothèses!$D$6:$F$13,3,0)),0,E16*VLOOKUP($C16,Hypothèses!$D$6:$F$13,3,0))","v":0},{"$f":"IF(ISNA(F16*VLOOKUP($C16,Hypothèses!$D$6:$F$13,3,0)),0,F16*VLOOKUP($C16,Hypothèses!$D$6:$F$13,3,0))","v":0},{"$f":"IF(ISNA(G16*VLOOKUP($C16,Hypothèses!$D$6:$F$13,3,0)),0,G16*VLOOKUP($C16,Hypothèses!$D$6:$F$13,3,0))","v":0},{"$f":"IF(ISNA(H16*VLOOKUP($C16,Hypothèses!$D$6:$F$13,3,0)),0,H16*VLOOKUP($C16,Hypothèses!$D$6:$F$13,3,0))","v":0},{"$f":"IF(ISNA(I16*VLOOKUP($C16,Hypothèses!$D$6:$F$13,3,0)),0,I16*VLOOKUP($C16,Hypothèses!$D$6:$F$13,3,0))","v":0},{"$f":"IF(ISNA(J16*VLOOKUP($C16,Hypothèses!$D$6:$F$13,3,0)),0,J16*VLOOKUP($C16,Hypothèses!$D$6:$F$13,3,0))","v":0},{"$f":"IF(ISNA(K16*VLOOKUP($C16,Hypothèses!$D$6:$F$13,3,0)),0,K16*VLOOKUP($C16,Hypothèses!$D$6:$F$13,3,0))","v":0},{"$f":"IF(ISNA(L16*VLOOKUP($C16,Hypothèses!$D$6:$F$13,3,0)),0,L16*VLOOKUP($C16,Hypothèses!$D$6:$F$13,3,0))","v":0},{"$f":"IF(ISNA(M16*VLOOKUP($C16,Hypothèses!$D$6:$F$13,3,0)),0,M16*VLOOKUP($C16,Hypothèses!$D$6:$F$13,3,0))","v":0},{"$f":"IF(ISNA(N16*VLOOKUP($C16,Hypothèses!$D$6:$F$13,3,0)),0,N16*VLOOKUP($C16,Hypothèses!$D$6:$F$13,3,0))","v":0},{"$f":"IF(ISNA(O16*VLOOKUP($C16,Hypothèses!$D$6:$F$13,3,0)),0,O16*VLOOKUP($C16,Hypothèses!$D$6:$F$13,3,0))","v":0},{"$f":"IF(ISNA(P16*VLOOKUP($C16,Hypothèses!$D$6:$F$13,3,0)),0,P16*VLOOKUP($C16,Hypothèses!$D$6:$F$13,3,0))","v":0},{"$f":"IF(ISNA(Q16*VLOOKUP($C16,Hypothèses!$D$6:$F$13,3,0)),0,Q16*VLOOKUP($C16,Hypothèses!$D$6:$F$13,3,0))","v":0},{"$f":"IF(ISNA(R16*VLOOKUP($C16,Hypothèses!$D$6:$F$13,3,0)),0,R16*VLOOKUP($C16,Hypothèses!$D$6:$F$13,3,0))","v":0},{"$f":"IF(ISNA(S16*VLOOKUP($C16,Hypothèses!$D$6:$F$13,3,0)),0,S16*VLOOKUP($C16,Hypothèses!$D$6:$F$13,3,0))","v":0},{"$f":"IF(ISNA(#REF!*VLOOKUP($C16,Hypothèses!$D$6:$F$13,3,0)),0,#REF!*VLOOKUP($C16,Hypothèses!$D$6:$F$13,3,0))","v":{"$error":"#REF!"}},{"$f":"IF(ISNA(#REF!*VLOOKUP($C16,Hypothèses!$D$6:$F$13,3,0)),0,#REF!*VLOOKUP($C16,Hypothèses!$D$6:$F$13,3,0))","v":{"$error":"#REF!"}},{"$f":"IF(ISNA(#REF!*VLOOKUP($C16,Hypothèses!$D$6:$F$13,3,0)),0,#REF!*VLOOKUP($C16,Hypothèses!$D$6:$F$13,3,0))","v":{"$error":"#REF!"}},{"$f":"IF(ISNA(#REF!*VLOOKUP($C16,Hypothèses!$D$6:$F$13,3,0)),0,#REF!*VLOOKUP($C16,Hypothèses!$D$6:$F$13,3,0))","v":{"$error":"#REF!"}},{"$f":"IF(ISNA(#REF!*VLOOKUP($C16,Hypothèses!$D$6:$F$13,3,0)),0,#REF!*VLOOKUP($C16,Hypothèses!$D$6:$F$13,3,0))","v":{"$error":"#REF!"}},{"$f":"IF(ISNA(#REF!*VLOOKUP($C16,Hypothèses!$D$6:$F$13,3,0)),0,#REF!*VLOOKUP($C16,Hypothèses!$D$6:$F$13,3,0))","v":{"$error":"#REF!"}},{"$f":"IF(ISNA(#REF!*VLOOKUP($C16,Hypothèses!$D$6:$F$13,3,0)),0,#REF!*VLOOKUP($C16,Hypothèses!$D$6:$F$13,3,0))","v":{"$error":"#REF!"}}]
[10,null,null,{"$f":"IF(ISNA(VLOOKUP(C17,Hypothèses!$D$6:$G$14,4,0)),\"\",VLOOKUP(C17,Hypothèses!$D$6:$G$14,4,0))","v":""},null,null,null,null,null,null,null,null,null,null,null,null,null,null,null,null,null,null,null,null,null,{"$f":"IF(ISNA(E17*VLOOKUP($C17,Hypothèses!$D$6:$F$13,3,0)),0,E17*VLOOKUP($C17,Hypothèses!$D$6:$F$13,3,0))","v":0},{"$f":"IF(ISNA(F17*VLOOKUP($C17,Hypothèses!$D$6:$F$13,3,0)),0,F17*VLOOKUP($C17,Hypothèses!$D$6:$F$13,3,0))","v":0},{"$f":"IF(ISNA(G17*VLOOKUP($C17,Hypothèses!$D$6:$F$13,3,0)),0,G17*VLOOKUP($C17,Hypothèses!$D$6:$F$13,3,0))","v":0},{"$f":"IF(ISNA(H17*VLOOKUP($C17,Hypothèses!$D$6:$F$13,3,0)),0,H17*VLOOKUP($C17,Hypothèses!$D$6:$F$13,3,0))","v":0},{"$f":"IF(ISNA(I17*VLOOKUP($C17,Hypothèses!$D$6:$F$13,3,0)),0,I17*VLOOKUP($C17,Hypothèses!$D$6:$F$13,3,0))","v":0},{"$f":"IF(ISNA(J17*VLOOKUP($C17,Hypothèses!$D$6:$F$13,3,0)),0,J17*VLOOKUP($C17,Hypothèses!$D$6:$F$13,3,0))","v":0},{"$f":"IF(ISNA(K17*VLOOKUP($C17,Hypothèses!$D$6:$F$13,3,0)),0,K17*VLOOKUP($C17,Hypothèses!$D$6:$F$13,3,0))","v":0},{"$f":"IF(ISNA(L17*VLOOKUP($C17,Hypothèses!$D$6:$F$13,3,0)),0,L17*VLOOKUP($C17,Hypothèses!$D$6:$F$13,3,0))","v":0},{"$f":"IF(ISNA(M17*VLOOKUP($C17,Hypothèses!$D$6:$F$13,3,0)),0,M17*VLOOKUP($C17,Hypothèses!$D$6:$F$13,3,0))","v":0},{"$f":"IF(ISNA(N17*VLOOKUP($C17,Hypothèses!$D$6:$F$13,3,0)),0,N17*VLOOKUP($C17,Hypothèses!$D$6:$F$13,3,0))","v":0},{"$f":"IF(ISNA(O17*VLOOKUP($C17,Hypothèses!$D$6:$F$13,3,0)),0,O17*VLOOKUP($C17,Hypothèses!$D$6:$F$13,3,0))","v":0},{"$f":"IF(ISNA(P17*VLOOKUP($C17,Hypothèses!$D$6:$F$13,3,0)),0,P17*VLOOKUP($C17,Hypothèses!$D$6:$F$13,3,0))","v":0},{"$f":"IF(ISNA(Q17*VLOOKUP($C17,Hypothèses!$D$6:$F$13,3,0)),0,Q17*VLOOKUP($C17,Hypothèses!$D$6:$F$13,3,0))","v":0},{"$f":"IF(ISNA(R17*VLOOKUP($C17,Hypothèses!$D$6:$F$13,3,0)),0,R17*VLOOKUP($C17,Hypothèses!$D$6:$F$13,3,0))","v":0},{"$f":"IF(ISNA(S17*VLOOKUP($C17,Hypothèses!$D$6:$F$13,3,0)),0,S17*VLOOKUP($C17,Hypothèses!$D$6:$F$13,3,0))","v":0},{"$f":"IF(ISNA(#REF!*VLOOKUP($C17,Hypothèses!$D$6:$F$13,3,0)),0,#REF!*VLOOKUP($C17,Hypothèses!$D$6:$F$13,3,0))","v":{"$error":"#REF!"}},{"$f":"IF(ISNA(#REF!*VLOOKUP($C17,Hypothèses!$D$6:$F$13,3,0)),0,#REF!*VLOOKUP($C17,Hypothèses!$D$6:$F$13,3,0))","v":{"$error":"#REF!"}},{"$f":"IF(ISNA(#REF!*VLOOKUP($C17,Hypothèses!$D$6:$F$13,3,0)),0,#REF!*VLOOKUP($C17,Hypothèses!$D$6:$F$13,3,0))","v":{"$error":"#REF!"}},{"$f":"IF(ISNA(#REF!*VLOOKUP($C17,Hypothèses!$D$6:$F$13,3,0)),0,#REF!*VLOOKUP($C17,Hypothèses!$D$6:$F$13,3,0))","v":{"$error":"#REF!"}},{"$f":"IF(ISNA(#REF!*VLOOKUP($C17,Hypothèses!$D$6:$F$13,3,0)),0,#REF!*VLOOKUP($C17,Hypothèses!$D$6:$F$13,3,0))","v":{"$error":"#REF!"}},{"$f":"IF(ISNA(#REF!*VLOOKUP($C17,Hypothèses!$D$6:$F$13,3,0)),0,#REF!*VLOOKUP($C17,Hypothèses!$D$6:$F$13,3,0))","v":{"$error":"#REF!"}},{"$f":"IF(ISNA(#REF!*VLOOKUP($C17,Hypothèses!$D$6:$F$13,3,0)),0,#REF!*VLOOKUP($C17,Hypothèses!$D$6:$F$13,3,0))","v":{"$error":"#REF!"}}]
[11,null,null,{"$f":"IF(ISNA(VLOOKUP(C18,Hypothèses!$D$6:$G$14,4,0)),\"\",VLOOKUP(C18,Hypothèses!$D$6:$G$14,4,0))","v":""},null,null,null,null,null,null,null,null,null,null,null,null,null,null,null,null,null,null,null,null,null,{"$f":"IF(ISNA(E18*VLOOKUP($C18,Hypothèses!$D$6:$F$13,3,0)),0,E18*VLOOKUP($C18,Hypothèses!$D$6:$F$13,3,0))","v":0},{"$f":"IF(ISNA(F18*VLOOKUP($C18,Hypothèses!$D$6:$F$13,3,0)),0,F18*VLOOKUP($C18,Hypothèses!$D$6:$F$13,3,0))","v":0},{"$f":"IF(ISNA(G18*VLOOKUP($C18,Hypothèses!$D$6:$F$13,3,0)),0,G18*VLOOKUP($C18,Hypothèses!$D$6:$F$13,3,0))","v":0},{"$f":"IF(ISNA(H18*VLOOKUP($C18,Hypothèses!$D$6:$F$13,3,0)),0,H18*VLOOKUP($C18,Hypothèses!$D$6:$F$13,3,0))","v":0},{"$f":"IF(ISNA(I18*VLOOKUP($C18,Hypothèses!$D$6:$F$13,3,0)),0,I18*VLOOKUP($C18,Hypothèses!$D$6:$F$13,3,0))","v":0},{"$f":"IF(ISNA(J18*VLOOKUP($C18,Hypothèses!$D$6:$F$13,3,0)),0,J18*VLOOKUP($C18,Hypothèses!$D$6:$F$13,3,0))","v":0},{"$f":"IF(ISNA(K18*VLOOKUP($C18,Hypothèses!$D$6:$F$13,3,0)),0,K18*VLOOKUP($C18,Hypothèses!$D$6:$F$13,3,0))","v":0},{"$f":"IF(ISNA(L18*VLOOKUP($C18,Hypothèses!$D$6:$F$13,3,0)),0,L18*VLOOKUP($C18,Hypothèses!$D$6:$F$13,3,0))","v":0},{"$f":"IF(ISNA(M18*VLOOKUP($C18,Hypothèses!$D$6:$F$13,3,0)),0,M18*VLOOKUP($C18,Hypothèses!$D$6:$F$13,3,0))","v":0},{"$f":"IF(ISNA(N18*VLOOKUP($C18,Hypothèses!$D$6:$F$13,3,0)),0,N18*VLOOKUP($C18,Hypothèses!$D$6:$F$13,3,0))","v":0},{"$f":"IF(ISNA(O18*VLOOKUP($C18,Hypothèses!$D$6:$F$13,3,0)),0,O18*VLOOKUP($C18,Hypothèses!$D$6:$F$13,3,0))","v":0},{"$f":"IF(ISNA(P18*VLOOKUP($C18,Hypothèses!$D$6:$F$13,3,0)),0,P18*VLOOKUP($C18,Hypothèses!$D$6:$F$13,3,0))","v":0},{"$f":"IF(ISNA(Q18*VLOOKUP($C18,Hypothèses!$D$6:$F$13,3,0)),0,Q18*VLOOKUP($C18,Hypothèses!$D$6:$F$13,3,0))","v":0},{"$f":"IF(ISNA(R18*VLOOKUP($C18,Hypothèses!$D$6:$F$13,3,0)),0,R18*VLOOKUP($C18,Hypothèses!$D$6:$F$13,3,0))","v":0},{"$f":"IF(ISNA(S18*VLOOKUP($C18,Hypothèses!$D$6:$F$13,3,0)),0,S18*VLOOKUP($C18,Hypothèses!$D$6:$F$13,3,0))","v":0},{"$f":"IF(ISNA(#REF!*VLOOKUP($C18,Hypothèses!$D$6:$F$13,3,0)),0,#REF!*VLOOKUP($C18,Hypothèses!$D$6:$F$13,3,0))","v":{"$error":"#REF!"}},{"$f":"IF(ISNA(#REF!*VLOOKUP($C18,Hypothèses!$D$6:$F$13,3,0)),0,#REF!*VLOOKUP($C18,Hypothèses!$D$6:$F$13,3,0))","v":{"$error":"#REF!"}},{"$f":"IF(ISNA(#REF!*VLOOKUP($C18,Hypothèses!$D$6:$F$13,3,0)),0,#REF!*VLOOKUP($C18,Hypothèses!$D$6:$F$13,3,0))","v":{"$error":"#REF!"}},{"$f":"IF(ISNA(#REF!*VLOOKUP($C18,Hypothèses!$D$6:$F$13,3,0)),0,#REF!*VLOOKUP($C18,Hypothèses!$D$6:$F$13,3,0))","v":{"$error":"#REF!"}},{"$f":"IF(ISNA(#REF!*VLOOKUP($C18,Hypothèses!$D$6:$F$13,3,0)),0,#REF!*VLOOKUP($C18,Hypothèses!$D$6:$F$13,3,0))","v":{"$error":"#REF!"}},{"$f":"IF(ISNA(#REF!*VLOOKUP($C18,Hypothèses!$D$6:$F$13,3,0)),0,#REF!*VLOOKUP($C18,Hypothèses!$D$6:$F$13,3,0))","v":{"$error":"#REF!"}},{"$f":"IF(ISNA(#REF!*VLOOKUP($C18,Hypothèses!$D$6:$F$13,3,0)),0,#REF!*VLOOKUP($C18,Hypothèses!$D$6:$F$13,3,0))","v":{"$error":"#REF!"}}]
[12,null,null,{"$f":"IF(ISNA(VLOOKUP(C19,Hypothèses!$D$6:$G$14,4,0)),\"\",VLOOKUP(C19,Hypothèses!$D$6:$G$14,4,0))","v":""},null,null,null,null,null,null,null,null,null,null,null,null,null,null,null,null,null,null,null,null,null,{"$f":"IF(ISNA(E19*VLOOKUP($C19,Hypothèses!$D$6:$F$13,3,0)),0,E19*VLOOKUP($C19,Hypothèses!$D$6:$F$13,3,0))","v":0},{"$f":"IF(ISNA(F19*VLOOKUP($C19,Hypothèses!$D$6:$F$13,3,0)),0,F19*VLOOKUP($C19,Hypothèses!$D$6:$F$13,3,0))","v":0},{"$f":"IF(ISNA(G19*VLOOKUP($C19,Hypothèses!$D$6:$F$13,3,0)),0,G19*VLOOKUP($C19,Hypothèses!$D$6:$F$13,3,0))","v":0},{"$f":"IF(ISNA(H19*VLOOKUP($C19,Hypothèses!$D$6:$F$13,3,0)),0,H19*VLOOKUP($C19,Hypothèses!$D$6:$F$13,3,0))","v":0},{"$f":"IF(ISNA(I19*VLOOKUP($C19,Hypothèses!$D$6:$F$13,3,0)),0,I19*VLOOKUP($C19,Hypothèses!$D$6:$F$13,3,0))","v":0},{"$f":"IF(ISNA(J19*VLOOKUP($C19,Hypothèses!$D$6:$F$13,3,0)),0,J19*VLOOKUP($C19,Hypothèses!$D$6:$F$13,3,0))","v":0},{"$f":"IF(ISNA(K19*VLOOKUP($C19,Hypothèses!$D$6:$F$13,3,0)),0,K19*VLOOKUP($C19,Hypothèses!$D$6:$F$13,3,0))","v":0},{"$f":"IF(ISNA(L19*VLOOKUP($C19,Hypothèses!$D$6:$F$13,3,0)),0,L19*VLOOKUP($C19,Hypothèses!$D$6:$F$13,3,0))","v":0},{"$f":"IF(ISNA(M19*VLOOKUP($C19,Hypothèses!$D$6:$F$13,3,0)),0,M19*VLOOKUP($C19,Hypothèses!$D$6:$F$13,3,0))","v":0},{"$f":"IF(ISNA(N19*VLOOKUP($C19,Hypothèses!$D$6:$F$13,3,0)),0,N19*VLOOKUP($C19,Hypothèses!$D$6:$F$13,3,0))","v":0},{"$f":"IF(ISNA(O19*VLOOKUP($C19,Hypothèses!$D$6:$F$13,3,0)),0,O19*VLOOKUP($C19,Hypothèses!$D$6:$F$13,3,0))","v":0},{"$f":"IF(ISNA(P19*VLOOKUP($C19,Hypothèses!$D$6:$F$13,3,0)),0,P19*VLOOKUP($C19,Hypothèses!$D$6:$F$13,3,0))","v":0},{"$f":"IF(ISNA(Q19*VLOOKUP($C19,Hypothèses!$D$6:$F$13,3,0)),0,Q19*VLOOKUP($C19,Hypothèses!$D$6:$F$13,3,0))","v":0},{"$f":"IF(ISNA(R19*VLOOKUP($C19,Hypothèses!$D$6:$F$13,3,0)),0,R19*VLOOKUP($C19,Hypothèses!$D$6:$F$13,3,0))","v":0},{"$f":"IF(ISNA(S19*VLOOKUP($C19,Hypothèses!$D$6:$F$13,3,0)),0,S19*VLOOKUP($C19,Hypothèses!$D$6:$F$13,3,0))","v":0},{"$f":"IF(ISNA(#REF!*VLOOKUP($C19,Hypothèses!$D$6:$F$13,3,0)),0,#REF!*VLOOKUP($C19,Hypothèses!$D$6:$F$13,3,0))","v":{"$error":"#REF!"}},{"$f":"IF(ISNA(#REF!*VLOOKUP($C19,Hypothèses!$D$6:$F$13,3,0)),0,#REF!*VLOOKUP($C19,Hypothèses!$D$6:$F$13,3,0))","v":{"$error":"#REF!"}},{"$f":"IF(ISNA(#REF!*VLOOKUP($C19,Hypothèses!$D$6:$F$13,3,0)),0,#REF!*VLOOKUP($C19,Hypothèses!$D$6:$F$13,3,0))","v":{"$error":"#REF!"}},{"$f":"IF(ISNA(#REF!*VLOOKUP($C19,Hypothèses!$D$6:$F$13,3,0)),0,#REF!*VLOOKUP($C19,Hypothèses!$D$6:$F$13,3,0))","v":{"$error":"#REF!"}},{"$f":"IF(ISNA(#REF!*VLOOKUP($C19,Hypothèses!$D$6:$F$13,3,0)),0,#REF!*VLOOKUP($C19,Hypothèses!$D$6:$F$13,3,0))","v":{"$error":"#REF!"}},{"$f":"IF(ISNA(#REF!*VLOOKUP($C19,Hypothèses!$D$6:$F$13,3,0)),0,#REF!*VLOOKUP($C19,Hypothèses!$D$6:$F$13,3,0))","v":{"$error":"#REF!"}},{"$f":"IF(ISNA(#REF!*VLOOKUP($C19,Hypothèses!$D$6:$F$13,3,0)),0,#REF!*VLOOKUP($C19,Hypothèses!$D$6:$F$13,3,0))","v":{"$error":"#REF!"}}]
[13,null,null,{"$f":"IF(ISNA(VLOOKUP(C20,Hypothèses!$D$6:$G$14,4,0)),\"\",VLOOKUP(C20,Hypothèses!$D$6:$G$14,4,0))","v":""},null,null,null,null,null,null,null,null,null,null,null,null,null,null,null,null,null,null,null,null,null,{"$f":"IF(ISNA(E20*VLOOKUP($C20,Hypothèses!$D$6:$F$13,3,0)),0,E20*VLOOKUP($C20,Hypothèses!$D$6:$F$13,3,0))","v":0},{"$f":"IF(ISNA(F20*VLOOKUP($C20,Hypothèses!$D$6:$F$13,3,0)),0,F20*VLOOKUP($C20,Hypothèses!$D$6:$F$13,3,0))","v":0},{"$f":"IF(ISNA(G20*VLOOKUP($C20,Hypothèses!$D$6:$F$13,3,0)),0,G20*VLOOKUP($C20,Hypothèses!$D$6:$F$13,3,0))","v":0},{"$f":"IF(ISNA(H20*VLOOKUP($C20,Hypothèses!$D$6:$F$13,3,0)),0,H20*VLOOKUP($C20,Hypothèses!$D$6:$F$13,3,0))","v":0},{"$f":"IF(ISNA(I20*VLOOKUP($C20,Hypothèses!$D$6:$F$13,3,0)),0,I20*VLOOKUP($C20,Hypothèses!$D$6:$F$13,3,0))","v":0},{"$f":"IF(ISNA(J20*VLOOKUP($C20,Hypothèses!$D$6:$F$13,3,0)),0,J20*VLOOKUP($C20,Hypothèses!$D$6:$F$13,3,0))","v":0},{"$f":"IF(ISNA(K20*VLOOKUP($C20,Hypothèses!$D$6:$F$13,3,0)),0,K20*VLOOKUP($C20,Hypothèses!$D$6:$F$13,3,0))","v":0},{"$f":"IF(ISNA(L20*VLOOKUP($C20,Hypothèses!$D$6:$F$13,3,0)),0,L20*VLOOKUP($C20,Hypothèses!$D$6:$F$13,3,0))","v":0},{"$f":"IF(ISNA(M20*VLOOKUP($C20,Hypothèses!$D$6:$F$13,3,0)),0,M20*VLOOKUP($C20,Hypothèses!$D$6:$F$13,3,0))","v":0},{"$f":"IF(ISNA(N20*VLOOKUP($C20,Hypothèses!$D$6:$F$13,3,0)),0,N20*VLOOKUP($C20,Hypothèses!$D$6:$F$13,3,0))","v":0},{"$f":"IF(ISNA(O20*VLOOKUP($C20,Hypothèses!$D$6:$F$13,3,0)),0,O20*VLOOKUP($C20,Hypothèses!$D$6:$F$13,3,0))","v":0},{"$f":"IF(ISNA(P20*VLOOKUP($C20,Hypothèses!$D$6:$F$13,3,0)),0,P20*VLOOKUP($C20,Hypothèses!$D$6:$F$13,3,0))","v":0},{"$f":"IF(ISNA(Q20*VLOOKUP($C20,Hypothèses!$D$6:$F$13,3,0)),0,Q20*VLOOKUP($C20,Hypothèses!$D$6:$F$13,3,0))","v":0},{"$f":"IF(ISNA(R20*VLOOKUP($C20,Hypothèses!$D$6:$F$13,3,0)),0,R20*VLOOKUP($C20,Hypothèses!$D$6:$F$13,3,0))","v":0},{"$f":"IF(ISNA(S20*VLOOKUP($C20,Hypothèses!$D$6:$F$13,3,0)),0,S20*VLOOKUP($C20,Hypothèses!$D$6:$F$13,3,0))","v":0},{"$f":"IF(ISNA(#REF!*VLOOKUP($C20,Hypothèses!$D$6:$F$13,3,0)),0,#REF!*VLOOKUP($C20,Hypothèses!$D$6:$F$13,3,0))","v":{"$error":"#REF!"}},{"$f":"IF(ISNA(#REF!*VLOOKUP($C20,Hypothèses!$D$6:$F$13,3,0)),0,#REF!*VLOOKUP($C20,Hypothèses!$D$6:$F$13,3,0))","v":{"$error":"#REF!"}},{"$f":"IF(ISNA(#REF!*VLOOKUP($C20,Hypothèses!$D$6:$F$13,3,0)),0,#REF!*VLOOKUP($C20,Hypothèses!$D$6:$F$13,3,0))","v":{"$error":"#REF!"}},{"$f":"IF(ISNA(#REF!*VLOOKUP($C20,Hypothèses!$D$6:$F$13,3,0)),0,#REF!*VLOOKUP($C20,Hypothèses!$D$6:$F$13,3,0))","v":{"$error":"#REF!"}},{"$f":"IF(ISNA(#REF!*VLOOKUP($C20,Hypothèses!$D$6:$F$13,3,0)),0,#REF!*VLOOKUP($C20,Hypothèses!$D$6:$F$13,3,0))","v":{"$error":"#REF!"}},{"$f":"IF(ISNA(#REF!*VLOOKUP($C20,Hypothèses!$D$6:$F$13,3,0)),0,#REF!*VLOOKUP($C20,Hypothèses!$D$6:$F$13,3,0))","v":{"$error":"#REF!"}},{"$f":"IF(ISNA(#REF!*VLOOKUP($C20,Hypothèses!$D$6:$F$13,3,0)),0,#REF!*VLOOKUP($C20,Hypothèses!$D$6:$F$13,3,0))","v":{"$error":"#REF!"}}]
[14,null,null,{"$f":"IF(ISNA(VLOOKUP(C21,Hypothèses!$D$6:$G$14,4,0)),\"\",VLOOKUP(C21,Hypothèses!$D$6:$G$14,4,0))","v":""},null,null,null,null,null,null,null,null,null,null,null,null,null,null,null,null,null,null,null,null,null,{"$f":"IF(ISNA(E21*VLOOKUP($C21,Hypothèses!$D$6:$F$13,3,0)),0,E21*VLOOKUP($C21,Hypothèses!$D$6:$F$13,3,0))","v":0},{"$f":"IF(ISNA(F21*VLOOKUP($C21,Hypothèses!$D$6:$F$13,3,0)),0,F21*VLOOKUP($C21,Hypothèses!$D$6:$F$13,3,0))","v":0},{"$f":"IF(ISNA(G21*VLOOKUP($C21,Hypothèses!$D$6:$F$13,3,0)),0,G21*VLOOKUP($C21,Hypothèses!$D$6:$F$13,3,0))","v":0},{"$f":"IF(ISNA(H21*VLOOKUP($C21,Hypothèses!$D$6:$F$13,3,0)),0,H21*VLOOKUP($C21,Hypothèses!$D$6:$F$13,3,0))","v":0},{"$f":"IF(ISNA(I21*VLOOKUP($C21,Hypothèses!$D$6:$F$13,3,0)),0,I21*VLOOKUP($C21,Hypothèses!$D$6:$F$13,3,0))","v":0},{"$f":"IF(ISNA(J21*VLOOKUP($C21,Hypothèses!$D$6:$F$13,3,0)),0,J21*VLOOKUP($C21,Hypothèses!$D$6:$F$13,3,0))","v":0},{"$f":"IF(ISNA(K21*VLOOKUP($C21,Hypothèses!$D$6:$F$13,3,0)),0,K21*VLOOKUP($C21,Hypothèses!$D$6:$F$13,3,0))","v":0},{"$f":"IF(ISNA(L21*VLOOKUP($C21,Hypothèses!$D$6:$F$13,3,0)),0,L21*VLOOKUP($C21,Hypothèses!$D$6:$F$13,3,0))","v":0},{"$f":"IF(ISNA(M21*VLOOKUP($C21,Hypothèses!$D$6:$F$13,3,0)),0,M21*VLOOKUP($C21,Hypothèses!$D$6:$F$13,3,0))","v":0},{"$f":"IF(ISNA(N21*VLOOKUP($C21,Hypothèses!$D$6:$F$13,3,0)),0,N21*VLOOKUP($C21,Hypothèses!$D$6:$F$13,3,0))","v":0},{"$f":"IF(ISNA(O21*VLOOKUP($C21,Hypothèses!$D$6:$F$13,3,0)),0,O21*VLOOKUP($C21,Hypothèses!$D$6:$F$13,3,0))","v":0},{"$f":"IF(ISNA(P21*VLOOKUP($C21,Hypothèses!$D$6:$F$13,3,0)),0,P21*VLOOKUP($C21,Hypothèses!$D$6:$F$13,3,0))","v":0},{"$f":"IF(ISNA(Q21*VLOOKUP($C21,Hypothèses!$D$6:$F$13,3,0)),0,Q21*VLOOKUP($C21,Hypothèses!$D$6:$F$13,3,0))","v":0},{"$f":"IF(ISNA(R21*VLOOKUP($C21,Hypothèses!$D$6:$F$13,3,0)),0,R21*VLOOKUP($C21,Hypothèses!$D$6:$F$13,3,0))","v":0},{"$f":"IF(ISNA(S21*VLOOKUP($C21,Hypothèses!$D$6:$F$13,3,0)),0,S21*VLOOKUP($C21,Hypothèses!$D$6:$F$13,3,0))","v":0},{"$f":"IF(ISNA(#REF!*VLOOKUP($C21,Hypothèses!$D$6:$F$13,3,0)),0,#REF!*VLOOKUP($C21,Hypothèses!$D$6:$F$13,3,0))","v":{"$error":"#REF!"}},{"$f":"IF(ISNA(#REF!*VLOOKUP($C21,Hypothèses!$D$6:$F$13,3,0)),0,#REF!*VLOOKUP($C21,Hypothèses!$D$6:$F$13,3,0))","v":{"$error":"#REF!"}},{"$f":"IF(ISNA(#REF!*VLOOKUP($C21,Hypothèses!$D$6:$F$13,3,0)),0,#REF!*VLOOKUP($C21,Hypothèses!$D$6:$F$13,3,0))","v":{"$error":"#REF!"}},{"$f":"IF(ISNA(#REF!*VLOOKUP($C21,Hypothèses!$D$6:$F$13,3,0)),0,#REF!*VLOOKUP($C21,Hypothèses!$D$6:$F$13,3,0))","v":{"$error":"#REF!"}},{"$f":"IF(ISNA(#REF!*VLOOKUP($C21,Hypothèses!$D$6:$F$13,3,0)),0,#REF!*VLOOKUP($C21,Hypothèses!$D$6:$F$13,3,0))","v":{"$error":"#REF!"}},{"$f":"IF(ISNA(#REF!*VLOOKUP($C21,Hypothèses!$D$6:$F$13,3,0)),0,#REF!*VLOOKUP($C21,Hypothèses!$D$6:$F$13,3,0))","v":{"$error":"#REF!"}},{"$f":"IF(ISNA(#REF!*VLOOKUP($C21,Hypothèses!$D$6:$F$13,3,0)),0,#REF!*VLOOKUP($C21,Hypothèses!$D$6:$F$13,3,0))","v":{"$error":"#REF!"}}]
[15,null,null,{"$f":"IF(ISNA(VLOOKUP(C22,Hypothèses!$D$6:$G$14,4,0)),\"\",VLOOKUP(C22,Hypothèses!$D$6:$G$14,4,0))","v":""},null,null,null,null,null,null,null,null,null,null,null,null,null,null,null,null,null,null,null,null,null,{"$f":"IF(ISNA(E22*VLOOKUP($C22,Hypothèses!$D$6:$F$13,3,0)),0,E22*VLOOKUP($C22,Hypothèses!$D$6:$F$13,3,0))","v":0},{"$f":"IF(ISNA(F22*VLOOKUP($C22,Hypothèses!$D$6:$F$13,3,0)),0,F22*VLOOKUP($C22,Hypothèses!$D$6:$F$13,3,0))","v":0},{"$f":"IF(ISNA(G22*VLOOKUP($C22,Hypothèses!$D$6:$F$13,3,0)),0,G22*VLOOKUP($C22,Hypothèses!$D$6:$F$13,3,0))","v":0},{"$f":"IF(ISNA(H22*VLOOKUP($C22,Hypothèses!$D$6:$F$13,3,0)),0,H22*VLOOKUP($C22,Hypothèses!$D$6:$F$13,3,0))","v":0},{"$f":"IF(ISNA(I22*VLOOKUP($C22,Hypothèses!$D$6:$F$13,3,0)),0,I22*VLOOKUP($C22,Hypothèses!$D$6:$F$13,3,0))","v":0},{"$f":"IF(ISNA(J22*VLOOKUP($C22,Hypothèses!$D$6:$F$13,3,0)),0,J22*VLOOKUP($C22,Hypothèses!$D$6:$F$13,3,0))","v":0},{"$f":"IF(ISNA(K22*VLOOKUP($C22,Hypothèses!$D$6:$F$13,3,0)),0,K22*VLOOKUP($C22,Hypothèses!$D$6:$F$13,3,0))","v":0},{"$f":"IF(ISNA(L22*VLOOKUP($C22,Hypothèses!$D$6:$F$13,3,0)),0,L22*VLOOKUP($C22,Hypothèses!$D$6:$F$13,3,0))","v":0},{"$f":"IF(ISNA(M22*VLOOKUP($C22,Hypothèses!$D$6:$F$13,3,0)),0,M22*VLOOKUP($C22,Hypothèses!$D$6:$F$13,3,0))","v":0},{"$f":"IF(ISNA(N22*VLOOKUP($C22,Hypothèses!$D$6:$F$13,3,0)),0,N22*VLOOKUP($C22,Hypothèses!$D$6:$F$13,3,0))","v":0},{"$f":"IF(ISNA(O22*VLOOKUP($C22,Hypothèses!$D$6:$F$13,3,0)),0,O22*VLOOKUP($C22,Hypothèses!$D$6:$F$13,3,0))","v":0},{"$f":"IF(ISNA(P22*VLOOKUP($C22,Hypothèses!$D$6:$F$13,3,0)),0,P22*VLOOKUP($C22,Hypothèses!$D$6:$F$13,3,0))","v":0},{"$f":"IF(ISNA(Q22*VLOOKUP($C22,Hypothèses!$D$6:$F$13,3,0)),0,Q22*VLOOKUP($C22,Hypothèses!$D$6:$F$13,3,0))","v":0},{"$f":"IF(ISNA(R22*VLOOKUP($C22,Hypothèses!$D$6:$F$13,3,0)),0,R22*VLOOKUP($C22,Hypothèses!$D$6:$F$13,3,0))","v":0},{"$f":"IF(ISNA(S22*VLOOKUP($C22,Hypothèses!$D$6:$F$13,3,0)),0,S22*VLOOKUP($C22,Hypothèses!$D$6:$F$13,3,0))","v":0},{"$f":"IF(ISNA(#REF!*VLOOKUP($C22,Hypothèses!$D$6:$F$13,3,0)),0,#REF!*VLOOKUP($C22,Hypothèses!$D$6:$F$13,3,0))","v":{"$error":"#REF!"}},{"$f":"IF(ISNA(#REF!*VLOOKUP($C22,Hypothèses!$D$6:$F$13,3,0)),0,#REF!*VLOOKUP($C22,Hypothèses!$D$6:$F$13,3,0))","v":{"$error":"#REF!"}},{"$f":"IF(ISNA(#REF!*VLOOKUP($C22,Hypothèses!$D$6:$F$13,3,0)),0,#REF!*VLOOKUP($C22,Hypothèses!$D$6:$F$13,3,0))","v":{"$error":"#REF!"}},{"$f":"IF(ISNA(#REF!*VLOOKUP($C22,Hypothèses!$D$6:$F$13,3,0)),0,#REF!*VLOOKUP($C22,Hypothèses!$D$6:$F$13,3,0))","v":{"$error":"#REF!"}},{"$f":"IF(ISNA(#REF!*VLOOKUP($C22,Hypothèses!$D$6:$F$13,3,0)),0,#REF!*VLOOKUP($C22,Hypothèses!$D$6:$F$13,3,0))","v":{"$error":"#REF!"}},{"$f":"IF(ISNA(#REF!*VLOOKUP($C22,Hypothèses!$D$6:$F$13,3,0)),0,#REF!*VLOOKUP($C22,Hypothèses!$D$6:$F$13,3,0))","v":{"$error":"#REF!"}},{"$f":"IF(ISNA(#REF!*VLOOKUP($C22,Hypothèses!$D$6:$F$13,3,0)),0,#REF!*VLOOKUP($C22,Hypothèses!$D$6:$F$13,3,0))","v":{"$error":"#REF!"}}]
[16,null,null,{"$f":"IF(ISNA(VLOOKUP(C23,Hypothèses!$D$6:$G$14,4,0)),\"\",VLOOKUP(C23,Hypothèses!$D$6:$G$14,4,0))","v":""},null,null,null,null,null,null,null,null,null,null,null,null,null,null,null,null,null,null,null,null,null,{"$f":"IF(ISNA(E23*VLOOKUP($C23,Hypothèses!$D$6:$F$13,3,0)),0,E23*VLOOKUP($C23,Hypothèses!$D$6:$F$13,3,0))","v":0},{"$f":"IF(ISNA(F23*VLOOKUP($C23,Hypothèses!$D$6:$F$13,3,0)),0,F23*VLOOKUP($C23,Hypothèses!$D$6:$F$13,3,0))","v":0},{"$f":"IF(ISNA(G23*VLOOKUP($C23,Hypothèses!$D$6:$F$13,3,0)),0,G23*VLOOKUP($C23,Hypothèses!$D$6:$F$13,3,0))","v":0},{"$f":"IF(ISNA(H23*VLOOKUP($C23,Hypothèses!$D$6:$F$13,3,0)),0,H23*VLOOKUP($C23,Hypothèses!$D$6:$F$13,3,0))","v":0},{"$f":"IF(ISNA(I23*VLOOKUP($C23,Hypothèses!$D$6:$F$13,3,0)),0,I23*VLOOKUP($C23,Hypothèses!$D$6:$F$13,3,0))","v":0},{"$f":"IF(ISNA(J23*VLOOKUP($C23,Hypothèses!$D$6:$F$13,3,0)),0,J23*VLOOKUP($C23,Hypothèses!$D$6:$F$13,3,0))","v":0},{"$f":"IF(ISNA(K23*VLOOKUP($C23,Hypothèses!$D$6:$F$13,3,0)),0,K23*VLOOKUP($C23,Hypothèses!$D$6:$F$13,3,0))","v":0},{"$f":"IF(ISNA(L23*VLOOKUP($C23,Hypothèses!$D$6:$F$13,3,0)),0,L23*VLOOKUP($C23,Hypothèses!$D$6:$F$13,3,0))","v":0},{"$f":"IF(ISNA(M23*VLOOKUP($C23,Hypothèses!$D$6:$F$13,3,0)),0,M23*VLOOKUP($C23,Hypothèses!$D$6:$F$13,3,0))","v":0},{"$f":"IF(ISNA(N23*VLOOKUP($C23,Hypothèses!$D$6:$F$13,3,0)),0,N23*VLOOKUP($C23,Hypothèses!$D$6:$F$13,3,0))","v":0},{"$f":"IF(ISNA(O23*VLOOKUP($C23,Hypothèses!$D$6:$F$13,3,0)),0,O23*VLOOKUP($C23,Hypothèses!$D$6:$F$13,3,0))","v":0},{"$f":"IF(ISNA(P23*VLOOKUP($C23,Hypothèses!$D$6:$F$13,3,0)),0,P23*VLOOKUP($C23,Hypothèses!$D$6:$F$13,3,0))","v":0},{"$f":"IF(ISNA(Q23*VLOOKUP($C23,Hypothèses!$D$6:$F$13,3,0)),0,Q23*VLOOKUP($C23,Hypothèses!$D$6:$F$13,3,0))","v":0},{"$f":"IF(ISNA(R23*VLOOKUP($C23,Hypothèses!$D$6:$F$13,3,0)),0,R23*VLOOKUP($C23,Hypothèses!$D$6:$F$13,3,0))","v":0},{"$f":"IF(ISNA(S23*VLOOKUP($C23,Hypothèses!$D$6:$F$13,3,0)),0,S23*VLOOKUP($C23,Hypothèses!$D$6:$F$13,3,0))","v":0},{"$f":"IF(ISNA(#REF!*VLOOKUP($C23,Hypothèses!$D$6:$F$13,3,0)),0,#REF!*VLOOKUP($C23,Hypothèses!$D$6:$F$13,3,0))","v":{"$error":"#REF!"}},{"$f":"IF(ISNA(#REF!*VLOOKUP($C23,Hypothèses!$D$6:$F$13,3,0)),0,#REF!*VLOOKUP($C23,Hypothèses!$D$6:$F$13,3,0))","v":{"$error":"#REF!"}},{"$f":"IF(ISNA(#REF!*VLOOKUP($C23,Hypothèses!$D$6:$F$13,3,0)),0,#REF!*VLOOKUP($C23,Hypothèses!$D$6:$F$13,3,0))","v":{"$error":"#REF!"}},{"$f":"IF(ISNA(#REF!*VLOOKUP($C23,Hypothèses!$D$6:$F$13,3,0)),0,#REF!*VLOOKUP($C23,Hypothèses!$D$6:$F$13,3,0))","v":{"$error":"#REF!"}},{"$f":"IF(ISNA(#REF!*VLOOKUP($C23,Hypothèses!$D$6:$F$13,3,0)),0,#REF!*VLOOKUP($C23,Hypothèses!$D$6:$F$13,3,0))","v":{"$error":"#REF!"}},{"$f":"IF(ISNA(#REF!*VLOOKUP($C23,Hypothèses!$D$6:$F$13,3,0)),0,#REF!*VLOOKUP($C23,Hypothèses!$D$6:$F$13,3,0))","v":{"$error":"#REF!"}},{"$f":"IF(ISNA(#REF!*VLOOKUP($C23,Hypothèses!$D$6:$F$13,3,0)),0,#REF!*VLOOKUP($C23,Hypothèses!$D$6:$F$13,3,0))","v":{"$error":"#REF!"}}]
[17,null,null,{"$f":"IF(ISNA(VLOOKUP(C24,Hypothèses!$D$6:$G$14,4,0)),\"\",VLOOKUP(C24,Hypothèses!$D$6:$G$14,4,0))","v":""},null,null,null,null,null,null,null,null,null,null,null,null,null,null,null,null,null,null,null,null,null,{"$f":"IF(ISNA(E24*VLOOKUP($C24,Hypothèses!$D$6:$F$13,3,0)),0,E24*VLOOKUP($C24,Hypothèses!$D$6:$F$13,3,0))","v":0},{"$f":"IF(ISNA(F24*VLOOKUP($C24,Hypothèses!$D$6:$F$13,3,0)),0,F24*VLOOKUP($C24,Hypothèses!$D$6:$F$13,3,0))","v":0},{"$f":"IF(ISNA(G24*VLOOKUP($C24,Hypothèses!$D$6:$F$13,3,0)),0,G24*VLOOKUP($C24,Hypothèses!$D$6:$F$13,3,0))","v":0},{"$f":"IF(ISNA(H24*VLOOKUP($C24,Hypothèses!$D$6:$F$13,3,0)),0,H24*VLOOKUP($C24,Hypothèses!$D$6:$F$13,3,0))","v":0},{"$f":"IF(ISNA(I24*VLOOKUP($C24,Hypothèses!$D$6:$F$13,3,0)),0,I24*VLOOKUP($C24,Hypothèses!$D$6:$F$13,3,0))","v":0},{"$f":"IF(ISNA(J24*VLOOKUP($C24,Hypothèses!$D$6:$F$13,3,0)),0,J24*VLOOKUP($C24,Hypothèses!$D$6:$F$13,3,0))","v":0},{"$f":"IF(ISNA(K24*VLOOKUP($C24,Hypothèses!$D$6:$F$13,3,0)),0,K24*VLOOKUP($C24,Hypothèses!$D$6:$F$13,3,0))","v":0},{"$f":"IF(ISNA(L24*VLOOKUP($C24,Hypothèses!$D$6:$F$13,3,0)),0,L24*VLOOKUP($C24,Hypothèses!$D$6:$F$13,3,0))","v":0},{"$f":"IF(ISNA(M24*VLOOKUP($C24,Hypothèses!$D$6:$F$13,3,0)),0,M24*VLOOKUP($C24,Hypothèses!$D$6:$F$13,3,0))","v":0},{"$f":"IF(ISNA(N24*VLOOKUP($C24,Hypothèses!$D$6:$F$13,3,0)),0,N24*VLOOKUP($C24,Hypothèses!$D$6:$F$13,3,0))","v":0},{"$f":"IF(ISNA(O24*VLOOKUP($C24,Hypothèses!$D$6:$F$13,3,0)),0,O24*VLOOKUP($C24,Hypothèses!$D$6:$F$13,3,0))","v":0},{"$f":"IF(ISNA(P24*VLOOKUP($C24,Hypothèses!$D$6:$F$13,3,0)),0,P24*VLOOKUP($C24,Hypothèses!$D$6:$F$13,3,0))","v":0},{"$f":"IF(ISNA(Q24*VLOOKUP($C24,Hypothèses!$D$6:$F$13,3,0)),0,Q24*VLOOKUP($C24,Hypothèses!$D$6:$F$13,3,0))","v":0},{"$f":"IF(ISNA(R24*VLOOKUP($C24,Hypothèses!$D$6:$F$13,3,0)),0,R24*VLOOKUP($C24,Hypothèses!$D$6:$F$13,3,0))","v":0},{"$f":"IF(ISNA(S24*VLOOKUP($C24,Hypothèses!$D$6:$F$13,3,0)),0,S24*VLOOKUP($C24,Hypothèses!$D$6:$F$13,3,0))","v":0},{"$f":"IF(ISNA(#REF!*VLOOKUP($C24,Hypothèses!$D$6:$F$13,3,0)),0,#REF!*VLOOKUP($C24,Hypothèses!$D$6:$F$13,3,0))","v":{"$error":"#REF!"}},{"$f":"IF(ISNA(#REF!*VLOOKUP($C24,Hypothèses!$D$6:$F$13,3,0)),0,#REF!*VLOOKUP($C24,Hypothèses!$D$6:$F$13,3,0))","v":{"$error":"#REF!"}},{"$f":"IF(ISNA(#REF!*VLOOKUP($C24,Hypothèses!$D$6:$F$13,3,0)),0,#REF!*VLOOKUP($C24,Hypothèses!$D$6:$F$13,3,0))","v":{"$error":"#REF!"}},{"$f":"IF(ISNA(#REF!*VLOOKUP($C24,Hypothèses!$D$6:$F$13,3,0)),0,#REF!*VLOOKUP($C24,Hypothèses!$D$6:$F$13,3,0))","v":{"$error":"#REF!"}},{"$f":"IF(ISNA(#REF!*VLOOKUP($C24,Hypothèses!$D$6:$F$13,3,0)),0,#REF!*VLOOKUP($C24,Hypothèses!$D$6:$F$13,3,0))","v":{"$error":"#REF!"}},{"$f":"IF(ISNA(#REF!*VLOOKUP($C24,Hypothèses!$D$6:$F$13,3,0)),0,#REF!*VLOOKUP($C24,Hypothèses!$D$6:$F$13,3,0))","v":{"$error":"#REF!"}},{"$f":"IF(ISNA(#REF!*VLOOKUP($C24,Hypothèses!$D$6:$F$13,3,0)),0,#REF!*VLOOKUP($C24,Hypothèses!$D$6:$F$13,3,0))","v":{"$error":"#REF!"}}]
[18,null,null,{"$f":"IF(ISNA(VLOOKUP(C25,Hypothèses!$D$6:$G$14,4,0)),\"\",VLOOKUP(C25,Hypothèses!$D$6:$G$14,4,0))","v":""},null,null,null,null,null,null,null,null,null,null,null,null,null,null,null,null,null,null,null,null,null,{"$f":"IF(ISNA(E25*VLOOKUP($C25,Hypothèses!$D$6:$F$13,3,0)),0,E25*VLOOKUP($C25,Hypothèses!$D$6:$F$13,3,0))","v":0},{"$f":"IF(ISNA(F25*VLOOKUP($C25,Hypothèses!$D$6:$F$13,3,0)),0,F25*VLOOKUP($C25,Hypothèses!$D$6:$F$13,3,0))","v":0},{"$f":"IF(ISNA(G25*VLOOKUP($C25,Hypothèses!$D$6:$F$13,3,0)),0,G25*VLOOKUP($C25,Hypothèses!$D$6:$F$13,3,0))","v":0},{"$f":"IF(ISNA(H25*VLOOKUP($C25,Hypothèses!$D$6:$F$13,3,0)),0,H25*VLOOKUP($C25,Hypothèses!$D$6:$F$13,3,0))","v":0},{"$f":"IF(ISNA(I25*VLOOKUP($C25,Hypothèses!$D$6:$F$13,3,0)),0,I25*VLOOKUP($C25,Hypothèses!$D$6:$F$13,3,0))","v":0},{"$f":"IF(ISNA(J25*VLOOKUP($C25,Hypothèses!$D$6:$F$13,3,0)),0,J25*VLOOKUP($C25,Hypothèses!$D$6:$F$13,3,0))","v":0},{"$f":"IF(ISNA(K25*VLOOKUP($C25,Hypothèses!$D$6:$F$13,3,0)),0,K25*VLOOKUP($C25,Hypothèses!$D$6:$F$13,3,0))","v":0},{"$f":"IF(ISNA(L25*VLOOKUP($C25,Hypothèses!$D$6:$F$13,3,0)),0,L25*VLOOKUP($C25,Hypothèses!$D$6:$F$13,3,0))","v":0},{"$f":"IF(ISNA(M25*VLOOKUP($C25,Hypothèses!$D$6:$F$13,3,0)),0,M25*VLOOKUP($C25,Hypothèses!$D$6:$F$13,3,0))","v":0},{"$f":"IF(ISNA(N25*VLOOKUP($C25,Hypothèses!$D$6:$F$13,3,0)),0,N25*VLOOKUP($C25,Hypothèses!$D$6:$F$13,3,0))","v":0},{"$f":"IF(ISNA(O25*VLOOKUP($C25,Hypothèses!$D$6:$F$13,3,0)),0,O25*VLOOKUP($C25,Hypothèses!$D$6:$F$13,3,0))","v":0},{"$f":"IF(ISNA(P25*VLOOKUP($C25,Hypothèses!$D$6:$F$13,3,0)),0,P25*VLOOKUP($C25,Hypothèses!$D$6:$F$13,3,0))","v":0},{"$f":"IF(ISNA(Q25*VLOOKUP($C25,Hypothèses!$D$6:$F$13,3,0)),0,Q25*VLOOKUP($C25,Hypothèses!$D$6:$F$13,3,0))","v":0},{"$f":"IF(ISNA(R25*VLOOKUP($C25,Hypothèses!$D$6:$F$13,3,0)),0,R25*VLOOKUP($C25,Hypothèses!$D$6:$F$13,3,0))","v":0},{"$f":"IF(ISNA(S25*VLOOKUP($C25,Hypothèses!$D$6:$F$13,3,0)),0,S25*VLOOKUP($C25,Hypothèses!$D$6:$F$13,3,0))","v":0},{"$f":"IF(ISNA(#REF!*VLOOKUP($C25,Hypothèses!$D$6:$F$13,3,0)),0,#REF!*VLOOKUP($C25,Hypothèses!$D$6:$F$13,3,0))","v":{"$error":"#REF!"}},{"$f":"IF(ISNA(#REF!*VLOOKUP($C25,Hypothèses!$D$6:$F$13,3,0)),0,#REF!*VLOOKUP($C25,Hypothèses!$D$6:$F$13,3,0))","v":{"$error":"#REF!"}},{"$f":"IF(ISNA(#REF!*VLOOKUP($C25,Hypothèses!$D$6:$F$13,3,0)),0,#REF!*VLOOKUP($C25,Hypothèses!$D$6:$F$13,3,0))","v":{"$error":"#REF!"}},{"$f":"IF(ISNA(#REF!*VLOOKUP($C25,Hypothèses!$D$6:$F$13,3,0)),0,#REF!*VLOOKUP($C25,Hypothèses!$D$6:$F$13,3,0))","v":{"$error":"#REF!"}},{"$f":"IF(ISNA(#REF!*VLOOKUP($C25,Hypothèses!$D$6:$F$13,3,0)),0,#REF!*VLOOKUP($C25,Hypothèses!$D$6:$F$13,3,0))","v":{"$error":"#REF!"}},{"$f":"IF(ISNA(#REF!*VLOOKUP($C25,Hypothèses!$D$6:$F$13,3,0)),0,#REF!*VLOOKUP($C25,Hypothèses!$D$6:$F$13,3,0))","v":{"$error":"#REF!"}},{"$f":"IF(ISNA(#REF!*VLOOKUP($C25,Hypothèses!$D$6:$F$13,3,0)),0,#REF!*VLOOKUP($C25,Hypothèses!$D$6:$F$13,3,0))","v":{"$error":"#REF!"}}]
[19,null,null,{"$f":"IF(ISNA(VLOOKUP(C26,Hypothèses!$D$6:$G$14,4,0)),\"\",VLOOKUP(C26,Hypothèses!$D$6:$G$14,4,0))","v":""},null,null,null,null,null,null,null,null,null,null,null,null,null,null,null,null,null,null,null,null,null,{"$f":"IF(ISNA(E26*VLOOKUP($C26,Hypothèses!$D$6:$F$13,3,0)),0,E26*VLOOKUP($C26,Hypothèses!$D$6:$F$13,3,0))","v":0},{"$f":"IF(ISNA(F26*VLOOKUP($C26,Hypothèses!$D$6:$F$13,3,0)),0,F26*VLOOKUP($C26,Hypothèses!$D$6:$F$13,3,0))","v":0},{"$f":"IF(ISNA(G26*VLOOKUP($C26,Hypothèses!$D$6:$F$13,3,0)),0,G26*VLOOKUP($C26,Hypothèses!$D$6:$F$13,3,0))","v":0},{"$f":"IF(ISNA(H26*VLOOKUP($C26,Hypothèses!$D$6:$F$13,3,0)),0,H26*VLOOKUP($C26,Hypothèses!$D$6:$F$13,3,0))","v":0},{"$f":"IF(ISNA(I26*VLOOKUP($C26,Hypothèses!$D$6:$F$13,3,0)),0,I26*VLOOKUP($C26,Hypothèses!$D$6:$F$13,3,0))","v":0},{"$f":"IF(ISNA(J26*VLOOKUP($C26,Hypothèses!$D$6:$F$13,3,0)),0,J26*VLOOKUP($C26,Hypothèses!$D$6:$F$13,3,0))","v":0},{"$f":"IF(ISNA(K26*VLOOKUP($C26,Hypothèses!$D$6:$F$13,3,0)),0,K26*VLOOKUP($C26,Hypothèses!$D$6:$F$13,3,0))","v":0},{"$f":"IF(ISNA(L26*VLOOKUP($C26,Hypothèses!$D$6:$F$13,3,0)),0,L26*VLOOKUP($C26,Hypothèses!$D$6:$F$13,3,0))","v":0},{"$f":"IF(ISNA(M26*VLOOKUP($C26,Hypothèses!$D$6:$F$13,3,0)),0,M26*VLOOKUP($C26,Hypothèses!$D$6:$F$13,3,0))","v":0},{"$f":"IF(ISNA(N26*VLOOKUP($C26,Hypothèses!$D$6:$F$13,3,0)),0,N26*VLOOKUP($C26,Hypothèses!$D$6:$F$13,3,0))","v":0},{"$f":"IF(ISNA(O26*VLOOKUP($C26,Hypothèses!$D$6:$F$13,3,0)),0,O26*VLOOKUP($C26,Hypothèses!$D$6:$F$13,3,0))","v":0},{"$f":"IF(ISNA(P26*VLOOKUP($C26,Hypothèses!$D$6:$F$13,3,0)),0,P26*VLOOKUP($C26,Hypothèses!$D$6:$F$13,3,0))","v":0},{"$f":"IF(ISNA(Q26*VLOOKUP($C26,Hypothèses!$D$6:$F$13,3,0)),0,Q26*VLOOKUP($C26,Hypothèses!$D$6:$F$13,3,0))","v":0},{"$f":"IF(ISNA(R26*VLOOKUP($C26,Hypothèses!$D$6:$F$13,3,0)),0,R26*VLOOKUP($C26,Hypothèses!$D$6:$F$13,3,0))","v":0},{"$f":"IF(ISNA(S26*VLOOKUP($C26,Hypothèses!$D$6:$F$13,3,0)),0,S26*VLOOKUP($C26,Hypothèses!$D$6:$F$13,3,0))","v":0},{"$f":"IF(ISNA(#REF!*VLOOKUP($C26,Hypothèses!$D$6:$F$13,3,0)),0,#REF!*VLOOKUP($C26,Hypothèses!$D$6:$F$13,3,0))","v":{"$error":"#REF!"}},{"$f":"IF(ISNA(#REF!*VLOOKUP($C26,Hypothèses!$D$6:$F$13,3,0)),0,#REF!*VLOOKUP($C26,Hypothèses!$D$6:$F$13,3,0))","v":{"$error":"#REF!"}},{"$f":"IF(ISNA(#REF!*VLOOKUP($C26,Hypothèses!$D$6:$F$13,3,0)),0,#REF!*VLOOKUP($C26,Hypothèses!$D$6:$F$13,3,0))","v":{"$error":"#REF!"}},{"$f":"IF(ISNA(#REF!*VLOOKUP($C26,Hypothèses!$D$6:$F$13,3,0)),0,#REF!*VLOOKUP($C26,Hypothèses!$D$6:$F$13,3,0))","v":{"$error":"#REF!"}},{"$f":"IF(ISNA(#REF!*VLOOKUP($C26,Hypothèses!$D$6:$F$13,3,0)),0,#REF!*VLOOKUP($C26,Hypothèses!$D$6:$F$13,3,0))","v":{"$error":"#REF!"}},{"$f":"IF(ISNA(#REF!*VLOOKUP($C26,Hypothèses!$D$6:$F$13,3,0)),0,#REF!*VLOOKUP($C26,Hypothèses!$D$6:$F$13,3,0))","v":{"$error":"#REF!"}},{"$f":"IF(ISNA(#REF!*VLOOKUP($C26,Hypothèses!$D$6:$F$13,3,0)),0,#REF!*VLOOKUP($C26,Hypothèses!$D$6:$F$13,3,0))","v":{"$error":"#REF!"}}]
[20,null,null,{"$f":"IF(ISNA(VLOOKUP(C27,Hypothèses!$D$6:$G$14,4,0)),\"\",VLOOKUP(C27,Hypothèses!$D$6:$G$14,4,0))","v":""},null,null,null,null,null,null,null,null,null,null,null,null,null,null,null,null,null,null,null,null,null,{"$f":"IF(ISNA(E27*VLOOKUP($C27,Hypothèses!$D$6:$F$13,3,0)),0,E27*VLOOKUP($C27,Hypothèses!$D$6:$F$13,3,0))","v":0},{"$f":"IF(ISNA(F27*VLOOKUP($C27,Hypothèses!$D$6:$F$13,3,0)),0,F27*VLOOKUP($C27,Hypothèses!$D$6:$F$13,3,0))","v":0},{"$f":"IF(ISNA(G27*VLOOKUP($C27,Hypothèses!$D$6:$F$13,3,0)),0,G27*VLOOKUP($C27,Hypothèses!$D$6:$F$13,3,0))","v":0},{"$f":"IF(ISNA(H27*VLOOKUP($C27,Hypothèses!$D$6:$F$13,3,0)),0,H27*VLOOKUP($C27,Hypothèses!$D$6:$F$13,3,0))","v":0},{"$f":"IF(ISNA(I27*VLOOKUP($C27,Hypothèses!$D$6:$F$13,3,0)),0,I27*VLOOKUP($C27,Hypothèses!$D$6:$F$13,3,0))","v":0},{"$f":"IF(ISNA(J27*VLOOKUP($C27,Hypothèses!$D$6:$F$13,3,0)),0,J27*VLOOKUP($C27,Hypothèses!$D$6:$F$13,3,0))","v":0},{"$f":"IF(ISNA(K27*VLOOKUP($C27,Hypothèses!$D$6:$F$13,3,0)),0,K27*VLOOKUP($C27,Hypothèses!$D$6:$F$13,3,0))","v":0},{"$f":"IF(ISNA(L27*VLOOKUP($C27,Hypothèses!$D$6:$F$13,3,0)),0,L27*VLOOKUP($C27,Hypothèses!$D$6:$F$13,3,0))","v":0},{"$f":"IF(ISNA(M27*VLOOKUP($C27,Hypothèses!$D$6:$F$13,3,0)),0,M27*VLOOKUP($C27,Hypothèses!$D$6:$F$13,3,0))","v":0},{"$f":"IF(ISNA(N27*VLOOKUP($C27,Hypothèses!$D$6:$F$13,3,0)),0,N27*VLOOKUP($C27,Hypothèses!$D$6:$F$13,3,0))","v":0},{"$f":"IF(ISNA(O27*VLOOKUP($C27,Hypothèses!$D$6:$F$13,3,0)),0,O27*VLOOKUP($C27,Hypothèses!$D$6:$F$13,3,0))","v":0},{"$f":"IF(ISNA(P27*VLOOKUP($C27,Hypothèses!$D$6:$F$13,3,0)),0,P27*VLOOKUP($C27,Hypothèses!$D$6:$F$13,3,0))","v":0},{"$f":"IF(ISNA(Q27*VLOOKUP($C27,Hypothèses!$D$6:$F$13,3,0)),0,Q27*VLOOKUP($C27,Hypothèses!$D$6:$F$13,3,0))","v":0},{"$f":"IF(ISNA(R27*VLOOKUP($C27,Hypothèses!$D$6:$F$13,3,0)),0,R27*VLOOKUP($C27,Hypothèses!$D$6:$F$13,3,0))","v":0},{"$f":"IF(ISNA(S27*VLOOKUP($C27,Hypothèses!$D$6:$F$13,3,0)),0,S27*VLOOKUP($C27,Hypothèses!$D$6:$F$13,3,0))","v":0},{"$f":"IF(ISNA(#REF!*VLOOKUP($C27,Hypothèses!$D$6:$F$13,3,0)),0,#REF!*VLOOKUP($C27,Hypothèses!$D$6:$F$13,3,0))","v":{"$error":"#REF!"}},{"$f":"IF(ISNA(#REF!*VLOOKUP($C27,Hypothèses!$D$6:$F$13,3,0)),0,#REF!*VLOOKUP($C27,Hypothèses!$D$6:$F$13,3,0))","v":{"$error":"#REF!"}},{"$f":"IF(ISNA(#REF!*VLOOKUP($C27,Hypothèses!$D$6:$F$13,3,0)),0,#REF!*VLOOKUP($C27,Hypothèses!$D$6:$F$13,3,0))","v":{"$error":"#REF!"}},{"$f":"IF(ISNA(#REF!*VLOOKUP($C27,Hypothèses!$D$6:$F$13,3,0)),0,#REF!*VLOOKUP($C27,Hypothèses!$D$6:$F$13,3,0))","v":{"$error":"#REF!"}},{"$f":"IF(ISNA(#REF!*VLOOKUP($C27,Hypothèses!$D$6:$F$13,3,0)),0,#REF!*VLOOKUP($C27,Hypothèses!$D$6:$F$13,3,0))","v":{"$error":"#REF!"}},{"$f":"IF(ISNA(#REF!*VLOOKUP($C27,Hypothèses!$D$6:$F$13,3,0)),0,#REF!*VLOOKUP($C27,Hypothèses!$D$6:$F$13,3,0))","v":{"$error":"#REF!"}},{"$f":"IF(ISNA(#REF!*VLOOKUP($C27,Hypothèses!$D$6:$F$13,3,0)),0,#REF!*VLOOKUP($C27,Hypothèses!$D$6:$F$13,3,0))","v":{"$error":"#REF!"}}]
[21,null,null,{"$f":"IF(ISNA(VLOOKUP(C28,Hypothèses!$D$6:$G$14,4,0)),\"\",VLOOKUP(C28,Hypothèses!$D$6:$G$14,4,0))","v":""},null,null,null,null,null,null,null,null,null,null,null,null,null,null,null,null,null,null,null,null,null,{"$f":"IF(ISNA(E28*VLOOKUP($C28,Hypothèses!$D$6:$F$13,3,0)),0,E28*VLOOKUP($C28,Hypothèses!$D$6:$F$13,3,0))","v":0},{"$f":"IF(ISNA(F28*VLOOKUP($C28,Hypothèses!$D$6:$F$13,3,0)),0,F28*VLOOKUP($C28,Hypothèses!$D$6:$F$13,3,0))","v":0},{"$f":"IF(ISNA(G28*VLOOKUP($C28,Hypothèses!$D$6:$F$13,3,0)),0,G28*VLOOKUP($C28,Hypothèses!$D$6:$F$13,3,0))","v":0},{"$f":"IF(ISNA(H28*VLOOKUP($C28,Hypothèses!$D$6:$F$13,3,0)),0,H28*VLOOKUP($C28,Hypothèses!$D$6:$F$13,3,0))","v":0},{"$f":"IF(ISNA(I28*VLOOKUP($C28,Hypothèses!$D$6:$F$13,3,0)),0,I28*VLOOKUP($C28,Hypothèses!$D$6:$F$13,3,0))","v":0},{"$f":"IF(ISNA(J28*VLOOKUP($C28,Hypothèses!$D$6:$F$13,3,0)),0,J28*VLOOKUP($C28,Hypothèses!$D$6:$F$13,3,0))","v":0},{"$f":"IF(ISNA(K28*VLOOKUP($C28,Hypothèses!$D$6:$F$13,3,0)),0,K28*VLOOKUP($C28,Hypothèses!$D$6:$F$13,3,0))","v":0},{"$f":"IF(ISNA(L28*VLOOKUP($C28,Hypothèses!$D$6:$F$13,3,0)),0,L28*VLOOKUP($C28,Hypothèses!$D$6:$F$13,3,0))","v":0},{"$f":"IF(ISNA(M28*VLOOKUP($C28,Hypothèses!$D$6:$F$13,3,0)),0,M28*VLOOKUP($C28,Hypothèses!$D$6:$F$13,3,0))","v":0},{"$f":"IF(ISNA(N28*VLOOKUP($C28,Hypothèses!$D$6:$F$13,3,0)),0,N28*VLOOKUP($C28,Hypothèses!$D$6:$F$13,3,0))","v":0},{"$f":"IF(ISNA(O28*VLOOKUP($C28,Hypothèses!$D$6:$F$13,3,0)),0,O28*VLOOKUP($C28,Hypothèses!$D$6:$F$13,3,0))","v":0},{"$f":"IF(ISNA(P28*VLOOKUP($C28,Hypothèses!$D$6:$F$13,3,0)),0,P28*VLOOKUP($C28,Hypothèses!$D$6:$F$13,3,0))","v":0},{"$f":"IF(ISNA(Q28*VLOOKUP($C28,Hypothèses!$D$6:$F$13,3,0)),0,Q28*VLOOKUP($C28,Hypothèses!$D$6:$F$13,3,0))","v":0},{"$f":"IF(ISNA(R28*VLOOKUP($C28,Hypothèses!$D$6:$F$13,3,0)),0,R28*VLOOKUP($C28,Hypothèses!$D$6:$F$13,3,0))","v":0},{"$f":"IF(ISNA(S28*VLOOKUP($C28,Hypothèses!$D$6:$F$13,3,0)),0,S28*VLOOKUP($C28,Hypothèses!$D$6:$F$13,3,0))","v":0},{"$f":"IF(ISNA(#REF!*VLOOKUP($C28,Hypothèses!$D$6:$F$13,3,0)),0,#REF!*VLOOKUP($C28,Hypothèses!$D$6:$F$13,3,0))","v":{"$error":"#REF!"}},{"$f":"IF(ISNA(#REF!*VLOOKUP($C28,Hypothèses!$D$6:$F$13,3,0)),0,#REF!*VLOOKUP($C28,Hypothèses!$D$6:$F$13,3,0))","v":{"$error":"#REF!"}},{"$f":"IF(ISNA(#REF!*VLOOKUP($C28,Hypothèses!$D$6:$F$13,3,0)),0,#REF!*VLOOKUP($C28,Hypothèses!$D$6:$F$13,3,0))","v":{"$error":"#REF!"}},{"$f":"IF(ISNA(#REF!*VLOOKUP($C28,Hypothèses!$D$6:$F$13,3,0)),0,#REF!*VLOOKUP($C28,Hypothèses!$D$6:$F$13,3,0))","v":{"$error":"#REF!"}},{"$f":"IF(ISNA(#REF!*VLOOKUP($C28,Hypothèses!$D$6:$F$13,3,0)),0,#REF!*VLOOKUP($C28,Hypothèses!$D$6:$F$13,3,0))","v":{"$error":"#REF!"}},{"$f":"IF(ISNA(#REF!*VLOOKUP($C28,Hypothèses!$D$6:$F$13,3,0)),0,#REF!*VLOOKUP($C28,Hypothèses!$D$6:$F$13,3,0))","v":{"$error":"#REF!"}},{"$f":"IF(ISNA(#REF!*VLOOKUP($C28,Hypothèses!$D$6:$F$13,3,0)),0,#REF!*VLOOKUP($C28,Hypothèses!$D$6:$F$13,3,0))","v":{"$error":"#REF!"}}]
[22,null,null,{"$f":"IF(ISNA(VLOOKUP(C29,Hypothèses!$D$6:$G$14,4,0)),\"\",VLOOKUP(C29,Hypothèses!$D$6:$G$14,4,0))","v":""},null,null,null,null,null,null,null,null,null,null,null,null,null,null,null,null,null,null,null,null,null,{"$f":"IF(ISNA(E29*VLOOKUP($C29,Hypothèses!$D$6:$F$13,3,0)),0,E29*VLOOKUP($C29,Hypothèses!$D$6:$F$13,3,0))","v":0},{"$f":"IF(ISNA(F29*VLOOKUP($C29,Hypothèses!$D$6:$F$13,3,0)),0,F29*VLOOKUP($C29,Hypothèses!$D$6:$F$13,3,0))","v":0},{"$f":"IF(ISNA(G29*VLOOKUP($C29,Hypothèses!$D$6:$F$13,3,0)),0,G29*VLOOKUP($C29,Hypothèses!$D$6:$F$13,3,0))","v":0},{"$f":"IF(ISNA(H29*VLOOKUP($C29,Hypothèses!$D$6:$F$13,3,0)),0,H29*VLOOKUP($C29,Hypothèses!$D$6:$F$13,3,0))","v":0},{"$f":"IF(ISNA(I29*VLOOKUP($C29,Hypothèses!$D$6:$F$13,3,0)),0,I29*VLOOKUP($C29,Hypothèses!$D$6:$F$13,3,0))","v":0},{"$f":"IF(ISNA(J29*VLOOKUP($C29,Hypothèses!$D$6:$F$13,3,0)),0,J29*VLOOKUP($C29,Hypothèses!$D$6:$F$13,3,0))","v":0},{"$f":"IF(ISNA(K29*VLOOKUP($C29,Hypothèses!$D$6:$F$13,3,0)),0,K29*VLOOKUP($C29,Hypothèses!$D$6:$F$13,3,0))","v":0},{"$f":"IF(ISNA(L29*VLOOKUP($C29,Hypothèses!$D$6:$F$13,3,0)),0,L29*VLOOKUP($C29,Hypothèses!$D$6:$F$13,3,0))","v":0},{"$f":"IF(ISNA(M29*VLOOKUP($C29,Hypothèses!$D$6:$F$13,3,0)),0,M29*VLOOKUP($C29,Hypothèses!$D$6:$F$13,3,0))","v":0},{"$f":"IF(ISNA(N29*VLOOKUP($C29,Hypothèses!$D$6:$F$13,3,0)),0,N29*VLOOKUP($C29,Hypothèses!$D$6:$F$13,3,0))","v":0},{"$f":"IF(ISNA(O29*VLOOKUP($C29,Hypothèses!$D$6:$F$13,3,0)),0,O29*VLOOKUP($C29,Hypothèses!$D$6:$F$13,3,0))","v":0},{"$f":"IF(ISNA(P29*VLOOKUP($C29,Hypothèses!$D$6:$F$13,3,0)),0,P29*VLOOKUP($C29,Hypothèses!$D$6:$F$13,3,0))","v":0},{"$f":"IF(ISNA(Q29*VLOOKUP($C29,Hypothèses!$D$6:$F$13,3,0)),0,Q29*VLOOKUP($C29,Hypothèses!$D$6:$F$13,3,0))","v":0},{"$f":"IF(ISNA(R29*VLOOKUP($C29,Hypothèses!$D$6:$F$13,3,0)),0,R29*VLOOKUP($C29,Hypothèses!$D$6:$F$13,3,0))","v":0},{"$f":"IF(ISNA(S29*VLOOKUP($C29,Hypothèses!$D$6:$F$13,3,0)),0,S29*VLOOKUP($C29,Hypothèses!$D$6:$F$13,3,0))","v":0},{"$f":"IF(ISNA(#REF!*VLOOKUP($C29,Hypothèses!$D$6:$F$13,3,0)),0,#REF!*VLOOKUP($C29,Hypothèses!$D$6:$F$13,3,0))","v":{"$error":"#REF!"}},{"$f":"IF(ISNA(#REF!*VLOOKUP($C29,Hypothèses!$D$6:$F$13,3,0)),0,#REF!*VLOOKUP($C29,Hypothèses!$D$6:$F$13,3,0))","v":{"$error":"#REF!"}},{"$f":"IF(ISNA(#REF!*VLOOKUP($C29,Hypothèses!$D$6:$F$13,3,0)),0,#REF!*VLOOKUP($C29,Hypothèses!$D$6:$F$13,3,0))","v":{"$error":"#REF!"}},{"$f":"IF(ISNA(#REF!*VLOOKUP($C29,Hypothèses!$D$6:$F$13,3,0)),0,#REF!*VLOOKUP($C29,Hypothèses!$D$6:$F$13,3,0))","v":{"$error":"#REF!"}},{"$f":"IF(ISNA(#REF!*VLOOKUP($C29,Hypothèses!$D$6:$F$13,3,0)),0,#REF!*VLOOKUP($C29,Hypothèses!$D$6:$F$13,3,0))","v":{"$error":"#REF!"}},{"$f":"IF(ISNA(#REF!*VLOOKUP($C29,Hypothèses!$D$6:$F$13,3,0)),0,#REF!*VLOOKUP($C29,Hypothèses!$D$6:$F$13,3,0))","v":{"$error":"#REF!"}},{"$f":"IF(ISNA(#REF!*VLOOKUP($C29,Hypothèses!$D$6:$F$13,3,0)),0,#REF!*VLOOKUP($C29,Hypothèses!$D$6:$F$13,3,0))","v":{"$error":"#REF!"}}]
[23,null,null,{"$f":"IF(ISNA(VLOOKUP(C30,Hypothèses!$D$6:$G$14,4,0)),\"\",VLOOKUP(C30,Hypothèses!$D$6:$G$14,4,0))","v":""},null,null,null,null,null,null,null,null,null,null,null,null,null,null,null,null,null,null,null,null,null,{"$f":"IF(ISNA(E30*VLOOKUP($C30,Hypothèses!$D$6:$F$13,3,0)),0,E30*VLOOKUP($C30,Hypothèses!$D$6:$F$13,3,0))","v":0},{"$f":"IF(ISNA(F30*VLOOKUP($C30,Hypothèses!$D$6:$F$13,3,0)),0,F30*VLOOKUP($C30,Hypothèses!$D$6:$F$13,3,0))","v":0},{"$f":"IF(ISNA(G30*VLOOKUP($C30,Hypothèses!$D$6:$F$13,3,0)),0,G30*VLOOKUP($C30,Hypothèses!$D$6:$F$13,3,0))","v":0},{"$f":"IF(ISNA(H30*VLOOKUP($C30,Hypothèses!$D$6:$F$13,3,0)),0,H30*VLOOKUP($C30,Hypothèses!$D$6:$F$13,3,0))","v":0},{"$f":"IF(ISNA(I30*VLOOKUP($C30,Hypothèses!$D$6:$F$13,3,0)),0,I30*VLOOKUP($C30,Hypothèses!$D$6:$F$13,3,0))","v":0},{"$f":"IF(ISNA(J30*VLOOKUP($C30,Hypothèses!$D$6:$F$13,3,0)),0,J30*VLOOKUP($C30,Hypothèses!$D$6:$F$13,3,0))","v":0},{"$f":"IF(ISNA(K30*VLOOKUP($C30,Hypothèses!$D$6:$F$13,3,0)),0,K30*VLOOKUP($C30,Hypothèses!$D$6:$F$13,3,0))","v":0},{"$f":"IF(ISNA(L30*VLOOKUP($C30,Hypothèses!$D$6:$F$13,3,0)),0,L30*VLOOKUP($C30,Hypothèses!$D$6:$F$13,3,0))","v":0},{"$f":"IF(ISNA(M30*VLOOKUP($C30,Hypothèses!$D$6:$F$13,3,0)),0,M30*VLOOKUP($C30,Hypothèses!$D$6:$F$13,3,0))","v":0},{"$f":"IF(ISNA(N30*VLOOKUP($C30,Hypothèses!$D$6:$F$13,3,0)),0,N30*VLOOKUP($C30,Hypothèses!$D$6:$F$13,3,0))","v":0},{"$f":"IF(ISNA(O30*VLOOKUP($C30,Hypothèses!$D$6:$F$13,3,0)),0,O30*VLOOKUP($C30,Hypothèses!$D$6:$F$13,3,0))","v":0},{"$f":"IF(ISNA(P30*VLOOKUP($C30,Hypothèses!$D$6:$F$13,3,0)),0,P30*VLOOKUP($C30,Hypothèses!$D$6:$F$13,3,0))","v":0},{"$f":"IF(ISNA(Q30*VLOOKUP($C30,Hypothèses!$D$6:$F$13,3,0)),0,Q30*VLOOKUP($C30,Hypothèses!$D$6:$F$13,3,0))","v":0},{"$f":"IF(ISNA(R30*VLOOKUP($C30,Hypothèses!$D$6:$F$13,3,0)),0,R30*VLOOKUP($C30,Hypothèses!$D$6:$F$13,3,0))","v":0},{"$f":"IF(ISNA(S30*VLOOKUP($C30,Hypothèses!$D$6:$F$13,3,0)),0,S30*VLOOKUP($C30,Hypothèses!$D$6:$F$13,3,0))","v":0},{"$f":"IF(ISNA(#REF!*VLOOKUP($C30,Hypothèses!$D$6:$F$13,3,0)),0,#REF!*VLOOKUP($C30,Hypothèses!$D$6:$F$13,3,0))","v":{"$error":"#REF!"}},{"$f":"IF(ISNA(#REF!*VLOOKUP($C30,Hypothèses!$D$6:$F$13,3,0)),0,#REF!*VLOOKUP($C30,Hypothèses!$D$6:$F$13,3,0))","v":{"$error":"#REF!"}},{"$f":"IF(ISNA(#REF!*VLOOKUP($C30,Hypothèses!$D$6:$F$13,3,0)),0,#REF!*VLOOKUP($C30,Hypothèses!$D$6:$F$13,3,0))","v":{"$error":"#REF!"}},{"$f":"IF(ISNA(#REF!*VLOOKUP($C30,Hypothèses!$D$6:$F$13,3,0)),0,#REF!*VLOOKUP($C30,Hypothèses!$D$6:$F$13,3,0))","v":{"$error":"#REF!"}},{"$f":"IF(ISNA(#REF!*VLOOKUP($C30,Hypothèses!$D$6:$F$13,3,0)),0,#REF!*VLOOKUP($C30,Hypothèses!$D$6:$F$13,3,0))","v":{"$error":"#REF!"}},{"$f":"IF(ISNA(#REF!*VLOOKUP($C30,Hypothèses!$D$6:$F$13,3,0)),0,#REF!*VLOOKUP($C30,Hypothèses!$D$6:$F$13,3,0))","v":{"$error":"#REF!"}},{"$f":"IF(ISNA(#REF!*VLOOKUP($C30,Hypothèses!$D$6:$F$13,3,0)),0,#REF!*VLOOKUP($C30,Hypothèses!$D$6:$F$13,3,0))","v":{"$error":"#REF!"}}]
[24,null,null,{"$f":"IF(ISNA(VLOOKUP(C31,Hypothèses!$D$6:$G$14,4,0)),\"\",VLOOKUP(C31,Hypothèses!$D$6:$G$14,4,0))","v":""},null,null,null,null,null,null,null,null,null,null,null,null,null,null,null,null,null,null,null,null,null,{"$f":"IF(ISNA(E31*VLOOKUP($C31,Hypothèses!$D$6:$F$13,3,0)),0,E31*VLOOKUP($C31,Hypothèses!$D$6:$F$13,3,0))","v":0},{"$f":"IF(ISNA(F31*VLOOKUP($C31,Hypothèses!$D$6:$F$13,3,0)),0,F31*VLOOKUP($C31,Hypothèses!$D$6:$F$13,3,0))","v":0},{"$f":"IF(ISNA(G31*VLOOKUP($C31,Hypothèses!$D$6:$F$13,3,0)),0,G31*VLOOKUP($C31,Hypothèses!$D$6:$F$13,3,0))","v":0},{"$f":"IF(ISNA(H31*VLOOKUP($C31,Hypothèses!$D$6:$F$13,3,0)),0,H31*VLOOKUP($C31,Hypothèses!$D$6:$F$13,3,0))","v":0},{"$f":"IF(ISNA(I31*VLOOKUP($C31,Hypothèses!$D$6:$F$13,3,0)),0,I31*VLOOKUP($C31,Hypothèses!$D$6:$F$13,3,0))","v":0},{"$f":"IF(ISNA(J31*VLOOKUP($C31,Hypothèses!$D$6:$F$13,3,0)),0,J31*VLOOKUP($C31,Hypothèses!$D$6:$F$13,3,0))","v":0},{"$f":"IF(ISNA(K31*VLOOKUP($C31,Hypothèses!$D$6:$F$13,3,0)),0,K31*VLOOKUP($C31,Hypothèses!$D$6:$F$13,3,0))","v":0},{"$f":"IF(ISNA(L31*VLOOKUP($C31,Hypothèses!$D$6:$F$13,3,0)),0,L31*VLOOKUP($C31,Hypothèses!$D$6:$F$13,3,0))","v":0},{"$f":"IF(ISNA(M31*VLOOKUP($C31,Hypothèses!$D$6:$F$13,3,0)),0,M31*VLOOKUP($C31,Hypothèses!$D$6:$F$13,3,0))","v":0},{"$f":"IF(ISNA(N31*VLOOKUP($C31,Hypothèses!$D$6:$F$13,3,0)),0,N31*VLOOKUP($C31,Hypothèses!$D$6:$F$13,3,0))","v":0},{"$f":"IF(ISNA(O31*VLOOKUP($C31,Hypothèses!$D$6:$F$13,3,0)),0,O31*VLOOKUP($C31,Hypothèses!$D$6:$F$13,3,0))","v":0},{"$f":"IF(ISNA(P31*VLOOKUP($C31,Hypothèses!$D$6:$F$13,3,0)),0,P31*VLOOKUP($C31,Hypothèses!$D$6:$F$13,3,0))","v":0},{"$f":"IF(ISNA(Q31*VLOOKUP($C31,Hypothèses!$D$6:$F$13,3,0)),0,Q31*VLOOKUP($C31,Hypothèses!$D$6:$F$13,3,0))","v":0},{"$f":"IF(ISNA(R31*VLOOKUP($C31,Hypothèses!$D$6:$F$13,3,0)),0,R31*VLOOKUP($C31,Hypothèses!$D$6:$F$13,3,0))","v":0},{"$f":"IF(ISNA(S31*VLOOKUP($C31,Hypothèses!$D$6:$F$13,3,0)),0,S31*VLOOKUP($C31,Hypothèses!$D$6:$F$13,3,0))","v":0},{"$f":"IF(ISNA(#REF!*VLOOKUP($C31,Hypothèses!$D$6:$F$13,3,0)),0,#REF!*VLOOKUP($C31,Hypothèses!$D$6:$F$13,3,0))","v":{"$error":"#REF!"}},{"$f":"IF(ISNA(#REF!*VLOOKUP($C31,Hypothèses!$D$6:$F$13,3,0)),0,#REF!*VLOOKUP($C31,Hypothèses!$D$6:$F$13,3,0))","v":{"$error":"#REF!"}},{"$f":"IF(ISNA(#REF!*VLOOKUP($C31,Hypothèses!$D$6:$F$13,3,0)),0,#REF!*VLOOKUP($C31,Hypothèses!$D$6:$F$13,3,0))","v":{"$error":"#REF!"}},{"$f":"IF(ISNA(#REF!*VLOOKUP($C31,Hypothèses!$D$6:$F$13,3,0)),0,#REF!*VLOOKUP($C31,Hypothèses!$D$6:$F$13,3,0))","v":{"$error":"#REF!"}},{"$f":"IF(ISNA(#REF!*VLOOKUP($C31,Hypothèses!$D$6:$F$13,3,0)),0,#REF!*VLOOKUP($C31,Hypothèses!$D$6:$F$13,3,0))","v":{"$error":"#REF!"}},{"$f":"IF(ISNA(#REF!*VLOOKUP($C31,Hypothèses!$D$6:$F$13,3,0)),0,#REF!*VLOOKUP($C31,Hypothèses!$D$6:$F$13,3,0))","v":{"$error":"#REF!"}},{"$f":"IF(ISNA(#REF!*VLOOKUP($C31,Hypothèses!$D$6:$F$13,3,0)),0,#REF!*VLOOKUP($C31,Hypothèses!$D$6:$F$13,3,0))","v":{"$error":"#REF!"}}]
[25,null,null,{"$f":"IF(ISNA(VLOOKUP(C32,Hypothèses!$D$6:$G$14,4,0)),\"\",VLOOKUP(C32,Hypothèses!$D$6:$G$14,4,0))","v":""},null,null,null,null,null,null,null,null,null,null,null,null,null,null,null,null,null,null,null,null,null,{"$f":"IF(ISNA(E32*VLOOKUP($C32,Hypothèses!$D$6:$F$13,3,0)),0,E32*VLOOKUP($C32,Hypothèses!$D$6:$F$13,3,0))","v":0},{"$f":"IF(ISNA(F32*VLOOKUP($C32,Hypothèses!$D$6:$F$13,3,0)),0,F32*VLOOKUP($C32,Hypothèses!$D$6:$F$13,3,0))","v":0},{"$f":"IF(ISNA(G32*VLOOKUP($C32,Hypothèses!$D$6:$F$13,3,0)),0,G32*VLOOKUP($C32,Hypothèses!$D$6:$F$13,3,0))","v":0},{"$f":"IF(ISNA(H32*VLOOKUP($C32,Hypothèses!$D$6:$F$13,3,0)),0,H32*VLOOKUP($C32,Hypothèses!$D$6:$F$13,3,0))","v":0},{"$f":"IF(ISNA(I32*VLOOKUP($C32,Hypothèses!$D$6:$F$13,3,0)),0,I32*VLOOKUP($C32,Hypothèses!$D$6:$F$13,3,0))","v":0},{"$f":"IF(ISNA(J32*VLOOKUP($C32,Hypothèses!$D$6:$F$13,3,0)),0,J32*VLOOKUP($C32,Hypothèses!$D$6:$F$13,3,0))","v":0},{"$f":"IF(ISNA(K32*VLOOKUP($C32,Hypothèses!$D$6:$F$13,3,0)),0,K32*VLOOKUP($C32,Hypothèses!$D$6:$F$13,3,0))","v":0},{"$f":"IF(ISNA(L32*VLOOKUP($C32,Hypothèses!$D$6:$F$13,3,0)),0,L32*VLOOKUP($C32,Hypothèses!$D$6:$F$13,3,0))","v":0},{"$f":"IF(ISNA(M32*VLOOKUP($C32,Hypothèses!$D$6:$F$13,3,0)),0,M32*VLOOKUP($C32,Hypothèses!$D$6:$F$13,3,0))","v":0},{"$f":"IF(ISNA(N32*VLOOKUP($C32,Hypothèses!$D$6:$F$13,3,0)),0,N32*VLOOKUP($C32,Hypothèses!$D$6:$F$13,3,0))","v":0},{"$f":"IF(ISNA(O32*VLOOKUP($C32,Hypothèses!$D$6:$F$13,3,0)),0,O32*VLOOKUP($C32,Hypothèses!$D$6:$F$13,3,0))","v":0},{"$f":"IF(ISNA(P32*VLOOKUP($C32,Hypothèses!$D$6:$F$13,3,0)),0,P32*VLOOKUP($C32,Hypothèses!$D$6:$F$13,3,0))","v":0},{"$f":"IF(ISNA(Q32*VLOOKUP($C32,Hypothèses!$D$6:$F$13,3,0)),0,Q32*VLOOKUP($C32,Hypothèses!$D$6:$F$13,3,0))","v":0},{"$f":"IF(ISNA(R32*VLOOKUP($C32,Hypothèses!$D$6:$F$13,3,0)),0,R32*VLOOKUP($C32,Hypothèses!$D$6:$F$13,3,0))","v":0},{"$f":"IF(ISNA(S32*VLOOKUP($C32,Hypothèses!$D$6:$F$13,3,0)),0,S32*VLOOKUP($C32,Hypothèses!$D$6:$F$13,3,0))","v":0},{"$f":"IF(ISNA(#REF!*VLOOKUP($C32,Hypothèses!$D$6:$F$13,3,0)),0,#REF!*VLOOKUP($C32,Hypothèses!$D$6:$F$13,3,0))","v":{"$error":"#REF!"}},{"$f":"IF(ISNA(#REF!*VLOOKUP($C32,Hypothèses!$D$6:$F$13,3,0)),0,#REF!*VLOOKUP($C32,Hypothèses!$D$6:$F$13,3,0))","v":{"$error":"#REF!"}},{"$f":"IF(ISNA(#REF!*VLOOKUP($C32,Hypothèses!$D$6:$F$13,3,0)),0,#REF!*VLOOKUP($C32,Hypothèses!$D$6:$F$13,3,0))","v":{"$error":"#REF!"}},{"$f":"IF(ISNA(#REF!*VLOOKUP($C32,Hypothèses!$D$6:$F$13,3,0)),0,#REF!*VLOOKUP($C32,Hypothèses!$D$6:$F$13,3,0))","v":{"$error":"#REF!"}},{"$f":"IF(ISNA(#REF!*VLOOKUP($C32,Hypothèses!$D$6:$F$13,3,0)),0,#REF!*VLOOKUP($C32,Hypothèses!$D$6:$F$13,3,0))","v":{"$error":"#REF!"}},{"$f":"IF(ISNA(#REF!*VLOOKUP($C32,Hypothèses!$D$6:$F$13,3,0)),0,#REF!*VLOOKUP($C32,Hypothèses!$D$6:$F$13,3,0))","v":{"$error":"#REF!"}},{"$f":"IF(ISNA(#REF!*VLOOKUP($C32,Hypothèses!$D$6:$F$13,3,0)),0,#REF!*VLOOKUP($C32,Hypothèses!$D$6:$F$13,3,0))","v":{"$error":"#REF!"}}]
[26,null,null,{"$f":"IF(ISNA(VLOOKUP(C33,Hypothèses!$D$6:$G$14,4,0)),\"\",VLOOKUP(C33,Hypothèses!$D$6:$G$14,4,0))","v":""},null,null,null,null,null,null,null,null,null,null,null,null,null,null,null,null,null,null,null,null,null,{"$f":"IF(ISNA(E33*VLOOKUP($C33,Hypothèses!$D$6:$F$13,3,0)),0,E33*VLOOKUP($C33,Hypothèses!$D$6:$F$13,3,0))","v":0},{"$f":"IF(ISNA(F33*VLOOKUP($C33,Hypothèses!$D$6:$F$13,3,0)),0,F33*VLOOKUP($C33,Hypothèses!$D$6:$F$13,3,0))","v":0},{"$f":"IF(ISNA(G33*VLOOKUP($C33,Hypothèses!$D$6:$F$13,3,0)),0,G33*VLOOKUP($C33,Hypothèses!$D$6:$F$13,3,0))","v":0},{"$f":"IF(ISNA(H33*VLOOKUP($C33,Hypothèses!$D$6:$F$13,3,0)),0,H33*VLOOKUP($C33,Hypothèses!$D$6:$F$13,3,0))","v":0},{"$f":"IF(ISNA(I33*VLOOKUP($C33,Hypothèses!$D$6:$F$13,3,0)),0,I33*VLOOKUP($C33,Hypothèses!$D$6:$F$13,3,0))","v":0},{"$f":"IF(ISNA(J33*VLOOKUP($C33,Hypothèses!$D$6:$F$13,3,0)),0,J33*VLOOKUP($C33,Hypothèses!$D$6:$F$13,3,0))","v":0},{"$f":"IF(ISNA(K33*VLOOKUP($C33,Hypothèses!$D$6:$F$13,3,0)),0,K33*VLOOKUP($C33,Hypothèses!$D$6:$F$13,3,0))","v":0},{"$f":"IF(ISNA(L33*VLOOKUP($C33,Hypothèses!$D$6:$F$13,3,0)),0,L33*VLOOKUP($C33,Hypothèses!$D$6:$F$13,3,0))","v":0},{"$f":"IF(ISNA(M33*VLOOKUP($C33,Hypothèses!$D$6:$F$13,3,0)),0,M33*VLOOKUP($C33,Hypothèses!$D$6:$F$13,3,0))","v":0},{"$f":"IF(ISNA(N33*VLOOKUP($C33,Hypothèses!$D$6:$F$13,3,0)),0,N33*VLOOKUP($C33,Hypothèses!$D$6:$F$13,3,0))","v":0},{"$f":"IF(ISNA(O33*VLOOKUP($C33,Hypothèses!$D$6:$F$13,3,0)),0,O33*VLOOKUP($C33,Hypothèses!$D$6:$F$13,3,0))","v":0},{"$f":"IF(ISNA(P33*VLOOKUP($C33,Hypothèses!$D$6:$F$13,3,0)),0,P33*VLOOKUP($C33,Hypothèses!$D$6:$F$13,3,0))","v":0},{"$f":"IF(ISNA(Q33*VLOOKUP($C33,Hypothèses!$D$6:$F$13,3,0)),0,Q33*VLOOKUP($C33,Hypothèses!$D$6:$F$13,3,0))","v":0},{"$f":"IF(ISNA(R33*VLOOKUP($C33,Hypothèses!$D$6:$F$13,3,0)),0,R33*VLOOKUP($C33,Hypothèses!$D$6:$F$13,3,0))","v":0},{"$f":"IF(ISNA(S33*VLOOKUP($C33,Hypothèses!$D$6:$F$13,3,0)),0,S33*VLOOKUP($C33,Hypothèses!$D$6:$F$13,3,0))","v":0},{"$f":"IF(ISNA(#REF!*VLOOKUP($C33,Hypothèses!$D$6:$F$13,3,0)),0,#REF!*VLOOKUP($C33,Hypothèses!$D$6:$F$13,3,0))","v":{"$error":"#REF!"}},{"$f":"IF(ISNA(#REF!*VLOOKUP($C33,Hypothèses!$D$6:$F$13,3,0)),0,#REF!*VLOOKUP($C33,Hypothèses!$D$6:$F$13,3,0))","v":{"$error":"#REF!"}},{"$f":"IF(ISNA(#REF!*VLOOKUP($C33,Hypothèses!$D$6:$F$13,3,0)),0,#REF!*VLOOKUP($C33,Hypothèses!$D$6:$F$13,3,0))","v":{"$error":"#REF!"}},{"$f":"IF(ISNA(#REF!*VLOOKUP($C33,Hypothèses!$D$6:$F$13,3,0)),0,#REF!*VLOOKUP($C33,Hypothèses!$D$6:$F$13,3,0))","v":{"$error":"#REF!"}},{"$f":"IF(ISNA(#REF!*VLOOKUP($C33,Hypothèses!$D$6:$F$13,3,0)),0,#REF!*VLOOKUP($C33,Hypothèses!$D$6:$F$13,3,0))","v":{"$error":"#REF!"}},{"$f":"IF(ISNA(#REF!*VLOOKUP($C33,Hypothèses!$D$6:$F$13,3,0)),0,#REF!*VLOOKUP($C33,Hypothèses!$D$6:$F$13,3,0))","v":{"$error":"#REF!"}},{"$f":"IF(ISNA(#REF!*VLOOKUP($C33,Hypothèses!$D$6:$F$13,3,0)),0,#REF!*VLOOKUP($C33,Hypothèses!$D$6:$F$13,3,0))","v":{"$error":"#REF!"}}]
[27,null,null,{"$f":"IF(ISNA(VLOOKUP(C34,Hypothèses!$D$6:$G$14,4,0)),\"\",VLOOKUP(C34,Hypothèses!$D$6:$G$14,4,0))","v":""},null,null,null,null,null,null,null,null,null,null,null,null,null,null,null,null,null,null,null,null,null,{"$f":"IF(ISNA(E34*VLOOKUP($C34,Hypothèses!$D$6:$F$13,3,0)),0,E34*VLOOKUP($C34,Hypothèses!$D$6:$F$13,3,0))","v":0},{"$f":"IF(ISNA(F34*VLOOKUP($C34,Hypothèses!$D$6:$F$13,3,0)),0,F34*VLOOKUP($C34,Hypothèses!$D$6:$F$13,3,0))","v":0},{"$f":"IF(ISNA(G34*VLOOKUP($C34,Hypothèses!$D$6:$F$13,3,0)),0,G34*VLOOKUP($C34,Hypothèses!$D$6:$F$13,3,0))","v":0},{"$f":"IF(ISNA(H34*VLOOKUP($C34,Hypothèses!$D$6:$F$13,3,0)),0,H34*VLOOKUP($C34,Hypothèses!$D$6:$F$13,3,0))","v":0},{"$f":"IF(ISNA(I34*VLOOKUP($C34,Hypothèses!$D$6:$F$13,3,0)),0,I34*VLOOKUP($C34,Hypothèses!$D$6:$F$13,3,0))","v":0},{"$f":"IF(ISNA(J34*VLOOKUP($C34,Hypothèses!$D$6:$F$13,3,0)),0,J34*VLOOKUP($C34,Hypothèses!$D$6:$F$13,3,0))","v":0},{"$f":"IF(ISNA(K34*VLOOKUP($C34,Hypothèses!$D$6:$F$13,3,0)),0,K34*VLOOKUP($C34,Hypothèses!$D$6:$F$13,3,0))","v":0},{"$f":"IF(ISNA(L34*VLOOKUP($C34,Hypothèses!$D$6:$F$13,3,0)),0,L34*VLOOKUP($C34,Hypothèses!$D$6:$F$13,3,0))","v":0},{"$f":"IF(ISNA(M34*VLOOKUP($C34,Hypothèses!$D$6:$F$13,3,0)),0,M34*VLOOKUP($C34,Hypothèses!$D$6:$F$13,3,0))","v":0},{"$f":"IF(ISNA(N34*VLOOKUP($C34,Hypothèses!$D$6:$F$13,3,0)),0,N34*VLOOKUP($C34,Hypothèses!$D$6:$F$13,3,0))","v":0},{"$f":"IF(ISNA(O34*VLOOKUP($C34,Hypothèses!$D$6:$F$13,3,0)),0,O34*VLOOKUP($C34,Hypothèses!$D$6:$F$13,3,0))","v":0},{"$f":"IF(ISNA(P34*VLOOKUP($C34,Hypothèses!$D$6:$F$13,3,0)),0,P34*VLOOKUP($C34,Hypothèses!$D$6:$F$13,3,0))","v":0},{"$f":"IF(ISNA(Q34*VLOOKUP($C34,Hypothèses!$D$6:$F$13,3,0)),0,Q34*VLOOKUP($C34,Hypothèses!$D$6:$F$13,3,0))","v":0},{"$f":"IF(ISNA(R34*VLOOKUP($C34,Hypothèses!$D$6:$F$13,3,0)),0,R34*VLOOKUP($C34,Hypothèses!$D$6:$F$13,3,0))","v":0},{"$f":"IF(ISNA(S34*VLOOKUP($C34,Hypothèses!$D$6:$F$13,3,0)),0,S34*VLOOKUP($C34,Hypothèses!$D$6:$F$13,3,0))","v":0},{"$f":"IF(ISNA(#REF!*VLOOKUP($C34,Hypothèses!$D$6:$F$13,3,0)),0,#REF!*VLOOKUP($C34,Hypothèses!$D$6:$F$13,3,0))","v":{"$error":"#REF!"}},{"$f":"IF(ISNA(#REF!*VLOOKUP($C34,Hypothèses!$D$6:$F$13,3,0)),0,#REF!*VLOOKUP($C34,Hypothèses!$D$6:$F$13,3,0))","v":{"$error":"#REF!"}},{"$f":"IF(ISNA(#REF!*VLOOKUP($C34,Hypothèses!$D$6:$F$13,3,0)),0,#REF!*VLOOKUP($C34,Hypothèses!$D$6:$F$13,3,0))","v":{"$error":"#REF!"}},{"$f":"IF(ISNA(#REF!*VLOOKUP($C34,Hypothèses!$D$6:$F$13,3,0)),0,#REF!*VLOOKUP($C34,Hypothèses!$D$6:$F$13,3,0))","v":{"$error":"#REF!"}},{"$f":"IF(ISNA(#REF!*VLOOKUP($C34,Hypothèses!$D$6:$F$13,3,0)),0,#REF!*VLOOKUP($C34,Hypothèses!$D$6:$F$13,3,0))","v":{"$error":"#REF!"}},{"$f":"IF(ISNA(#REF!*VLOOKUP($C34,Hypothèses!$D$6:$F$13,3,0)),0,#REF!*VLOOKUP($C34,Hypothèses!$D$6:$F$13,3,0))","v":{"$error":"#REF!"}},{"$f":"IF(ISNA(#REF!*VLOOKUP($C34,Hypothèses!$D$6:$F$13,3,0)),0,#REF!*VLOOKUP($C34,Hypothèses!$D$6:$F$13,3,0))","v":{"$error":"#REF!"}}]
[28,null,null,{"$f":"IF(ISNA(VLOOKUP(C35,Hypothèses!$D$6:$G$14,4,0)),\"\",VLOOKUP(C35,Hypothèses!$D$6:$G$14,4,0))","v":""},null,null,null,null,null,null,null,null,null,null,null,null,null,null,null,null,null,null,null,null,null,{"$f":"IF(ISNA(E35*VLOOKUP($C35,Hypothèses!$D$6:$F$13,3,0)),0,E35*VLOOKUP($C35,Hypothèses!$D$6:$F$13,3,0))","v":0},{"$f":"IF(ISNA(F35*VLOOKUP($C35,Hypothèses!$D$6:$F$13,3,0)),0,F35*VLOOKUP($C35,Hypothèses!$D$6:$F$13,3,0))","v":0},{"$f":"IF(ISNA(G35*VLOOKUP($C35,Hypothèses!$D$6:$F$13,3,0)),0,G35*VLOOKUP($C35,Hypothèses!$D$6:$F$13,3,0))","v":0},{"$f":"IF(ISNA(H35*VLOOKUP($C35,Hypothèses!$D$6:$F$13,3,0)),0,H35*VLOOKUP($C35,Hypothèses!$D$6:$F$13,3,0))","v":0},{"$f":"IF(ISNA(I35*VLOOKUP($C35,Hypothèses!$D$6:$F$13,3,0)),0,I35*VLOOKUP($C35,Hypothèses!$D$6:$F$13,3,0))","v":0},{"$f":"IF(ISNA(J35*VLOOKUP($C35,Hypothèses!$D$6:$F$13,3,0)),0,J35*VLOOKUP($C35,Hypothèses!$D$6:$F$13,3,0))","v":0},{"$f":"IF(ISNA(K35*VLOOKUP($C35,Hypothèses!$D$6:$F$13,3,0)),0,K35*VLOOKUP($C35,Hypothèses!$D$6:$F$13,3,0))","v":0},{"$f":"IF(ISNA(L35*VLOOKUP($C35,Hypothèses!$D$6:$F$13,3,0)),0,L35*VLOOKUP($C35,Hypothèses!$D$6:$F$13,3,0))","v":0},{"$f":"IF(ISNA(M35*VLOOKUP($C35,Hypothèses!$D$6:$F$13,3,0)),0,M35*VLOOKUP($C35,Hypothèses!$D$6:$F$13,3,0))","v":0},{"$f":"IF(ISNA(N35*VLOOKUP($C35,Hypothèses!$D$6:$F$13,3,0)),0,N35*VLOOKUP($C35,Hypothèses!$D$6:$F$13,3,0))","v":0},{"$f":"IF(ISNA(O35*VLOOKUP($C35,Hypothèses!$D$6:$F$13,3,0)),0,O35*VLOOKUP($C35,Hypothèses!$D$6:$F$13,3,0))","v":0},{"$f":"IF(ISNA(P35*VLOOKUP($C35,Hypothèses!$D$6:$F$13,3,0)),0,P35*VLOOKUP($C35,Hypothèses!$D$6:$F$13,3,0))","v":0},{"$f":"IF(ISNA(Q35*VLOOKUP($C35,Hypothèses!$D$6:$F$13,3,0)),0,Q35*VLOOKUP($C35,Hypothèses!$D$6:$F$13,3,0))","v":0},{"$f":"IF(ISNA(R35*VLOOKUP($C35,Hypothèses!$D$6:$F$13,3,0)),0,R35*VLOOKUP($C35,Hypothèses!$D$6:$F$13,3,0))","v":0},{"$f":"IF(ISNA(S35*VLOOKUP($C35,Hypothèses!$D$6:$F$13,3,0)),0,S35*VLOOKUP($C35,Hypothèses!$D$6:$F$13,3,0))","v":0},{"$f":"IF(ISNA(#REF!*VLOOKUP($C35,Hypothèses!$D$6:$F$13,3,0)),0,#REF!*VLOOKUP($C35,Hypothèses!$D$6:$F$13,3,0))","v":{"$error":"#REF!"}},{"$f":"IF(ISNA(#REF!*VLOOKUP($C35,Hypothèses!$D$6:$F$13,3,0)),0,#REF!*VLOOKUP($C35,Hypothèses!$D$6:$F$13,3,0))","v":{"$error":"#REF!"}},{"$f":"IF(ISNA(#REF!*VLOOKUP($C35,Hypothèses!$D$6:$F$13,3,0)),0,#REF!*VLOOKUP($C35,Hypothèses!$D$6:$F$13,3,0))","v":{"$error":"#REF!"}},{"$f":"IF(ISNA(#REF!*VLOOKUP($C35,Hypothèses!$D$6:$F$13,3,0)),0,#REF!*VLOOKUP($C35,Hypothèses!$D$6:$F$13,3,0))","v":{"$error":"#REF!"}},{"$f":"IF(ISNA(#REF!*VLOOKUP($C35,Hypothèses!$D$6:$F$13,3,0)),0,#REF!*VLOOKUP($C35,Hypothèses!$D$6:$F$13,3,0))","v":{"$error":"#REF!"}},{"$f":"IF(ISNA(#REF!*VLOOKUP($C35,Hypothèses!$D$6:$F$13,3,0)),0,#REF!*VLOOKUP($C35,Hypothèses!$D$6:$F$13,3,0))","v":{"$error":"#REF!"}},{"$f":"IF(ISNA(#REF!*VLOOKUP($C35,Hypothèses!$D$6:$F$13,3,0)),0,#REF!*VLOOKUP($C35,Hypothèses!$D$6:$F$13,3,0))","v":{"$error":"#REF!"}}]
[29,null,null,{"$f":"IF(ISNA(VLOOKUP(C36,Hypothèses!$D$6:$G$14,4,0)),\"\",VLOOKUP(C36,Hypothèses!$D$6:$G$14,4,0))","v":""},null,null,null,null,null,null,null,null,null,null,null,null,null,null,null,null,null,null,null,null,null,{"$f":"IF(ISNA(E36*VLOOKUP($C36,Hypothèses!$D$6:$F$13,3,0)),0,E36*VLOOKUP($C36,Hypothèses!$D$6:$F$13,3,0))","v":0},{"$f":"IF(ISNA(F36*VLOOKUP($C36,Hypothèses!$D$6:$F$13,3,0)),0,F36*VLOOKUP($C36,Hypothèses!$D$6:$F$13,3,0))","v":0},{"$f":"IF(ISNA(G36*VLOOKUP($C36,Hypothèses!$D$6:$F$13,3,0)),0,G36*VLOOKUP($C36,Hypothèses!$D$6:$F$13,3,0))","v":0},{"$f":"IF(ISNA(H36*VLOOKUP($C36,Hypothèses!$D$6:$F$13,3,0)),0,H36*VLOOKUP($C36,Hypothèses!$D$6:$F$13,3,0))","v":0},{"$f":"IF(ISNA(I36*VLOOKUP($C36,Hypothèses!$D$6:$F$13,3,0)),0,I36*VLOOKUP($C36,Hypothèses!$D$6:$F$13,3,0))","v":0},{"$f":"IF(ISNA(J36*VLOOKUP($C36,Hypothèses!$D$6:$F$13,3,0)),0,J36*VLOOKUP($C36,Hypothèses!$D$6:$F$13,3,0))","v":0},{"$f":"IF(ISNA(K36*VLOOKUP($C36,Hypothèses!$D$6:$F$13,3,0)),0,K36*VLOOKUP($C36,Hypothèses!$D$6:$F$13,3,0))","v":0},{"$f":"IF(ISNA(L36*VLOOKUP($C36,Hypothèses!$D$6:$F$13,3,0)),0,L36*VLOOKUP($C36,Hypothèses!$D$6:$F$13,3,0))","v":0},{"$f":"IF(ISNA(M36*VLOOKUP($C36,Hypothèses!$D$6:$F$13,3,0)),0,M36*VLOOKUP($C36,Hypothèses!$D$6:$F$13,3,0))","v":0},{"$f":"IF(ISNA(N36*VLOOKUP($C36,Hypothèses!$D$6:$F$13,3,0)),0,N36*VLOOKUP($C36,Hypothèses!$D$6:$F$13,3,0))","v":0},{"$f":"IF(ISNA(O36*VLOOKUP($C36,Hypothèses!$D$6:$F$13,3,0)),0,O36*VLOOKUP($C36,Hypothèses!$D$6:$F$13,3,0))","v":0},{"$f":"IF(ISNA(P36*VLOOKUP($C36,Hypothèses!$D$6:$F$13,3,0)),0,P36*VLOOKUP($C36,Hypothèses!$D$6:$F$13,3,0))","v":0},{"$f":"IF(ISNA(Q36*VLOOKUP($C36,Hypothèses!$D$6:$F$13,3,0)),0,Q36*VLOOKUP($C36,Hypothèses!$D$6:$F$13,3,0))","v":0},{"$f":"IF(ISNA(R36*VLOOKUP($C36,Hypothèses!$D$6:$F$13,3,0)),0,R36*VLOOKUP($C36,Hypothèses!$D$6:$F$13,3,0))","v":0},{"$f":"IF(ISNA(S36*VLOOKUP($C36,Hypothèses!$D$6:$F$13,3,0)),0,S36*VLOOKUP($C36,Hypothèses!$D$6:$F$13,3,0))","v":0},{"$f":"IF(ISNA(#REF!*VLOOKUP($C36,Hypothèses!$D$6:$F$13,3,0)),0,#REF!*VLOOKUP($C36,Hypothèses!$D$6:$F$13,3,0))","v":{"$error":"#REF!"}},{"$f":"IF(ISNA(#REF!*VLOOKUP($C36,Hypothèses!$D$6:$F$13,3,0)),0,#REF!*VLOOKUP($C36,Hypothèses!$D$6:$F$13,3,0))","v":{"$error":"#REF!"}},{"$f":"IF(ISNA(#REF!*VLOOKUP($C36,Hypothèses!$D$6:$F$13,3,0)),0,#REF!*VLOOKUP($C36,Hypothèses!$D$6:$F$13,3,0))","v":{"$error":"#REF!"}},{"$f":"IF(ISNA(#REF!*VLOOKUP($C36,Hypothèses!$D$6:$F$13,3,0)),0,#REF!*VLOOKUP($C36,Hypothèses!$D$6:$F$13,3,0))","v":{"$error":"#REF!"}},{"$f":"IF(ISNA(#REF!*VLOOKUP($C36,Hypothèses!$D$6:$F$13,3,0)),0,#REF!*VLOOKUP($C36,Hypothèses!$D$6:$F$13,3,0))","v":{"$error":"#REF!"}},{"$f":"IF(ISNA(#REF!*VLOOKUP($C36,Hypothèses!$D$6:$F$13,3,0)),0,#REF!*VLOOKUP($C36,Hypothèses!$D$6:$F$13,3,0))","v":{"$error":"#REF!"}},{"$f":"IF(ISNA(#REF!*VLOOKUP($C36,Hypothèses!$D$6:$F$13,3,0)),0,#REF!*VLOOKUP($C36,Hypothèses!$D$6:$F$13,3,0))","v":{"$error":"#REF!"}}]
[30,null,null,{"$f":"IF(ISNA(VLOOKUP(C37,Hypothèses!$D$6:$G$14,4,0)),\"\",VLOOKUP(C37,Hypothèses!$D$6:$G$14,4,0))","v":""},null,null,null,null,null,null,null,null,null,null,null,null,null,null,null,null,null,null,null,null,null,{"$f":"IF(ISNA(E37*VLOOKUP($C37,Hypothèses!$D$6:$F$13,3,0)),0,E37*VLOOKUP($C37,Hypothèses!$D$6:$F$13,3,0))","v":0},{"$f":"IF(ISNA(F37*VLOOKUP($C37,Hypothèses!$D$6:$F$13,3,0)),0,F37*VLOOKUP($C37,Hypothèses!$D$6:$F$13,3,0))","v":0},{"$f":"IF(ISNA(G37*VLOOKUP($C37,Hypothèses!$D$6:$F$13,3,0)),0,G37*VLOOKUP($C37,Hypothèses!$D$6:$F$13,3,0))","v":0},{"$f":"IF(ISNA(H37*VLOOKUP($C37,Hypothèses!$D$6:$F$13,3,0)),0,H37*VLOOKUP($C37,Hypothèses!$D$6:$F$13,3,0))","v":0},{"$f":"IF(ISNA(I37*VLOOKUP($C37,Hypothèses!$D$6:$F$13,3,0)),0,I37*VLOOKUP($C37,Hypothèses!$D$6:$F$13,3,0))","v":0},{"$f":"IF(ISNA(J37*VLOOKUP($C37,Hypothèses!$D$6:$F$13,3,0)),0,J37*VLOOKUP($C37,Hypothèses!$D$6:$F$13,3,0))","v":0},{"$f":"IF(ISNA(K37*VLOOKUP($C37,Hypothèses!$D$6:$F$13,3,0)),0,K37*VLOOKUP($C37,Hypothèses!$D$6:$F$13,3,0))","v":0},{"$f":"IF(ISNA(L37*VLOOKUP($C37,Hypothèses!$D$6:$F$13,3,0)),0,L37*VLOOKUP($C37,Hypothèses!$D$6:$F$13,3,0))","v":0},{"$f":"IF(ISNA(M37*VLOOKUP($C37,Hypothèses!$D$6:$F$13,3,0)),0,M37*VLOOKUP($C37,Hypothèses!$D$6:$F$13,3,0))","v":0},{"$f":"IF(ISNA(N37*VLOOKUP($C37,Hypothèses!$D$6:$F$13,3,0)),0,N37*VLOOKUP($C37,Hypothèses!$D$6:$F$13,3,0))","v":0},{"$f":"IF(ISNA(O37*VLOOKUP($C37,Hypothèses!$D$6:$F$13,3,0)),0,O37*VLOOKUP($C37,Hypothèses!$D$6:$F$13,3,0))","v":0},{"$f":"IF(ISNA(P37*VLOOKUP($C37,Hypothèses!$D$6:$F$13,3,0)),0,P37*VLOOKUP($C37,Hypothèses!$D$6:$F$13,3,0))","v":0},{"$f":"IF(ISNA(Q37*VLOOKUP($C37,Hypothèses!$D$6:$F$13,3,0)),0,Q37*VLOOKUP($C37,Hypothèses!$D$6:$F$13,3,0))","v":0},{"$f":"IF(ISNA(R37*VLOOKUP($C37,Hypothèses!$D$6:$F$13,3,0)),0,R37*VLOOKUP($C37,Hypothèses!$D$6:$F$13,3,0))","v":0},{"$f":"IF(ISNA(S37*VLOOKUP($C37,Hypothèses!$D$6:$F$13,3,0)),0,S37*VLOOKUP($C37,Hypothèses!$D$6:$F$13,3,0))","v":0},{"$f":"IF(ISNA(#REF!*VLOOKUP($C37,Hypothèses!$D$6:$F$13,3,0)),0,#REF!*VLOOKUP($C37,Hypothèses!$D$6:$F$13,3,0))","v":{"$error":"#REF!"}},{"$f":"IF(ISNA(#REF!*VLOOKUP($C37,Hypothèses!$D$6:$F$13,3,0)),0,#REF!*VLOOKUP($C37,Hypothèses!$D$6:$F$13,3,0))","v":{"$error":"#REF!"}},{"$f":"IF(ISNA(#REF!*VLOOKUP($C37,Hypothèses!$D$6:$F$13,3,0)),0,#REF!*VLOOKUP($C37,Hypothèses!$D$6:$F$13,3,0))","v":{"$error":"#REF!"}},{"$f":"IF(ISNA(#REF!*VLOOKUP($C37,Hypothèses!$D$6:$F$13,3,0)),0,#REF!*VLOOKUP($C37,Hypothèses!$D$6:$F$13,3,0))","v":{"$error":"#REF!"}},{"$f":"IF(ISNA(#REF!*VLOOKUP($C37,Hypothèses!$D$6:$F$13,3,0)),0,#REF!*VLOOKUP($C37,Hypothèses!$D$6:$F$13,3,0))","v":{"$error":"#REF!"}},{"$f":"IF(ISNA(#REF!*VLOOKUP($C37,Hypothèses!$D$6:$F$13,3,0)),0,#REF!*VLOOKUP($C37,Hypothèses!$D$6:$F$13,3,0))","v":{"$error":"#REF!"}},{"$f":"IF(ISNA(#REF!*VLOOKUP($C37,Hypothèses!$D$6:$F$13,3,0)),0,#REF!*VLOOKUP($C37,Hypothèses!$D$6:$F$13,3,0))","v":{"$error":"#REF!"}}]
[31,null,null,{"$f":"IF(ISNA(VLOOKUP(C38,Hypothèses!$D$6:$G$14,4,0)),\"\",VLOOKUP(C38,Hypothèses!$D$6:$G$14,4,0))","v":""},null,null,null,null,null,null,null,null,null,null,null,null,null,null,null,null,null,null,null,null,null,{"$f":"IF(ISNA(E38*VLOOKUP($C38,Hypothèses!$D$6:$F$13,3,0)),0,E38*VLOOKUP($C38,Hypothèses!$D$6:$F$13,3,0))","v":0},{"$f":"IF(ISNA(F38*VLOOKUP($C38,Hypothèses!$D$6:$F$13,3,0)),0,F38*VLOOKUP($C38,Hypothèses!$D$6:$F$13,3,0))","v":0},{"$f":"IF(ISNA(G38*VLOOKUP($C38,Hypothèses!$D$6:$F$13,3,0)),0,G38*VLOOKUP($C38,Hypothèses!$D$6:$F$13,3,0))","v":0},{"$f":"IF(ISNA(H38*VLOOKUP($C38,Hypothèses!$D$6:$F$13,3,0)),0,H38*VLOOKUP($C38,Hypothèses!$D$6:$F$13,3,0))","v":0},{"$f":"IF(ISNA(I38*VLOOKUP($C38,Hypothèses!$D$6:$F$13,3,0)),0,I38*VLOOKUP($C38,Hypothèses!$D$6:$F$13,3,0))","v":0},{"$f":"IF(ISNA(J38*VLOOKUP($C38,Hypothèses!$D$6:$F$13,3,0)),0,J38*VLOOKUP($C38,Hypothèses!$D$6:$F$13,3,0))","v":0},{"$f":"IF(ISNA(K38*VLOOKUP($C38,Hypothèses!$D$6:$F$13,3,0)),0,K38*VLOOKUP($C38,Hypothèses!$D$6:$F$13,3,0))","v":0},{"$f":"IF(ISNA(L38*VLOOKUP($C38,Hypothèses!$D$6:$F$13,3,0)),0,L38*VLOOKUP($C38,Hypothèses!$D$6:$F$13,3,0))","v":0},{"$f":"IF(ISNA(M38*VLOOKUP($C38,Hypothèses!$D$6:$F$13,3,0)),0,M38*VLOOKUP($C38,Hypothèses!$D$6:$F$13,3,0))","v":0},{"$f":"IF(ISNA(N38*VLOOKUP($C38,Hypothèses!$D$6:$F$13,3,0)),0,N38*VLOOKUP($C38,Hypothèses!$D$6:$F$13,3,0))","v":0},{"$f":"IF(ISNA(O38*VLOOKUP($C38,Hypothèses!$D$6:$F$13,3,0)),0,O38*VLOOKUP($C38,Hypothèses!$D$6:$F$13,3,0))","v":0},{"$f":"IF(ISNA(P38*VLOOKUP($C38,Hypothèses!$D$6:$F$13,3,0)),0,P38*VLOOKUP($C38,Hypothèses!$D$6:$F$13,3,0))","v":0},{"$f":"IF(ISNA(Q38*VLOOKUP($C38,Hypothèses!$D$6:$F$13,3,0)),0,Q38*VLOOKUP($C38,Hypothèses!$D$6:$F$13,3,0))","v":0},{"$f":"IF(ISNA(R38*VLOOKUP($C38,Hypothèses!$D$6:$F$13,3,0)),0,R38*VLOOKUP($C38,Hypothèses!$D$6:$F$13,3,0))","v":0},{"$f":"IF(ISNA(S38*VLOOKUP($C38,Hypothèses!$D$6:$F$13,3,0)),0,S38*VLOOKUP($C38,Hypothèses!$D$6:$F$13,3,0))","v":0},{"$f":"IF(ISNA(#REF!*VLOOKUP($C38,Hypothèses!$D$6:$F$13,3,0)),0,#REF!*VLOOKUP($C38,Hypothèses!$D$6:$F$13,3,0))","v":{"$error":"#REF!"}},{"$f":"IF(ISNA(#REF!*VLOOKUP($C38,Hypothèses!$D$6:$F$13,3,0)),0,#REF!*VLOOKUP($C38,Hypothèses!$D$6:$F$13,3,0))","v":{"$error":"#REF!"}},{"$f":"IF(ISNA(#REF!*VLOOKUP($C38,Hypothèses!$D$6:$F$13,3,0)),0,#REF!*VLOOKUP($C38,Hypothèses!$D$6:$F$13,3,0))","v":{"$error":"#REF!"}},{"$f":"IF(ISNA(#REF!*VLOOKUP($C38,Hypothèses!$D$6:$F$13,3,0)),0,#REF!*VLOOKUP($C38,Hypothèses!$D$6:$F$13,3,0))","v":{"$error":"#REF!"}},{"$f":"IF(ISNA(#REF!*VLOOKUP($C38,Hypothèses!$D$6:$F$13,3,0)),0,#REF!*VLOOKUP($C38,Hypothèses!$D$6:$F$13,3,0))","v":{"$error":"#REF!"}},{"$f":"IF(ISNA(#REF!*VLOOKUP($C38,Hypothèses!$D$6:$F$13,3,0)),0,#REF!*VLOOKUP($C38,Hypothèses!$D$6:$F$13,3,0))","v":{"$error":"#REF!"}},{"$f":"IF(ISNA(#REF!*VLOOKUP($C38,Hypothèses!$D$6:$F$13,3,0)),0,#REF!*VLOOKUP($C38,Hypothèses!$D$6:$F$13,3,0))","v":{"$error":"#REF!"}}]
[32,null,null,{"$f":"IF(ISNA(VLOOKUP(C39,Hypothèses!$D$6:$G$14,4,0)),\"\",VLOOKUP(C39,Hypothèses!$D$6:$G$14,4,0))","v":""},null,null,null,null,null,null,null,null,null,null,null,null,null,null,null,null,null,null,null,null,null,{"$f":"IF(ISNA(E39*VLOOKUP($C39,Hypothèses!$D$6:$F$13,3,0)),0,E39*VLOOKUP($C39,Hypothèses!$D$6:$F$13,3,0))","v":0},{"$f":"IF(ISNA(F39*VLOOKUP($C39,Hypothèses!$D$6:$F$13,3,0)),0,F39*VLOOKUP($C39,Hypothèses!$D$6:$F$13,3,0))","v":0},{"$f":"IF(ISNA(G39*VLOOKUP($C39,Hypothèses!$D$6:$F$13,3,0)),0,G39*VLOOKUP($C39,Hypothèses!$D$6:$F$13,3,0))","v":0},{"$f":"IF(ISNA(H39*VLOOKUP($C39,Hypothèses!$D$6:$F$13,3,0)),0,H39*VLOOKUP($C39,Hypothèses!$D$6:$F$13,3,0))","v":0},{"$f":"IF(ISNA(I39*VLOOKUP($C39,Hypothèses!$D$6:$F$13,3,0)),0,I39*VLOOKUP($C39,Hypothèses!$D$6:$F$13,3,0))","v":0},{"$f":"IF(ISNA(J39*VLOOKUP($C39,Hypothèses!$D$6:$F$13,3,0)),0,J39*VLOOKUP($C39,Hypothèses!$D$6:$F$13,3,0))","v":0},{"$f":"IF(ISNA(K39*VLOOKUP($C39,Hypothèses!$D$6:$F$13,3,0)),0,K39*VLOOKUP($C39,Hypothèses!$D$6:$F$13,3,0))","v":0},{"$f":"IF(ISNA(L39*VLOOKUP($C39,Hypothèses!$D$6:$F$13,3,0)),0,L39*VLOOKUP($C39,Hypothèses!$D$6:$F$13,3,0))","v":0},{"$f":"IF(ISNA(M39*VLOOKUP($C39,Hypothèses!$D$6:$F$13,3,0)),0,M39*VLOOKUP($C39,Hypothèses!$D$6:$F$13,3,0))","v":0},{"$f":"IF(ISNA(N39*VLOOKUP($C39,Hypothèses!$D$6:$F$13,3,0)),0,N39*VLOOKUP($C39,Hypothèses!$D$6:$F$13,3,0))","v":0},{"$f":"IF(ISNA(O39*VLOOKUP($C39,Hypothèses!$D$6:$F$13,3,0)),0,O39*VLOOKUP($C39,Hypothèses!$D$6:$F$13,3,0))","v":0},{"$f":"IF(ISNA(P39*VLOOKUP($C39,Hypothèses!$D$6:$F$13,3,0)),0,P39*VLOOKUP($C39,Hypothèses!$D$6:$F$13,3,0))","v":0},{"$f":"IF(ISNA(Q39*VLOOKUP($C39,Hypothèses!$D$6:$F$13,3,0)),0,Q39*VLOOKUP($C39,Hypothèses!$D$6:$F$13,3,0))","v":0},{"$f":"IF(ISNA(R39*VLOOKUP($C39,Hypothèses!$D$6:$F$13,3,0)),0,R39*VLOOKUP($C39,Hypothèses!$D$6:$F$13,3,0))","v":0},{"$f":"IF(ISNA(S39*VLOOKUP($C39,Hypothèses!$D$6:$F$13,3,0)),0,S39*VLOOKUP($C39,Hypothèses!$D$6:$F$13,3,0))","v":0},{"$f":"IF(ISNA(#REF!*VLOOKUP($C39,Hypothèses!$D$6:$F$13,3,0)),0,#REF!*VLOOKUP($C39,Hypothèses!$D$6:$F$13,3,0))","v":{"$error":"#REF!"}},{"$f":"IF(ISNA(#REF!*VLOOKUP($C39,Hypothèses!$D$6:$F$13,3,0)),0,#REF!*VLOOKUP($C39,Hypothèses!$D$6:$F$13,3,0))","v":{"$error":"#REF!"}},{"$f":"IF(ISNA(#REF!*VLOOKUP($C39,Hypothèses!$D$6:$F$13,3,0)),0,#REF!*VLOOKUP($C39,Hypothèses!$D$6:$F$13,3,0))","v":{"$error":"#REF!"}},{"$f":"IF(ISNA(#REF!*VLOOKUP($C39,Hypothèses!$D$6:$F$13,3,0)),0,#REF!*VLOOKUP($C39,Hypothèses!$D$6:$F$13,3,0))","v":{"$error":"#REF!"}},{"$f":"IF(ISNA(#REF!*VLOOKUP($C39,Hypothèses!$D$6:$F$13,3,0)),0,#REF!*VLOOKUP($C39,Hypothèses!$D$6:$F$13,3,0))","v":{"$error":"#REF!"}},{"$f":"IF(ISNA(#REF!*VLOOKUP($C39,Hypothèses!$D$6:$F$13,3,0)),0,#REF!*VLOOKUP($C39,Hypothèses!$D$6:$F$13,3,0))","v":{"$error":"#REF!"}},{"$f":"IF(ISNA(#REF!*VLOOKUP($C39,Hypothèses!$D$6:$F$13,3,0)),0,#REF!*VLOOKUP($C39,Hypothèses!$D$6:$F$13,3,0))","v":{"$error":"#REF!"}}]
[33,null,null,{"$f":"IF(ISNA(VLOOKUP(C40,Hypothèses!$D$6:$G$14,4,0)),\"\",VLOOKUP(C40,Hypothèses!$D$6:$G$14,4,0))","v":""},null,null,null,null,null,null,null,null,null,null,null,null,null,null,null,null,null,null,null,null,null,{"$f":"IF(ISNA(E40*VLOOKUP($C40,Hypothèses!$D$6:$F$13,3,0)),0,E40*VLOOKUP($C40,Hypothèses!$D$6:$F$13,3,0))","v":0},{"$f":"IF(ISNA(F40*VLOOKUP($C40,Hypothèses!$D$6:$F$13,3,0)),0,F40*VLOOKUP($C40,Hypothèses!$D$6:$F$13,3,0))","v":0},{"$f":"IF(ISNA(G40*VLOOKUP($C40,Hypothèses!$D$6:$F$13,3,0)),0,G40*VLOOKUP($C40,Hypothèses!$D$6:$F$13,3,0))","v":0},{"$f":"IF(ISNA(H40*VLOOKUP($C40,Hypothèses!$D$6:$F$13,3,0)),0,H40*VLOOKUP($C40,Hypothèses!$D$6:$F$13,3,0))","v":0},{"$f":"IF(ISNA(I40*VLOOKUP($C40,Hypothèses!$D$6:$F$13,3,0)),0,I40*VLOOKUP($C40,Hypothèses!$D$6:$F$13,3,0))","v":0},{"$f":"IF(ISNA(J40*VLOOKUP($C40,Hypothèses!$D$6:$F$13,3,0)),0,J40*VLOOKUP($C40,Hypothèses!$D$6:$F$13,3,0))","v":0},{"$f":"IF(ISNA(K40*VLOOKUP($C40,Hypothèses!$D$6:$F$13,3,0)),0,K40*VLOOKUP($C40,Hypothèses!$D$6:$F$13,3,0))","v":0},{"$f":"IF(ISNA(L40*VLOOKUP($C40,Hypothèses!$D$6:$F$13,3,0)),0,L40*VLOOKUP($C40,Hypothèses!$D$6:$F$13,3,0))","v":0},{"$f":"IF(ISNA(M40*VLOOKUP($C40,Hypothèses!$D$6:$F$13,3,0)),0,M40*VLOOKUP($C40,Hypothèses!$D$6:$F$13,3,0))","v":0},{"$f":"IF(ISNA(N40*VLOOKUP($C40,Hypothèses!$D$6:$F$13,3,0)),0,N40*VLOOKUP($C40,Hypothèses!$D$6:$F$13,3,0))","v":0},{"$f":"IF(ISNA(O40*VLOOKUP($C40,Hypothèses!$D$6:$F$13,3,0)),0,O40*VLOOKUP($C40,Hypothèses!$D$6:$F$13,3,0))","v":0},{"$f":"IF(ISNA(P40*VLOOKUP($C40,Hypothèses!$D$6:$F$13,3,0)),0,P40*VLOOKUP($C40,Hypothèses!$D$6:$F$13,3,0))","v":0},{"$f":"IF(ISNA(Q40*VLOOKUP($C40,Hypothèses!$D$6:$F$13,3,0)),0,Q40*VLOOKUP($C40,Hypothèses!$D$6:$F$13,3,0))","v":0},{"$f":"IF(ISNA(R40*VLOOKUP($C40,Hypothèses!$D$6:$F$13,3,0)),0,R40*VLOOKUP($C40,Hypothèses!$D$6:$F$13,3,0))","v":0},{"$f":"IF(ISNA(S40*VLOOKUP($C40,Hypothèses!$D$6:$F$13,3,0)),0,S40*VLOOKUP($C40,Hypothèses!$D$6:$F$13,3,0))","v":0},{"$f":"IF(ISNA(#REF!*VLOOKUP($C40,Hypothèses!$D$6:$F$13,3,0)),0,#REF!*VLOOKUP($C40,Hypothèses!$D$6:$F$13,3,0))","v":{"$error":"#REF!"}},{"$f":"IF(ISNA(#REF!*VLOOKUP($C40,Hypothèses!$D$6:$F$13,3,0)),0,#REF!*VLOOKUP($C40,Hypothèses!$D$6:$F$13,3,0))","v":{"$error":"#REF!"}},{"$f":"IF(ISNA(#REF!*VLOOKUP($C40,Hypothèses!$D$6:$F$13,3,0)),0,#REF!*VLOOKUP($C40,Hypothèses!$D$6:$F$13,3,0))","v":{"$error":"#REF!"}},{"$f":"IF(ISNA(#REF!*VLOOKUP($C40,Hypothèses!$D$6:$F$13,3,0)),0,#REF!*VLOOKUP($C40,Hypothèses!$D$6:$F$13,3,0))","v":{"$error":"#REF!"}},{"$f":"IF(ISNA(#REF!*VLOOKUP($C40,Hypothèses!$D$6:$F$13,3,0)),0,#REF!*VLOOKUP($C40,Hypothèses!$D$6:$F$13,3,0))","v":{"$error":"#REF!"}},{"$f":"IF(ISNA(#REF!*VLOOKUP($C40,Hypothèses!$D$6:$F$13,3,0)),0,#REF!*VLOOKUP($C40,Hypothèses!$D$6:$F$13,3,0))","v":{"$error":"#REF!"}},{"$f":"IF(ISNA(#REF!*VLOOKUP($C40,Hypothèses!$D$6:$F$13,3,0)),0,#REF!*VLOOKUP($C40,Hypothèses!$D$6:$F$13,3,0))","v":{"$error":"#REF!"}}]
[34,null,null,{"$f":"IF(ISNA(VLOOKUP(C41,Hypothèses!$D$6:$G$14,4,0)),\"\",VLOOKUP(C41,Hypothèses!$D$6:$G$14,4,0))","v":""},null,null,null,null,null,null,null,null,null,null,null,null,null,null,null,null,null,null,null,null,null,{"$f":"IF(ISNA(E41*VLOOKUP($C41,Hypothèses!$D$6:$F$13,3,0)),0,E41*VLOOKUP($C41,Hypothèses!$D$6:$F$13,3,0))","v":0},{"$f":"IF(ISNA(F41*VLOOKUP($C41,Hypothèses!$D$6:$F$13,3,0)),0,F41*VLOOKUP($C41,Hypothèses!$D$6:$F$13,3,0))","v":0},{"$f":"IF(ISNA(G41*VLOOKUP($C41,Hypothèses!$D$6:$F$13,3,0)),0,G41*VLOOKUP($C41,Hypothèses!$D$6:$F$13,3,0))","v":0},{"$f":"IF(ISNA(H41*VLOOKUP($C41,Hypothèses!$D$6:$F$13,3,0)),0,H41*VLOOKUP($C41,Hypothèses!$D$6:$F$13,3,0))","v":0},{"$f":"IF(ISNA(I41*VLOOKUP($C41,Hypothèses!$D$6:$F$13,3,0)),0,I41*VLOOKUP($C41,Hypothèses!$D$6:$F$13,3,0))","v":0},{"$f":"IF(ISNA(J41*VLOOKUP($C41,Hypothèses!$D$6:$F$13,3,0)),0,J41*VLOOKUP($C41,Hypothèses!$D$6:$F$13,3,0))","v":0},{"$f":"IF(ISNA(K41*VLOOKUP($C41,Hypothèses!$D$6:$F$13,3,0)),0,K41*VLOOKUP($C41,Hypothèses!$D$6:$F$13,3,0))","v":0},{"$f":"IF(ISNA(L41*VLOOKUP($C41,Hypothèses!$D$6:$F$13,3,0)),0,L41*VLOOKUP($C41,Hypothèses!$D$6:$F$13,3,0))","v":0},{"$f":"IF(ISNA(M41*VLOOKUP($C41,Hypothèses!$D$6:$F$13,3,0)),0,M41*VLOOKUP($C41,Hypothèses!$D$6:$F$13,3,0))","v":0},{"$f":"IF(ISNA(N41*VLOOKUP($C41,Hypothèses!$D$6:$F$13,3,0)),0,N41*VLOOKUP($C41,Hypothèses!$D$6:$F$13,3,0))","v":0},{"$f":"IF(ISNA(O41*VLOOKUP($C41,Hypothèses!$D$6:$F$13,3,0)),0,O41*VLOOKUP($C41,Hypothèses!$D$6:$F$13,3,0))","v":0},{"$f":"IF(ISNA(P41*VLOOKUP($C41,Hypothèses!$D$6:$F$13,3,0)),0,P41*VLOOKUP($C41,Hypothèses!$D$6:$F$13,3,0))","v":0},{"$f":"IF(ISNA(Q41*VLOOKUP($C41,Hypothèses!$D$6:$F$13,3,0)),0,Q41*VLOOKUP($C41,Hypothèses!$D$6:$F$13,3,0))","v":0},{"$f":"IF(ISNA(R41*VLOOKUP($C41,Hypothèses!$D$6:$F$13,3,0)),0,R41*VLOOKUP($C41,Hypothèses!$D$6:$F$13,3,0))","v":0},{"$f":"IF(ISNA(S41*VLOOKUP($C41,Hypothèses!$D$6:$F$13,3,0)),0,S41*VLOOKUP($C41,Hypothèses!$D$6:$F$13,3,0))","v":0},{"$f":"IF(ISNA(#REF!*VLOOKUP($C41,Hypothèses!$D$6:$F$13,3,0)),0,#REF!*VLOOKUP($C41,Hypothèses!$D$6:$F$13,3,0))","v":{"$error":"#REF!"}},{"$f":"IF(ISNA(#REF!*VLOOKUP($C41,Hypothèses!$D$6:$F$13,3,0)),0,#REF!*VLOOKUP($C41,Hypothèses!$D$6:$F$13,3,0))","v":{"$error":"#REF!"}},{"$f":"IF(ISNA(#REF!*VLOOKUP($C41,Hypothèses!$D$6:$F$13,3,0)),0,#REF!*VLOOKUP($C41,Hypothèses!$D$6:$F$13,3,0))","v":{"$error":"#REF!"}},{"$f":"IF(ISNA(#REF!*VLOOKUP($C41,Hypothèses!$D$6:$F$13,3,0)),0,#REF!*VLOOKUP($C41,Hypothèses!$D$6:$F$13,3,0))","v":{"$error":"#REF!"}},{"$f":"IF(ISNA(#REF!*VLOOKUP($C41,Hypothèses!$D$6:$F$13,3,0)),0,#REF!*VLOOKUP($C41,Hypothèses!$D$6:$F$13,3,0))","v":{"$error":"#REF!"}},{"$f":"IF(ISNA(#REF!*VLOOKUP($C41,Hypothèses!$D$6:$F$13,3,0)),0,#REF!*VLOOKUP($C41,Hypothèses!$D$6:$F$13,3,0))","v":{"$error":"#REF!"}},{"$f":"IF(ISNA(#REF!*VLOOKUP($C41,Hypothèses!$D$6:$F$13,3,0)),0,#REF!*VLOOKUP($C41,Hypothèses!$D$6:$F$13,3,0))","v":{"$error":"#REF!"}}]
[35,null,null,{"$f":"IF(ISNA(VLOOKUP(C42,Hypothèses!$D$6:$G$14,4,0)),\"\",VLOOKUP(C42,Hypothèses!$D$6:$G$14,4,0))","v":""},null,null,null,null,null,null,null,null,null,null,null,null,null,null,null,null,null,null,null,null,null,{"$f":"IF(ISNA(E42*VLOOKUP($C42,Hypothèses!$D$6:$F$13,3,0)),0,E42*VLOOKUP($C42,Hypothèses!$D$6:$F$13,3,0))","v":0},{"$f":"IF(ISNA(F42*VLOOKUP($C42,Hypothèses!$D$6:$F$13,3,0)),0,F42*VLOOKUP($C42,Hypothèses!$D$6:$F$13,3,0))","v":0},{"$f":"IF(ISNA(G42*VLOOKUP($C42,Hypothèses!$D$6:$F$13,3,0)),0,G42*VLOOKUP($C42,Hypothèses!$D$6:$F$13,3,0))","v":0},{"$f":"IF(ISNA(H42*VLOOKUP($C42,Hypothèses!$D$6:$F$13,3,0)),0,H42*VLOOKUP($C42,Hypothèses!$D$6:$F$13,3,0))","v":0},{"$f":"IF(ISNA(I42*VLOOKUP($C42,Hypothèses!$D$6:$F$13,3,0)),0,I42*VLOOKUP($C42,Hypothèses!$D$6:$F$13,3,0))","v":0},{"$f":"IF(ISNA(J42*VLOOKUP($C42,Hypothèses!$D$6:$F$13,3,0)),0,J42*VLOOKUP($C42,Hypothèses!$D$6:$F$13,3,0))","v":0},{"$f":"IF(ISNA(K42*VLOOKUP($C42,Hypothèses!$D$6:$F$13,3,0)),0,K42*VLOOKUP($C42,Hypothèses!$D$6:$F$13,3,0))","v":0},{"$f":"IF(ISNA(L42*VLOOKUP($C42,Hypothèses!$D$6:$F$13,3,0)),0,L42*VLOOKUP($C42,Hypothèses!$D$6:$F$13,3,0))","v":0},{"$f":"IF(ISNA(M42*VLOOKUP($C42,Hypothèses!$D$6:$F$13,3,0)),0,M42*VLOOKUP($C42,Hypothèses!$D$6:$F$13,3,0))","v":0},{"$f":"IF(ISNA(N42*VLOOKUP($C42,Hypothèses!$D$6:$F$13,3,0)),0,N42*VLOOKUP($C42,Hypothèses!$D$6:$F$13,3,0))","v":0},{"$f":"IF(ISNA(O42*VLOOKUP($C42,Hypothèses!$D$6:$F$13,3,0)),0,O42*VLOOKUP($C42,Hypothèses!$D$6:$F$13,3,0))","v":0},{"$f":"IF(ISNA(P42*VLOOKUP($C42,Hypothèses!$D$6:$F$13,3,0)),0,P42*VLOOKUP($C42,Hypothèses!$D$6:$F$13,3,0))","v":0},{"$f":"IF(ISNA(Q42*VLOOKUP($C42,Hypothèses!$D$6:$F$13,3,0)),0,Q42*VLOOKUP($C42,Hypothèses!$D$6:$F$13,3,0))","v":0},{"$f":"IF(ISNA(R42*VLOOKUP($C42,Hypothèses!$D$6:$F$13,3,0)),0,R42*VLOOKUP($C42,Hypothèses!$D$6:$F$13,3,0))","v":0},{"$f":"IF(ISNA(S42*VLOOKUP($C42,Hypothèses!$D$6:$F$13,3,0)),0,S42*VLOOKUP($C42,Hypothèses!$D$6:$F$13,3,0))","v":0},{"$f":"IF(ISNA(#REF!*VLOOKUP($C42,Hypothèses!$D$6:$F$13,3,0)),0,#REF!*VLOOKUP($C42,Hypothèses!$D$6:$F$13,3,0))","v":{"$error":"#REF!"}},{"$f":"IF(ISNA(#REF!*VLOOKUP($C42,Hypothèses!$D$6:$F$13,3,0)),0,#REF!*VLOOKUP($C42,Hypothèses!$D$6:$F$13,3,0))","v":{"$error":"#REF!"}},{"$f":"IF(ISNA(#REF!*VLOOKUP($C42,Hypothèses!$D$6:$F$13,3,0)),0,#REF!*VLOOKUP($C42,Hypothèses!$D$6:$F$13,3,0))","v":{"$error":"#REF!"}},{"$f":"IF(ISNA(#REF!*VLOOKUP($C42,Hypothèses!$D$6:$F$13,3,0)),0,#REF!*VLOOKUP($C42,Hypothèses!$D$6:$F$13,3,0))","v":{"$error":"#REF!"}},{"$f":"IF(ISNA(#REF!*VLOOKUP($C42,Hypothèses!$D$6:$F$13,3,0)),0,#REF!*VLOOKUP($C42,Hypothèses!$D$6:$F$13,3,0))","v":{"$error":"#REF!"}},{"$f":"IF(ISNA(#REF!*VLOOKUP($C42,Hypothèses!$D$6:$F$13,3,0)),0,#REF!*VLOOKUP($C42,Hypothèses!$D$6:$F$13,3,0))","v":{"$error":"#REF!"}},{"$f":"IF(ISNA(#REF!*VLOOKUP($C42,Hypothèses!$D$6:$F$13,3,0)),0,#REF!*VLOOKUP($C42,Hypothèses!$D$6:$F$13,3,0))","v":{"$error":"#REF!"}}]
[36,null,null,{"$f":"IF(ISNA(VLOOKUP(C43,Hypothèses!$D$6:$G$14,4,0)),\"\",VLOOKUP(C43,Hypothèses!$D$6:$G$14,4,0))","v":""},null,null,null,null,null,null,null,null,null,null,null,null,null,null,null,null,null,null,null,null,null,{"$f":"IF(ISNA(E43*VLOOKUP($C43,Hypothèses!$D$6:$F$13,3,0)),0,E43*VLOOKUP($C43,Hypothèses!$D$6:$F$13,3,0))","v":0},{"$f":"IF(ISNA(F43*VLOOKUP($C43,Hypothèses!$D$6:$F$13,3,0)),0,F43*VLOOKUP($C43,Hypothèses!$D$6:$F$13,3,0))","v":0},{"$f":"IF(ISNA(G43*VLOOKUP($C43,Hypothèses!$D$6:$F$13,3,0)),0,G43*VLOOKUP($C43,Hypothèses!$D$6:$F$13,3,0))","v":0},{"$f":"IF(ISNA(H43*VLOOKUP($C43,Hypothèses!$D$6:$F$13,3,0)),0,H43*VLOOKUP($C43,Hypothèses!$D$6:$F$13,3,0))","v":0},{"$f":"IF(ISNA(I43*VLOOKUP($C43,Hypothèses!$D$6:$F$13,3,0)),0,I43*VLOOKUP($C43,Hypothèses!$D$6:$F$13,3,0))","v":0},{"$f":"IF(ISNA(J43*VLOOKUP($C43,Hypothèses!$D$6:$F$13,3,0)),0,J43*VLOOKUP($C43,Hypothèses!$D$6:$F$13,3,0))","v":0},{"$f":"IF(ISNA(K43*VLOOKUP($C43,Hypothèses!$D$6:$F$13,3,0)),0,K43*VLOOKUP($C43,Hypothèses!$D$6:$F$13,3,0))","v":0},{"$f":"IF(ISNA(L43*VLOOKUP($C43,Hypothèses!$D$6:$F$13,3,0)),0,L43*VLOOKUP($C43,Hypothèses!$D$6:$F$13,3,0))","v":0},{"$f":"IF(ISNA(M43*VLOOKUP($C43,Hypothèses!$D$6:$F$13,3,0)),0,M43*VLOOKUP($C43,Hypothèses!$D$6:$F$13,3,0))","v":0},{"$f":"IF(ISNA(N43*VLOOKUP($C43,Hypothèses!$D$6:$F$13,3,0)),0,N43*VLOOKUP($C43,Hypothèses!$D$6:$F$13,3,0))","v":0},{"$f":"IF(ISNA(O43*VLOOKUP($C43,Hypothèses!$D$6:$F$13,3,0)),0,O43*VLOOKUP($C43,Hypothèses!$D$6:$F$13,3,0))","v":0},{"$f":"IF(ISNA(P43*VLOOKUP($C43,Hypothèses!$D$6:$F$13,3,0)),0,P43*VLOOKUP($C43,Hypothèses!$D$6:$F$13,3,0))","v":0},{"$f":"IF(ISNA(Q43*VLOOKUP($C43,Hypothèses!$D$6:$F$13,3,0)),0,Q43*VLOOKUP($C43,Hypothèses!$D$6:$F$13,3,0))","v":0},{"$f":"IF(ISNA(R43*VLOOKUP($C43,Hypothèses!$D$6:$F$13,3,0)),0,R43*VLOOKUP($C43,Hypothèses!$D$6:$F$13,3,0))","v":0},{"$f":"IF(ISNA(S43*VLOOKUP($C43,Hypothèses!$D$6:$F$13,3,0)),0,S43*VLOOKUP($C43,Hypothèses!$D$6:$F$13,3,0))","v":0},{"$f":"IF(ISNA(#REF!*VLOOKUP($C43,Hypothèses!$D$6:$F$13,3,0)),0,#REF!*VLOOKUP($C43,Hypothèses!$D$6:$F$13,3,0))","v":{"$error":"#REF!"}},{"$f":"IF(ISNA(#REF!*VLOOKUP($C43,Hypothèses!$D$6:$F$13,3,0)),0,#REF!*VLOOKUP($C43,Hypothèses!$D$6:$F$13,3,0))","v":{"$error":"#REF!"}},{"$f":"IF(ISNA(#REF!*VLOOKUP($C43,Hypothèses!$D$6:$F$13,3,0)),0,#REF!*VLOOKUP($C43,Hypothèses!$D$6:$F$13,3,0))","v":{"$error":"#REF!"}},{"$f":"IF(ISNA(#REF!*VLOOKUP($C43,Hypothèses!$D$6:$F$13,3,0)),0,#REF!*VLOOKUP($C43,Hypothèses!$D$6:$F$13,3,0))","v":{"$error":"#REF!"}},{"$f":"IF(ISNA(#REF!*VLOOKUP($C43,Hypothèses!$D$6:$F$13,3,0)),0,#REF!*VLOOKUP($C43,Hypothèses!$D$6:$F$13,3,0))","v":{"$error":"#REF!"}},{"$f":"IF(ISNA(#REF!*VLOOKUP($C43,Hypothèses!$D$6:$F$13,3,0)),0,#REF!*VLOOKUP($C43,Hypothèses!$D$6:$F$13,3,0))","v":{"$error":"#REF!"}},{"$f":"IF(ISNA(#REF!*VLOOKUP($C43,Hypothèses!$D$6:$F$13,3,0)),0,#REF!*VLOOKUP($C43,Hypothèses!$D$6:$F$13,3,0))","v":{"$error":"#REF!"}}]
[37,null,null,{"$f":"IF(ISNA(VLOOKUP(C44,Hypothèses!$D$6:$G$14,4,0)),\"\",VLOOKUP(C44,Hypothèses!$D$6:$G$14,4,0))","v":""},null,null,null,null,null,null,null,null,null,null,null,null,null,null,null,null,null,null,null,null,null,{"$f":"IF(ISNA(E44*VLOOKUP($C44,Hypothèses!$D$6:$F$13,3,0)),0,E44*VLOOKUP($C44,Hypothèses!$D$6:$F$13,3,0))","v":0},{"$f":"IF(ISNA(F44*VLOOKUP($C44,Hypothèses!$D$6:$F$13,3,0)),0,F44*VLOOKUP($C44,Hypothèses!$D$6:$F$13,3,0))","v":0},{"$f":"IF(ISNA(G44*VLOOKUP($C44,Hypothèses!$D$6:$F$13,3,0)),0,G44*VLOOKUP($C44,Hypothèses!$D$6:$F$13,3,0))","v":0},{"$f":"IF(ISNA(H44*VLOOKUP($C44,Hypothèses!$D$6:$F$13,3,0)),0,H44*VLOOKUP($C44,Hypothèses!$D$6:$F$13,3,0))","v":0},{"$f":"IF(ISNA(I44*VLOOKUP($C44,Hypothèses!$D$6:$F$13,3,0)),0,I44*VLOOKUP($C44,Hypothèses!$D$6:$F$13,3,0))","v":0},{"$f":"IF(ISNA(J44*VLOOKUP($C44,Hypothèses!$D$6:$F$13,3,0)),0,J44*VLOOKUP($C44,Hypothèses!$D$6:$F$13,3,0))","v":0},{"$f":"IF(ISNA(K44*VLOOKUP($C44,Hypothèses!$D$6:$F$13,3,0)),0,K44*VLOOKUP($C44,Hypothèses!$D$6:$F$13,3,0))","v":0},{"$f":"IF(ISNA(L44*VLOOKUP($C44,Hypothèses!$D$6:$F$13,3,0)),0,L44*VLOOKUP($C44,Hypothèses!$D$6:$F$13,3,0))","v":0},{"$f":"IF(ISNA(M44*VLOOKUP($C44,Hypothèses!$D$6:$F$13,3,0)),0,M44*VLOOKUP($C44,Hypothèses!$D$6:$F$13,3,0))","v":0},{"$f":"IF(ISNA(N44*VLOOKUP($C44,Hypothèses!$D$6:$F$13,3,0)),0,N44*VLOOKUP($C44,Hypothèses!$D$6:$F$13,3,0))","v":0},{"$f":"IF(ISNA(O44*VLOOKUP($C44,Hypothèses!$D$6:$F$13,3,0)),0,O44*VLOOKUP($C44,Hypothèses!$D$6:$F$13,3,0))","v":0},{"$f":"IF(ISNA(P44*VLOOKUP($C44,Hypothèses!$D$6:$F$13,3,0)),0,P44*VLOOKUP($C44,Hypothèses!$D$6:$F$13,3,0))","v":0},{"$f":"IF(ISNA(Q44*VLOOKUP($C44,Hypothèses!$D$6:$F$13,3,0)),0,Q44*VLOOKUP($C44,Hypothèses!$D$6:$F$13,3,0))","v":0},{"$f":"IF(ISNA(R44*VLOOKUP($C44,Hypothèses!$D$6:$F$13,3,0)),0,R44*VLOOKUP($C44,Hypothèses!$D$6:$F$13,3,0))","v":0},{"$f":"IF(ISNA(S44*VLOOKUP($C44,Hypothèses!$D$6:$F$13,3,0)),0,S44*VLOOKUP($C44,Hypothèses!$D$6:$F$13,3,0))","v":0},{"$f":"IF(ISNA(#REF!*VLOOKUP($C44,Hypothèses!$D$6:$F$13,3,0)),0,#REF!*VLOOKUP($C44,Hypothèses!$D$6:$F$13,3,0))","v":{"$error":"#REF!"}},{"$f":"IF(ISNA(#REF!*VLOOKUP($C44,Hypothèses!$D$6:$F$13,3,0)),0,#REF!*VLOOKUP($C44,Hypothèses!$D$6:$F$13,3,0))","v":{"$error":"#REF!"}},{"$f":"IF(ISNA(#REF!*VLOOKUP($C44,Hypothèses!$D$6:$F$13,3,0)),0,#REF!*VLOOKUP($C44,Hypothèses!$D$6:$F$13,3,0))","v":{"$error":"#REF!"}},{"$f":"IF(ISNA(#REF!*VLOOKUP($C44,Hypothèses!$D$6:$F$13,3,0)),0,#REF!*VLOOKUP($C44,Hypothèses!$D$6:$F$13,3,0))","v":{"$error":"#REF!"}},{"$f":"IF(ISNA(#REF!*VLOOKUP($C44,Hypothèses!$D$6:$F$13,3,0)),0,#REF!*VLOOKUP($C44,Hypothèses!$D$6:$F$13,3,0))","v":{"$error":"#REF!"}},{"$f":"IF(ISNA(#REF!*VLOOKUP($C44,Hypothèses!$D$6:$F$13,3,0)),0,#REF!*VLOOKUP($C44,Hypothèses!$D$6:$F$13,3,0))","v":{"$error":"#REF!"}},{"$f":"IF(ISNA(#REF!*VLOOKUP($C44,Hypothèses!$D$6:$F$13,3,0)),0,#REF!*VLOOKUP($C44,Hypothèses!$D$6:$F$13,3,0))","v":{"$error":"#REF!"}}]
[38,null,null,{"$f":"IF(ISNA(VLOOKUP(C45,Hypothèses!$D$6:$G$14,4,0)),\"\",VLOOKUP(C45,Hypothèses!$D$6:$G$14,4,0))","v":""},null,null,null,null,null,null,null,null,null,null,null,null,null,null,null,null,null,null,null,null,null,{"$f":"IF(ISNA(E45*VLOOKUP($C45,Hypothèses!$D$6:$F$13,3,0)),0,E45*VLOOKUP($C45,Hypothèses!$D$6:$F$13,3,0))","v":0},{"$f":"IF(ISNA(F45*VLOOKUP($C45,Hypothèses!$D$6:$F$13,3,0)),0,F45*VLOOKUP($C45,Hypothèses!$D$6:$F$13,3,0))","v":0},{"$f":"IF(ISNA(G45*VLOOKUP($C45,Hypothèses!$D$6:$F$13,3,0)),0,G45*VLOOKUP($C45,Hypothèses!$D$6:$F$13,3,0))","v":0},{"$f":"IF(ISNA(H45*VLOOKUP($C45,Hypothèses!$D$6:$F$13,3,0)),0,H45*VLOOKUP($C45,Hypothèses!$D$6:$F$13,3,0))","v":0},{"$f":"IF(ISNA(I45*VLOOKUP($C45,Hypothèses!$D$6:$F$13,3,0)),0,I45*VLOOKUP($C45,Hypothèses!$D$6:$F$13,3,0))","v":0},{"$f":"IF(ISNA(J45*VLOOKUP($C45,Hypothèses!$D$6:$F$13,3,0)),0,J45*VLOOKUP($C45,Hypothèses!$D$6:$F$13,3,0))","v":0},{"$f":"IF(ISNA(K45*VLOOKUP($C45,Hypothèses!$D$6:$F$13,3,0)),0,K45*VLOOKUP($C45,Hypothèses!$D$6:$F$13,3,0))","v":0},{"$f":"IF(ISNA(L45*VLOOKUP($C45,Hypothèses!$D$6:$F$13,3,0)),0,L45*VLOOKUP($C45,Hypothèses!$D$6:$F$13,3,0))","v":0},{"$f":"IF(ISNA(M45*VLOOKUP($C45,Hypothèses!$D$6:$F$13,3,0)),0,M45*VLOOKUP($C45,Hypothèses!$D$6:$F$13,3,0))","v":0},{"$f":"IF(ISNA(N45*VLOOKUP($C45,Hypothèses!$D$6:$F$13,3,0)),0,N45*VLOOKUP($C45,Hypothèses!$D$6:$F$13,3,0))","v":0},{"$f":"IF(ISNA(O45*VLOOKUP($C45,Hypothèses!$D$6:$F$13,3,0)),0,O45*VLOOKUP($C45,Hypothèses!$D$6:$F$13,3,0))","v":0},{"$f":"IF(ISNA(P45*VLOOKUP($C45,Hypothèses!$D$6:$F$13,3,0)),0,P45*VLOOKUP($C45,Hypothèses!$D$6:$F$13,3,0))","v":0},{"$f":"IF(ISNA(Q45*VLOOKUP($C45,Hypothèses!$D$6:$F$13,3,0)),0,Q45*VLOOKUP($C45,Hypothèses!$D$6:$F$13,3,0))","v":0},{"$f":"IF(ISNA(R45*VLOOKUP($C45,Hypothèses!$D$6:$F$13,3,0)),0,R45*VLOOKUP($C45,Hypothèses!$D$6:$F$13,3,0))","v":0},{"$f":"IF(ISNA(S45*VLOOKUP($C45,Hypothèses!$D$6:$F$13,3,0)),0,S45*VLOOKUP($C45,Hypothèses!$D$6:$F$13,3,0))","v":0},{"$f":"IF(ISNA(#REF!*VLOOKUP($C45,Hypothèses!$D$6:$F$13,3,0)),0,#REF!*VLOOKUP($C45,Hypothèses!$D$6:$F$13,3,0))","v":{"$error":"#REF!"}},{"$f":"IF(ISNA(#REF!*VLOOKUP($C45,Hypothèses!$D$6:$F$13,3,0)),0,#REF!*VLOOKUP($C45,Hypothèses!$D$6:$F$13,3,0))","v":{"$error":"#REF!"}},{"$f":"IF(ISNA(#REF!*VLOOKUP($C45,Hypothèses!$D$6:$F$13,3,0)),0,#REF!*VLOOKUP($C45,Hypothèses!$D$6:$F$13,3,0))","v":{"$error":"#REF!"}},{"$f":"IF(ISNA(#REF!*VLOOKUP($C45,Hypothèses!$D$6:$F$13,3,0)),0,#REF!*VLOOKUP($C45,Hypothèses!$D$6:$F$13,3,0))","v":{"$error":"#REF!"}},{"$f":"IF(ISNA(#REF!*VLOOKUP($C45,Hypothèses!$D$6:$F$13,3,0)),0,#REF!*VLOOKUP($C45,Hypothèses!$D$6:$F$13,3,0))","v":{"$error":"#REF!"}},{"$f":"IF(ISNA(#REF!*VLOOKUP($C45,Hypothèses!$D$6:$F$13,3,0)),0,#REF!*VLOOKUP($C45,Hypothèses!$D$6:$F$13,3,0))","v":{"$error":"#REF!"}},{"$f":"IF(ISNA(#REF!*VLOOKUP($C45,Hypothèses!$D$6:$F$13,3,0)),0,#REF!*VLOOKUP($C45,Hypothèses!$D$6:$F$13,3,0))","v":{"$error":"#REF!"}}]
[39,null,null,{"$f":"IF(ISNA(VLOOKUP(C46,Hypothèses!$D$6:$G$14,4,0)),\"\",VLOOKUP(C46,Hypothèses!$D$6:$G$14,4,0))","v":""},null,null,null,null,null,null,null,null,null,null,null,null,null,null,null,null,null,null,null,null,null,{"$f":"IF(ISNA(E46*VLOOKUP($C46,Hypothèses!$D$6:$F$13,3,0)),0,E46*VLOOKUP($C46,Hypothèses!$D$6:$F$13,3,0))","v":0},{"$f":"IF(ISNA(F46*VLOOKUP($C46,Hypothèses!$D$6:$F$13,3,0)),0,F46*VLOOKUP($C46,Hypothèses!$D$6:$F$13,3,0))","v":0},{"$f":"IF(ISNA(G46*VLOOKUP($C46,Hypothèses!$D$6:$F$13,3,0)),0,G46*VLOOKUP($C46,Hypothèses!$D$6:$F$13,3,0))","v":0},{"$f":"IF(ISNA(H46*VLOOKUP($C46,Hypothèses!$D$6:$F$13,3,0)),0,H46*VLOOKUP($C46,Hypothèses!$D$6:$F$13,3,0))","v":0},{"$f":"IF(ISNA(I46*VLOOKUP($C46,Hypothèses!$D$6:$F$13,3,0)),0,I46*VLOOKUP($C46,Hypothèses!$D$6:$F$13,3,0))","v":0},{"$f":"IF(ISNA(J46*VLOOKUP($C46,Hypothèses!$D$6:$F$13,3,0)),0,J46*VLOOKUP($C46,Hypothèses!$D$6:$F$13,3,0))","v":0},{"$f":"IF(ISNA(K46*VLOOKUP($C46,Hypothèses!$D$6:$F$13,3,0)),0,K46*VLOOKUP($C46,Hypothèses!$D$6:$F$13,3,0))","v":0},{"$f":"IF(ISNA(L46*VLOOKUP($C46,Hypothèses!$D$6:$F$13,3,0)),0,L46*VLOOKUP($C46,Hypothèses!$D$6:$F$13,3,0))","v":0},{"$f":"IF(ISNA(M46*VLOOKUP($C46,Hypothèses!$D$6:$F$13,3,0)),0,M46*VLOOKUP($C46,Hypothèses!$D$6:$F$13,3,0))","v":0},{"$f":"IF(ISNA(N46*VLOOKUP($C46,Hypothèses!$D$6:$F$13,3,0)),0,N46*VLOOKUP($C46,Hypothèses!$D$6:$F$13,3,0))","v":0},{"$f":"IF(ISNA(O46*VLOOKUP($C46,Hypothèses!$D$6:$F$13,3,0)),0,O46*VLOOKUP($C46,Hypothèses!$D$6:$F$13,3,0))","v":0},{"$f":"IF(ISNA(P46*VLOOKUP($C46,Hypothèses!$D$6:$F$13,3,0)),0,P46*VLOOKUP($C46,Hypothèses!$D$6:$F$13,3,0))","v":0},{"$f":"IF(ISNA(Q46*VLOOKUP($C46,Hypothèses!$D$6:$F$13,3,0)),0,Q46*VLOOKUP($C46,Hypothèses!$D$6:$F$13,3,0))","v":0},{"$f":"IF(ISNA(R46*VLOOKUP($C46,Hypothèses!$D$6:$F$13,3,0)),0,R46*VLOOKUP($C46,Hypothèses!$D$6:$F$13,3,0))","v":0},{"$f":"IF(ISNA(S46*VLOOKUP($C46,Hypothèses!$D$6:$F$13,3,0)),0,S46*VLOOKUP($C46,Hypothèses!$D$6:$F$13,3,0))","v":0},{"$f":"IF(ISNA(#REF!*VLOOKUP($C46,Hypothèses!$D$6:$F$13,3,0)),0,#REF!*VLOOKUP($C46,Hypothèses!$D$6:$F$13,3,0))","v":{"$error":"#REF!"}},{"$f":"IF(ISNA(#REF!*VLOOKUP($C46,Hypothèses!$D$6:$F$13,3,0)),0,#REF!*VLOOKUP($C46,Hypothèses!$D$6:$F$13,3,0))","v":{"$error":"#REF!"}},{"$f":"IF(ISNA(#REF!*VLOOKUP($C46,Hypothèses!$D$6:$F$13,3,0)),0,#REF!*VLOOKUP($C46,Hypothèses!$D$6:$F$13,3,0))","v":{"$error":"#REF!"}},{"$f":"IF(ISNA(#REF!*VLOOKUP($C46,Hypothèses!$D$6:$F$13,3,0)),0,#REF!*VLOOKUP($C46,Hypothèses!$D$6:$F$13,3,0))","v":{"$error":"#REF!"}},{"$f":"IF(ISNA(#REF!*VLOOKUP($C46,Hypothèses!$D$6:$F$13,3,0)),0,#REF!*VLOOKUP($C46,Hypothèses!$D$6:$F$13,3,0))","v":{"$error":"#REF!"}},{"$f":"IF(ISNA(#REF!*VLOOKUP($C46,Hypothèses!$D$6:$F$13,3,0)),0,#REF!*VLOOKUP($C46,Hypothèses!$D$6:$F$13,3,0))","v":{"$error":"#REF!"}},{"$f":"IF(ISNA(#REF!*VLOOKUP($C46,Hypothèses!$D$6:$F$13,3,0)),0,#REF!*VLOOKUP($C46,Hypothèses!$D$6:$F$13,3,0))","v":{"$error":"#REF!"}}]
[40,null,null,{"$f":"IF(ISNA(VLOOKUP(C47,Hypothèses!$D$6:$G$14,4,0)),\"\",VLOOKUP(C47,Hypothèses!$D$6:$G$14,4,0))","v":""},null,null,null,null,null,null,null,null,null,null,null,null,null,null,null,null,null,null,null,null,null,{"$f":"IF(ISNA(E47*VLOOKUP($C47,Hypothèses!$D$6:$F$13,3,0)),0,E47*VLOOKUP($C47,Hypothèses!$D$6:$F$13,3,0))","v":0},{"$f":"IF(ISNA(F47*VLOOKUP($C47,Hypothèses!$D$6:$F$13,3,0)),0,F47*VLOOKUP($C47,Hypothèses!$D$6:$F$13,3,0))","v":0},{"$f":"IF(ISNA(G47*VLOOKUP($C47,Hypothèses!$D$6:$F$13,3,0)),0,G47*VLOOKUP($C47,Hypothèses!$D$6:$F$13,3,0))","v":0},{"$f":"IF(ISNA(H47*VLOOKUP($C47,Hypothèses!$D$6:$F$13,3,0)),0,H47*VLOOKUP($C47,Hypothèses!$D$6:$F$13,3,0))","v":0},{"$f":"IF(ISNA(I47*VLOOKUP($C47,Hypothèses!$D$6:$F$13,3,0)),0,I47*VLOOKUP($C47,Hypothèses!$D$6:$F$13,3,0))","v":0},{"$f":"IF(ISNA(J47*VLOOKUP($C47,Hypothèses!$D$6:$F$13,3,0)),0,J47*VLOOKUP($C47,Hypothèses!$D$6:$F$13,3,0))","v":0},{"$f":"IF(ISNA(K47*VLOOKUP($C47,Hypothèses!$D$6:$F$13,3,0)),0,K47*VLOOKUP($C47,Hypothèses!$D$6:$F$13,3,0))","v":0},{"$f":"IF(ISNA(L47*VLOOKUP($C47,Hypothèses!$D$6:$F$13,3,0)),0,L47*VLOOKUP($C47,Hypothèses!$D$6:$F$13,3,0))","v":0},{"$f":"IF(ISNA(M47*VLOOKUP($C47,Hypothèses!$D$6:$F$13,3,0)),0,M47*VLOOKUP($C47,Hypothèses!$D$6:$F$13,3,0))","v":0},{"$f":"IF(ISNA(N47*VLOOKUP($C47,Hypothèses!$D$6:$F$13,3,0)),0,N47*VLOOKUP($C47,Hypothèses!$D$6:$F$13,3,0))","v":0},{"$f":"IF(ISNA(O47*VLOOKUP($C47,Hypothèses!$D$6:$F$13,3,0)),0,O47*VLOOKUP($C47,Hypothèses!$D$6:$F$13,3,0))","v":0},{"$f":"IF(ISNA(P47*VLOOKUP($C47,Hypothèses!$D$6:$F$13,3,0)),0,P47*VLOOKUP($C47,Hypothèses!$D$6:$F$13,3,0))","v":0},{"$f":"IF(ISNA(Q47*VLOOKUP($C47,Hypothèses!$D$6:$F$13,3,0)),0,Q47*VLOOKUP($C47,Hypothèses!$D$6:$F$13,3,0))","v":0},{"$f":"IF(ISNA(R47*VLOOKUP($C47,Hypothèses!$D$6:$F$13,3,0)),0,R47*VLOOKUP($C47,Hypothèses!$D$6:$F$13,3,0))","v":0},{"$f":"IF(ISNA(S47*VLOOKUP($C47,Hypothèses!$D$6:$F$13,3,0)),0,S47*VLOOKUP($C47,Hypothèses!$D$6:$F$13,3,0))","v":0},{"$f":"IF(ISNA(#REF!*VLOOKUP($C47,Hypothèses!$D$6:$F$13,3,0)),0,#REF!*VLOOKUP($C47,Hypothèses!$D$6:$F$13,3,0))","v":{"$error":"#REF!"}},{"$f":"IF(ISNA(#REF!*VLOOKUP($C47,Hypothèses!$D$6:$F$13,3,0)),0,#REF!*VLOOKUP($C47,Hypothèses!$D$6:$F$13,3,0))","v":{"$error":"#REF!"}},{"$f":"IF(ISNA(#REF!*VLOOKUP($C47,Hypothèses!$D$6:$F$13,3,0)),0,#REF!*VLOOKUP($C47,Hypothèses!$D$6:$F$13,3,0))","v":{"$error":"#REF!"}},{"$f":"IF(ISNA(#REF!*VLOOKUP($C47,Hypothèses!$D$6:$F$13,3,0)),0,#REF!*VLOOKUP($C47,Hypothèses!$D$6:$F$13,3,0))","v":{"$error":"#REF!"}},{"$f":"IF(ISNA(#REF!*VLOOKUP($C47,Hypothèses!$D$6:$F$13,3,0)),0,#REF!*VLOOKUP($C47,Hypothèses!$D$6:$F$13,3,0))","v":{"$error":"#REF!"}},{"$f":"IF(ISNA(#REF!*VLOOKUP($C47,Hypothèses!$D$6:$F$13,3,0)),0,#REF!*VLOOKUP($C47,Hypothèses!$D$6:$F$13,3,0))","v":{"$error":"#REF!"}},{"$f":"IF(ISNA(#REF!*VLOOKUP($C47,Hypothèses!$D$6:$F$13,3,0)),0,#REF!*VLOOKUP($C47,Hypothèses!$D$6:$F$13,3,0))","v":{"$error":"#REF!"}}]
[41,null,null,{"$f":"IF(ISNA(VLOOKUP(C48,Hypothèses!$D$6:$G$14,4,0)),\"\",VLOOKUP(C48,Hypothèses!$D$6:$G$14,4,0))","v":""},null,null,null,null,null,null,null,null,null,null,null,null,null,null,null,null,null,null,null,null,null,{"$f":"IF(ISNA(E48*VLOOKUP($C48,Hypothèses!$D$6:$F$13,3,0)),0,E48*VLOOKUP($C48,Hypothèses!$D$6:$F$13,3,0))","v":0},{"$f":"IF(ISNA(F48*VLOOKUP($C48,Hypothèses!$D$6:$F$13,3,0)),0,F48*VLOOKUP($C48,Hypothèses!$D$6:$F$13,3,0))","v":0},{"$f":"IF(ISNA(G48*VLOOKUP($C48,Hypothèses!$D$6:$F$13,3,0)),0,G48*VLOOKUP($C48,Hypothèses!$D$6:$F$13,3,0))","v":0},{"$f":"IF(ISNA(H48*VLOOKUP($C48,Hypothèses!$D$6:$F$13,3,0)),0,H48*VLOOKUP($C48,Hypothèses!$D$6:$F$13,3,0))","v":0},{"$f":"IF(ISNA(I48*VLOOKUP($C48,Hypothèses!$D$6:$F$13,3,0)),0,I48*VLOOKUP($C48,Hypothèses!$D$6:$F$13,3,0))","v":0},{"$f":"IF(ISNA(J48*VLOOKUP($C48,Hypothèses!$D$6:$F$13,3,0)),0,J48*VLOOKUP($C48,Hypothèses!$D$6:$F$13,3,0))","v":0},{"$f":"IF(ISNA(K48*VLOOKUP($C48,Hypothèses!$D$6:$F$13,3,0)),0,K48*VLOOKUP($C48,Hypothèses!$D$6:$F$13,3,0))","v":0},{"$f":"IF(ISNA(L48*VLOOKUP($C48,Hypothèses!$D$6:$F$13,3,0)),0,L48*VLOOKUP($C48,Hypothèses!$D$6:$F$13,3,0))","v":0},{"$f":"IF(ISNA(M48*VLOOKUP($C48,Hypothèses!$D$6:$F$13,3,0)),0,M48*VLOOKUP($C48,Hypothèses!$D$6:$F$13,3,0))","v":0},{"$f":"IF(ISNA(N48*VLOOKUP($C48,Hypothèses!$D$6:$F$13,3,0)),0,N48*VLOOKUP($C48,Hypothèses!$D$6:$F$13,3,0))","v":0},{"$f":"IF(ISNA(O48*VLOOKUP($C48,Hypothèses!$D$6:$F$13,3,0)),0,O48*VLOOKUP($C48,Hypothèses!$D$6:$F$13,3,0))","v":0},{"$f":"IF(ISNA(P48*VLOOKUP($C48,Hypothèses!$D$6:$F$13,3,0)),0,P48*VLOOKUP($C48,Hypothèses!$D$6:$F$13,3,0))","v":0},{"$f":"IF(ISNA(Q48*VLOOKUP($C48,Hypothèses!$D$6:$F$13,3,0)),0,Q48*VLOOKUP($C48,Hypothèses!$D$6:$F$13,3,0))","v":0},{"$f":"IF(ISNA(R48*VLOOKUP($C48,Hypothèses!$D$6:$F$13,3,0)),0,R48*VLOOKUP($C48,Hypothèses!$D$6:$F$13,3,0))","v":0},{"$f":"IF(ISNA(S48*VLOOKUP($C48,Hypothèses!$D$6:$F$13,3,0)),0,S48*VLOOKUP($C48,Hypothèses!$D$6:$F$13,3,0))","v":0},{"$f":"IF(ISNA(#REF!*VLOOKUP($C48,Hypothèses!$D$6:$F$13,3,0)),0,#REF!*VLOOKUP($C48,Hypothèses!$D$6:$F$13,3,0))","v":{"$error":"#REF!"}},{"$f":"IF(ISNA(#REF!*VLOOKUP($C48,Hypothèses!$D$6:$F$13,3,0)),0,#REF!*VLOOKUP($C48,Hypothèses!$D$6:$F$13,3,0))","v":{"$error":"#REF!"}},{"$f":"IF(ISNA(#REF!*VLOOKUP($C48,Hypothèses!$D$6:$F$13,3,0)),0,#REF!*VLOOKUP($C48,Hypothèses!$D$6:$F$13,3,0))","v":{"$error":"#REF!"}},{"$f":"IF(ISNA(#REF!*VLOOKUP($C48,Hypothèses!$D$6:$F$13,3,0)),0,#REF!*VLOOKUP($C48,Hypothèses!$D$6:$F$13,3,0))","v":{"$error":"#REF!"}},{"$f":"IF(ISNA(#REF!*VLOOKUP($C48,Hypothèses!$D$6:$F$13,3,0)),0,#REF!*VLOOKUP($C48,Hypothèses!$D$6:$F$13,3,0))","v":{"$error":"#REF!"}},{"$f":"IF(ISNA(#REF!*VLOOKUP($C48,Hypothèses!$D$6:$F$13,3,0)),0,#REF!*VLOOKUP($C48,Hypothèses!$D$6:$F$13,3,0))","v":{"$error":"#REF!"}},{"$f":"IF(ISNA(#REF!*VLOOKUP($C48,Hypothèses!$D$6:$F$13,3,0)),0,#REF!*VLOOKUP($C48,Hypothèses!$D$6:$F$13,3,0))","v":{"$error":"#REF!"}}]
[42,null,null,{"$f":"IF(ISNA(VLOOKUP(C49,Hypothèses!$D$6:$G$14,4,0)),\"\",VLOOKUP(C49,Hypothèses!$D$6:$G$14,4,0))","v":""},null,null,null,null,null,null,null,null,null,null,null,null,null,null,null,null,null,null,null,null,null,{"$f":"IF(ISNA(E49*VLOOKUP($C49,Hypothèses!$D$6:$F$13,3,0)),0,E49*VLOOKUP($C49,Hypothèses!$D$6:$F$13,3,0))","v":0},{"$f":"IF(ISNA(F49*VLOOKUP($C49,Hypothèses!$D$6:$F$13,3,0)),0,F49*VLOOKUP($C49,Hypothèses!$D$6:$F$13,3,0))","v":0},{"$f":"IF(ISNA(G49*VLOOKUP($C49,Hypothèses!$D$6:$F$13,3,0)),0,G49*VLOOKUP($C49,Hypothèses!$D$6:$F$13,3,0))","v":0},{"$f":"IF(ISNA(H49*VLOOKUP($C49,Hypothèses!$D$6:$F$13,3,0)),0,H49*VLOOKUP($C49,Hypothèses!$D$6:$F$13,3,0))","v":0},{"$f":"IF(ISNA(I49*VLOOKUP($C49,Hypothèses!$D$6:$F$13,3,0)),0,I49*VLOOKUP($C49,Hypothèses!$D$6:$F$13,3,0))","v":0},{"$f":"IF(ISNA(J49*VLOOKUP($C49,Hypothèses!$D$6:$F$13,3,0)),0,J49*VLOOKUP($C49,Hypothèses!$D$6:$F$13,3,0))","v":0},{"$f":"IF(ISNA(K49*VLOOKUP($C49,Hypothèses!$D$6:$F$13,3,0)),0,K49*VLOOKUP($C49,Hypothèses!$D$6:$F$13,3,0))","v":0},{"$f":"IF(ISNA(L49*VLOOKUP($C49,Hypothèses!$D$6:$F$13,3,0)),0,L49*VLOOKUP($C49,Hypothèses!$D$6:$F$13,3,0))","v":0},{"$f":"IF(ISNA(M49*VLOOKUP($C49,Hypothèses!$D$6:$F$13,3,0)),0,M49*VLOOKUP($C49,Hypothèses!$D$6:$F$13,3,0))","v":0},{"$f":"IF(ISNA(N49*VLOOKUP($C49,Hypothèses!$D$6:$F$13,3,0)),0,N49*VLOOKUP($C49,Hypothèses!$D$6:$F$13,3,0))","v":0},{"$f":"IF(ISNA(O49*VLOOKUP($C49,Hypothèses!$D$6:$F$13,3,0)),0,O49*VLOOKUP($C49,Hypothèses!$D$6:$F$13,3,0))","v":0},{"$f":"IF(ISNA(P49*VLOOKUP($C49,Hypothèses!$D$6:$F$13,3,0)),0,P49*VLOOKUP($C49,Hypothèses!$D$6:$F$13,3,0))","v":0},{"$f":"IF(ISNA(Q49*VLOOKUP($C49,Hypothèses!$D$6:$F$13,3,0)),0,Q49*VLOOKUP($C49,Hypothèses!$D$6:$F$13,3,0))","v":0},{"$f":"IF(ISNA(R49*VLOOKUP($C49,Hypothèses!$D$6:$F$13,3,0)),0,R49*VLOOKUP($C49,Hypothèses!$D$6:$F$13,3,0))","v":0},{"$f":"IF(ISNA(S49*VLOOKUP($C49,Hypothèses!$D$6:$F$13,3,0)),0,S49*VLOOKUP($C49,Hypothèses!$D$6:$F$13,3,0))","v":0},{"$f":"IF(ISNA(#REF!*VLOOKUP($C49,Hypothèses!$D$6:$F$13,3,0)),0,#REF!*VLOOKUP($C49,Hypothèses!$D$6:$F$13,3,0))","v":{"$error":"#REF!"}},{"$f":"IF(ISNA(#REF!*VLOOKUP($C49,Hypothèses!$D$6:$F$13,3,0)),0,#REF!*VLOOKUP($C49,Hypothèses!$D$6:$F$13,3,0))","v":{"$error":"#REF!"}},{"$f":"IF(ISNA(#REF!*VLOOKUP($C49,Hypothèses!$D$6:$F$13,3,0)),0,#REF!*VLOOKUP($C49,Hypothèses!$D$6:$F$13,3,0))","v":{"$error":"#REF!"}},{"$f":"IF(ISNA(#REF!*VLOOKUP($C49,Hypothèses!$D$6:$F$13,3,0)),0,#REF!*VLOOKUP($C49,Hypothèses!$D$6:$F$13,3,0))","v":{"$error":"#REF!"}},{"$f":"IF(ISNA(#REF!*VLOOKUP($C49,Hypothèses!$D$6:$F$13,3,0)),0,#REF!*VLOOKUP($C49,Hypothèses!$D$6:$F$13,3,0))","v":{"$error":"#REF!"}},{"$f":"IF(ISNA(#REF!*VLOOKUP($C49,Hypothèses!$D$6:$F$13,3,0)),0,#REF!*VLOOKUP($C49,Hypothèses!$D$6:$F$13,3,0))","v":{"$error":"#REF!"}},{"$f":"IF(ISNA(#REF!*VLOOKUP($C49,Hypothèses!$D$6:$F$13,3,0)),0,#REF!*VLOOKUP($C49,Hypothèses!$D$6:$F$13,3,0))","v":{"$error":"#REF!"}}]
[43,null,null,{"$f":"IF(ISNA(VLOOKUP(C50,Hypothèses!$D$6:$G$14,4,0)),\"\",VLOOKUP(C50,Hypothèses!$D$6:$G$14,4,0))","v":""},null,null,null,null,null,null,null,null,null,null,null,null,null,null,null,null,null,null,null,null,null,{"$f":"IF(ISNA(E50*VLOOKUP($C50,Hypothèses!$D$6:$F$13,3,0)),0,E50*VLOOKUP($C50,Hypothèses!$D$6:$F$13,3,0))","v":0},{"$f":"IF(ISNA(F50*VLOOKUP($C50,Hypothèses!$D$6:$F$13,3,0)),0,F50*VLOOKUP($C50,Hypothèses!$D$6:$F$13,3,0))","v":0},{"$f":"IF(ISNA(G50*VLOOKUP($C50,Hypothèses!$D$6:$F$13,3,0)),0,G50*VLOOKUP($C50,Hypothèses!$D$6:$F$13,3,0))","v":0},{"$f":"IF(ISNA(H50*VLOOKUP($C50,Hypothèses!$D$6:$F$13,3,0)),0,H50*VLOOKUP($C50,Hypothèses!$D$6:$F$13,3,0))","v":0},{"$f":"IF(ISNA(I50*VLOOKUP($C50,Hypothèses!$D$6:$F$13,3,0)),0,I50*VLOOKUP($C50,Hypothèses!$D$6:$F$13,3,0))","v":0},{"$f":"IF(ISNA(J50*VLOOKUP($C50,Hypothèses!$D$6:$F$13,3,0)),0,J50*VLOOKUP($C50,Hypothèses!$D$6:$F$13,3,0))","v":0},{"$f":"IF(ISNA(K50*VLOOKUP($C50,Hypothèses!$D$6:$F$13,3,0)),0,K50*VLOOKUP($C50,Hypothèses!$D$6:$F$13,3,0))","v":0},{"$f":"IF(ISNA(L50*VLOOKUP($C50,Hypothèses!$D$6:$F$13,3,0)),0,L50*VLOOKUP($C50,Hypothèses!$D$6:$F$13,3,0))","v":0},{"$f":"IF(ISNA(M50*VLOOKUP($C50,Hypothèses!$D$6:$F$13,3,0)),0,M50*VLOOKUP($C50,Hypothèses!$D$6:$F$13,3,0))","v":0},{"$f":"IF(ISNA(N50*VLOOKUP($C50,Hypothèses!$D$6:$F$13,3,0)),0,N50*VLOOKUP($C50,Hypothèses!$D$6:$F$13,3,0))","v":0},{"$f":"IF(ISNA(O50*VLOOKUP($C50,Hypothèses!$D$6:$F$13,3,0)),0,O50*VLOOKUP($C50,Hypothèses!$D$6:$F$13,3,0))","v":0},{"$f":"IF(ISNA(P50*VLOOKUP($C50,Hypothèses!$D$6:$F$13,3,0)),0,P50*VLOOKUP($C50,Hypothèses!$D$6:$F$13,3,0))","v":0},{"$f":"IF(ISNA(Q50*VLOOKUP($C50,Hypothèses!$D$6:$F$13,3,0)),0,Q50*VLOOKUP($C50,Hypothèses!$D$6:$F$13,3,0))","v":0},{"$f":"IF(ISNA(R50*VLOOKUP($C50,Hypothèses!$D$6:$F$13,3,0)),0,R50*VLOOKUP($C50,Hypothèses!$D$6:$F$13,3,0))","v":0},{"$f":"IF(ISNA(S50*VLOOKUP($C50,Hypothèses!$D$6:$F$13,3,0)),0,S50*VLOOKUP($C50,Hypothèses!$D$6:$F$13,3,0))","v":0},{"$f":"IF(ISNA(#REF!*VLOOKUP($C50,Hypothèses!$D$6:$F$13,3,0)),0,#REF!*VLOOKUP($C50,Hypothèses!$D$6:$F$13,3,0))","v":{"$error":"#REF!"}},{"$f":"IF(ISNA(#REF!*VLOOKUP($C50,Hypothèses!$D$6:$F$13,3,0)),0,#REF!*VLOOKUP($C50,Hypothèses!$D$6:$F$13,3,0))","v":{"$error":"#REF!"}},{"$f":"IF(ISNA(#REF!*VLOOKUP($C50,Hypothèses!$D$6:$F$13,3,0)),0,#REF!*VLOOKUP($C50,Hypothèses!$D$6:$F$13,3,0))","v":{"$error":"#REF!"}},{"$f":"IF(ISNA(#REF!*VLOOKUP($C50,Hypothèses!$D$6:$F$13,3,0)),0,#REF!*VLOOKUP($C50,Hypothèses!$D$6:$F$13,3,0))","v":{"$error":"#REF!"}},{"$f":"IF(ISNA(#REF!*VLOOKUP($C50,Hypothèses!$D$6:$F$13,3,0)),0,#REF!*VLOOKUP($C50,Hypothèses!$D$6:$F$13,3,0))","v":{"$error":"#REF!"}},{"$f":"IF(ISNA(#REF!*VLOOKUP($C50,Hypothèses!$D$6:$F$13,3,0)),0,#REF!*VLOOKUP($C50,Hypothèses!$D$6:$F$13,3,0))","v":{"$error":"#REF!"}},{"$f":"IF(ISNA(#REF!*VLOOKUP($C50,Hypothèses!$D$6:$F$13,3,0)),0,#REF!*VLOOKUP($C50,Hypothèses!$D$6:$F$13,3,0))","v":{"$error":"#REF!"}}]
[44,null,null,{"$f":"IF(ISNA(VLOOKUP(C51,Hypothèses!$D$6:$G$14,4,0)),\"\",VLOOKUP(C51,Hypothèses!$D$6:$G$14,4,0))","v":""},null,null,null,null,null,null,null,null,null,null,null,null,null,null,null,null,null,null,null,null,null,{"$f":"IF(ISNA(E51*VLOOKUP($C51,Hypothèses!$D$6:$F$13,3,0)),0,E51*VLOOKUP($C51,Hypothèses!$D$6:$F$13,3,0))","v":0},{"$f":"IF(ISNA(F51*VLOOKUP($C51,Hypothèses!$D$6:$F$13,3,0)),0,F51*VLOOKUP($C51,Hypothèses!$D$6:$F$13,3,0))","v":0},{"$f":"IF(ISNA(G51*VLOOKUP($C51,Hypothèses!$D$6:$F$13,3,0)),0,G51*VLOOKUP($C51,Hypothèses!$D$6:$F$13,3,0))","v":0},{"$f":"IF(ISNA(H51*VLOOKUP($C51,Hypothèses!$D$6:$F$13,3,0)),0,H51*VLOOKUP($C51,Hypothèses!$D$6:$F$13,3,0))","v":0},{"$f":"IF(ISNA(I51*VLOOKUP($C51,Hypothèses!$D$6:$F$13,3,0)),0,I51*VLOOKUP($C51,Hypothèses!$D$6:$F$13,3,0))","v":0},{"$f":"IF(ISNA(J51*VLOOKUP($C51,Hypothèses!$D$6:$F$13,3,0)),0,J51*VLOOKUP($C51,Hypothèses!$D$6:$F$13,3,0))","v":0},{"$f":"IF(ISNA(K51*VLOOKUP($C51,Hypothèses!$D$6:$F$13,3,0)),0,K51*VLOOKUP($C51,Hypothèses!$D$6:$F$13,3,0))","v":0},{"$f":"IF(ISNA(L51*VLOOKUP($C51,Hypothèses!$D$6:$F$13,3,0)),0,L51*VLOOKUP($C51,Hypothèses!$D$6:$F$13,3,0))","v":0},{"$f":"IF(ISNA(M51*VLOOKUP($C51,Hypothèses!$D$6:$F$13,3,0)),0,M51*VLOOKUP($C51,Hypothèses!$D$6:$F$13,3,0))","v":0},{"$f":"IF(ISNA(N51*VLOOKUP($C51,Hypothèses!$D$6:$F$13,3,0)),0,N51*VLOOKUP($C51,Hypothèses!$D$6:$F$13,3,0))","v":0},{"$f":"IF(ISNA(O51*VLOOKUP($C51,Hypothèses!$D$6:$F$13,3,0)),0,O51*VLOOKUP($C51,Hypothèses!$D$6:$F$13,3,0))","v":0},{"$f":"IF(ISNA(P51*VLOOKUP($C51,Hypothèses!$D$6:$F$13,3,0)),0,P51*VLOOKUP($C51,Hypothèses!$D$6:$F$13,3,0))","v":0},{"$f":"IF(ISNA(Q51*VLOOKUP($C51,Hypothèses!$D$6:$F$13,3,0)),0,Q51*VLOOKUP($C51,Hypothèses!$D$6:$F$13,3,0))","v":0},{"$f":"IF(ISNA(R51*VLOOKUP($C51,Hypothèses!$D$6:$F$13,3,0)),0,R51*VLOOKUP($C51,Hypothèses!$D$6:$F$13,3,0))","v":0},{"$f":"IF(ISNA(S51*VLOOKUP($C51,Hypothèses!$D$6:$F$13,3,0)),0,S51*VLOOKUP($C51,Hypothèses!$D$6:$F$13,3,0))","v":0},{"$f":"IF(ISNA(#REF!*VLOOKUP($C51,Hypothèses!$D$6:$F$13,3,0)),0,#REF!*VLOOKUP($C51,Hypothèses!$D$6:$F$13,3,0))","v":{"$error":"#REF!"}},{"$f":"IF(ISNA(#REF!*VLOOKUP($C51,Hypothèses!$D$6:$F$13,3,0)),0,#REF!*VLOOKUP($C51,Hypothèses!$D$6:$F$13,3,0))","v":{"$error":"#REF!"}},{"$f":"IF(ISNA(#REF!*VLOOKUP($C51,Hypothèses!$D$6:$F$13,3,0)),0,#REF!*VLOOKUP($C51,Hypothèses!$D$6:$F$13,3,0))","v":{"$error":"#REF!"}},{"$f":"IF(ISNA(#REF!*VLOOKUP($C51,Hypothèses!$D$6:$F$13,3,0)),0,#REF!*VLOOKUP($C51,Hypothèses!$D$6:$F$13,3,0))","v":{"$error":"#REF!"}},{"$f":"IF(ISNA(#REF!*VLOOKUP($C51,Hypothèses!$D$6:$F$13,3,0)),0,#REF!*VLOOKUP($C51,Hypothèses!$D$6:$F$13,3,0))","v":{"$error":"#REF!"}},{"$f":"IF(ISNA(#REF!*VLOOKUP($C51,Hypothèses!$D$6:$F$13,3,0)),0,#REF!*VLOOKUP($C51,Hypothèses!$D$6:$F$13,3,0))","v":{"$error":"#REF!"}},{"$f":"IF(ISNA(#REF!*VLOOKUP($C51,Hypothèses!$D$6:$F$13,3,0)),0,#REF!*VLOOKUP($C51,Hypothèses!$D$6:$F$13,3,0))","v":{"$error":"#REF!"}}]
[45,null,null,{"$f":"IF(ISNA(VLOOKUP(C52,Hypothèses!$D$6:$G$14,4,0)),\"\",VLOOKUP(C52,Hypothèses!$D$6:$G$14,4,0))","v":""},null,null,null,null,null,null,null,null,null,null,null,null,null,null,null,null,null,null,null,null,null,{"$f":"IF(ISNA(E52*VLOOKUP($C52,Hypothèses!$D$6:$F$13,3,0)),0,E52*VLOOKUP($C52,Hypothèses!$D$6:$F$13,3,0))","v":0},{"$f":"IF(ISNA(F52*VLOOKUP($C52,Hypothèses!$D$6:$F$13,3,0)),0,F52*VLOOKUP($C52,Hypothèses!$D$6:$F$13,3,0))","v":0},{"$f":"IF(ISNA(G52*VLOOKUP($C52,Hypothèses!$D$6:$F$13,3,0)),0,G52*VLOOKUP($C52,Hypothèses!$D$6:$F$13,3,0))","v":0},{"$f":"IF(ISNA(H52*VLOOKUP($C52,Hypothèses!$D$6:$F$13,3,0)),0,H52*VLOOKUP($C52,Hypothèses!$D$6:$F$13,3,0))","v":0},{"$f":"IF(ISNA(I52*VLOOKUP($C52,Hypothèses!$D$6:$F$13,3,0)),0,I52*VLOOKUP($C52,Hypothèses!$D$6:$F$13,3,0))","v":0},{"$f":"IF(ISNA(J52*VLOOKUP($C52,Hypothèses!$D$6:$F$13,3,0)),0,J52*VLOOKUP($C52,Hypothèses!$D$6:$F$13,3,0))","v":0},{"$f":"IF(ISNA(K52*VLOOKUP($C52,Hypothèses!$D$6:$F$13,3,0)),0,K52*VLOOKUP($C52,Hypothèses!$D$6:$F$13,3,0))","v":0},{"$f":"IF(ISNA(L52*VLOOKUP($C52,Hypothèses!$D$6:$F$13,3,0)),0,L52*VLOOKUP($C52,Hypothèses!$D$6:$F$13,3,0))","v":0},{"$f":"IF(ISNA(M52*VLOOKUP($C52,Hypothèses!$D$6:$F$13,3,0)),0,M52*VLOOKUP($C52,Hypothèses!$D$6:$F$13,3,0))","v":0},{"$f":"IF(ISNA(N52*VLOOKUP($C52,Hypothèses!$D$6:$F$13,3,0)),0,N52*VLOOKUP($C52,Hypothèses!$D$6:$F$13,3,0))","v":0},{"$f":"IF(ISNA(O52*VLOOKUP($C52,Hypothèses!$D$6:$F$13,3,0)),0,O52*VLOOKUP($C52,Hypothèses!$D$6:$F$13,3,0))","v":0},{"$f":"IF(ISNA(P52*VLOOKUP($C52,Hypothèses!$D$6:$F$13,3,0)),0,P52*VLOOKUP($C52,Hypothèses!$D$6:$F$13,3,0))","v":0},{"$f":"IF(ISNA(Q52*VLOOKUP($C52,Hypothèses!$D$6:$F$13,3,0)),0,Q52*VLOOKUP($C52,Hypothèses!$D$6:$F$13,3,0))","v":0},{"$f":"IF(ISNA(R52*VLOOKUP($C52,Hypothèses!$D$6:$F$13,3,0)),0,R52*VLOOKUP($C52,Hypothèses!$D$6:$F$13,3,0))","v":0},{"$f":"IF(ISNA(S52*VLOOKUP($C52,Hypothèses!$D$6:$F$13,3,0)),0,S52*VLOOKUP($C52,Hypothèses!$D$6:$F$13,3,0))","v":0},{"$f":"IF(ISNA(#REF!*VLOOKUP($C52,Hypothèses!$D$6:$F$13,3,0)),0,#REF!*VLOOKUP($C52,Hypothèses!$D$6:$F$13,3,0))","v":{"$error":"#REF!"}},{"$f":"IF(ISNA(#REF!*VLOOKUP($C52,Hypothèses!$D$6:$F$13,3,0)),0,#REF!*VLOOKUP($C52,Hypothèses!$D$6:$F$13,3,0))","v":{"$error":"#REF!"}},{"$f":"IF(ISNA(#REF!*VLOOKUP($C52,Hypothèses!$D$6:$F$13,3,0)),0,#REF!*VLOOKUP($C52,Hypothèses!$D$6:$F$13,3,0))","v":{"$error":"#REF!"}},{"$f":"IF(ISNA(#REF!*VLOOKUP($C52,Hypothèses!$D$6:$F$13,3,0)),0,#REF!*VLOOKUP($C52,Hypothèses!$D$6:$F$13,3,0))","v":{"$error":"#REF!"}},{"$f":"IF(ISNA(#REF!*VLOOKUP($C52,Hypothèses!$D$6:$F$13,3,0)),0,#REF!*VLOOKUP($C52,Hypothèses!$D$6:$F$13,3,0))","v":{"$error":"#REF!"}},{"$f":"IF(ISNA(#REF!*VLOOKUP($C52,Hypothèses!$D$6:$F$13,3,0)),0,#REF!*VLOOKUP($C52,Hypothèses!$D$6:$F$13,3,0))","v":{"$error":"#REF!"}},{"$f":"IF(ISNA(#REF!*VLOOKUP($C52,Hypothèses!$D$6:$F$13,3,0)),0,#REF!*VLOOKUP($C52,Hypothèses!$D$6:$F$13,3,0))","v":{"$error":"#REF!"}}]
[46,null,null,{"$f":"IF(ISNA(VLOOKUP(C53,Hypothèses!$D$6:$G$14,4,0)),\"\",VLOOKUP(C53,Hypothèses!$D$6:$G$14,4,0))","v":""},null,null,null,null,null,null,null,null,null,null,null,null,null,null,null,null,null,null,null,null,null,{"$f":"IF(ISNA(E53*VLOOKUP($C53,Hypothèses!$D$6:$F$13,3,0)),0,E53*VLOOKUP($C53,Hypothèses!$D$6:$F$13,3,0))","v":0},{"$f":"IF(ISNA(F53*VLOOKUP($C53,Hypothèses!$D$6:$F$13,3,0)),0,F53*VLOOKUP($C53,Hypothèses!$D$6:$F$13,3,0))","v":0},{"$f":"IF(ISNA(G53*VLOOKUP($C53,Hypothèses!$D$6:$F$13,3,0)),0,G53*VLOOKUP($C53,Hypothèses!$D$6:$F$13,3,0))","v":0},{"$f":"IF(ISNA(H53*VLOOKUP($C53,Hypothèses!$D$6:$F$13,3,0)),0,H53*VLOOKUP($C53,Hypothèses!$D$6:$F$13,3,0))","v":0},{"$f":"IF(ISNA(I53*VLOOKUP($C53,Hypothèses!$D$6:$F$13,3,0)),0,I53*VLOOKUP($C53,Hypothèses!$D$6:$F$13,3,0))","v":0},{"$f":"IF(ISNA(J53*VLOOKUP($C53,Hypothèses!$D$6:$F$13,3,0)),0,J53*VLOOKUP($C53,Hypothèses!$D$6:$F$13,3,0))","v":0},{"$f":"IF(ISNA(K53*VLOOKUP($C53,Hypothèses!$D$6:$F$13,3,0)),0,K53*VLOOKUP($C53,Hypothèses!$D$6:$F$13,3,0))","v":0},{"$f":"IF(ISNA(L53*VLOOKUP($C53,Hypothèses!$D$6:$F$13,3,0)),0,L53*VLOOKUP($C53,Hypothèses!$D$6:$F$13,3,0))","v":0},{"$f":"IF(ISNA(M53*VLOOKUP($C53,Hypothèses!$D$6:$F$13,3,0)),0,M53*VLOOKUP($C53,Hypothèses!$D$6:$F$13,3,0))","v":0},{"$f":"IF(ISNA(N53*VLOOKUP($C53,Hypothèses!$D$6:$F$13,3,0)),0,N53*VLOOKUP($C53,Hypothèses!$D$6:$F$13,3,0))","v":0},{"$f":"IF(ISNA(O53*VLOOKUP($C53,Hypothèses!$D$6:$F$13,3,0)),0,O53*VLOOKUP($C53,Hypothèses!$D$6:$F$13,3,0))","v":0},{"$f":"IF(ISNA(P53*VLOOKUP($C53,Hypothèses!$D$6:$F$13,3,0)),0,P53*VLOOKUP($C53,Hypothèses!$D$6:$F$13,3,0))","v":0},{"$f":"IF(ISNA(Q53*VLOOKUP($C53,Hypothèses!$D$6:$F$13,3,0)),0,Q53*VLOOKUP($C53,Hypothèses!$D$6:$F$13,3,0))","v":0},{"$f":"IF(ISNA(R53*VLOOKUP($C53,Hypothèses!$D$6:$F$13,3,0)),0,R53*VLOOKUP($C53,Hypothèses!$D$6:$F$13,3,0))","v":0},{"$f":"IF(ISNA(S53*VLOOKUP($C53,Hypothèses!$D$6:$F$13,3,0)),0,S53*VLOOKUP($C53,Hypothèses!$D$6:$F$13,3,0))","v":0},{"$f":"IF(ISNA(#REF!*VLOOKUP($C53,Hypothèses!$D$6:$F$13,3,0)),0,#REF!*VLOOKUP($C53,Hypothèses!$D$6:$F$13,3,0))","v":{"$error":"#REF!"}},{"$f":"IF(ISNA(#REF!*VLOOKUP($C53,Hypothèses!$D$6:$F$13,3,0)),0,#REF!*VLOOKUP($C53,Hypothèses!$D$6:$F$13,3,0))","v":{"$error":"#REF!"}},{"$f":"IF(ISNA(#REF!*VLOOKUP($C53,Hypothèses!$D$6:$F$13,3,0)),0,#REF!*VLOOKUP($C53,Hypothèses!$D$6:$F$13,3,0))","v":{"$error":"#REF!"}},{"$f":"IF(ISNA(#REF!*VLOOKUP($C53,Hypothèses!$D$6:$F$13,3,0)),0,#REF!*VLOOKUP($C53,Hypothèses!$D$6:$F$13,3,0))","v":{"$error":"#REF!"}},{"$f":"IF(ISNA(#REF!*VLOOKUP($C53,Hypothèses!$D$6:$F$13,3,0)),0,#REF!*VLOOKUP($C53,Hypothèses!$D$6:$F$13,3,0))","v":{"$error":"#REF!"}},{"$f":"IF(ISNA(#REF!*VLOOKUP($C53,Hypothèses!$D$6:$F$13,3,0)),0,#REF!*VLOOKUP($C53,Hypothèses!$D$6:$F$13,3,0))","v":{"$error":"#REF!"}},{"$f":"IF(ISNA(#REF!*VLOOKUP($C53,Hypothèses!$D$6:$F$13,3,0)),0,#REF!*VLOOKUP($C53,Hypothèses!$D$6:$F$13,3,0))","v":{"$error":"#REF!"}}]
[47,null,null,{"$f":"IF(ISNA(VLOOKUP(C54,Hypothèses!$D$6:$G$14,4,0)),\"\",VLOOKUP(C54,Hypothèses!$D$6:$G$14,4,0))","v":""},null,null,null,null,null,null,null,null,null,null,null,null,null,null,null,null,null,null,null,null,null,{"$f":"IF(ISNA(E54*VLOOKUP($C54,Hypothèses!$D$6:$F$13,3,0)),0,E54*VLOOKUP($C54,Hypothèses!$D$6:$F$13,3,0))","v":0},{"$f":"IF(ISNA(F54*VLOOKUP($C54,Hypothèses!$D$6:$F$13,3,0)),0,F54*VLOOKUP($C54,Hypothèses!$D$6:$F$13,3,0))","v":0},{"$f":"IF(ISNA(G54*VLOOKUP($C54,Hypothèses!$D$6:$F$13,3,0)),0,G54*VLOOKUP($C54,Hypothèses!$D$6:$F$13,3,0))","v":0},{"$f":"IF(ISNA(H54*VLOOKUP($C54,Hypothèses!$D$6:$F$13,3,0)),0,H54*VLOOKUP($C54,Hypothèses!$D$6:$F$13,3,0))","v":0},{"$f":"IF(ISNA(I54*VLOOKUP($C54,Hypothèses!$D$6:$F$13,3,0)),0,I54*VLOOKUP($C54,Hypothèses!$D$6:$F$13,3,0))","v":0},{"$f":"IF(ISNA(J54*VLOOKUP($C54,Hypothèses!$D$6:$F$13,3,0)),0,J54*VLOOKUP($C54,Hypothèses!$D$6:$F$13,3,0))","v":0},{"$f":"IF(ISNA(K54*VLOOKUP($C54,Hypothèses!$D$6:$F$13,3,0)),0,K54*VLOOKUP($C54,Hypothèses!$D$6:$F$13,3,0))","v":0},{"$f":"IF(ISNA(L54*VLOOKUP($C54,Hypothèses!$D$6:$F$13,3,0)),0,L54*VLOOKUP($C54,Hypothèses!$D$6:$F$13,3,0))","v":0},{"$f":"IF(ISNA(M54*VLOOKUP($C54,Hypothèses!$D$6:$F$13,3,0)),0,M54*VLOOKUP($C54,Hypothèses!$D$6:$F$13,3,0))","v":0},{"$f":"IF(ISNA(N54*VLOOKUP($C54,Hypothèses!$D$6:$F$13,3,0)),0,N54*VLOOKUP($C54,Hypothèses!$D$6:$F$13,3,0))","v":0},{"$f":"IF(ISNA(O54*VLOOKUP($C54,Hypothèses!$D$6:$F$13,3,0)),0,O54*VLOOKUP($C54,Hypothèses!$D$6:$F$13,3,0))","v":0},{"$f":"IF(ISNA(P54*VLOOKUP($C54,Hypothèses!$D$6:$F$13,3,0)),0,P54*VLOOKUP($C54,Hypothèses!$D$6:$F$13,3,0))","v":0},{"$f":"IF(ISNA(Q54*VLOOKUP($C54,Hypothèses!$D$6:$F$13,3,0)),0,Q54*VLOOKUP($C54,Hypothèses!$D$6:$F$13,3,0))","v":0},{"$f":"IF(ISNA(R54*VLOOKUP($C54,Hypothèses!$D$6:$F$13,3,0)),0,R54*VLOOKUP($C54,Hypothèses!$D$6:$F$13,3,0))","v":0},{"$f":"IF(ISNA(S54*VLOOKUP($C54,Hypothèses!$D$6:$F$13,3,0)),0,S54*VLOOKUP($C54,Hypothèses!$D$6:$F$13,3,0))","v":0},{"$f":"IF(ISNA(#REF!*VLOOKUP($C54,Hypothèses!$D$6:$F$13,3,0)),0,#REF!*VLOOKUP($C54,Hypothèses!$D$6:$F$13,3,0))","v":{"$error":"#REF!"}},{"$f":"IF(ISNA(#REF!*VLOOKUP($C54,Hypothèses!$D$6:$F$13,3,0)),0,#REF!*VLOOKUP($C54,Hypothèses!$D$6:$F$13,3,0))","v":{"$error":"#REF!"}},{"$f":"IF(ISNA(#REF!*VLOOKUP($C54,Hypothèses!$D$6:$F$13,3,0)),0,#REF!*VLOOKUP($C54,Hypothèses!$D$6:$F$13,3,0))","v":{"$error":"#REF!"}},{"$f":"IF(ISNA(#REF!*VLOOKUP($C54,Hypothèses!$D$6:$F$13,3,0)),0,#REF!*VLOOKUP($C54,Hypothèses!$D$6:$F$13,3,0))","v":{"$error":"#REF!"}},{"$f":"IF(ISNA(#REF!*VLOOKUP($C54,Hypothèses!$D$6:$F$13,3,0)),0,#REF!*VLOOKUP($C54,Hypothèses!$D$6:$F$13,3,0))","v":{"$error":"#REF!"}},{"$f":"IF(ISNA(#REF!*VLOOKUP($C54,Hypothèses!$D$6:$F$13,3,0)),0,#REF!*VLOOKUP($C54,Hypothèses!$D$6:$F$13,3,0))","v":{"$error":"#REF!"}},{"$f":"IF(ISNA(#REF!*VLOOKUP($C54,Hypothèses!$D$6:$F$13,3,0)),0,#REF!*VLOOKUP($C54,Hypothèses!$D$6:$F$13,3,0))","v":{"$error":"#REF!"}}]
[48,null,null,{"$f":"IF(ISNA(VLOOKUP(C55,Hypothèses!$D$6:$G$14,4,0)),\"\",VLOOKUP(C55,Hypothèses!$D$6:$G$14,4,0))","v":""},null,null,null,null,null,null,null,null,null,null,null,null,null,null,null,null,null,null,null,null,null,{"$f":"IF(ISNA(E55*VLOOKUP($C55,Hypothèses!$D$6:$F$13,3,0)),0,E55*VLOOKUP($C55,Hypothèses!$D$6:$F$13,3,0))","v":0},{"$f":"IF(ISNA(F55*VLOOKUP($C55,Hypothèses!$D$6:$F$13,3,0)),0,F55*VLOOKUP($C55,Hypothèses!$D$6:$F$13,3,0))","v":0},{"$f":"IF(ISNA(G55*VLOOKUP($C55,Hypothèses!$D$6:$F$13,3,0)),0,G55*VLOOKUP($C55,Hypothèses!$D$6:$F$13,3,0))","v":0},{"$f":"IF(ISNA(H55*VLOOKUP($C55,Hypothèses!$D$6:$F$13,3,0)),0,H55*VLOOKUP($C55,Hypothèses!$D$6:$F$13,3,0))","v":0},{"$f":"IF(ISNA(I55*VLOOKUP($C55,Hypothèses!$D$6:$F$13,3,0)),0,I55*VLOOKUP($C55,Hypothèses!$D$6:$F$13,3,0))","v":0},{"$f":"IF(ISNA(J55*VLOOKUP($C55,Hypothèses!$D$6:$F$13,3,0)),0,J55*VLOOKUP($C55,Hypothèses!$D$6:$F$13,3,0))","v":0},{"$f":"IF(ISNA(K55*VLOOKUP($C55,Hypothèses!$D$6:$F$13,3,0)),0,K55*VLOOKUP($C55,Hypothèses!$D$6:$F$13,3,0))","v":0},{"$f":"IF(ISNA(L55*VLOOKUP($C55,Hypothèses!$D$6:$F$13,3,0)),0,L55*VLOOKUP($C55,Hypothèses!$D$6:$F$13,3,0))","v":0},{"$f":"IF(ISNA(M55*VLOOKUP($C55,Hypothèses!$D$6:$F$13,3,0)),0,M55*VLOOKUP($C55,Hypothèses!$D$6:$F$13,3,0))","v":0},{"$f":"IF(ISNA(N55*VLOOKUP($C55,Hypothèses!$D$6:$F$13,3,0)),0,N55*VLOOKUP($C55,Hypothèses!$D$6:$F$13,3,0))","v":0},{"$f":"IF(ISNA(O55*VLOOKUP($C55,Hypothèses!$D$6:$F$13,3,0)),0,O55*VLOOKUP($C55,Hypothèses!$D$6:$F$13,3,0))","v":0},{"$f":"IF(ISNA(P55*VLOOKUP($C55,Hypothèses!$D$6:$F$13,3,0)),0,P55*VLOOKUP($C55,Hypothèses!$D$6:$F$13,3,0))","v":0},{"$f":"IF(ISNA(Q55*VLOOKUP($C55,Hypothèses!$D$6:$F$13,3,0)),0,Q55*VLOOKUP($C55,Hypothèses!$D$6:$F$13,3,0))","v":0},{"$f":"IF(ISNA(R55*VLOOKUP($C55,Hypothèses!$D$6:$F$13,3,0)),0,R55*VLOOKUP($C55,Hypothèses!$D$6:$F$13,3,0))","v":0},{"$f":"IF(ISNA(S55*VLOOKUP($C55,Hypothèses!$D$6:$F$13,3,0)),0,S55*VLOOKUP($C55,Hypothèses!$D$6:$F$13,3,0))","v":0},{"$f":"IF(ISNA(#REF!*VLOOKUP($C55,Hypothèses!$D$6:$F$13,3,0)),0,#REF!*VLOOKUP($C55,Hypothèses!$D$6:$F$13,3,0))","v":{"$error":"#REF!"}},{"$f":"IF(ISNA(#REF!*VLOOKUP($C55,Hypothèses!$D$6:$F$13,3,0)),0,#REF!*VLOOKUP($C55,Hypothèses!$D$6:$F$13,3,0))","v":{"$error":"#REF!"}},{"$f":"IF(ISNA(#REF!*VLOOKUP($C55,Hypothèses!$D$6:$F$13,3,0)),0,#REF!*VLOOKUP($C55,Hypothèses!$D$6:$F$13,3,0))","v":{"$error":"#REF!"}},{"$f":"IF(ISNA(#REF!*VLOOKUP($C55,Hypothèses!$D$6:$F$13,3,0)),0,#REF!*VLOOKUP($C55,Hypothèses!$D$6:$F$13,3,0))","v":{"$error":"#REF!"}},{"$f":"IF(ISNA(#REF!*VLOOKUP($C55,Hypothèses!$D$6:$F$13,3,0)),0,#REF!*VLOOKUP($C55,Hypothèses!$D$6:$F$13,3,0))","v":{"$error":"#REF!"}},{"$f":"IF(ISNA(#REF!*VLOOKUP($C55,Hypothèses!$D$6:$F$13,3,0)),0,#REF!*VLOOKUP($C55,Hypothèses!$D$6:$F$13,3,0))","v":{"$error":"#REF!"}},{"$f":"IF(ISNA(#REF!*VLOOKUP($C55,Hypothèses!$D$6:$F$13,3,0)),0,#REF!*VLOOKUP($C55,Hypothèses!$D$6:$F$13,3,0))","v":{"$error":"#REF!"}}]
[49,null,null,{"$f":"IF(ISNA(VLOOKUP(C56,Hypothèses!$D$6:$G$14,4,0)),\"\",VLOOKUP(C56,Hypothèses!$D$6:$G$14,4,0))","v":""},null,null,null,null,null,null,null,null,null,null,null,null,null,null,null,null,null,null,null,null,null,{"$f":"IF(ISNA(E56*VLOOKUP($C56,Hypothèses!$D$6:$F$13,3,0)),0,E56*VLOOKUP($C56,Hypothèses!$D$6:$F$13,3,0))","v":0},{"$f":"IF(ISNA(F56*VLOOKUP($C56,Hypothèses!$D$6:$F$13,3,0)),0,F56*VLOOKUP($C56,Hypothèses!$D$6:$F$13,3,0))","v":0},{"$f":"IF(ISNA(G56*VLOOKUP($C56,Hypothèses!$D$6:$F$13,3,0)),0,G56*VLOOKUP($C56,Hypothèses!$D$6:$F$13,3,0))","v":0},{"$f":"IF(ISNA(H56*VLOOKUP($C56,Hypothèses!$D$6:$F$13,3,0)),0,H56*VLOOKUP($C56,Hypothèses!$D$6:$F$13,3,0))","v":0},{"$f":"IF(ISNA(I56*VLOOKUP($C56,Hypothèses!$D$6:$F$13,3,0)),0,I56*VLOOKUP($C56,Hypothèses!$D$6:$F$13,3,0))","v":0},{"$f":"IF(ISNA(J56*VLOOKUP($C56,Hypothèses!$D$6:$F$13,3,0)),0,J56*VLOOKUP($C56,Hypothèses!$D$6:$F$13,3,0))","v":0},{"$f":"IF(ISNA(K56*VLOOKUP($C56,Hypothèses!$D$6:$F$13,3,0)),0,K56*VLOOKUP($C56,Hypothèses!$D$6:$F$13,3,0))","v":0},{"$f":"IF(ISNA(L56*VLOOKUP($C56,Hypothèses!$D$6:$F$13,3,0)),0,L56*VLOOKUP($C56,Hypothèses!$D$6:$F$13,3,0))","v":0},{"$f":"IF(ISNA(M56*VLOOKUP($C56,Hypothèses!$D$6:$F$13,3,0)),0,M56*VLOOKUP($C56,Hypothèses!$D$6:$F$13,3,0))","v":0},{"$f":"IF(ISNA(N56*VLOOKUP($C56,Hypothèses!$D$6:$F$13,3,0)),0,N56*VLOOKUP($C56,Hypothèses!$D$6:$F$13,3,0))","v":0},{"$f":"IF(ISNA(O56*VLOOKUP($C56,Hypothèses!$D$6:$F$13,3,0)),0,O56*VLOOKUP($C56,Hypothèses!$D$6:$F$13,3,0))","v":0},{"$f":"IF(ISNA(P56*VLOOKUP($C56,Hypothèses!$D$6:$F$13,3,0)),0,P56*VLOOKUP($C56,Hypothèses!$D$6:$F$13,3,0))","v":0},{"$f":"IF(ISNA(Q56*VLOOKUP($C56,Hypothèses!$D$6:$F$13,3,0)),0,Q56*VLOOKUP($C56,Hypothèses!$D$6:$F$13,3,0))","v":0},{"$f":"IF(ISNA(R56*VLOOKUP($C56,Hypothèses!$D$6:$F$13,3,0)),0,R56*VLOOKUP($C56,Hypothèses!$D$6:$F$13,3,0))","v":0},{"$f":"IF(ISNA(S56*VLOOKUP($C56,Hypothèses!$D$6:$F$13,3,0)),0,S56*VLOOKUP($C56,Hypothèses!$D$6:$F$13,3,0))","v":0},{"$f":"IF(ISNA(#REF!*VLOOKUP($C56,Hypothèses!$D$6:$F$13,3,0)),0,#REF!*VLOOKUP($C56,Hypothèses!$D$6:$F$13,3,0))","v":{"$error":"#REF!"}},{"$f":"IF(ISNA(#REF!*VLOOKUP($C56,Hypothèses!$D$6:$F$13,3,0)),0,#REF!*VLOOKUP($C56,Hypothèses!$D$6:$F$13,3,0))","v":{"$error":"#REF!"}},{"$f":"IF(ISNA(#REF!*VLOOKUP($C56,Hypothèses!$D$6:$F$13,3,0)),0,#REF!*VLOOKUP($C56,Hypothèses!$D$6:$F$13,3,0))","v":{"$error":"#REF!"}},{"$f":"IF(ISNA(#REF!*VLOOKUP($C56,Hypothèses!$D$6:$F$13,3,0)),0,#REF!*VLOOKUP($C56,Hypothèses!$D$6:$F$13,3,0))","v":{"$error":"#REF!"}},{"$f":"IF(ISNA(#REF!*VLOOKUP($C56,Hypothèses!$D$6:$F$13,3,0)),0,#REF!*VLOOKUP($C56,Hypothèses!$D$6:$F$13,3,0))","v":{"$error":"#REF!"}},{"$f":"IF(ISNA(#REF!*VLOOKUP($C56,Hypothèses!$D$6:$F$13,3,0)),0,#REF!*VLOOKUP($C56,Hypothèses!$D$6:$F$13,3,0))","v":{"$error":"#REF!"}},{"$f":"IF(ISNA(#REF!*VLOOKUP($C56,Hypothèses!$D$6:$F$13,3,0)),0,#REF!*VLOOKUP($C56,Hypothèses!$D$6:$F$13,3,0))","v":{"$error":"#REF!"}}]
[50,null,null,{"$f":"IF(ISNA(VLOOKUP(C57,Hypothèses!$D$6:$G$14,4,0)),\"\",VLOOKUP(C57,Hypothèses!$D$6:$G$14,4,0))","v":""},null,null,null,null,null,null,null,null,null,null,null,null,null,null,null,null,null,null,null,null,null,{"$f":"IF(ISNA(E57*VLOOKUP($C57,Hypothèses!$D$6:$F$13,3,0)),0,E57*VLOOKUP($C57,Hypothèses!$D$6:$F$13,3,0))","v":0},{"$f":"IF(ISNA(F57*VLOOKUP($C57,Hypothèses!$D$6:$F$13,3,0)),0,F57*VLOOKUP($C57,Hypothèses!$D$6:$F$13,3,0))","v":0},{"$f":"IF(ISNA(G57*VLOOKUP($C57,Hypothèses!$D$6:$F$13,3,0)),0,G57*VLOOKUP($C57,Hypothèses!$D$6:$F$13,3,0))","v":0},{"$f":"IF(ISNA(H57*VLOOKUP($C57,Hypothèses!$D$6:$F$13,3,0)),0,H57*VLOOKUP($C57,Hypothèses!$D$6:$F$13,3,0))","v":0},{"$f":"IF(ISNA(I57*VLOOKUP($C57,Hypothèses!$D$6:$F$13,3,0)),0,I57*VLOOKUP($C57,Hypothèses!$D$6:$F$13,3,0))","v":0},{"$f":"IF(ISNA(J57*VLOOKUP($C57,Hypothèses!$D$6:$F$13,3,0)),0,J57*VLOOKUP($C57,Hypothèses!$D$6:$F$13,3,0))","v":0},{"$f":"IF(ISNA(K57*VLOOKUP($C57,Hypothèses!$D$6:$F$13,3,0)),0,K57*VLOOKUP($C57,Hypothèses!$D$6:$F$13,3,0))","v":0},{"$f":"IF(ISNA(L57*VLOOKUP($C57,Hypothèses!$D$6:$F$13,3,0)),0,L57*VLOOKUP($C57,Hypothèses!$D$6:$F$13,3,0))","v":0},{"$f":"IF(ISNA(M57*VLOOKUP($C57,Hypothèses!$D$6:$F$13,3,0)),0,M57*VLOOKUP($C57,Hypothèses!$D$6:$F$13,3,0))","v":0},{"$f":"IF(ISNA(N57*VLOOKUP($C57,Hypothèses!$D$6:$F$13,3,0)),0,N57*VLOOKUP($C57,Hypothèses!$D$6:$F$13,3,0))","v":0},{"$f":"IF(ISNA(O57*VLOOKUP($C57,Hypothèses!$D$6:$F$13,3,0)),0,O57*VLOOKUP($C57,Hypothèses!$D$6:$F$13,3,0))","v":0},{"$f":"IF(ISNA(P57*VLOOKUP($C57,Hypothèses!$D$6:$F$13,3,0)),0,P57*VLOOKUP($C57,Hypothèses!$D$6:$F$13,3,0))","v":0},{"$f":"IF(ISNA(Q57*VLOOKUP($C57,Hypothèses!$D$6:$F$13,3,0)),0,Q57*VLOOKUP($C57,Hypothèses!$D$6:$F$13,3,0))","v":0},{"$f":"IF(ISNA(R57*VLOOKUP($C57,Hypothèses!$D$6:$F$13,3,0)),0,R57*VLOOKUP($C57,Hypothèses!$D$6:$F$13,3,0))","v":0},{"$f":"IF(ISNA(S57*VLOOKUP($C57,Hypothèses!$D$6:$F$13,3,0)),0,S57*VLOOKUP($C57,Hypothèses!$D$6:$F$13,3,0))","v":0},{"$f":"IF(ISNA(#REF!*VLOOKUP($C57,Hypothèses!$D$6:$F$13,3,0)),0,#REF!*VLOOKUP($C57,Hypothèses!$D$6:$F$13,3,0))","v":{"$error":"#REF!"}},{"$f":"IF(ISNA(#REF!*VLOOKUP($C57,Hypothèses!$D$6:$F$13,3,0)),0,#REF!*VLOOKUP($C57,Hypothèses!$D$6:$F$13,3,0))","v":{"$error":"#REF!"}},{"$f":"IF(ISNA(#REF!*VLOOKUP($C57,Hypothèses!$D$6:$F$13,3,0)),0,#REF!*VLOOKUP($C57,Hypothèses!$D$6:$F$13,3,0))","v":{"$error":"#REF!"}},{"$f":"IF(ISNA(#REF!*VLOOKUP($C57,Hypothèses!$D$6:$F$13,3,0)),0,#REF!*VLOOKUP($C57,Hypothèses!$D$6:$F$13,3,0))","v":{"$error":"#REF!"}},{"$f":"IF(ISNA(#REF!*VLOOKUP($C57,Hypothèses!$D$6:$F$13,3,0)),0,#REF!*VLOOKUP($C57,Hypothèses!$D$6:$F$13,3,0))","v":{"$error":"#REF!"}},{"$f":"IF(ISNA(#REF!*VLOOKUP($C57,Hypothèses!$D$6:$F$13,3,0)),0,#REF!*VLOOKUP($C57,Hypothèses!$D$6:$F$13,3,0))","v":{"$error":"#REF!"}},{"$f":"IF(ISNA(#REF!*VLOOKUP($C57,Hypothèses!$D$6:$F$13,3,0)),0,#REF!*VLOOKUP($C57,Hypothèses!$D$6:$F$13,3,0))","v":{"$error":"#REF!"}}]
[51,null,null,{"$f":"IF(ISNA(VLOOKUP(C58,Hypothèses!$D$6:$G$14,4,0)),\"\",VLOOKUP(C58,Hypothèses!$D$6:$G$14,4,0))","v":""},null,null,null,null,null,null,null,null,null,null,null,null,null,null,null,null,null,null,null,null,null,{"$f":"IF(ISNA(E58*VLOOKUP($C58,Hypothèses!$D$6:$F$13,3,0)),0,E58*VLOOKUP($C58,Hypothèses!$D$6:$F$13,3,0))","v":0},{"$f":"IF(ISNA(F58*VLOOKUP($C58,Hypothèses!$D$6:$F$13,3,0)),0,F58*VLOOKUP($C58,Hypothèses!$D$6:$F$13,3,0))","v":0},{"$f":"IF(ISNA(G58*VLOOKUP($C58,Hypothèses!$D$6:$F$13,3,0)),0,G58*VLOOKUP($C58,Hypothèses!$D$6:$F$13,3,0))","v":0},{"$f":"IF(ISNA(H58*VLOOKUP($C58,Hypothèses!$D$6:$F$13,3,0)),0,H58*VLOOKUP($C58,Hypothèses!$D$6:$F$13,3,0))","v":0},{"$f":"IF(ISNA(I58*VLOOKUP($C58,Hypothèses!$D$6:$F$13,3,0)),0,I58*VLOOKUP($C58,Hypothèses!$D$6:$F$13,3,0))","v":0},{"$f":"IF(ISNA(J58*VLOOKUP($C58,Hypothèses!$D$6:$F$13,3,0)),0,J58*VLOOKUP($C58,Hypothèses!$D$6:$F$13,3,0))","v":0},{"$f":"IF(ISNA(K58*VLOOKUP($C58,Hypothèses!$D$6:$F$13,3,0)),0,K58*VLOOKUP($C58,Hypothèses!$D$6:$F$13,3,0))","v":0},{"$f":"IF(ISNA(L58*VLOOKUP($C58,Hypothèses!$D$6:$F$13,3,0)),0,L58*VLOOKUP($C58,Hypothèses!$D$6:$F$13,3,0))","v":0},{"$f":"IF(ISNA(M58*VLOOKUP($C58,Hypothèses!$D$6:$F$13,3,0)),0,M58*VLOOKUP($C58,Hypothèses!$D$6:$F$13,3,0))","v":0},{"$f":"IF(ISNA(N58*VLOOKUP($C58,Hypothèses!$D$6:$F$13,3,0)),0,N58*VLOOKUP($C58,Hypothèses!$D$6:$F$13,3,0))","v":0},{"$f":"IF(ISNA(O58*VLOOKUP($C58,Hypothèses!$D$6:$F$13,3,0)),0,O58*VLOOKUP($C58,Hypothèses!$D$6:$F$13,3,0))","v":0},{"$f":"IF(ISNA(P58*VLOOKUP($C58,Hypothèses!$D$6:$F$13,3,0)),0,P58*VLOOKUP($C58,Hypothèses!$D$6:$F$13,3,0))","v":0},{"$f":"IF(ISNA(Q58*VLOOKUP($C58,Hypothèses!$D$6:$F$13,3,0)),0,Q58*VLOOKUP($C58,Hypothèses!$D$6:$F$13,3,0))","v":0},{"$f":"IF(ISNA(R58*VLOOKUP($C58,Hypothèses!$D$6:$F$13,3,0)),0,R58*VLOOKUP($C58,Hypothèses!$D$6:$F$13,3,0))","v":0},{"$f":"IF(ISNA(S58*VLOOKUP($C58,Hypothèses!$D$6:$F$13,3,0)),0,S58*VLOOKUP($C58,Hypothèses!$D$6:$F$13,3,0))","v":0},{"$f":"IF(ISNA(#REF!*VLOOKUP($C58,Hypothèses!$D$6:$F$13,3,0)),0,#REF!*VLOOKUP($C58,Hypothèses!$D$6:$F$13,3,0))","v":{"$error":"#REF!"}},{"$f":"IF(ISNA(#REF!*VLOOKUP($C58,Hypothèses!$D$6:$F$13,3,0)),0,#REF!*VLOOKUP($C58,Hypothèses!$D$6:$F$13,3,0))","v":{"$error":"#REF!"}},{"$f":"IF(ISNA(#REF!*VLOOKUP($C58,Hypothèses!$D$6:$F$13,3,0)),0,#REF!*VLOOKUP($C58,Hypothèses!$D$6:$F$13,3,0))","v":{"$error":"#REF!"}},{"$f":"IF(ISNA(#REF!*VLOOKUP($C58,Hypothèses!$D$6:$F$13,3,0)),0,#REF!*VLOOKUP($C58,Hypothèses!$D$6:$F$13,3,0))","v":{"$error":"#REF!"}},{"$f":"IF(ISNA(#REF!*VLOOKUP($C58,Hypothèses!$D$6:$F$13,3,0)),0,#REF!*VLOOKUP($C58,Hypothèses!$D$6:$F$13,3,0))","v":{"$error":"#REF!"}},{"$f":"IF(ISNA(#REF!*VLOOKUP($C58,Hypothèses!$D$6:$F$13,3,0)),0,#REF!*VLOOKUP($C58,Hypothèses!$D$6:$F$13,3,0))","v":{"$error":"#REF!"}},{"$f":"IF(ISNA(#REF!*VLOOKUP($C58,Hypothèses!$D$6:$F$13,3,0)),0,#REF!*VLOOKUP($C58,Hypothèses!$D$6:$F$13,3,0))","v":{"$error":"#REF!"}}]
[52,null,null,{"$f":"IF(ISNA(VLOOKUP(C59,Hypothèses!$D$6:$G$14,4,0)),\"\",VLOOKUP(C59,Hypothèses!$D$6:$G$14,4,0))","v":""},null,null,null,null,null,null,null,null,null,null,null,null,null,null,null,null,null,null,null,null,null,{"$f":"IF(ISNA(E59*VLOOKUP($C59,Hypothèses!$D$6:$F$13,3,0)),0,E59*VLOOKUP($C59,Hypothèses!$D$6:$F$13,3,0))","v":0},{"$f":"IF(ISNA(F59*VLOOKUP($C59,Hypothèses!$D$6:$F$13,3,0)),0,F59*VLOOKUP($C59,Hypothèses!$D$6:$F$13,3,0))","v":0},{"$f":"IF(ISNA(G59*VLOOKUP($C59,Hypothèses!$D$6:$F$13,3,0)),0,G59*VLOOKUP($C59,Hypothèses!$D$6:$F$13,3,0))","v":0},{"$f":"IF(ISNA(H59*VLOOKUP($C59,Hypothèses!$D$6:$F$13,3,0)),0,H59*VLOOKUP($C59,Hypothèses!$D$6:$F$13,3,0))","v":0},{"$f":"IF(ISNA(I59*VLOOKUP($C59,Hypothèses!$D$6:$F$13,3,0)),0,I59*VLOOKUP($C59,Hypothèses!$D$6:$F$13,3,0))","v":0},{"$f":"IF(ISNA(J59*VLOOKUP($C59,Hypothèses!$D$6:$F$13,3,0)),0,J59*VLOOKUP($C59,Hypothèses!$D$6:$F$13,3,0))","v":0},{"$f":"IF(ISNA(K59*VLOOKUP($C59,Hypothèses!$D$6:$F$13,3,0)),0,K59*VLOOKUP($C59,Hypothèses!$D$6:$F$13,3,0))","v":0},{"$f":"IF(ISNA(L59*VLOOKUP($C59,Hypothèses!$D$6:$F$13,3,0)),0,L59*VLOOKUP($C59,Hypothèses!$D$6:$F$13,3,0))","v":0},{"$f":"IF(ISNA(M59*VLOOKUP($C59,Hypothèses!$D$6:$F$13,3,0)),0,M59*VLOOKUP($C59,Hypothèses!$D$6:$F$13,3,0))","v":0},{"$f":"IF(ISNA(N59*VLOOKUP($C59,Hypothèses!$D$6:$F$13,3,0)),0,N59*VLOOKUP($C59,Hypothèses!$D$6:$F$13,3,0))","v":0},{"$f":"IF(ISNA(O59*VLOOKUP($C59,Hypothèses!$D$6:$F$13,3,0)),0,O59*VLOOKUP($C59,Hypothèses!$D$6:$F$13,3,0))","v":0},{"$f":"IF(ISNA(P59*VLOOKUP($C59,Hypothèses!$D$6:$F$13,3,0)),0,P59*VLOOKUP($C59,Hypothèses!$D$6:$F$13,3,0))","v":0},{"$f":"IF(ISNA(Q59*VLOOKUP($C59,Hypothèses!$D$6:$F$13,3,0)),0,Q59*VLOOKUP($C59,Hypothèses!$D$6:$F$13,3,0))","v":0},{"$f":"IF(ISNA(R59*VLOOKUP($C59,Hypothèses!$D$6:$F$13,3,0)),0,R59*VLOOKUP($C59,Hypothèses!$D$6:$F$13,3,0))","v":0},{"$f":"IF(ISNA(S59*VLOOKUP($C59,Hypothèses!$D$6:$F$13,3,0)),0,S59*VLOOKUP($C59,Hypothèses!$D$6:$F$13,3,0))","v":0},{"$f":"IF(ISNA(#REF!*VLOOKUP($C59,Hypothèses!$D$6:$F$13,3,0)),0,#REF!*VLOOKUP($C59,Hypothèses!$D$6:$F$13,3,0))","v":{"$error":"#REF!"}},{"$f":"IF(ISNA(#REF!*VLOOKUP($C59,Hypothèses!$D$6:$F$13,3,0)),0,#REF!*VLOOKUP($C59,Hypothèses!$D$6:$F$13,3,0))","v":{"$error":"#REF!"}},{"$f":"IF(ISNA(#REF!*VLOOKUP($C59,Hypothèses!$D$6:$F$13,3,0)),0,#REF!*VLOOKUP($C59,Hypothèses!$D$6:$F$13,3,0))","v":{"$error":"#REF!"}},{"$f":"IF(ISNA(#REF!*VLOOKUP($C59,Hypothèses!$D$6:$F$13,3,0)),0,#REF!*VLOOKUP($C59,Hypothèses!$D$6:$F$13,3,0))","v":{"$error":"#REF!"}},{"$f":"IF(ISNA(#REF!*VLOOKUP($C59,Hypothèses!$D$6:$F$13,3,0)),0,#REF!*VLOOKUP($C59,Hypothèses!$D$6:$F$13,3,0))","v":{"$error":"#REF!"}},{"$f":"IF(ISNA(#REF!*VLOOKUP($C59,Hypothèses!$D$6:$F$13,3,0)),0,#REF!*VLOOKUP($C59,Hypothèses!$D$6:$F$13,3,0))","v":{"$error":"#REF!"}},{"$f":"IF(ISNA(#REF!*VLOOKUP($C59,Hypothèses!$D$6:$F$13,3,0)),0,#REF!*VLOOKUP($C59,Hypothèses!$D$6:$F$13,3,0))","v":{"$error":"#REF!"}}]
[53,null,null,{"$f":"IF(ISNA(VLOOKUP(C60,Hypothèses!$D$6:$G$14,4,0)),\"\",VLOOKUP(C60,Hypothèses!$D$6:$G$14,4,0))","v":""},null,null,null,null,null,null,null,null,null,null,null,null,null,null,null,null,null,null,null,null,null,{"$f":"IF(ISNA(E60*VLOOKUP($C60,Hypothèses!$D$6:$F$13,3,0)),0,E60*VLOOKUP($C60,Hypothèses!$D$6:$F$13,3,0))","v":0},{"$f":"IF(ISNA(F60*VLOOKUP($C60,Hypothèses!$D$6:$F$13,3,0)),0,F60*VLOOKUP($C60,Hypothèses!$D$6:$F$13,3,0))","v":0},{"$f":"IF(ISNA(G60*VLOOKUP($C60,Hypothèses!$D$6:$F$13,3,0)),0,G60*VLOOKUP($C60,Hypothèses!$D$6:$F$13,3,0))","v":0},{"$f":"IF(ISNA(H60*VLOOKUP($C60,Hypothèses!$D$6:$F$13,3,0)),0,H60*VLOOKUP($C60,Hypothèses!$D$6:$F$13,3,0))","v":0},{"$f":"IF(ISNA(I60*VLOOKUP($C60,Hypothèses!$D$6:$F$13,3,0)),0,I60*VLOOKUP($C60,Hypothèses!$D$6:$F$13,3,0))","v":0},{"$f":"IF(ISNA(J60*VLOOKUP($C60,Hypothèses!$D$6:$F$13,3,0)),0,J60*VLOOKUP($C60,Hypothèses!$D$6:$F$13,3,0))","v":0},{"$f":"IF(ISNA(K60*VLOOKUP($C60,Hypothèses!$D$6:$F$13,3,0)),0,K60*VLOOKUP($C60,Hypothèses!$D$6:$F$13,3,0))","v":0},{"$f":"IF(ISNA(L60*VLOOKUP($C60,Hypothèses!$D$6:$F$13,3,0)),0,L60*VLOOKUP($C60,Hypothèses!$D$6:$F$13,3,0))","v":0},{"$f":"IF(ISNA(M60*VLOOKUP($C60,Hypothèses!$D$6:$F$13,3,0)),0,M60*VLOOKUP($C60,Hypothèses!$D$6:$F$13,3,0))","v":0},{"$f":"IF(ISNA(N60*VLOOKUP($C60,Hypothèses!$D$6:$F$13,3,0)),0,N60*VLOOKUP($C60,Hypothèses!$D$6:$F$13,3,0))","v":0},{"$f":"IF(ISNA(O60*VLOOKUP($C60,Hypothèses!$D$6:$F$13,3,0)),0,O60*VLOOKUP($C60,Hypothèses!$D$6:$F$13,3,0))","v":0},{"$f":"IF(ISNA(P60*VLOOKUP($C60,Hypothèses!$D$6:$F$13,3,0)),0,P60*VLOOKUP($C60,Hypothèses!$D$6:$F$13,3,0))","v":0},{"$f":"IF(ISNA(Q60*VLOOKUP($C60,Hypothèses!$D$6:$F$13,3,0)),0,Q60*VLOOKUP($C60,Hypothèses!$D$6:$F$13,3,0))","v":0},{"$f":"IF(ISNA(R60*VLOOKUP($C60,Hypothèses!$D$6:$F$13,3,0)),0,R60*VLOOKUP($C60,Hypothèses!$D$6:$F$13,3,0))","v":0},{"$f":"IF(ISNA(S60*VLOOKUP($C60,Hypothèses!$D$6:$F$13,3,0)),0,S60*VLOOKUP($C60,Hypothèses!$D$6:$F$13,3,0))","v":0},{"$f":"IF(ISNA(#REF!*VLOOKUP($C60,Hypothèses!$D$6:$F$13,3,0)),0,#REF!*VLOOKUP($C60,Hypothèses!$D$6:$F$13,3,0))","v":{"$error":"#REF!"}},{"$f":"IF(ISNA(#REF!*VLOOKUP($C60,Hypothèses!$D$6:$F$13,3,0)),0,#REF!*VLOOKUP($C60,Hypothèses!$D$6:$F$13,3,0))","v":{"$error":"#REF!"}},{"$f":"IF(ISNA(#REF!*VLOOKUP($C60,Hypothèses!$D$6:$F$13,3,0)),0,#REF!*VLOOKUP($C60,Hypothèses!$D$6:$F$13,3,0))","v":{"$error":"#REF!"}},{"$f":"IF(ISNA(#REF!*VLOOKUP($C60,Hypothèses!$D$6:$F$13,3,0)),0,#REF!*VLOOKUP($C60,Hypothèses!$D$6:$F$13,3,0))","v":{"$error":"#REF!"}},{"$f":"IF(ISNA(#REF!*VLOOKUP($C60,Hypothèses!$D$6:$F$13,3,0)),0,#REF!*VLOOKUP($C60,Hypothèses!$D$6:$F$13,3,0))","v":{"$error":"#REF!"}},{"$f":"IF(ISNA(#REF!*VLOOKUP($C60,Hypothèses!$D$6:$F$13,3,0)),0,#REF!*VLOOKUP($C60,Hypothèses!$D$6:$F$13,3,0))","v":{"$error":"#REF!"}},{"$f":"IF(ISNA(#REF!*VLOOKUP($C60,Hypothèses!$D$6:$F$13,3,0)),0,#REF!*VLOOKUP($C60,Hypothèses!$D$6:$F$13,3,0))","v":{"$error":"#REF!"}}]
[54,null,null,{"$f":"IF(ISNA(VLOOKUP(C61,Hypothèses!$D$6:$G$14,4,0)),\"\",VLOOKUP(C61,Hypothèses!$D$6:$G$14,4,0))","v":""},null,null,null,null,null,null,null,null,null,null,null,null,null,null,null,null,null,null,null,null,null,{"$f":"IF(ISNA(E61*VLOOKUP($C61,Hypothèses!$D$6:$F$13,3,0)),0,E61*VLOOKUP($C61,Hypothèses!$D$6:$F$13,3,0))","v":0},{"$f":"IF(ISNA(F61*VLOOKUP($C61,Hypothèses!$D$6:$F$13,3,0)),0,F61*VLOOKUP($C61,Hypothèses!$D$6:$F$13,3,0))","v":0},{"$f":"IF(ISNA(G61*VLOOKUP($C61,Hypothèses!$D$6:$F$13,3,0)),0,G61*VLOOKUP($C61,Hypothèses!$D$6:$F$13,3,0))","v":0},{"$f":"IF(ISNA(H61*VLOOKUP($C61,Hypothèses!$D$6:$F$13,3,0)),0,H61*VLOOKUP($C61,Hypothèses!$D$6:$F$13,3,0))","v":0},{"$f":"IF(ISNA(I61*VLOOKUP($C61,Hypothèses!$D$6:$F$13,3,0)),0,I61*VLOOKUP($C61,Hypothèses!$D$6:$F$13,3,0))","v":0},{"$f":"IF(ISNA(J61*VLOOKUP($C61,Hypothèses!$D$6:$F$13,3,0)),0,J61*VLOOKUP($C61,Hypothèses!$D$6:$F$13,3,0))","v":0},{"$f":"IF(ISNA(K61*VLOOKUP($C61,Hypothèses!$D$6:$F$13,3,0)),0,K61*VLOOKUP($C61,Hypothèses!$D$6:$F$13,3,0))","v":0},{"$f":"IF(ISNA(L61*VLOOKUP($C61,Hypothèses!$D$6:$F$13,3,0)),0,L61*VLOOKUP($C61,Hypothèses!$D$6:$F$13,3,0))","v":0},{"$f":"IF(ISNA(M61*VLOOKUP($C61,Hypothèses!$D$6:$F$13,3,0)),0,M61*VLOOKUP($C61,Hypothèses!$D$6:$F$13,3,0))","v":0},{"$f":"IF(ISNA(N61*VLOOKUP($C61,Hypothèses!$D$6:$F$13,3,0)),0,N61*VLOOKUP($C61,Hypothèses!$D$6:$F$13,3,0))","v":0},{"$f":"IF(ISNA(O61*VLOOKUP($C61,Hypothèses!$D$6:$F$13,3,0)),0,O61*VLOOKUP($C61,Hypothèses!$D$6:$F$13,3,0))","v":0},{"$f":"IF(ISNA(P61*VLOOKUP($C61,Hypothèses!$D$6:$F$13,3,0)),0,P61*VLOOKUP($C61,Hypothèses!$D$6:$F$13,3,0))","v":0},{"$f":"IF(ISNA(Q61*VLOOKUP($C61,Hypothèses!$D$6:$F$13,3,0)),0,Q61*VLOOKUP($C61,Hypothèses!$D$6:$F$13,3,0))","v":0},{"$f":"IF(ISNA(R61*VLOOKUP($C61,Hypothèses!$D$6:$F$13,3,0)),0,R61*VLOOKUP($C61,Hypothèses!$D$6:$F$13,3,0))","v":0},{"$f":"IF(ISNA(S61*VLOOKUP($C61,Hypothèses!$D$6:$F$13,3,0)),0,S61*VLOOKUP($C61,Hypothèses!$D$6:$F$13,3,0))","v":0},{"$f":"IF(ISNA(#REF!*VLOOKUP($C61,Hypothèses!$D$6:$F$13,3,0)),0,#REF!*VLOOKUP($C61,Hypothèses!$D$6:$F$13,3,0))","v":{"$error":"#REF!"}},{"$f":"IF(ISNA(#REF!*VLOOKUP($C61,Hypothèses!$D$6:$F$13,3,0)),0,#REF!*VLOOKUP($C61,Hypothèses!$D$6:$F$13,3,0))","v":{"$error":"#REF!"}},{"$f":"IF(ISNA(#REF!*VLOOKUP($C61,Hypothèses!$D$6:$F$13,3,0)),0,#REF!*VLOOKUP($C61,Hypothèses!$D$6:$F$13,3,0))","v":{"$error":"#REF!"}},{"$f":"IF(ISNA(#REF!*VLOOKUP($C61,Hypothèses!$D$6:$F$13,3,0)),0,#REF!*VLOOKUP($C61,Hypothèses!$D$6:$F$13,3,0))","v":{"$error":"#REF!"}},{"$f":"IF(ISNA(#REF!*VLOOKUP($C61,Hypothèses!$D$6:$F$13,3,0)),0,#REF!*VLOOKUP($C61,Hypothèses!$D$6:$F$13,3,0))","v":{"$error":"#REF!"}},{"$f":"IF(ISNA(#REF!*VLOOKUP($C61,Hypothèses!$D$6:$F$13,3,0)),0,#REF!*VLOOKUP($C61,Hypothèses!$D$6:$F$13,3,0))","v":{"$error":"#REF!"}},{"$f":"IF(ISNA(#REF!*VLOOKUP($C61,Hypothèses!$D$6:$F$13,3,0)),0,#REF!*VLOOKUP($C61,Hypothèses!$D$6:$F$13,3,0))","v":{"$error":"#REF!"}}]
[55,null,null,{"$f":"IF(ISNA(VLOOKUP(C62,Hypothèses!$D$6:$G$14,4,0)),\"\",VLOOKUP(C62,Hypothèses!$D$6:$G$14,4,0))","v":""},null,null,null,null,null,null,null,null,null,null,null,null,null,null,null,null,null,null,null,null,null,{"$f":"IF(ISNA(E62*VLOOKUP($C62,Hypothèses!$D$6:$F$13,3,0)),0,E62*VLOOKUP($C62,Hypothèses!$D$6:$F$13,3,0))","v":0},{"$f":"IF(ISNA(F62*VLOOKUP($C62,Hypothèses!$D$6:$F$13,3,0)),0,F62*VLOOKUP($C62,Hypothèses!$D$6:$F$13,3,0))","v":0},{"$f":"IF(ISNA(G62*VLOOKUP($C62,Hypothèses!$D$6:$F$13,3,0)),0,G62*VLOOKUP($C62,Hypothèses!$D$6:$F$13,3,0))","v":0},{"$f":"IF(ISNA(H62*VLOOKUP($C62,Hypothèses!$D$6:$F$13,3,0)),0,H62*VLOOKUP($C62,Hypothèses!$D$6:$F$13,3,0))","v":0},{"$f":"IF(ISNA(I62*VLOOKUP($C62,Hypothèses!$D$6:$F$13,3,0)),0,I62*VLOOKUP($C62,Hypothèses!$D$6:$F$13,3,0))","v":0},{"$f":"IF(ISNA(J62*VLOOKUP($C62,Hypothèses!$D$6:$F$13,3,0)),0,J62*VLOOKUP($C62,Hypothèses!$D$6:$F$13,3,0))","v":0},{"$f":"IF(ISNA(K62*VLOOKUP($C62,Hypothèses!$D$6:$F$13,3,0)),0,K62*VLOOKUP($C62,Hypothèses!$D$6:$F$13,3,0))","v":0},{"$f":"IF(ISNA(L62*VLOOKUP($C62,Hypothèses!$D$6:$F$13,3,0)),0,L62*VLOOKUP($C62,Hypothèses!$D$6:$F$13,3,0))","v":0},{"$f":"IF(ISNA(M62*VLOOKUP($C62,Hypothèses!$D$6:$F$13,3,0)),0,M62*VLOOKUP($C62,Hypothèses!$D$6:$F$13,3,0))","v":0},{"$f":"IF(ISNA(N62*VLOOKUP($C62,Hypothèses!$D$6:$F$13,3,0)),0,N62*VLOOKUP($C62,Hypothèses!$D$6:$F$13,3,0))","v":0},{"$f":"IF(ISNA(O62*VLOOKUP($C62,Hypothèses!$D$6:$F$13,3,0)),0,O62*VLOOKUP($C62,Hypothèses!$D$6:$F$13,3,0))","v":0},{"$f":"IF(ISNA(P62*VLOOKUP($C62,Hypothèses!$D$6:$F$13,3,0)),0,P62*VLOOKUP($C62,Hypothèses!$D$6:$F$13,3,0))","v":0},{"$f":"IF(ISNA(Q62*VLOOKUP($C62,Hypothèses!$D$6:$F$13,3,0)),0,Q62*VLOOKUP($C62,Hypothèses!$D$6:$F$13,3,0))","v":0},{"$f":"IF(ISNA(R62*VLOOKUP($C62,Hypothèses!$D$6:$F$13,3,0)),0,R62*VLOOKUP($C62,Hypothèses!$D$6:$F$13,3,0))","v":0},{"$f":"IF(ISNA(S62*VLOOKUP($C62,Hypothèses!$D$6:$F$13,3,0)),0,S62*VLOOKUP($C62,Hypothèses!$D$6:$F$13,3,0))","v":0},{"$f":"IF(ISNA(#REF!*VLOOKUP($C62,Hypothèses!$D$6:$F$13,3,0)),0,#REF!*VLOOKUP($C62,Hypothèses!$D$6:$F$13,3,0))","v":{"$error":"#REF!"}},{"$f":"IF(ISNA(#REF!*VLOOKUP($C62,Hypothèses!$D$6:$F$13,3,0)),0,#REF!*VLOOKUP($C62,Hypothèses!$D$6:$F$13,3,0))","v":{"$error":"#REF!"}},{"$f":"IF(ISNA(#REF!*VLOOKUP($C62,Hypothèses!$D$6:$F$13,3,0)),0,#REF!*VLOOKUP($C62,Hypothèses!$D$6:$F$13,3,0))","v":{"$error":"#REF!"}},{"$f":"IF(ISNA(#REF!*VLOOKUP($C62,Hypothèses!$D$6:$F$13,3,0)),0,#REF!*VLOOKUP($C62,Hypothèses!$D$6:$F$13,3,0))","v":{"$error":"#REF!"}},{"$f":"IF(ISNA(#REF!*VLOOKUP($C62,Hypothèses!$D$6:$F$13,3,0)),0,#REF!*VLOOKUP($C62,Hypothèses!$D$6:$F$13,3,0))","v":{"$error":"#REF!"}},{"$f":"IF(ISNA(#REF!*VLOOKUP($C62,Hypothèses!$D$6:$F$13,3,0)),0,#REF!*VLOOKUP($C62,Hypothèses!$D$6:$F$13,3,0))","v":{"$error":"#REF!"}},{"$f":"IF(ISNA(#REF!*VLOOKUP($C62,Hypothèses!$D$6:$F$13,3,0)),0,#REF!*VLOOKUP($C62,Hypothèses!$D$6:$F$13,3,0))","v":{"$error":"#REF!"}}]
[56,null,null,{"$f":"IF(ISNA(VLOOKUP(C63,Hypothèses!$D$6:$G$14,4,0)),\"\",VLOOKUP(C63,Hypothèses!$D$6:$G$14,4,0))","v":""},null,null,null,null,null,null,null,null,null,null,null,null,null,null,null,null,null,null,null,null,null,{"$f":"IF(ISNA(E63*VLOOKUP($C63,Hypothèses!$D$6:$F$13,3,0)),0,E63*VLOOKUP($C63,Hypothèses!$D$6:$F$13,3,0))","v":0},{"$f":"IF(ISNA(F63*VLOOKUP($C63,Hypothèses!$D$6:$F$13,3,0)),0,F63*VLOOKUP($C63,Hypothèses!$D$6:$F$13,3,0))","v":0},{"$f":"IF(ISNA(G63*VLOOKUP($C63,Hypothèses!$D$6:$F$13,3,0)),0,G63*VLOOKUP($C63,Hypothèses!$D$6:$F$13,3,0))","v":0},{"$f":"IF(ISNA(H63*VLOOKUP($C63,Hypothèses!$D$6:$F$13,3,0)),0,H63*VLOOKUP($C63,Hypothèses!$D$6:$F$13,3,0))","v":0},{"$f":"IF(ISNA(I63*VLOOKUP($C63,Hypothèses!$D$6:$F$13,3,0)),0,I63*VLOOKUP($C63,Hypothèses!$D$6:$F$13,3,0))","v":0},{"$f":"IF(ISNA(J63*VLOOKUP($C63,Hypothèses!$D$6:$F$13,3,0)),0,J63*VLOOKUP($C63,Hypothèses!$D$6:$F$13,3,0))","v":0},{"$f":"IF(ISNA(K63*VLOOKUP($C63,Hypothèses!$D$6:$F$13,3,0)),0,K63*VLOOKUP($C63,Hypothèses!$D$6:$F$13,3,0))","v":0},{"$f":"IF(ISNA(L63*VLOOKUP($C63,Hypothèses!$D$6:$F$13,3,0)),0,L63*VLOOKUP($C63,Hypothèses!$D$6:$F$13,3,0))","v":0},{"$f":"IF(ISNA(M63*VLOOKUP($C63,Hypothèses!$D$6:$F$13,3,0)),0,M63*VLOOKUP($C63,Hypothèses!$D$6:$F$13,3,0))","v":0},{"$f":"IF(ISNA(N63*VLOOKUP($C63,Hypothèses!$D$6:$F$13,3,0)),0,N63*VLOOKUP($C63,Hypothèses!$D$6:$F$13,3,0))","v":0},{"$f":"IF(ISNA(O63*VLOOKUP($C63,Hypothèses!$D$6:$F$13,3,0)),0,O63*VLOOKUP($C63,Hypothèses!$D$6:$F$13,3,0))","v":0},{"$f":"IF(ISNA(P63*VLOOKUP($C63,Hypothèses!$D$6:$F$13,3,0)),0,P63*VLOOKUP($C63,Hypothèses!$D$6:$F$13,3,0))","v":0},{"$f":"IF(ISNA(Q63*VLOOKUP($C63,Hypothèses!$D$6:$F$13,3,0)),0,Q63*VLOOKUP($C63,Hypothèses!$D$6:$F$13,3,0))","v":0},{"$f":"IF(ISNA(R63*VLOOKUP($C63,Hypothèses!$D$6:$F$13,3,0)),0,R63*VLOOKUP($C63,Hypothèses!$D$6:$F$13,3,0))","v":0},{"$f":"IF(ISNA(S63*VLOOKUP($C63,Hypothèses!$D$6:$F$13,3,0)),0,S63*VLOOKUP($C63,Hypothèses!$D$6:$F$13,3,0))","v":0},{"$f":"IF(ISNA(#REF!*VLOOKUP($C63,Hypothèses!$D$6:$F$13,3,0)),0,#REF!*VLOOKUP($C63,Hypothèses!$D$6:$F$13,3,0))","v":{"$error":"#REF!"}},{"$f":"IF(ISNA(#REF!*VLOOKUP($C63,Hypothèses!$D$6:$F$13,3,0)),0,#REF!*VLOOKUP($C63,Hypothèses!$D$6:$F$13,3,0))","v":{"$error":"#REF!"}},{"$f":"IF(ISNA(#REF!*VLOOKUP($C63,Hypothèses!$D$6:$F$13,3,0)),0,#REF!*VLOOKUP($C63,Hypothèses!$D$6:$F$13,3,0))","v":{"$error":"#REF!"}},{"$f":"IF(ISNA(#REF!*VLOOKUP($C63,Hypothèses!$D$6:$F$13,3,0)),0,#REF!*VLOOKUP($C63,Hypothèses!$D$6:$F$13,3,0))","v":{"$error":"#REF!"}},{"$f":"IF(ISNA(#REF!*VLOOKUP($C63,Hypothèses!$D$6:$F$13,3,0)),0,#REF!*VLOOKUP($C63,Hypothèses!$D$6:$F$13,3,0))","v":{"$error":"#REF!"}},{"$f":"IF(ISNA(#REF!*VLOOKUP($C63,Hypothèses!$D$6:$F$13,3,0)),0,#REF!*VLOOKUP($C63,Hypothèses!$D$6:$F$13,3,0))","v":{"$error":"#REF!"}},{"$f":"IF(ISNA(#REF!*VLOOKUP($C63,Hypothèses!$D$6:$F$13,3,0)),0,#REF!*VLOOKUP($C63,Hypothèses!$D$6:$F$13,3,0))","v":{"$error":"#REF!"}}]
[57,null,null,{"$f":"IF(ISNA(VLOOKUP(C64,Hypothèses!$D$6:$G$14,4,0)),\"\",VLOOKUP(C64,Hypothèses!$D$6:$G$14,4,0))","v":""},null,null,null,null,null,null,null,null,null,null,null,null,null,null,null,null,null,null,null,null,null,{"$f":"IF(ISNA(E64*VLOOKUP($C64,Hypothèses!$D$6:$F$13,3,0)),0,E64*VLOOKUP($C64,Hypothèses!$D$6:$F$13,3,0))","v":0},{"$f":"IF(ISNA(F64*VLOOKUP($C64,Hypothèses!$D$6:$F$13,3,0)),0,F64*VLOOKUP($C64,Hypothèses!$D$6:$F$13,3,0))","v":0},{"$f":"IF(ISNA(G64*VLOOKUP($C64,Hypothèses!$D$6:$F$13,3,0)),0,G64*VLOOKUP($C64,Hypothèses!$D$6:$F$13,3,0))","v":0},{"$f":"IF(ISNA(H64*VLOOKUP($C64,Hypothèses!$D$6:$F$13,3,0)),0,H64*VLOOKUP($C64,Hypothèses!$D$6:$F$13,3,0))","v":0},{"$f":"IF(ISNA(I64*VLOOKUP($C64,Hypothèses!$D$6:$F$13,3,0)),0,I64*VLOOKUP($C64,Hypothèses!$D$6:$F$13,3,0))","v":0},{"$f":"IF(ISNA(J64*VLOOKUP($C64,Hypothèses!$D$6:$F$13,3,0)),0,J64*VLOOKUP($C64,Hypothèses!$D$6:$F$13,3,0))","v":0},{"$f":"IF(ISNA(K64*VLOOKUP($C64,Hypothèses!$D$6:$F$13,3,0)),0,K64*VLOOKUP($C64,Hypothèses!$D$6:$F$13,3,0))","v":0},{"$f":"IF(ISNA(L64*VLOOKUP($C64,Hypothèses!$D$6:$F$13,3,0)),0,L64*VLOOKUP($C64,Hypothèses!$D$6:$F$13,3,0))","v":0},{"$f":"IF(ISNA(M64*VLOOKUP($C64,Hypothèses!$D$6:$F$13,3,0)),0,M64*VLOOKUP($C64,Hypothèses!$D$6:$F$13,3,0))","v":0},{"$f":"IF(ISNA(N64*VLOOKUP($C64,Hypothèses!$D$6:$F$13,3,0)),0,N64*VLOOKUP($C64,Hypothèses!$D$6:$F$13,3,0))","v":0},{"$f":"IF(ISNA(O64*VLOOKUP($C64,Hypothèses!$D$6:$F$13,3,0)),0,O64*VLOOKUP($C64,Hypothèses!$D$6:$F$13,3,0))","v":0},{"$f":"IF(ISNA(P64*VLOOKUP($C64,Hypothèses!$D$6:$F$13,3,0)),0,P64*VLOOKUP($C64,Hypothèses!$D$6:$F$13,3,0))","v":0},{"$f":"IF(ISNA(Q64*VLOOKUP($C64,Hypothèses!$D$6:$F$13,3,0)),0,Q64*VLOOKUP($C64,Hypothèses!$D$6:$F$13,3,0))","v":0},{"$f":"IF(ISNA(R64*VLOOKUP($C64,Hypothèses!$D$6:$F$13,3,0)),0,R64*VLOOKUP($C64,Hypothèses!$D$6:$F$13,3,0))","v":0},{"$f":"IF(ISNA(S64*VLOOKUP($C64,Hypothèses!$D$6:$F$13,3,0)),0,S64*VLOOKUP($C64,Hypothèses!$D$6:$F$13,3,0))","v":0},{"$f":"IF(ISNA(#REF!*VLOOKUP($C64,Hypothèses!$D$6:$F$13,3,0)),0,#REF!*VLOOKUP($C64,Hypothèses!$D$6:$F$13,3,0))","v":{"$error":"#REF!"}},{"$f":"IF(ISNA(#REF!*VLOOKUP($C64,Hypothèses!$D$6:$F$13,3,0)),0,#REF!*VLOOKUP($C64,Hypothèses!$D$6:$F$13,3,0))","v":{"$error":"#REF!"}},{"$f":"IF(ISNA(#REF!*VLOOKUP($C64,Hypothèses!$D$6:$F$13,3,0)),0,#REF!*VLOOKUP($C64,Hypothèses!$D$6:$F$13,3,0))","v":{"$error":"#REF!"}},{"$f":"IF(ISNA(#REF!*VLOOKUP($C64,Hypothèses!$D$6:$F$13,3,0)),0,#REF!*VLOOKUP($C64,Hypothèses!$D$6:$F$13,3,0))","v":{"$error":"#REF!"}},{"$f":"IF(ISNA(#REF!*VLOOKUP($C64,Hypothèses!$D$6:$F$13,3,0)),0,#REF!*VLOOKUP($C64,Hypothèses!$D$6:$F$13,3,0))","v":{"$error":"#REF!"}},{"$f":"IF(ISNA(#REF!*VLOOKUP($C64,Hypothèses!$D$6:$F$13,3,0)),0,#REF!*VLOOKUP($C64,Hypothèses!$D$6:$F$13,3,0))","v":{"$error":"#REF!"}},{"$f":"IF(ISNA(#REF!*VLOOKUP($C64,Hypothèses!$D$6:$F$13,3,0)),0,#REF!*VLOOKUP($C64,Hypothèses!$D$6:$F$13,3,0))","v":{"$error":"#REF!"}}]
[58,null,null,{"$f":"IF(ISNA(VLOOKUP(C65,Hypothèses!$D$6:$G$14,4,0)),\"\",VLOOKUP(C65,Hypothèses!$D$6:$G$14,4,0))","v":""},null,null,null,null,null,null,null,null,null,null,null,null,null,null,null,null,null,null,null,null,null,{"$f":"IF(ISNA(E65*VLOOKUP($C65,Hypothèses!$D$6:$F$13,3,0)),0,E65*VLOOKUP($C65,Hypothèses!$D$6:$F$13,3,0))","v":0},{"$f":"IF(ISNA(F65*VLOOKUP($C65,Hypothèses!$D$6:$F$13,3,0)),0,F65*VLOOKUP($C65,Hypothèses!$D$6:$F$13,3,0))","v":0},{"$f":"IF(ISNA(G65*VLOOKUP($C65,Hypothèses!$D$6:$F$13,3,0)),0,G65*VLOOKUP($C65,Hypothèses!$D$6:$F$13,3,0))","v":0},{"$f":"IF(ISNA(H65*VLOOKUP($C65,Hypothèses!$D$6:$F$13,3,0)),0,H65*VLOOKUP($C65,Hypothèses!$D$6:$F$13,3,0))","v":0},{"$f":"IF(ISNA(I65*VLOOKUP($C65,Hypothèses!$D$6:$F$13,3,0)),0,I65*VLOOKUP($C65,Hypothèses!$D$6:$F$13,3,0))","v":0},{"$f":"IF(ISNA(J65*VLOOKUP($C65,Hypothèses!$D$6:$F$13,3,0)),0,J65*VLOOKUP($C65,Hypothèses!$D$6:$F$13,3,0))","v":0},{"$f":"IF(ISNA(K65*VLOOKUP($C65,Hypothèses!$D$6:$F$13,3,0)),0,K65*VLOOKUP($C65,Hypothèses!$D$6:$F$13,3,0))","v":0},{"$f":"IF(ISNA(L65*VLOOKUP($C65,Hypothèses!$D$6:$F$13,3,0)),0,L65*VLOOKUP($C65,Hypothèses!$D$6:$F$13,3,0))","v":0},{"$f":"IF(ISNA(M65*VLOOKUP($C65,Hypothèses!$D$6:$F$13,3,0)),0,M65*VLOOKUP($C65,Hypothèses!$D$6:$F$13,3,0))","v":0},{"$f":"IF(ISNA(N65*VLOOKUP($C65,Hypothèses!$D$6:$F$13,3,0)),0,N65*VLOOKUP($C65,Hypothèses!$D$6:$F$13,3,0))","v":0},{"$f":"IF(ISNA(O65*VLOOKUP($C65,Hypothèses!$D$6:$F$13,3,0)),0,O65*VLOOKUP($C65,Hypothèses!$D$6:$F$13,3,0))","v":0},{"$f":"IF(ISNA(P65*VLOOKUP($C65,Hypothèses!$D$6:$F$13,3,0)),0,P65*VLOOKUP($C65,Hypothèses!$D$6:$F$13,3,0))","v":0},{"$f":"IF(ISNA(Q65*VLOOKUP($C65,Hypothèses!$D$6:$F$13,3,0)),0,Q65*VLOOKUP($C65,Hypothèses!$D$6:$F$13,3,0))","v":0},{"$f":"IF(ISNA(R65*VLOOKUP($C65,Hypothèses!$D$6:$F$13,3,0)),0,R65*VLOOKUP($C65,Hypothèses!$D$6:$F$13,3,0))","v":0},{"$f":"IF(ISNA(S65*VLOOKUP($C65,Hypothèses!$D$6:$F$13,3,0)),0,S65*VLOOKUP($C65,Hypothèses!$D$6:$F$13,3,0))","v":0},{"$f":"IF(ISNA(#REF!*VLOOKUP($C65,Hypothèses!$D$6:$F$13,3,0)),0,#REF!*VLOOKUP($C65,Hypothèses!$D$6:$F$13,3,0))","v":{"$error":"#REF!"}},{"$f":"IF(ISNA(#REF!*VLOOKUP($C65,Hypothèses!$D$6:$F$13,3,0)),0,#REF!*VLOOKUP($C65,Hypothèses!$D$6:$F$13,3,0))","v":{"$error":"#REF!"}},{"$f":"IF(ISNA(#REF!*VLOOKUP($C65,Hypothèses!$D$6:$F$13,3,0)),0,#REF!*VLOOKUP($C65,Hypothèses!$D$6:$F$13,3,0))","v":{"$error":"#REF!"}},{"$f":"IF(ISNA(#REF!*VLOOKUP($C65,Hypothèses!$D$6:$F$13,3,0)),0,#REF!*VLOOKUP($C65,Hypothèses!$D$6:$F$13,3,0))","v":{"$error":"#REF!"}},{"$f":"IF(ISNA(#REF!*VLOOKUP($C65,Hypothèses!$D$6:$F$13,3,0)),0,#REF!*VLOOKUP($C65,Hypothèses!$D$6:$F$13,3,0))","v":{"$error":"#REF!"}},{"$f":"IF(ISNA(#REF!*VLOOKUP($C65,Hypothèses!$D$6:$F$13,3,0)),0,#REF!*VLOOKUP($C65,Hypothèses!$D$6:$F$13,3,0))","v":{"$error":"#REF!"}},{"$f":"IF(ISNA(#REF!*VLOOKUP($C65,Hypothèses!$D$6:$F$13,3,0)),0,#REF!*VLOOKUP($C65,Hypothèses!$D$6:$F$13,3,0))","v":{"$error":"#REF!"}}]
[59,null,null,{"$f":"IF(ISNA(VLOOKUP(C66,Hypothèses!$D$6:$G$14,4,0)),\"\",VLOOKUP(C66,Hypothèses!$D$6:$G$14,4,0))","v":""},null,null,null,null,null,null,null,null,null,null,null,null,null,null,null,null,null,null,null,null,null,{"$f":"IF(ISNA(E66*VLOOKUP($C66,Hypothèses!$D$6:$F$13,3,0)),0,E66*VLOOKUP($C66,Hypothèses!$D$6:$F$13,3,0))","v":0},{"$f":"IF(ISNA(F66*VLOOKUP($C66,Hypothèses!$D$6:$F$13,3,0)),0,F66*VLOOKUP($C66,Hypothèses!$D$6:$F$13,3,0))","v":0},{"$f":"IF(ISNA(G66*VLOOKUP($C66,Hypothèses!$D$6:$F$13,3,0)),0,G66*VLOOKUP($C66,Hypothèses!$D$6:$F$13,3,0))","v":0},{"$f":"IF(ISNA(H66*VLOOKUP($C66,Hypothèses!$D$6:$F$13,3,0)),0,H66*VLOOKUP($C66,Hypothèses!$D$6:$F$13,3,0))","v":0},{"$f":"IF(ISNA(I66*VLOOKUP($C66,Hypothèses!$D$6:$F$13,3,0)),0,I66*VLOOKUP($C66,Hypothèses!$D$6:$F$13,3,0))","v":0},{"$f":"IF(ISNA(J66*VLOOKUP($C66,Hypothèses!$D$6:$F$13,3,0)),0,J66*VLOOKUP($C66,Hypothèses!$D$6:$F$13,3,0))","v":0},{"$f":"IF(ISNA(K66*VLOOKUP($C66,Hypothèses!$D$6:$F$13,3,0)),0,K66*VLOOKUP($C66,Hypothèses!$D$6:$F$13,3,0))","v":0},{"$f":"IF(ISNA(L66*VLOOKUP($C66,Hypothèses!$D$6:$F$13,3,0)),0,L66*VLOOKUP($C66,Hypothèses!$D$6:$F$13,3,0))","v":0},{"$f":"IF(ISNA(M66*VLOOKUP($C66,Hypothèses!$D$6:$F$13,3,0)),0,M66*VLOOKUP($C66,Hypothèses!$D$6:$F$13,3,0))","v":0},{"$f":"IF(ISNA(N66*VLOOKUP($C66,Hypothèses!$D$6:$F$13,3,0)),0,N66*VLOOKUP($C66,Hypothèses!$D$6:$F$13,3,0))","v":0},{"$f":"IF(ISNA(O66*VLOOKUP($C66,Hypothèses!$D$6:$F$13,3,0)),0,O66*VLOOKUP($C66,Hypothèses!$D$6:$F$13,3,0))","v":0},{"$f":"IF(ISNA(P66*VLOOKUP($C66,Hypothèses!$D$6:$F$13,3,0)),0,P66*VLOOKUP($C66,Hypothèses!$D$6:$F$13,3,0))","v":0},{"$f":"IF(ISNA(Q66*VLOOKUP($C66,Hypothèses!$D$6:$F$13,3,0)),0,Q66*VLOOKUP($C66,Hypothèses!$D$6:$F$13,3,0))","v":0},{"$f":"IF(ISNA(R66*VLOOKUP($C66,Hypothèses!$D$6:$F$13,3,0)),0,R66*VLOOKUP($C66,Hypothèses!$D$6:$F$13,3,0))","v":0},{"$f":"IF(ISNA(S66*VLOOKUP($C66,Hypothèses!$D$6:$F$13,3,0)),0,S66*VLOOKUP($C66,Hypothèses!$D$6:$F$13,3,0))","v":0},{"$f":"IF(ISNA(#REF!*VLOOKUP($C66,Hypothèses!$D$6:$F$13,3,0)),0,#REF!*VLOOKUP($C66,Hypothèses!$D$6:$F$13,3,0))","v":{"$error":"#REF!"}},{"$f":"IF(ISNA(#REF!*VLOOKUP($C66,Hypothèses!$D$6:$F$13,3,0)),0,#REF!*VLOOKUP($C66,Hypothèses!$D$6:$F$13,3,0))","v":{"$error":"#REF!"}},{"$f":"IF(ISNA(#REF!*VLOOKUP($C66,Hypothèses!$D$6:$F$13,3,0)),0,#REF!*VLOOKUP($C66,Hypothèses!$D$6:$F$13,3,0))","v":{"$error":"#REF!"}},{"$f":"IF(ISNA(#REF!*VLOOKUP($C66,Hypothèses!$D$6:$F$13,3,0)),0,#REF!*VLOOKUP($C66,Hypothèses!$D$6:$F$13,3,0))","v":{"$error":"#REF!"}},{"$f":"IF(ISNA(#REF!*VLOOKUP($C66,Hypothèses!$D$6:$F$13,3,0)),0,#REF!*VLOOKUP($C66,Hypothèses!$D$6:$F$13,3,0))","v":{"$error":"#REF!"}},{"$f":"IF(ISNA(#REF!*VLOOKUP($C66,Hypothèses!$D$6:$F$13,3,0)),0,#REF!*VLOOKUP($C66,Hypothèses!$D$6:$F$13,3,0))","v":{"$error":"#REF!"}},{"$f":"IF(ISNA(#REF!*VLOOKUP($C66,Hypothèses!$D$6:$F$13,3,0)),0,#REF!*VLOOKUP($C66,Hypothèses!$D$6:$F$13,3,0))","v":{"$error":"#REF!"}}]
[60,null,null,{"$f":"IF(ISNA(VLOOKUP(C67,Hypothèses!$D$6:$G$14,4,0)),\"\",VLOOKUP(C67,Hypothèses!$D$6:$G$14,4,0))","v":""},null,null,null,null,null,null,null,null,null,null,null,null,null,null,null,null,null,null,null,null,null,{"$f":"IF(ISNA(E67*VLOOKUP($C67,Hypothèses!$D$6:$F$13,3,0)),0,E67*VLOOKUP($C67,Hypothèses!$D$6:$F$13,3,0))","v":0},{"$f":"IF(ISNA(F67*VLOOKUP($C67,Hypothèses!$D$6:$F$13,3,0)),0,F67*VLOOKUP($C67,Hypothèses!$D$6:$F$13,3,0))","v":0},{"$f":"IF(ISNA(G67*VLOOKUP($C67,Hypothèses!$D$6:$F$13,3,0)),0,G67*VLOOKUP($C67,Hypothèses!$D$6:$F$13,3,0))","v":0},{"$f":"IF(ISNA(H67*VLOOKUP($C67,Hypothèses!$D$6:$F$13,3,0)),0,H67*VLOOKUP($C67,Hypothèses!$D$6:$F$13,3,0))","v":0},{"$f":"IF(ISNA(I67*VLOOKUP($C67,Hypothèses!$D$6:$F$13,3,0)),0,I67*VLOOKUP($C67,Hypothèses!$D$6:$F$13,3,0))","v":0},{"$f":"IF(ISNA(J67*VLOOKUP($C67,Hypothèses!$D$6:$F$13,3,0)),0,J67*VLOOKUP($C67,Hypothèses!$D$6:$F$13,3,0))","v":0},{"$f":"IF(ISNA(K67*VLOOKUP($C67,Hypothèses!$D$6:$F$13,3,0)),0,K67*VLOOKUP($C67,Hypothèses!$D$6:$F$13,3,0))","v":0},{"$f":"IF(ISNA(L67*VLOOKUP($C67,Hypothèses!$D$6:$F$13,3,0)),0,L67*VLOOKUP($C67,Hypothèses!$D$6:$F$13,3,0))","v":0},{"$f":"IF(ISNA(M67*VLOOKUP($C67,Hypothèses!$D$6:$F$13,3,0)),0,M67*VLOOKUP($C67,Hypothèses!$D$6:$F$13,3,0))","v":0},{"$f":"IF(ISNA(N67*VLOOKUP($C67,Hypothèses!$D$6:$F$13,3,0)),0,N67*VLOOKUP($C67,Hypothèses!$D$6:$F$13,3,0))","v":0},{"$f":"IF(ISNA(O67*VLOOKUP($C67,Hypothèses!$D$6:$F$13,3,0)),0,O67*VLOOKUP($C67,Hypothèses!$D$6:$F$13,3,0))","v":0},{"$f":"IF(ISNA(P67*VLOOKUP($C67,Hypothèses!$D$6:$F$13,3,0)),0,P67*VLOOKUP($C67,Hypothèses!$D$6:$F$13,3,0))","v":0},{"$f":"IF(ISNA(Q67*VLOOKUP($C67,Hypothèses!$D$6:$F$13,3,0)),0,Q67*VLOOKUP($C67,Hypothèses!$D$6:$F$13,3,0))","v":0},{"$f":"IF(ISNA(R67*VLOOKUP($C67,Hypothèses!$D$6:$F$13,3,0)),0,R67*VLOOKUP($C67,Hypothèses!$D$6:$F$13,3,0))","v":0},{"$f":"IF(ISNA(S67*VLOOKUP($C67,Hypothèses!$D$6:$F$13,3,0)),0,S67*VLOOKUP($C67,Hypothèses!$D$6:$F$13,3,0))","v":0},{"$f":"IF(ISNA(#REF!*VLOOKUP($C67,Hypothèses!$D$6:$F$13,3,0)),0,#REF!*VLOOKUP($C67,Hypothèses!$D$6:$F$13,3,0))","v":{"$error":"#REF!"}},{"$f":"IF(ISNA(#REF!*VLOOKUP($C67,Hypothèses!$D$6:$F$13,3,0)),0,#REF!*VLOOKUP($C67,Hypothèses!$D$6:$F$13,3,0))","v":{"$error":"#REF!"}},{"$f":"IF(ISNA(#REF!*VLOOKUP($C67,Hypothèses!$D$6:$F$13,3,0)),0,#REF!*VLOOKUP($C67,Hypothèses!$D$6:$F$13,3,0))","v":{"$error":"#REF!"}},{"$f":"IF(ISNA(#REF!*VLOOKUP($C67,Hypothèses!$D$6:$F$13,3,0)),0,#REF!*VLOOKUP($C67,Hypothèses!$D$6:$F$13,3,0))","v":{"$error":"#REF!"}},{"$f":"IF(ISNA(#REF!*VLOOKUP($C67,Hypothèses!$D$6:$F$13,3,0)),0,#REF!*VLOOKUP($C67,Hypothèses!$D$6:$F$13,3,0))","v":{"$error":"#REF!"}},{"$f":"IF(ISNA(#REF!*VLOOKUP($C67,Hypothèses!$D$6:$F$13,3,0)),0,#REF!*VLOOKUP($C67,Hypothèses!$D$6:$F$13,3,0))","v":{"$error":"#REF!"}},{"$f":"IF(ISNA(#REF!*VLOOKUP($C67,Hypothèses!$D$6:$F$13,3,0)),0,#REF!*VLOOKUP($C67,Hypothèses!$D$6:$F$13,3,0))","v":{"$error":"#REF!"}}]
[61,null,null,{"$f":"IF(ISNA(VLOOKUP(C68,Hypothèses!$D$6:$G$14,4,0)),\"\",VLOOKUP(C68,Hypothèses!$D$6:$G$14,4,0))","v":""},null,null,null,null,null,null,null,null,null,null,null,null,null,null,null,null,null,null,null,null,null,{"$f":"IF(ISNA(E68*VLOOKUP($C68,Hypothèses!$D$6:$F$13,3,0)),0,E68*VLOOKUP($C68,Hypothèses!$D$6:$F$13,3,0))","v":0},{"$f":"IF(ISNA(F68*VLOOKUP($C68,Hypothèses!$D$6:$F$13,3,0)),0,F68*VLOOKUP($C68,Hypothèses!$D$6:$F$13,3,0))","v":0},{"$f":"IF(ISNA(G68*VLOOKUP($C68,Hypothèses!$D$6:$F$13,3,0)),0,G68*VLOOKUP($C68,Hypothèses!$D$6:$F$13,3,0))","v":0},{"$f":"IF(ISNA(H68*VLOOKUP($C68,Hypothèses!$D$6:$F$13,3,0)),0,H68*VLOOKUP($C68,Hypothèses!$D$6:$F$13,3,0))","v":0},{"$f":"IF(ISNA(I68*VLOOKUP($C68,Hypothèses!$D$6:$F$13,3,0)),0,I68*VLOOKUP($C68,Hypothèses!$D$6:$F$13,3,0))","v":0},{"$f":"IF(ISNA(J68*VLOOKUP($C68,Hypothèses!$D$6:$F$13,3,0)),0,J68*VLOOKUP($C68,Hypothèses!$D$6:$F$13,3,0))","v":0},{"$f":"IF(ISNA(K68*VLOOKUP($C68,Hypothèses!$D$6:$F$13,3,0)),0,K68*VLOOKUP($C68,Hypothèses!$D$6:$F$13,3,0))","v":0},{"$f":"IF(ISNA(L68*VLOOKUP($C68,Hypothèses!$D$6:$F$13,3,0)),0,L68*VLOOKUP($C68,Hypothèses!$D$6:$F$13,3,0))","v":0},{"$f":"IF(ISNA(M68*VLOOKUP($C68,Hypothèses!$D$6:$F$13,3,0)),0,M68*VLOOKUP($C68,Hypothèses!$D$6:$F$13,3,0))","v":0},{"$f":"IF(ISNA(N68*VLOOKUP($C68,Hypothèses!$D$6:$F$13,3,0)),0,N68*VLOOKUP($C68,Hypothèses!$D$6:$F$13,3,0))","v":0},{"$f":"IF(ISNA(O68*VLOOKUP($C68,Hypothèses!$D$6:$F$13,3,0)),0,O68*VLOOKUP($C68,Hypothèses!$D$6:$F$13,3,0))","v":0},{"$f":"IF(ISNA(P68*VLOOKUP($C68,Hypothèses!$D$6:$F$13,3,0)),0,P68*VLOOKUP($C68,Hypothèses!$D$6:$F$13,3,0))","v":0},{"$f":"IF(ISNA(Q68*VLOOKUP($C68,Hypothèses!$D$6:$F$13,3,0)),0,Q68*VLOOKUP($C68,Hypothèses!$D$6:$F$13,3,0))","v":0},{"$f":"IF(ISNA(R68*VLOOKUP($C68,Hypothèses!$D$6:$F$13,3,0)),0,R68*VLOOKUP($C68,Hypothèses!$D$6:$F$13,3,0))","v":0},{"$f":"IF(ISNA(S68*VLOOKUP($C68,Hypothèses!$D$6:$F$13,3,0)),0,S68*VLOOKUP($C68,Hypothèses!$D$6:$F$13,3,0))","v":0},{"$f":"IF(ISNA(#REF!*VLOOKUP($C68,Hypothèses!$D$6:$F$13,3,0)),0,#REF!*VLOOKUP($C68,Hypothèses!$D$6:$F$13,3,0))","v":{"$error":"#REF!"}},{"$f":"IF(ISNA(#REF!*VLOOKUP($C68,Hypothèses!$D$6:$F$13,3,0)),0,#REF!*VLOOKUP($C68,Hypothèses!$D$6:$F$13,3,0))","v":{"$error":"#REF!"}},{"$f":"IF(ISNA(#REF!*VLOOKUP($C68,Hypothèses!$D$6:$F$13,3,0)),0,#REF!*VLOOKUP($C68,Hypothèses!$D$6:$F$13,3,0))","v":{"$error":"#REF!"}},{"$f":"IF(ISNA(#REF!*VLOOKUP($C68,Hypothèses!$D$6:$F$13,3,0)),0,#REF!*VLOOKUP($C68,Hypothèses!$D$6:$F$13,3,0))","v":{"$error":"#REF!"}},{"$f":"IF(ISNA(#REF!*VLOOKUP($C68,Hypothèses!$D$6:$F$13,3,0)),0,#REF!*VLOOKUP($C68,Hypothèses!$D$6:$F$13,3,0))","v":{"$error":"#REF!"}},{"$f":"IF(ISNA(#REF!*VLOOKUP($C68,Hypothèses!$D$6:$F$13,3,0)),0,#REF!*VLOOKUP($C68,Hypothèses!$D$6:$F$13,3,0))","v":{"$error":"#REF!"}},{"$f":"IF(ISNA(#REF!*VLOOKUP($C68,Hypothèses!$D$6:$F$13,3,0)),0,#REF!*VLOOKUP($C68,Hypothèses!$D$6:$F$13,3,0))","v":{"$error":"#REF!"}}]
[62,null,null,{"$f":"IF(ISNA(VLOOKUP(C69,Hypothèses!$D$6:$G$14,4,0)),\"\",VLOOKUP(C69,Hypothèses!$D$6:$G$14,4,0))","v":""},null,null,null,null,null,null,null,null,null,null,null,null,null,null,null,null,null,null,null,null,null,{"$f":"IF(ISNA(E69*VLOOKUP($C69,Hypothèses!$D$6:$F$13,3,0)),0,E69*VLOOKUP($C69,Hypothèses!$D$6:$F$13,3,0))","v":0},{"$f":"IF(ISNA(F69*VLOOKUP($C69,Hypothèses!$D$6:$F$13,3,0)),0,F69*VLOOKUP($C69,Hypothèses!$D$6:$F$13,3,0))","v":0},{"$f":"IF(ISNA(G69*VLOOKUP($C69,Hypothèses!$D$6:$F$13,3,0)),0,G69*VLOOKUP($C69,Hypothèses!$D$6:$F$13,3,0))","v":0},{"$f":"IF(ISNA(H69*VLOOKUP($C69,Hypothèses!$D$6:$F$13,3,0)),0,H69*VLOOKUP($C69,Hypothèses!$D$6:$F$13,3,0))","v":0},{"$f":"IF(ISNA(I69*VLOOKUP($C69,Hypothèses!$D$6:$F$13,3,0)),0,I69*VLOOKUP($C69,Hypothèses!$D$6:$F$13,3,0))","v":0},{"$f":"IF(ISNA(J69*VLOOKUP($C69,Hypothèses!$D$6:$F$13,3,0)),0,J69*VLOOKUP($C69,Hypothèses!$D$6:$F$13,3,0))","v":0},{"$f":"IF(ISNA(K69*VLOOKUP($C69,Hypothèses!$D$6:$F$13,3,0)),0,K69*VLOOKUP($C69,Hypothèses!$D$6:$F$13,3,0))","v":0},{"$f":"IF(ISNA(L69*VLOOKUP($C69,Hypothèses!$D$6:$F$13,3,0)),0,L69*VLOOKUP($C69,Hypothèses!$D$6:$F$13,3,0))","v":0},{"$f":"IF(ISNA(M69*VLOOKUP($C69,Hypothèses!$D$6:$F$13,3,0)),0,M69*VLOOKUP($C69,Hypothèses!$D$6:$F$13,3,0))","v":0},{"$f":"IF(ISNA(N69*VLOOKUP($C69,Hypothèses!$D$6:$F$13,3,0)),0,N69*VLOOKUP($C69,Hypothèses!$D$6:$F$13,3,0))","v":0},{"$f":"IF(ISNA(O69*VLOOKUP($C69,Hypothèses!$D$6:$F$13,3,0)),0,O69*VLOOKUP($C69,Hypothèses!$D$6:$F$13,3,0))","v":0},{"$f":"IF(ISNA(P69*VLOOKUP($C69,Hypothèses!$D$6:$F$13,3,0)),0,P69*VLOOKUP($C69,Hypothèses!$D$6:$F$13,3,0))","v":0},{"$f":"IF(ISNA(Q69*VLOOKUP($C69,Hypothèses!$D$6:$F$13,3,0)),0,Q69*VLOOKUP($C69,Hypothèses!$D$6:$F$13,3,0))","v":0},{"$f":"IF(ISNA(R69*VLOOKUP($C69,Hypothèses!$D$6:$F$13,3,0)),0,R69*VLOOKUP($C69,Hypothèses!$D$6:$F$13,3,0))","v":0},{"$f":"IF(ISNA(S69*VLOOKUP($C69,Hypothèses!$D$6:$F$13,3,0)),0,S69*VLOOKUP($C69,Hypothèses!$D$6:$F$13,3,0))","v":0},{"$f":"IF(ISNA(#REF!*VLOOKUP($C69,Hypothèses!$D$6:$F$13,3,0)),0,#REF!*VLOOKUP($C69,Hypothèses!$D$6:$F$13,3,0))","v":{"$error":"#REF!"}},{"$f":"IF(ISNA(#REF!*VLOOKUP($C69,Hypothèses!$D$6:$F$13,3,0)),0,#REF!*VLOOKUP($C69,Hypothèses!$D$6:$F$13,3,0))","v":{"$error":"#REF!"}},{"$f":"IF(ISNA(#REF!*VLOOKUP($C69,Hypothèses!$D$6:$F$13,3,0)),0,#REF!*VLOOKUP($C69,Hypothèses!$D$6:$F$13,3,0))","v":{"$error":"#REF!"}},{"$f":"IF(ISNA(#REF!*VLOOKUP($C69,Hypothèses!$D$6:$F$13,3,0)),0,#REF!*VLOOKUP($C69,Hypothèses!$D$6:$F$13,3,0))","v":{"$error":"#REF!"}},{"$f":"IF(ISNA(#REF!*VLOOKUP($C69,Hypothèses!$D$6:$F$13,3,0)),0,#REF!*VLOOKUP($C69,Hypothèses!$D$6:$F$13,3,0))","v":{"$error":"#REF!"}},{"$f":"IF(ISNA(#REF!*VLOOKUP($C69,Hypothèses!$D$6:$F$13,3,0)),0,#REF!*VLOOKUP($C69,Hypothèses!$D$6:$F$13,3,0))","v":{"$error":"#REF!"}},{"$f":"IF(ISNA(#REF!*VLOOKUP($C69,Hypothèses!$D$6:$F$13,3,0)),0,#REF!*VLOOKUP($C69,Hypothèses!$D$6:$F$13,3,0))","v":{"$error":"#REF!"}}]
[63,null,null,{"$f":"IF(ISNA(VLOOKUP(C70,Hypothèses!$D$6:$G$14,4,0)),\"\",VLOOKUP(C70,Hypothèses!$D$6:$G$14,4,0))","v":""},null,null,null,null,null,null,null,null,null,null,null,null,null,null,null,null,null,null,null,null,null,{"$f":"IF(ISNA(E70*VLOOKUP($C70,Hypothèses!$D$6:$F$13,3,0)),0,E70*VLOOKUP($C70,Hypothèses!$D$6:$F$13,3,0))","v":0},{"$f":"IF(ISNA(F70*VLOOKUP($C70,Hypothèses!$D$6:$F$13,3,0)),0,F70*VLOOKUP($C70,Hypothèses!$D$6:$F$13,3,0))","v":0},{"$f":"IF(ISNA(G70*VLOOKUP($C70,Hypothèses!$D$6:$F$13,3,0)),0,G70*VLOOKUP($C70,Hypothèses!$D$6:$F$13,3,0))","v":0},{"$f":"IF(ISNA(H70*VLOOKUP($C70,Hypothèses!$D$6:$F$13,3,0)),0,H70*VLOOKUP($C70,Hypothèses!$D$6:$F$13,3,0))","v":0},{"$f":"IF(ISNA(I70*VLOOKUP($C70,Hypothèses!$D$6:$F$13,3,0)),0,I70*VLOOKUP($C70,Hypothèses!$D$6:$F$13,3,0))","v":0},{"$f":"IF(ISNA(J70*VLOOKUP($C70,Hypothèses!$D$6:$F$13,3,0)),0,J70*VLOOKUP($C70,Hypothèses!$D$6:$F$13,3,0))","v":0},{"$f":"IF(ISNA(K70*VLOOKUP($C70,Hypothèses!$D$6:$F$13,3,0)),0,K70*VLOOKUP($C70,Hypothèses!$D$6:$F$13,3,0))","v":0},{"$f":"IF(ISNA(L70*VLOOKUP($C70,Hypothèses!$D$6:$F$13,3,0)),0,L70*VLOOKUP($C70,Hypothèses!$D$6:$F$13,3,0))","v":0},{"$f":"IF(ISNA(M70*VLOOKUP($C70,Hypothèses!$D$6:$F$13,3,0)),0,M70*VLOOKUP($C70,Hypothèses!$D$6:$F$13,3,0))","v":0},{"$f":"IF(ISNA(N70*VLOOKUP($C70,Hypothèses!$D$6:$F$13,3,0)),0,N70*VLOOKUP($C70,Hypothèses!$D$6:$F$13,3,0))","v":0},{"$f":"IF(ISNA(O70*VLOOKUP($C70,Hypothèses!$D$6:$F$13,3,0)),0,O70*VLOOKUP($C70,Hypothèses!$D$6:$F$13,3,0))","v":0},{"$f":"IF(ISNA(P70*VLOOKUP($C70,Hypothèses!$D$6:$F$13,3,0)),0,P70*VLOOKUP($C70,Hypothèses!$D$6:$F$13,3,0))","v":0},{"$f":"IF(ISNA(Q70*VLOOKUP($C70,Hypothèses!$D$6:$F$13,3,0)),0,Q70*VLOOKUP($C70,Hypothèses!$D$6:$F$13,3,0))","v":0},{"$f":"IF(ISNA(R70*VLOOKUP($C70,Hypothèses!$D$6:$F$13,3,0)),0,R70*VLOOKUP($C70,Hypothèses!$D$6:$F$13,3,0))","v":0},{"$f":"IF(ISNA(S70*VLOOKUP($C70,Hypothèses!$D$6:$F$13,3,0)),0,S70*VLOOKUP($C70,Hypothèses!$D$6:$F$13,3,0))","v":0},{"$f":"IF(ISNA(#REF!*VLOOKUP($C70,Hypothèses!$D$6:$F$13,3,0)),0,#REF!*VLOOKUP($C70,Hypothèses!$D$6:$F$13,3,0))","v":{"$error":"#REF!"}},{"$f":"IF(ISNA(#REF!*VLOOKUP($C70,Hypothèses!$D$6:$F$13,3,0)),0,#REF!*VLOOKUP($C70,Hypothèses!$D$6:$F$13,3,0))","v":{"$error":"#REF!"}},{"$f":"IF(ISNA(#REF!*VLOOKUP($C70,Hypothèses!$D$6:$F$13,3,0)),0,#REF!*VLOOKUP($C70,Hypothèses!$D$6:$F$13,3,0))","v":{"$error":"#REF!"}},{"$f":"IF(ISNA(#REF!*VLOOKUP($C70,Hypothèses!$D$6:$F$13,3,0)),0,#REF!*VLOOKUP($C70,Hypothèses!$D$6:$F$13,3,0))","v":{"$error":"#REF!"}},{"$f":"IF(ISNA(#REF!*VLOOKUP($C70,Hypothèses!$D$6:$F$13,3,0)),0,#REF!*VLOOKUP($C70,Hypothèses!$D$6:$F$13,3,0))","v":{"$error":"#REF!"}},{"$f":"IF(ISNA(#REF!*VLOOKUP($C70,Hypothèses!$D$6:$F$13,3,0)),0,#REF!*VLOOKUP($C70,Hypothèses!$D$6:$F$13,3,0))","v":{"$error":"#REF!"}},{"$f":"IF(ISNA(#REF!*VLOOKUP($C70,Hypothèses!$D$6:$F$13,3,0)),0,#REF!*VLOOKUP($C70,Hypothèses!$D$6:$F$13,3,0))","v":{"$error":"#REF!"}}]
[64,null,null,{"$f":"IF(ISNA(VLOOKUP(C71,Hypothèses!$D$6:$G$14,4,0)),\"\",VLOOKUP(C71,Hypothèses!$D$6:$G$14,4,0))","v":""},null,null,null,null,null,null,null,null,null,null,null,null,null,null,null,null,null,null,null,null,null,{"$f":"IF(ISNA(E71*VLOOKUP($C71,Hypothèses!$D$6:$F$13,3,0)),0,E71*VLOOKUP($C71,Hypothèses!$D$6:$F$13,3,0))","v":0},{"$f":"IF(ISNA(F71*VLOOKUP($C71,Hypothèses!$D$6:$F$13,3,0)),0,F71*VLOOKUP($C71,Hypothèses!$D$6:$F$13,3,0))","v":0},{"$f":"IF(ISNA(G71*VLOOKUP($C71,Hypothèses!$D$6:$F$13,3,0)),0,G71*VLOOKUP($C71,Hypothèses!$D$6:$F$13,3,0))","v":0},{"$f":"IF(ISNA(H71*VLOOKUP($C71,Hypothèses!$D$6:$F$13,3,0)),0,H71*VLOOKUP($C71,Hypothèses!$D$6:$F$13,3,0))","v":0},{"$f":"IF(ISNA(I71*VLOOKUP($C71,Hypothèses!$D$6:$F$13,3,0)),0,I71*VLOOKUP($C71,Hypothèses!$D$6:$F$13,3,0))","v":0},{"$f":"IF(ISNA(J71*VLOOKUP($C71,Hypothèses!$D$6:$F$13,3,0)),0,J71*VLOOKUP($C71,Hypothèses!$D$6:$F$13,3,0))","v":0},{"$f":"IF(ISNA(K71*VLOOKUP($C71,Hypothèses!$D$6:$F$13,3,0)),0,K71*VLOOKUP($C71,Hypothèses!$D$6:$F$13,3,0))","v":0},{"$f":"IF(ISNA(L71*VLOOKUP($C71,Hypothèses!$D$6:$F$13,3,0)),0,L71*VLOOKUP($C71,Hypothèses!$D$6:$F$13,3,0))","v":0},{"$f":"IF(ISNA(M71*VLOOKUP($C71,Hypothèses!$D$6:$F$13,3,0)),0,M71*VLOOKUP($C71,Hypothèses!$D$6:$F$13,3,0))","v":0},{"$f":"IF(ISNA(N71*VLOOKUP($C71,Hypothèses!$D$6:$F$13,3,0)),0,N71*VLOOKUP($C71,Hypothèses!$D$6:$F$13,3,0))","v":0},{"$f":"IF(ISNA(O71*VLOOKUP($C71,Hypothèses!$D$6:$F$13,3,0)),0,O71*VLOOKUP($C71,Hypothèses!$D$6:$F$13,3,0))","v":0},{"$f":"IF(ISNA(P71*VLOOKUP($C71,Hypothèses!$D$6:$F$13,3,0)),0,P71*VLOOKUP($C71,Hypothèses!$D$6:$F$13,3,0))","v":0},{"$f":"IF(ISNA(Q71*VLOOKUP($C71,Hypothèses!$D$6:$F$13,3,0)),0,Q71*VLOOKUP($C71,Hypothèses!$D$6:$F$13,3,0))","v":0},{"$f":"IF(ISNA(R71*VLOOKUP($C71,Hypothèses!$D$6:$F$13,3,0)),0,R71*VLOOKUP($C71,Hypothèses!$D$6:$F$13,3,0))","v":0},{"$f":"IF(ISNA(S71*VLOOKUP($C71,Hypothèses!$D$6:$F$13,3,0)),0,S71*VLOOKUP($C71,Hypothèses!$D$6:$F$13,3,0))","v":0},{"$f":"IF(ISNA(#REF!*VLOOKUP($C71,Hypothèses!$D$6:$F$13,3,0)),0,#REF!*VLOOKUP($C71,Hypothèses!$D$6:$F$13,3,0))","v":{"$error":"#REF!"}},{"$f":"IF(ISNA(#REF!*VLOOKUP($C71,Hypothèses!$D$6:$F$13,3,0)),0,#REF!*VLOOKUP($C71,Hypothèses!$D$6:$F$13,3,0))","v":{"$error":"#REF!"}},{"$f":"IF(ISNA(#REF!*VLOOKUP($C71,Hypothèses!$D$6:$F$13,3,0)),0,#REF!*VLOOKUP($C71,Hypothèses!$D$6:$F$13,3,0))","v":{"$error":"#REF!"}},{"$f":"IF(ISNA(#REF!*VLOOKUP($C71,Hypothèses!$D$6:$F$13,3,0)),0,#REF!*VLOOKUP($C71,Hypothèses!$D$6:$F$13,3,0))","v":{"$error":"#REF!"}},{"$f":"IF(ISNA(#REF!*VLOOKUP($C71,Hypothèses!$D$6:$F$13,3,0)),0,#REF!*VLOOKUP($C71,Hypothèses!$D$6:$F$13,3,0))","v":{"$error":"#REF!"}},{"$f":"IF(ISNA(#REF!*VLOOKUP($C71,Hypothèses!$D$6:$F$13,3,0)),0,#REF!*VLOOKUP($C71,Hypothèses!$D$6:$F$13,3,0))","v":{"$error":"#REF!"}},{"$f":"IF(ISNA(#REF!*VLOOKUP($C71,Hypothèses!$D$6:$F$13,3,0)),0,#REF!*VLOOKUP($C71,Hypothèses!$D$6:$F$13,3,0))","v":{"$error":"#REF!"}}]
[65,null,null,{"$f":"IF(ISNA(VLOOKUP(C72,Hypothèses!$D$6:$G$14,4,0)),\"\",VLOOKUP(C72,Hypothèses!$D$6:$G$14,4,0))","v":""},null,null,null,null,null,null,null,null,null,null,null,null,null,null,null,null,null,null,null,null,null,{"$f":"IF(ISNA(E72*VLOOKUP($C72,Hypothèses!$D$6:$F$13,3,0)),0,E72*VLOOKUP($C72,Hypothèses!$D$6:$F$13,3,0))","v":0},{"$f":"IF(ISNA(F72*VLOOKUP($C72,Hypothèses!$D$6:$F$13,3,0)),0,F72*VLOOKUP($C72,Hypothèses!$D$6:$F$13,3,0))","v":0},{"$f":"IF(ISNA(G72*VLOOKUP($C72,Hypothèses!$D$6:$F$13,3,0)),0,G72*VLOOKUP($C72,Hypothèses!$D$6:$F$13,3,0))","v":0},{"$f":"IF(ISNA(H72*VLOOKUP($C72,Hypothèses!$D$6:$F$13,3,0)),0,H72*VLOOKUP($C72,Hypothèses!$D$6:$F$13,3,0))","v":0},{"$f":"IF(ISNA(I72*VLOOKUP($C72,Hypothèses!$D$6:$F$13,3,0)),0,I72*VLOOKUP($C72,Hypothèses!$D$6:$F$13,3,0))","v":0},{"$f":"IF(ISNA(J72*VLOOKUP($C72,Hypothèses!$D$6:$F$13,3,0)),0,J72*VLOOKUP($C72,Hypothèses!$D$6:$F$13,3,0))","v":0},{"$f":"IF(ISNA(K72*VLOOKUP($C72,Hypothèses!$D$6:$F$13,3,0)),0,K72*VLOOKUP($C72,Hypothèses!$D$6:$F$13,3,0))","v":0},{"$f":"IF(ISNA(L72*VLOOKUP($C72,Hypothèses!$D$6:$F$13,3,0)),0,L72*VLOOKUP($C72,Hypothèses!$D$6:$F$13,3,0))","v":0},{"$f":"IF(ISNA(M72*VLOOKUP($C72,Hypothèses!$D$6:$F$13,3,0)),0,M72*VLOOKUP($C72,Hypothèses!$D$6:$F$13,3,0))","v":0},{"$f":"IF(ISNA(N72*VLOOKUP($C72,Hypothèses!$D$6:$F$13,3,0)),0,N72*VLOOKUP($C72,Hypothèses!$D$6:$F$13,3,0))","v":0},{"$f":"IF(ISNA(O72*VLOOKUP($C72,Hypothèses!$D$6:$F$13,3,0)),0,O72*VLOOKUP($C72,Hypothèses!$D$6:$F$13,3,0))","v":0},{"$f":"IF(ISNA(P72*VLOOKUP($C72,Hypothèses!$D$6:$F$13,3,0)),0,P72*VLOOKUP($C72,Hypothèses!$D$6:$F$13,3,0))","v":0},{"$f":"IF(ISNA(Q72*VLOOKUP($C72,Hypothèses!$D$6:$F$13,3,0)),0,Q72*VLOOKUP($C72,Hypothèses!$D$6:$F$13,3,0))","v":0},{"$f":"IF(ISNA(R72*VLOOKUP($C72,Hypothèses!$D$6:$F$13,3,0)),0,R72*VLOOKUP($C72,Hypothèses!$D$6:$F$13,3,0))","v":0},{"$f":"IF(ISNA(S72*VLOOKUP($C72,Hypothèses!$D$6:$F$13,3,0)),0,S72*VLOOKUP($C72,Hypothèses!$D$6:$F$13,3,0))","v":0},{"$f":"IF(ISNA(#REF!*VLOOKUP($C72,Hypothèses!$D$6:$F$13,3,0)),0,#REF!*VLOOKUP($C72,Hypothèses!$D$6:$F$13,3,0))","v":{"$error":"#REF!"}},{"$f":"IF(ISNA(#REF!*VLOOKUP($C72,Hypothèses!$D$6:$F$13,3,0)),0,#REF!*VLOOKUP($C72,Hypothèses!$D$6:$F$13,3,0))","v":{"$error":"#REF!"}},{"$f":"IF(ISNA(#REF!*VLOOKUP($C72,Hypothèses!$D$6:$F$13,3,0)),0,#REF!*VLOOKUP($C72,Hypothèses!$D$6:$F$13,3,0))","v":{"$error":"#REF!"}},{"$f":"IF(ISNA(#REF!*VLOOKUP($C72,Hypothèses!$D$6:$F$13,3,0)),0,#REF!*VLOOKUP($C72,Hypothèses!$D$6:$F$13,3,0))","v":{"$error":"#REF!"}},{"$f":"IF(ISNA(#REF!*VLOOKUP($C72,Hypothèses!$D$6:$F$13,3,0)),0,#REF!*VLOOKUP($C72,Hypothèses!$D$6:$F$13,3,0))","v":{"$error":"#REF!"}},{"$f":"IF(ISNA(#REF!*VLOOKUP($C72,Hypothèses!$D$6:$F$13,3,0)),0,#REF!*VLOOKUP($C72,Hypothèses!$D$6:$F$13,3,0))","v":{"$error":"#REF!"}},{"$f":"IF(ISNA(#REF!*VLOOKUP($C72,Hypothèses!$D$6:$F$13,3,0)),0,#REF!*VLOOKUP($C72,Hypothèses!$D$6:$F$13,3,0))","v":{"$error":"#REF!"}}]
[66,null,null,{"$f":"IF(ISNA(VLOOKUP(C73,Hypothèses!$D$6:$G$14,4,0)),\"\",VLOOKUP(C73,Hypothèses!$D$6:$G$14,4,0))","v":""},null,null,null,null,null,null,null,null,null,null,null,null,null,null,null,null,null,null,null,null,null,{"$f":"IF(ISNA(E73*VLOOKUP($C73,Hypothèses!$D$6:$F$13,3,0)),0,E73*VLOOKUP($C73,Hypothèses!$D$6:$F$13,3,0))","v":0},{"$f":"IF(ISNA(F73*VLOOKUP($C73,Hypothèses!$D$6:$F$13,3,0)),0,F73*VLOOKUP($C73,Hypothèses!$D$6:$F$13,3,0))","v":0},{"$f":"IF(ISNA(G73*VLOOKUP($C73,Hypothèses!$D$6:$F$13,3,0)),0,G73*VLOOKUP($C73,Hypothèses!$D$6:$F$13,3,0))","v":0},{"$f":"IF(ISNA(H73*VLOOKUP($C73,Hypothèses!$D$6:$F$13,3,0)),0,H73*VLOOKUP($C73,Hypothèses!$D$6:$F$13,3,0))","v":0},{"$f":"IF(ISNA(I73*VLOOKUP($C73,Hypothèses!$D$6:$F$13,3,0)),0,I73*VLOOKUP($C73,Hypothèses!$D$6:$F$13,3,0))","v":0},{"$f":"IF(ISNA(J73*VLOOKUP($C73,Hypothèses!$D$6:$F$13,3,0)),0,J73*VLOOKUP($C73,Hypothèses!$D$6:$F$13,3,0))","v":0},{"$f":"IF(ISNA(K73*VLOOKUP($C73,Hypothèses!$D$6:$F$13,3,0)),0,K73*VLOOKUP($C73,Hypothèses!$D$6:$F$13,3,0))","v":0},{"$f":"IF(ISNA(L73*VLOOKUP($C73,Hypothèses!$D$6:$F$13,3,0)),0,L73*VLOOKUP($C73,Hypothèses!$D$6:$F$13,3,0))","v":0},{"$f":"IF(ISNA(M73*VLOOKUP($C73,Hypothèses!$D$6:$F$13,3,0)),0,M73*VLOOKUP($C73,Hypothèses!$D$6:$F$13,3,0))","v":0},{"$f":"IF(ISNA(N73*VLOOKUP($C73,Hypothèses!$D$6:$F$13,3,0)),0,N73*VLOOKUP($C73,Hypothèses!$D$6:$F$13,3,0))","v":0},{"$f":"IF(ISNA(O73*VLOOKUP($C73,Hypothèses!$D$6:$F$13,3,0)),0,O73*VLOOKUP($C73,Hypothèses!$D$6:$F$13,3,0))","v":0},{"$f":"IF(ISNA(P73*VLOOKUP($C73,Hypothèses!$D$6:$F$13,3,0)),0,P73*VLOOKUP($C73,Hypothèses!$D$6:$F$13,3,0))","v":0},{"$f":"IF(ISNA(Q73*VLOOKUP($C73,Hypothèses!$D$6:$F$13,3,0)),0,Q73*VLOOKUP($C73,Hypothèses!$D$6:$F$13,3,0))","v":0},{"$f":"IF(ISNA(R73*VLOOKUP($C73,Hypothèses!$D$6:$F$13,3,0)),0,R73*VLOOKUP($C73,Hypothèses!$D$6:$F$13,3,0))","v":0},{"$f":"IF(ISNA(S73*VLOOKUP($C73,Hypothèses!$D$6:$F$13,3,0)),0,S73*VLOOKUP($C73,Hypothèses!$D$6:$F$13,3,0))","v":0},{"$f":"IF(ISNA(#REF!*VLOOKUP($C73,Hypothèses!$D$6:$F$13,3,0)),0,#REF!*VLOOKUP($C73,Hypothèses!$D$6:$F$13,3,0))","v":{"$error":"#REF!"}},{"$f":"IF(ISNA(#REF!*VLOOKUP($C73,Hypothèses!$D$6:$F$13,3,0)),0,#REF!*VLOOKUP($C73,Hypothèses!$D$6:$F$13,3,0))","v":{"$error":"#REF!"}},{"$f":"IF(ISNA(#REF!*VLOOKUP($C73,Hypothèses!$D$6:$F$13,3,0)),0,#REF!*VLOOKUP($C73,Hypothèses!$D$6:$F$13,3,0))","v":{"$error":"#REF!"}},{"$f":"IF(ISNA(#REF!*VLOOKUP($C73,Hypothèses!$D$6:$F$13,3,0)),0,#REF!*VLOOKUP($C73,Hypothèses!$D$6:$F$13,3,0))","v":{"$error":"#REF!"}},{"$f":"IF(ISNA(#REF!*VLOOKUP($C73,Hypothèses!$D$6:$F$13,3,0)),0,#REF!*VLOOKUP($C73,Hypothèses!$D$6:$F$13,3,0))","v":{"$error":"#REF!"}},{"$f":"IF(ISNA(#REF!*VLOOKUP($C73,Hypothèses!$D$6:$F$13,3,0)),0,#REF!*VLOOKUP($C73,Hypothèses!$D$6:$F$13,3,0))","v":{"$error":"#REF!"}},{"$f":"IF(ISNA(#REF!*VLOOKUP($C73,Hypothèses!$D$6:$F$13,3,0)),0,#REF!*VLOOKUP($C73,Hypothèses!$D$6:$F$13,3,0))","v":{"$error":"#REF!"}}]
[67,null,null,{"$f":"IF(ISNA(VLOOKUP(C74,Hypothèses!$D$6:$G$14,4,0)),\"\",VLOOKUP(C74,Hypothèses!$D$6:$G$14,4,0))","v":""},null,null,null,null,null,null,null,null,null,null,null,null,null,null,null,null,null,null,null,null,null,{"$f":"IF(ISNA(E74*VLOOKUP($C74,Hypothèses!$D$6:$F$13,3,0)),0,E74*VLOOKUP($C74,Hypothèses!$D$6:$F$13,3,0))","v":0},{"$f":"IF(ISNA(F74*VLOOKUP($C74,Hypothèses!$D$6:$F$13,3,0)),0,F74*VLOOKUP($C74,Hypothèses!$D$6:$F$13,3,0))","v":0},{"$f":"IF(ISNA(G74*VLOOKUP($C74,Hypothèses!$D$6:$F$13,3,0)),0,G74*VLOOKUP($C74,Hypothèses!$D$6:$F$13,3,0))","v":0},{"$f":"IF(ISNA(H74*VLOOKUP($C74,Hypothèses!$D$6:$F$13,3,0)),0,H74*VLOOKUP($C74,Hypothèses!$D$6:$F$13,3,0))","v":0},{"$f":"IF(ISNA(I74*VLOOKUP($C74,Hypothèses!$D$6:$F$13,3,0)),0,I74*VLOOKUP($C74,Hypothèses!$D$6:$F$13,3,0))","v":0},{"$f":"IF(ISNA(J74*VLOOKUP($C74,Hypothèses!$D$6:$F$13,3,0)),0,J74*VLOOKUP($C74,Hypothèses!$D$6:$F$13,3,0))","v":0},{"$f":"IF(ISNA(K74*VLOOKUP($C74,Hypothèses!$D$6:$F$13,3,0)),0,K74*VLOOKUP($C74,Hypothèses!$D$6:$F$13,3,0))","v":0},{"$f":"IF(ISNA(L74*VLOOKUP($C74,Hypothèses!$D$6:$F$13,3,0)),0,L74*VLOOKUP($C74,Hypothèses!$D$6:$F$13,3,0))","v":0},{"$f":"IF(ISNA(M74*VLOOKUP($C74,Hypothèses!$D$6:$F$13,3,0)),0,M74*VLOOKUP($C74,Hypothèses!$D$6:$F$13,3,0))","v":0},{"$f":"IF(ISNA(N74*VLOOKUP($C74,Hypothèses!$D$6:$F$13,3,0)),0,N74*VLOOKUP($C74,Hypothèses!$D$6:$F$13,3,0))","v":0},{"$f":"IF(ISNA(O74*VLOOKUP($C74,Hypothèses!$D$6:$F$13,3,0)),0,O74*VLOOKUP($C74,Hypothèses!$D$6:$F$13,3,0))","v":0},{"$f":"IF(ISNA(P74*VLOOKUP($C74,Hypothèses!$D$6:$F$13,3,0)),0,P74*VLOOKUP($C74,Hypothèses!$D$6:$F$13,3,0))","v":0},{"$f":"IF(ISNA(Q74*VLOOKUP($C74,Hypothèses!$D$6:$F$13,3,0)),0,Q74*VLOOKUP($C74,Hypothèses!$D$6:$F$13,3,0))","v":0},{"$f":"IF(ISNA(R74*VLOOKUP($C74,Hypothèses!$D$6:$F$13,3,0)),0,R74*VLOOKUP($C74,Hypothèses!$D$6:$F$13,3,0))","v":0},{"$f":"IF(ISNA(S74*VLOOKUP($C74,Hypothèses!$D$6:$F$13,3,0)),0,S74*VLOOKUP($C74,Hypothèses!$D$6:$F$13,3,0))","v":0},{"$f":"IF(ISNA(#REF!*VLOOKUP($C74,Hypothèses!$D$6:$F$13,3,0)),0,#REF!*VLOOKUP($C74,Hypothèses!$D$6:$F$13,3,0))","v":{"$error":"#REF!"}},{"$f":"IF(ISNA(#REF!*VLOOKUP($C74,Hypothèses!$D$6:$F$13,3,0)),0,#REF!*VLOOKUP($C74,Hypothèses!$D$6:$F$13,3,0))","v":{"$error":"#REF!"}},{"$f":"IF(ISNA(#REF!*VLOOKUP($C74,Hypothèses!$D$6:$F$13,3,0)),0,#REF!*VLOOKUP($C74,Hypothèses!$D$6:$F$13,3,0))","v":{"$error":"#REF!"}},{"$f":"IF(ISNA(#REF!*VLOOKUP($C74,Hypothèses!$D$6:$F$13,3,0)),0,#REF!*VLOOKUP($C74,Hypothèses!$D$6:$F$13,3,0))","v":{"$error":"#REF!"}},{"$f":"IF(ISNA(#REF!*VLOOKUP($C74,Hypothèses!$D$6:$F$13,3,0)),0,#REF!*VLOOKUP($C74,Hypothèses!$D$6:$F$13,3,0))","v":{"$error":"#REF!"}},{"$f":"IF(ISNA(#REF!*VLOOKUP($C74,Hypothèses!$D$6:$F$13,3,0)),0,#REF!*VLOOKUP($C74,Hypothèses!$D$6:$F$13,3,0))","v":{"$error":"#REF!"}},{"$f":"IF(ISNA(#REF!*VLOOKUP($C74,Hypothèses!$D$6:$F$13,3,0)),0,#REF!*VLOOKUP($C74,Hypothèses!$D$6:$F$13,3,0))","v":{"$error":"#REF!"}}]
[68,null,null,{"$f":"IF(ISNA(VLOOKUP(C75,Hypothèses!$D$6:$G$14,4,0)),\"\",VLOOKUP(C75,Hypothèses!$D$6:$G$14,4,0))","v":""},null,null,null,null,null,null,null,null,null,null,null,null,null,null,null,null,null,null,null,null,null,{"$f":"IF(ISNA(E75*VLOOKUP($C75,Hypothèses!$D$6:$F$13,3,0)),0,E75*VLOOKUP($C75,Hypothèses!$D$6:$F$13,3,0))","v":0},{"$f":"IF(ISNA(F75*VLOOKUP($C75,Hypothèses!$D$6:$F$13,3,0)),0,F75*VLOOKUP($C75,Hypothèses!$D$6:$F$13,3,0))","v":0},{"$f":"IF(ISNA(G75*VLOOKUP($C75,Hypothèses!$D$6:$F$13,3,0)),0,G75*VLOOKUP($C75,Hypothèses!$D$6:$F$13,3,0))","v":0},{"$f":"IF(ISNA(H75*VLOOKUP($C75,Hypothèses!$D$6:$F$13,3,0)),0,H75*VLOOKUP($C75,Hypothèses!$D$6:$F$13,3,0))","v":0},{"$f":"IF(ISNA(I75*VLOOKUP($C75,Hypothèses!$D$6:$F$13,3,0)),0,I75*VLOOKUP($C75,Hypothèses!$D$6:$F$13,3,0))","v":0},{"$f":"IF(ISNA(J75*VLOOKUP($C75,Hypothèses!$D$6:$F$13,3,0)),0,J75*VLOOKUP($C75,Hypothèses!$D$6:$F$13,3,0))","v":0},{"$f":"IF(ISNA(K75*VLOOKUP($C75,Hypothèses!$D$6:$F$13,3,0)),0,K75*VLOOKUP($C75,Hypothèses!$D$6:$F$13,3,0))","v":0},{"$f":"IF(ISNA(L75*VLOOKUP($C75,Hypothèses!$D$6:$F$13,3,0)),0,L75*VLOOKUP($C75,Hypothèses!$D$6:$F$13,3,0))","v":0},{"$f":"IF(ISNA(M75*VLOOKUP($C75,Hypothèses!$D$6:$F$13,3,0)),0,M75*VLOOKUP($C75,Hypothèses!$D$6:$F$13,3,0))","v":0},{"$f":"IF(ISNA(N75*VLOOKUP($C75,Hypothèses!$D$6:$F$13,3,0)),0,N75*VLOOKUP($C75,Hypothèses!$D$6:$F$13,3,0))","v":0},{"$f":"IF(ISNA(O75*VLOOKUP($C75,Hypothèses!$D$6:$F$13,3,0)),0,O75*VLOOKUP($C75,Hypothèses!$D$6:$F$13,3,0))","v":0},{"$f":"IF(ISNA(P75*VLOOKUP($C75,Hypothèses!$D$6:$F$13,3,0)),0,P75*VLOOKUP($C75,Hypothèses!$D$6:$F$13,3,0))","v":0},{"$f":"IF(ISNA(Q75*VLOOKUP($C75,Hypothèses!$D$6:$F$13,3,0)),0,Q75*VLOOKUP($C75,Hypothèses!$D$6:$F$13,3,0))","v":0},{"$f":"IF(ISNA(R75*VLOOKUP($C75,Hypothèses!$D$6:$F$13,3,0)),0,R75*VLOOKUP($C75,Hypothèses!$D$6:$F$13,3,0))","v":0},{"$f":"IF(ISNA(S75*VLOOKUP($C75,Hypothèses!$D$6:$F$13,3,0)),0,S75*VLOOKUP($C75,Hypothèses!$D$6:$F$13,3,0))","v":0},{"$f":"IF(ISNA(#REF!*VLOOKUP($C75,Hypothèses!$D$6:$F$13,3,0)),0,#REF!*VLOOKUP($C75,Hypothèses!$D$6:$F$13,3,0))","v":{"$error":"#REF!"}},{"$f":"IF(ISNA(#REF!*VLOOKUP($C75,Hypothèses!$D$6:$F$13,3,0)),0,#REF!*VLOOKUP($C75,Hypothèses!$D$6:$F$13,3,0))","v":{"$error":"#REF!"}},{"$f":"IF(ISNA(#REF!*VLOOKUP($C75,Hypothèses!$D$6:$F$13,3,0)),0,#REF!*VLOOKUP($C75,Hypothèses!$D$6:$F$13,3,0))","v":{"$error":"#REF!"}},{"$f":"IF(ISNA(#REF!*VLOOKUP($C75,Hypothèses!$D$6:$F$13,3,0)),0,#REF!*VLOOKUP($C75,Hypothèses!$D$6:$F$13,3,0))","v":{"$error":"#REF!"}},{"$f":"IF(ISNA(#REF!*VLOOKUP($C75,Hypothèses!$D$6:$F$13,3,0)),0,#REF!*VLOOKUP($C75,Hypothèses!$D$6:$F$13,3,0))","v":{"$error":"#REF!"}},{"$f":"IF(ISNA(#REF!*VLOOKUP($C75,Hypothèses!$D$6:$F$13,3,0)),0,#REF!*VLOOKUP($C75,Hypothèses!$D$6:$F$13,3,0))","v":{"$error":"#REF!"}},{"$f":"IF(ISNA(#REF!*VLOOKUP($C75,Hypothèses!$D$6:$F$13,3,0)),0,#REF!*VLOOKUP($C75,Hypothèses!$D$6:$F$13,3,0))","v":{"$error":"#REF!"}}]
[69,null,null,{"$f":"IF(ISNA(VLOOKUP(C76,Hypothèses!$D$6:$G$14,4,0)),\"\",VLOOKUP(C76,Hypothèses!$D$6:$G$14,4,0))","v":""},null,null,null,null,null,null,null,null,null,null,null,null,null,null,null,null,null,null,null,null,null,{"$f":"IF(ISNA(E76*VLOOKUP($C76,Hypothèses!$D$6:$F$13,3,0)),0,E76*VLOOKUP($C76,Hypothèses!$D$6:$F$13,3,0))","v":0},{"$f":"IF(ISNA(F76*VLOOKUP($C76,Hypothèses!$D$6:$F$13,3,0)),0,F76*VLOOKUP($C76,Hypothèses!$D$6:$F$13,3,0))","v":0},{"$f":"IF(ISNA(G76*VLOOKUP($C76,Hypothèses!$D$6:$F$13,3,0)),0,G76*VLOOKUP($C76,Hypothèses!$D$6:$F$13,3,0))","v":0},{"$f":"IF(ISNA(H76*VLOOKUP($C76,Hypothèses!$D$6:$F$13,3,0)),0,H76*VLOOKUP($C76,Hypothèses!$D$6:$F$13,3,0))","v":0},{"$f":"IF(ISNA(I76*VLOOKUP($C76,Hypothèses!$D$6:$F$13,3,0)),0,I76*VLOOKUP($C76,Hypothèses!$D$6:$F$13,3,0))","v":0},{"$f":"IF(ISNA(J76*VLOOKUP($C76,Hypothèses!$D$6:$F$13,3,0)),0,J76*VLOOKUP($C76,Hypothèses!$D$6:$F$13,3,0))","v":0},{"$f":"IF(ISNA(K76*VLOOKUP($C76,Hypothèses!$D$6:$F$13,3,0)),0,K76*VLOOKUP($C76,Hypothèses!$D$6:$F$13,3,0))","v":0},{"$f":"IF(ISNA(L76*VLOOKUP($C76,Hypothèses!$D$6:$F$13,3,0)),0,L76*VLOOKUP($C76,Hypothèses!$D$6:$F$13,3,0))","v":0},{"$f":"IF(ISNA(M76*VLOOKUP($C76,Hypothèses!$D$6:$F$13,3,0)),0,M76*VLOOKUP($C76,Hypothèses!$D$6:$F$13,3,0))","v":0},{"$f":"IF(ISNA(N76*VLOOKUP($C76,Hypothèses!$D$6:$F$13,3,0)),0,N76*VLOOKUP($C76,Hypothèses!$D$6:$F$13,3,0))","v":0},{"$f":"IF(ISNA(O76*VLOOKUP($C76,Hypothèses!$D$6:$F$13,3,0)),0,O76*VLOOKUP($C76,Hypothèses!$D$6:$F$13,3,0))","v":0},{"$f":"IF(ISNA(P76*VLOOKUP($C76,Hypothèses!$D$6:$F$13,3,0)),0,P76*VLOOKUP($C76,Hypothèses!$D$6:$F$13,3,0))","v":0},{"$f":"IF(ISNA(Q76*VLOOKUP($C76,Hypothèses!$D$6:$F$13,3,0)),0,Q76*VLOOKUP($C76,Hypothèses!$D$6:$F$13,3,0))","v":0},{"$f":"IF(ISNA(R76*VLOOKUP($C76,Hypothèses!$D$6:$F$13,3,0)),0,R76*VLOOKUP($C76,Hypothèses!$D$6:$F$13,3,0))","v":0},{"$f":"IF(ISNA(S76*VLOOKUP($C76,Hypothèses!$D$6:$F$13,3,0)),0,S76*VLOOKUP($C76,Hypothèses!$D$6:$F$13,3,0))","v":0},{"$f":"IF(ISNA(#REF!*VLOOKUP($C76,Hypothèses!$D$6:$F$13,3,0)),0,#REF!*VLOOKUP($C76,Hypothèses!$D$6:$F$13,3,0))","v":{"$error":"#REF!"}},{"$f":"IF(ISNA(#REF!*VLOOKUP($C76,Hypothèses!$D$6:$F$13,3,0)),0,#REF!*VLOOKUP($C76,Hypothèses!$D$6:$F$13,3,0))","v":{"$error":"#REF!"}},{"$f":"IF(ISNA(#REF!*VLOOKUP($C76,Hypothèses!$D$6:$F$13,3,0)),0,#REF!*VLOOKUP($C76,Hypothèses!$D$6:$F$13,3,0))","v":{"$error":"#REF!"}},{"$f":"IF(ISNA(#REF!*VLOOKUP($C76,Hypothèses!$D$6:$F$13,3,0)),0,#REF!*VLOOKUP($C76,Hypothèses!$D$6:$F$13,3,0))","v":{"$error":"#REF!"}},{"$f":"IF(ISNA(#REF!*VLOOKUP($C76,Hypothèses!$D$6:$F$13,3,0)),0,#REF!*VLOOKUP($C76,Hypothèses!$D$6:$F$13,3,0))","v":{"$error":"#REF!"}},{"$f":"IF(ISNA(#REF!*VLOOKUP($C76,Hypothèses!$D$6:$F$13,3,0)),0,#REF!*VLOOKUP($C76,Hypothèses!$D$6:$F$13,3,0))","v":{"$error":"#REF!"}},{"$f":"IF(ISNA(#REF!*VLOOKUP($C76,Hypothèses!$D$6:$F$13,3,0)),0,#REF!*VLOOKUP($C76,Hypothèses!$D$6:$F$13,3,0))","v":{"$error":"#REF!"}}]
[70,null,null,{"$f":"IF(ISNA(VLOOKUP(C77,Hypothèses!$D$6:$G$14,4,0)),\"\",VLOOKUP(C77,Hypothèses!$D$6:$G$14,4,0))","v":""},null,null,null,null,null,null,null,null,null,null,null,null,null,null,null,null,null,null,null,null,null,{"$f":"IF(ISNA(E77*VLOOKUP($C77,Hypothèses!$D$6:$F$13,3,0)),0,E77*VLOOKUP($C77,Hypothèses!$D$6:$F$13,3,0))","v":0},{"$f":"IF(ISNA(F77*VLOOKUP($C77,Hypothèses!$D$6:$F$13,3,0)),0,F77*VLOOKUP($C77,Hypothèses!$D$6:$F$13,3,0))","v":0},{"$f":"IF(ISNA(G77*VLOOKUP($C77,Hypothèses!$D$6:$F$13,3,0)),0,G77*VLOOKUP($C77,Hypothèses!$D$6:$F$13,3,0))","v":0},{"$f":"IF(ISNA(H77*VLOOKUP($C77,Hypothèses!$D$6:$F$13,3,0)),0,H77*VLOOKUP($C77,Hypothèses!$D$6:$F$13,3,0))","v":0},{"$f":"IF(ISNA(I77*VLOOKUP($C77,Hypothèses!$D$6:$F$13,3,0)),0,I77*VLOOKUP($C77,Hypothèses!$D$6:$F$13,3,0))","v":0},{"$f":"IF(ISNA(J77*VLOOKUP($C77,Hypothèses!$D$6:$F$13,3,0)),0,J77*VLOOKUP($C77,Hypothèses!$D$6:$F$13,3,0))","v":0},{"$f":"IF(ISNA(K77*VLOOKUP($C77,Hypothèses!$D$6:$F$13,3,0)),0,K77*VLOOKUP($C77,Hypothèses!$D$6:$F$13,3,0))","v":0},{"$f":"IF(ISNA(L77*VLOOKUP($C77,Hypothèses!$D$6:$F$13,3,0)),0,L77*VLOOKUP($C77,Hypothèses!$D$6:$F$13,3,0))","v":0},{"$f":"IF(ISNA(M77*VLOOKUP($C77,Hypothèses!$D$6:$F$13,3,0)),0,M77*VLOOKUP($C77,Hypothèses!$D$6:$F$13,3,0))","v":0},{"$f":"IF(ISNA(N77*VLOOKUP($C77,Hypothèses!$D$6:$F$13,3,0)),0,N77*VLOOKUP($C77,Hypothèses!$D$6:$F$13,3,0))","v":0},{"$f":"IF(ISNA(O77*VLOOKUP($C77,Hypothèses!$D$6:$F$13,3,0)),0,O77*VLOOKUP($C77,Hypothèses!$D$6:$F$13,3,0))","v":0},{"$f":"IF(ISNA(P77*VLOOKUP($C77,Hypothèses!$D$6:$F$13,3,0)),0,P77*VLOOKUP($C77,Hypothèses!$D$6:$F$13,3,0))","v":0},{"$f":"IF(ISNA(Q77*VLOOKUP($C77,Hypothèses!$D$6:$F$13,3,0)),0,Q77*VLOOKUP($C77,Hypothèses!$D$6:$F$13,3,0))","v":0},{"$f":"IF(ISNA(R77*VLOOKUP($C77,Hypothèses!$D$6:$F$13,3,0)),0,R77*VLOOKUP($C77,Hypothèses!$D$6:$F$13,3,0))","v":0},{"$f":"IF(ISNA(S77*VLOOKUP($C77,Hypothèses!$D$6:$F$13,3,0)),0,S77*VLOOKUP($C77,Hypothèses!$D$6:$F$13,3,0))","v":0},{"$f":"IF(ISNA(#REF!*VLOOKUP($C77,Hypothèses!$D$6:$F$13,3,0)),0,#REF!*VLOOKUP($C77,Hypothèses!$D$6:$F$13,3,0))","v":{"$error":"#REF!"}},{"$f":"IF(ISNA(#REF!*VLOOKUP($C77,Hypothèses!$D$6:$F$13,3,0)),0,#REF!*VLOOKUP($C77,Hypothèses!$D$6:$F$13,3,0))","v":{"$error":"#REF!"}},{"$f":"IF(ISNA(#REF!*VLOOKUP($C77,Hypothèses!$D$6:$F$13,3,0)),0,#REF!*VLOOKUP($C77,Hypothèses!$D$6:$F$13,3,0))","v":{"$error":"#REF!"}},{"$f":"IF(ISNA(#REF!*VLOOKUP($C77,Hypothèses!$D$6:$F$13,3,0)),0,#REF!*VLOOKUP($C77,Hypothèses!$D$6:$F$13,3,0))","v":{"$error":"#REF!"}},{"$f":"IF(ISNA(#REF!*VLOOKUP($C77,Hypothèses!$D$6:$F$13,3,0)),0,#REF!*VLOOKUP($C77,Hypothèses!$D$6:$F$13,3,0))","v":{"$error":"#REF!"}},{"$f":"IF(ISNA(#REF!*VLOOKUP($C77,Hypothèses!$D$6:$F$13,3,0)),0,#REF!*VLOOKUP($C77,Hypothèses!$D$6:$F$13,3,0))","v":{"$error":"#REF!"}},{"$f":"IF(ISNA(#REF!*VLOOKUP($C77,Hypothèses!$D$6:$F$13,3,0)),0,#REF!*VLOOKUP($C77,Hypothèses!$D$6:$F$13,3,0))","v":{"$error":"#REF!"}}]
[71,null,null,{"$f":"IF(ISNA(VLOOKUP(C78,Hypothèses!$D$6:$G$14,4,0)),\"\",VLOOKUP(C78,Hypothèses!$D$6:$G$14,4,0))","v":""},null,null,null,null,null,null,null,null,null,null,null,null,null,null,null,null,null,null,null,null,null,{"$f":"IF(ISNA(E78*VLOOKUP($C78,Hypothèses!$D$6:$F$13,3,0)),0,E78*VLOOKUP($C78,Hypothèses!$D$6:$F$13,3,0))","v":0},{"$f":"IF(ISNA(F78*VLOOKUP($C78,Hypothèses!$D$6:$F$13,3,0)),0,F78*VLOOKUP($C78,Hypothèses!$D$6:$F$13,3,0))","v":0},{"$f":"IF(ISNA(G78*VLOOKUP($C78,Hypothèses!$D$6:$F$13,3,0)),0,G78*VLOOKUP($C78,Hypothèses!$D$6:$F$13,3,0))","v":0},{"$f":"IF(ISNA(H78*VLOOKUP($C78,Hypothèses!$D$6:$F$13,3,0)),0,H78*VLOOKUP($C78,Hypothèses!$D$6:$F$13,3,0))","v":0},{"$f":"IF(ISNA(I78*VLOOKUP($C78,Hypothèses!$D$6:$F$13,3,0)),0,I78*VLOOKUP($C78,Hypothèses!$D$6:$F$13,3,0))","v":0},{"$f":"IF(ISNA(J78*VLOOKUP($C78,Hypothèses!$D$6:$F$13,3,0)),0,J78*VLOOKUP($C78,Hypothèses!$D$6:$F$13,3,0))","v":0},{"$f":"IF(ISNA(K78*VLOOKUP($C78,Hypothèses!$D$6:$F$13,3,0)),0,K78*VLOOKUP($C78,Hypothèses!$D$6:$F$13,3,0))","v":0},{"$f":"IF(ISNA(L78*VLOOKUP($C78,Hypothèses!$D$6:$F$13,3,0)),0,L78*VLOOKUP($C78,Hypothèses!$D$6:$F$13,3,0))","v":0},{"$f":"IF(ISNA(M78*VLOOKUP($C78,Hypothèses!$D$6:$F$13,3,0)),0,M78*VLOOKUP($C78,Hypothèses!$D$6:$F$13,3,0))","v":0},{"$f":"IF(ISNA(N78*VLOOKUP($C78,Hypothèses!$D$6:$F$13,3,0)),0,N78*VLOOKUP($C78,Hypothèses!$D$6:$F$13,3,0))","v":0},{"$f":"IF(ISNA(O78*VLOOKUP($C78,Hypothèses!$D$6:$F$13,3,0)),0,O78*VLOOKUP($C78,Hypothèses!$D$6:$F$13,3,0))","v":0},{"$f":"IF(ISNA(P78*VLOOKUP($C78,Hypothèses!$D$6:$F$13,3,0)),0,P78*VLOOKUP($C78,Hypothèses!$D$6:$F$13,3,0))","v":0},{"$f":"IF(ISNA(Q78*VLOOKUP($C78,Hypothèses!$D$6:$F$13,3,0)),0,Q78*VLOOKUP($C78,Hypothèses!$D$6:$F$13,3,0))","v":0},{"$f":"IF(ISNA(R78*VLOOKUP($C78,Hypothèses!$D$6:$F$13,3,0)),0,R78*VLOOKUP($C78,Hypothèses!$D$6:$F$13,3,0))","v":0},{"$f":"IF(ISNA(S78*VLOOKUP($C78,Hypothèses!$D$6:$F$13,3,0)),0,S78*VLOOKUP($C78,Hypothèses!$D$6:$F$13,3,0))","v":0},{"$f":"IF(ISNA(#REF!*VLOOKUP($C78,Hypothèses!$D$6:$F$13,3,0)),0,#REF!*VLOOKUP($C78,Hypothèses!$D$6:$F$13,3,0))","v":{"$error":"#REF!"}},{"$f":"IF(ISNA(#REF!*VLOOKUP($C78,Hypothèses!$D$6:$F$13,3,0)),0,#REF!*VLOOKUP($C78,Hypothèses!$D$6:$F$13,3,0))","v":{"$error":"#REF!"}},{"$f":"IF(ISNA(#REF!*VLOOKUP($C78,Hypothèses!$D$6:$F$13,3,0)),0,#REF!*VLOOKUP($C78,Hypothèses!$D$6:$F$13,3,0))","v":{"$error":"#REF!"}},{"$f":"IF(ISNA(#REF!*VLOOKUP($C78,Hypothèses!$D$6:$F$13,3,0)),0,#REF!*VLOOKUP($C78,Hypothèses!$D$6:$F$13,3,0))","v":{"$error":"#REF!"}},{"$f":"IF(ISNA(#REF!*VLOOKUP($C78,Hypothèses!$D$6:$F$13,3,0)),0,#REF!*VLOOKUP($C78,Hypothèses!$D$6:$F$13,3,0))","v":{"$error":"#REF!"}},{"$f":"IF(ISNA(#REF!*VLOOKUP($C78,Hypothèses!$D$6:$F$13,3,0)),0,#REF!*VLOOKUP($C78,Hypothèses!$D$6:$F$13,3,0))","v":{"$error":"#REF!"}},{"$f":"IF(ISNA(#REF!*VLOOKUP($C78,Hypothèses!$D$6:$F$13,3,0)),0,#REF!*VLOOKUP($C78,Hypothèses!$D$6:$F$13,3,0))","v":{"$error":"#REF!"}}]
[72,null,null,{"$f":"IF(ISNA(VLOOKUP(C79,Hypothèses!$D$6:$G$14,4,0)),\"\",VLOOKUP(C79,Hypothèses!$D$6:$G$14,4,0))","v":""},null,null,null,null,null,null,null,null,null,null,null,null,null,null,null,null,null,null,null,null,null,{"$f":"IF(ISNA(E79*VLOOKUP($C79,Hypothèses!$D$6:$F$13,3,0)),0,E79*VLOOKUP($C79,Hypothèses!$D$6:$F$13,3,0))","v":0},{"$f":"IF(ISNA(F79*VLOOKUP($C79,Hypothèses!$D$6:$F$13,3,0)),0,F79*VLOOKUP($C79,Hypothèses!$D$6:$F$13,3,0))","v":0},{"$f":"IF(ISNA(G79*VLOOKUP($C79,Hypothèses!$D$6:$F$13,3,0)),0,G79*VLOOKUP($C79,Hypothèses!$D$6:$F$13,3,0))","v":0},{"$f":"IF(ISNA(H79*VLOOKUP($C79,Hypothèses!$D$6:$F$13,3,0)),0,H79*VLOOKUP($C79,Hypothèses!$D$6:$F$13,3,0))","v":0},{"$f":"IF(ISNA(I79*VLOOKUP($C79,Hypothèses!$D$6:$F$13,3,0)),0,I79*VLOOKUP($C79,Hypothèses!$D$6:$F$13,3,0))","v":0},{"$f":"IF(ISNA(J79*VLOOKUP($C79,Hypothèses!$D$6:$F$13,3,0)),0,J79*VLOOKUP($C79,Hypothèses!$D$6:$F$13,3,0))","v":0},{"$f":"IF(ISNA(K79*VLOOKUP($C79,Hypothèses!$D$6:$F$13,3,0)),0,K79*VLOOKUP($C79,Hypothèses!$D$6:$F$13,3,0))","v":0},{"$f":"IF(ISNA(L79*VLOOKUP($C79,Hypothèses!$D$6:$F$13,3,0)),0,L79*VLOOKUP($C79,Hypothèses!$D$6:$F$13,3,0))","v":0},{"$f":"IF(ISNA(M79*VLOOKUP($C79,Hypothèses!$D$6:$F$13,3,0)),0,M79*VLOOKUP($C79,Hypothèses!$D$6:$F$13,3,0))","v":0},{"$f":"IF(ISNA(N79*VLOOKUP($C79,Hypothèses!$D$6:$F$13,3,0)),0,N79*VLOOKUP($C79,Hypothèses!$D$6:$F$13,3,0))","v":0},{"$f":"IF(ISNA(O79*VLOOKUP($C79,Hypothèses!$D$6:$F$13,3,0)),0,O79*VLOOKUP($C79,Hypothèses!$D$6:$F$13,3,0))","v":0},{"$f":"IF(ISNA(P79*VLOOKUP($C79,Hypothèses!$D$6:$F$13,3,0)),0,P79*VLOOKUP($C79,Hypothèses!$D$6:$F$13,3,0))","v":0},{"$f":"IF(ISNA(Q79*VLOOKUP($C79,Hypothèses!$D$6:$F$13,3,0)),0,Q79*VLOOKUP($C79,Hypothèses!$D$6:$F$13,3,0))","v":0},{"$f":"IF(ISNA(R79*VLOOKUP($C79,Hypothèses!$D$6:$F$13,3,0)),0,R79*VLOOKUP($C79,Hypothèses!$D$6:$F$13,3,0))","v":0},{"$f":"IF(ISNA(S79*VLOOKUP($C79,Hypothèses!$D$6:$F$13,3,0)),0,S79*VLOOKUP($C79,Hypothèses!$D$6:$F$13,3,0))","v":0},{"$f":"IF(ISNA(#REF!*VLOOKUP($C79,Hypothèses!$D$6:$F$13,3,0)),0,#REF!*VLOOKUP($C79,Hypothèses!$D$6:$F$13,3,0))","v":{"$error":"#REF!"}},{"$f":"IF(ISNA(#REF!*VLOOKUP($C79,Hypothèses!$D$6:$F$13,3,0)),0,#REF!*VLOOKUP($C79,Hypothèses!$D$6:$F$13,3,0))","v":{"$error":"#REF!"}},{"$f":"IF(ISNA(#REF!*VLOOKUP($C79,Hypothèses!$D$6:$F$13,3,0)),0,#REF!*VLOOKUP($C79,Hypothèses!$D$6:$F$13,3,0))","v":{"$error":"#REF!"}},{"$f":"IF(ISNA(#REF!*VLOOKUP($C79,Hypothèses!$D$6:$F$13,3,0)),0,#REF!*VLOOKUP($C79,Hypothèses!$D$6:$F$13,3,0))","v":{"$error":"#REF!"}},{"$f":"IF(ISNA(#REF!*VLOOKUP($C79,Hypothèses!$D$6:$F$13,3,0)),0,#REF!*VLOOKUP($C79,Hypothèses!$D$6:$F$13,3,0))","v":{"$error":"#REF!"}},{"$f":"IF(ISNA(#REF!*VLOOKUP($C79,Hypothèses!$D$6:$F$13,3,0)),0,#REF!*VLOOKUP($C79,Hypothèses!$D$6:$F$13,3,0))","v":{"$error":"#REF!"}},{"$f":"IF(ISNA(#REF!*VLOOKUP($C79,Hypothèses!$D$6:$F$13,3,0)),0,#REF!*VLOOKUP($C79,Hypothèses!$D$6:$F$13,3,0))","v":{"$error":"#REF!"}}]
[73,null,null,{"$f":"IF(ISNA(VLOOKUP(C80,Hypothèses!$D$6:$G$14,4,0)),\"\",VLOOKUP(C80,Hypothèses!$D$6:$G$14,4,0))","v":""},null,null,null,null,null,null,null,null,null,null,null,null,null,null,null,null,null,null,null,null,null,{"$f":"IF(ISNA(E80*VLOOKUP($C80,Hypothèses!$D$6:$F$13,3,0)),0,E80*VLOOKUP($C80,Hypothèses!$D$6:$F$13,3,0))","v":0},{"$f":"IF(ISNA(F80*VLOOKUP($C80,Hypothèses!$D$6:$F$13,3,0)),0,F80*VLOOKUP($C80,Hypothèses!$D$6:$F$13,3,0))","v":0},{"$f":"IF(ISNA(G80*VLOOKUP($C80,Hypothèses!$D$6:$F$13,3,0)),0,G80*VLOOKUP($C80,Hypothèses!$D$6:$F$13,3,0))","v":0},{"$f":"IF(ISNA(H80*VLOOKUP($C80,Hypothèses!$D$6:$F$13,3,0)),0,H80*VLOOKUP($C80,Hypothèses!$D$6:$F$13,3,0))","v":0},{"$f":"IF(ISNA(I80*VLOOKUP($C80,Hypothèses!$D$6:$F$13,3,0)),0,I80*VLOOKUP($C80,Hypothèses!$D$6:$F$13,3,0))","v":0},{"$f":"IF(ISNA(J80*VLOOKUP($C80,Hypothèses!$D$6:$F$13,3,0)),0,J80*VLOOKUP($C80,Hypothèses!$D$6:$F$13,3,0))","v":0},{"$f":"IF(ISNA(K80*VLOOKUP($C80,Hypothèses!$D$6:$F$13,3,0)),0,K80*VLOOKUP($C80,Hypothèses!$D$6:$F$13,3,0))","v":0},{"$f":"IF(ISNA(L80*VLOOKUP($C80,Hypothèses!$D$6:$F$13,3,0)),0,L80*VLOOKUP($C80,Hypothèses!$D$6:$F$13,3,0))","v":0},{"$f":"IF(ISNA(M80*VLOOKUP($C80,Hypothèses!$D$6:$F$13,3,0)),0,M80*VLOOKUP($C80,Hypothèses!$D$6:$F$13,3,0))","v":0},{"$f":"IF(ISNA(N80*VLOOKUP($C80,Hypothèses!$D$6:$F$13,3,0)),0,N80*VLOOKUP($C80,Hypothèses!$D$6:$F$13,3,0))","v":0},{"$f":"IF(ISNA(O80*VLOOKUP($C80,Hypothèses!$D$6:$F$13,3,0)),0,O80*VLOOKUP($C80,Hypothèses!$D$6:$F$13,3,0))","v":0},{"$f":"IF(ISNA(P80*VLOOKUP($C80,Hypothèses!$D$6:$F$13,3,0)),0,P80*VLOOKUP($C80,Hypothèses!$D$6:$F$13,3,0))","v":0},{"$f":"IF(ISNA(Q80*VLOOKUP($C80,Hypothèses!$D$6:$F$13,3,0)),0,Q80*VLOOKUP($C80,Hypothèses!$D$6:$F$13,3,0))","v":0},{"$f":"IF(ISNA(R80*VLOOKUP($C80,Hypothèses!$D$6:$F$13,3,0)),0,R80*VLOOKUP($C80,Hypothèses!$D$6:$F$13,3,0))","v":0},{"$f":"IF(ISNA(S80*VLOOKUP($C80,Hypothèses!$D$6:$F$13,3,0)),0,S80*VLOOKUP($C80,Hypothèses!$D$6:$F$13,3,0))","v":0},{"$f":"IF(ISNA(#REF!*VLOOKUP($C80,Hypothèses!$D$6:$F$13,3,0)),0,#REF!*VLOOKUP($C80,Hypothèses!$D$6:$F$13,3,0))","v":{"$error":"#REF!"}},{"$f":"IF(ISNA(#REF!*VLOOKUP($C80,Hypothèses!$D$6:$F$13,3,0)),0,#REF!*VLOOKUP($C80,Hypothèses!$D$6:$F$13,3,0))","v":{"$error":"#REF!"}},{"$f":"IF(ISNA(#REF!*VLOOKUP($C80,Hypothèses!$D$6:$F$13,3,0)),0,#REF!*VLOOKUP($C80,Hypothèses!$D$6:$F$13,3,0))","v":{"$error":"#REF!"}},{"$f":"IF(ISNA(#REF!*VLOOKUP($C80,Hypothèses!$D$6:$F$13,3,0)),0,#REF!*VLOOKUP($C80,Hypothèses!$D$6:$F$13,3,0))","v":{"$error":"#REF!"}},{"$f":"IF(ISNA(#REF!*VLOOKUP($C80,Hypothèses!$D$6:$F$13,3,0)),0,#REF!*VLOOKUP($C80,Hypothèses!$D$6:$F$13,3,0))","v":{"$error":"#REF!"}},{"$f":"IF(ISNA(#REF!*VLOOKUP($C80,Hypothèses!$D$6:$F$13,3,0)),0,#REF!*VLOOKUP($C80,Hypothèses!$D$6:$F$13,3,0))","v":{"$error":"#REF!"}},{"$f":"IF(ISNA(#REF!*VLOOKUP($C80,Hypothèses!$D$6:$F$13,3,0)),0,#REF!*VLOOKUP($C80,Hypothèses!$D$6:$F$13,3,0))","v":{"$error":"#REF!"}}]
[74,null,null,{"$f":"IF(ISNA(VLOOKUP(C81,Hypothèses!$D$6:$G$14,4,0)),\"\",VLOOKUP(C81,Hypothèses!$D$6:$G$14,4,0))","v":""},null,null,null,null,null,null,null,null,null,null,null,null,null,null,null,null,null,null,null,null,null,{"$f":"IF(ISNA(E81*VLOOKUP($C81,Hypothèses!$D$6:$F$13,3,0)),0,E81*VLOOKUP($C81,Hypothèses!$D$6:$F$13,3,0))","v":0},{"$f":"IF(ISNA(F81*VLOOKUP($C81,Hypothèses!$D$6:$F$13,3,0)),0,F81*VLOOKUP($C81,Hypothèses!$D$6:$F$13,3,0))","v":0},{"$f":"IF(ISNA(G81*VLOOKUP($C81,Hypothèses!$D$6:$F$13,3,0)),0,G81*VLOOKUP($C81,Hypothèses!$D$6:$F$13,3,0))","v":0},{"$f":"IF(ISNA(H81*VLOOKUP($C81,Hypothèses!$D$6:$F$13,3,0)),0,H81*VLOOKUP($C81,Hypothèses!$D$6:$F$13,3,0))","v":0},{"$f":"IF(ISNA(I81*VLOOKUP($C81,Hypothèses!$D$6:$F$13,3,0)),0,I81*VLOOKUP($C81,Hypothèses!$D$6:$F$13,3,0))","v":0},{"$f":"IF(ISNA(J81*VLOOKUP($C81,Hypothèses!$D$6:$F$13,3,0)),0,J81*VLOOKUP($C81,Hypothèses!$D$6:$F$13,3,0))","v":0},{"$f":"IF(ISNA(K81*VLOOKUP($C81,Hypothèses!$D$6:$F$13,3,0)),0,K81*VLOOKUP($C81,Hypothèses!$D$6:$F$13,3,0))","v":0},{"$f":"IF(ISNA(L81*VLOOKUP($C81,Hypothèses!$D$6:$F$13,3,0)),0,L81*VLOOKUP($C81,Hypothèses!$D$6:$F$13,3,0))","v":0},{"$f":"IF(ISNA(M81*VLOOKUP($C81,Hypothèses!$D$6:$F$13,3,0)),0,M81*VLOOKUP($C81,Hypothèses!$D$6:$F$13,3,0))","v":0},{"$f":"IF(ISNA(N81*VLOOKUP($C81,Hypothèses!$D$6:$F$13,3,0)),0,N81*VLOOKUP($C81,Hypothèses!$D$6:$F$13,3,0))","v":0},{"$f":"IF(ISNA(O81*VLOOKUP($C81,Hypothèses!$D$6:$F$13,3,0)),0,O81*VLOOKUP($C81,Hypothèses!$D$6:$F$13,3,0))","v":0},{"$f":"IF(ISNA(P81*VLOOKUP($C81,Hypothèses!$D$6:$F$13,3,0)),0,P81*VLOOKUP($C81,Hypothèses!$D$6:$F$13,3,0))","v":0},{"$f":"IF(ISNA(Q81*VLOOKUP($C81,Hypothèses!$D$6:$F$13,3,0)),0,Q81*VLOOKUP($C81,Hypothèses!$D$6:$F$13,3,0))","v":0},{"$f":"IF(ISNA(R81*VLOOKUP($C81,Hypothèses!$D$6:$F$13,3,0)),0,R81*VLOOKUP($C81,Hypothèses!$D$6:$F$13,3,0))","v":0},{"$f":"IF(ISNA(S81*VLOOKUP($C81,Hypothèses!$D$6:$F$13,3,0)),0,S81*VLOOKUP($C81,Hypothèses!$D$6:$F$13,3,0))","v":0},{"$f":"IF(ISNA(#REF!*VLOOKUP($C81,Hypothèses!$D$6:$F$13,3,0)),0,#REF!*VLOOKUP($C81,Hypothèses!$D$6:$F$13,3,0))","v":{"$error":"#REF!"}},{"$f":"IF(ISNA(#REF!*VLOOKUP($C81,Hypothèses!$D$6:$F$13,3,0)),0,#REF!*VLOOKUP($C81,Hypothèses!$D$6:$F$13,3,0))","v":{"$error":"#REF!"}},{"$f":"IF(ISNA(#REF!*VLOOKUP($C81,Hypothèses!$D$6:$F$13,3,0)),0,#REF!*VLOOKUP($C81,Hypothèses!$D$6:$F$13,3,0))","v":{"$error":"#REF!"}},{"$f":"IF(ISNA(#REF!*VLOOKUP($C81,Hypothèses!$D$6:$F$13,3,0)),0,#REF!*VLOOKUP($C81,Hypothèses!$D$6:$F$13,3,0))","v":{"$error":"#REF!"}},{"$f":"IF(ISNA(#REF!*VLOOKUP($C81,Hypothèses!$D$6:$F$13,3,0)),0,#REF!*VLOOKUP($C81,Hypothèses!$D$6:$F$13,3,0))","v":{"$error":"#REF!"}},{"$f":"IF(ISNA(#REF!*VLOOKUP($C81,Hypothèses!$D$6:$F$13,3,0)),0,#REF!*VLOOKUP($C81,Hypothèses!$D$6:$F$13,3,0))","v":{"$error":"#REF!"}},{"$f":"IF(ISNA(#REF!*VLOOKUP($C81,Hypothèses!$D$6:$F$13,3,0)),0,#REF!*VLOOKUP($C81,Hypothèses!$D$6:$F$13,3,0))","v":{"$error":"#REF!"}}]
[75,null,null,{"$f":"IF(ISNA(VLOOKUP(C82,Hypothèses!$D$6:$G$14,4,0)),\"\",VLOOKUP(C82,Hypothèses!$D$6:$G$14,4,0))","v":""},null,null,null,null,null,null,null,null,null,null,null,null,null,null,null,null,null,null,null,null,null,{"$f":"IF(ISNA(E82*VLOOKUP($C82,Hypothèses!$D$6:$F$13,3,0)),0,E82*VLOOKUP($C82,Hypothèses!$D$6:$F$13,3,0))","v":0},{"$f":"IF(ISNA(F82*VLOOKUP($C82,Hypothèses!$D$6:$F$13,3,0)),0,F82*VLOOKUP($C82,Hypothèses!$D$6:$F$13,3,0))","v":0},{"$f":"IF(ISNA(G82*VLOOKUP($C82,Hypothèses!$D$6:$F$13,3,0)),0,G82*VLOOKUP($C82,Hypothèses!$D$6:$F$13,3,0))","v":0},{"$f":"IF(ISNA(H82*VLOOKUP($C82,Hypothèses!$D$6:$F$13,3,0)),0,H82*VLOOKUP($C82,Hypothèses!$D$6:$F$13,3,0))","v":0},{"$f":"IF(ISNA(I82*VLOOKUP($C82,Hypothèses!$D$6:$F$13,3,0)),0,I82*VLOOKUP($C82,Hypothèses!$D$6:$F$13,3,0))","v":0},{"$f":"IF(ISNA(J82*VLOOKUP($C82,Hypothèses!$D$6:$F$13,3,0)),0,J82*VLOOKUP($C82,Hypothèses!$D$6:$F$13,3,0))","v":0},{"$f":"IF(ISNA(K82*VLOOKUP($C82,Hypothèses!$D$6:$F$13,3,0)),0,K82*VLOOKUP($C82,Hypothèses!$D$6:$F$13,3,0))","v":0},{"$f":"IF(ISNA(L82*VLOOKUP($C82,Hypothèses!$D$6:$F$13,3,0)),0,L82*VLOOKUP($C82,Hypothèses!$D$6:$F$13,3,0))","v":0},{"$f":"IF(ISNA(M82*VLOOKUP($C82,Hypothèses!$D$6:$F$13,3,0)),0,M82*VLOOKUP($C82,Hypothèses!$D$6:$F$13,3,0))","v":0},{"$f":"IF(ISNA(N82*VLOOKUP($C82,Hypothèses!$D$6:$F$13,3,0)),0,N82*VLOOKUP($C82,Hypothèses!$D$6:$F$13,3,0))","v":0},{"$f":"IF(ISNA(O82*VLOOKUP($C82,Hypothèses!$D$6:$F$13,3,0)),0,O82*VLOOKUP($C82,Hypothèses!$D$6:$F$13,3,0))","v":0},{"$f":"IF(ISNA(P82*VLOOKUP($C82,Hypothèses!$D$6:$F$13,3,0)),0,P82*VLOOKUP($C82,Hypothèses!$D$6:$F$13,3,0))","v":0},{"$f":"IF(ISNA(Q82*VLOOKUP($C82,Hypothèses!$D$6:$F$13,3,0)),0,Q82*VLOOKUP($C82,Hypothèses!$D$6:$F$13,3,0))","v":0},{"$f":"IF(ISNA(R82*VLOOKUP($C82,Hypothèses!$D$6:$F$13,3,0)),0,R82*VLOOKUP($C82,Hypothèses!$D$6:$F$13,3,0))","v":0},{"$f":"IF(ISNA(S82*VLOOKUP($C82,Hypothèses!$D$6:$F$13,3,0)),0,S82*VLOOKUP($C82,Hypothèses!$D$6:$F$13,3,0))","v":0},{"$f":"IF(ISNA(#REF!*VLOOKUP($C82,Hypothèses!$D$6:$F$13,3,0)),0,#REF!*VLOOKUP($C82,Hypothèses!$D$6:$F$13,3,0))","v":{"$error":"#REF!"}},{"$f":"IF(ISNA(#REF!*VLOOKUP($C82,Hypothèses!$D$6:$F$13,3,0)),0,#REF!*VLOOKUP($C82,Hypothèses!$D$6:$F$13,3,0))","v":{"$error":"#REF!"}},{"$f":"IF(ISNA(#REF!*VLOOKUP($C82,Hypothèses!$D$6:$F$13,3,0)),0,#REF!*VLOOKUP($C82,Hypothèses!$D$6:$F$13,3,0))","v":{"$error":"#REF!"}},{"$f":"IF(ISNA(#REF!*VLOOKUP($C82,Hypothèses!$D$6:$F$13,3,0)),0,#REF!*VLOOKUP($C82,Hypothèses!$D$6:$F$13,3,0))","v":{"$error":"#REF!"}},{"$f":"IF(ISNA(#REF!*VLOOKUP($C82,Hypothèses!$D$6:$F$13,3,0)),0,#REF!*VLOOKUP($C82,Hypothèses!$D$6:$F$13,3,0))","v":{"$error":"#REF!"}},{"$f":"IF(ISNA(#REF!*VLOOKUP($C82,Hypothèses!$D$6:$F$13,3,0)),0,#REF!*VLOOKUP($C82,Hypothèses!$D$6:$F$13,3,0))","v":{"$error":"#REF!"}},{"$f":"IF(ISNA(#REF!*VLOOKUP($C82,Hypothèses!$D$6:$F$13,3,0)),0,#REF!*VLOOKUP($C82,Hypothèses!$D$6:$F$13,3,0))","v":{"$error":"#REF!"}}]
[76,null,null,{"$f":"IF(ISNA(VLOOKUP(C83,Hypothèses!$D$6:$G$14,4,0)),\"\",VLOOKUP(C83,Hypothèses!$D$6:$G$14,4,0))","v":""},null,null,null,null,null,null,null,null,null,null,null,null,null,null,null,null,null,null,null,null,null,{"$f":"IF(ISNA(E83*VLOOKUP($C83,Hypothèses!$D$6:$F$13,3,0)),0,E83*VLOOKUP($C83,Hypothèses!$D$6:$F$13,3,0))","v":0},{"$f":"IF(ISNA(F83*VLOOKUP($C83,Hypothèses!$D$6:$F$13,3,0)),0,F83*VLOOKUP($C83,Hypothèses!$D$6:$F$13,3,0))","v":0},{"$f":"IF(ISNA(G83*VLOOKUP($C83,Hypothèses!$D$6:$F$13,3,0)),0,G83*VLOOKUP($C83,Hypothèses!$D$6:$F$13,3,0))","v":0},{"$f":"IF(ISNA(H83*VLOOKUP($C83,Hypothèses!$D$6:$F$13,3,0)),0,H83*VLOOKUP($C83,Hypothèses!$D$6:$F$13,3,0))","v":0},{"$f":"IF(ISNA(I83*VLOOKUP($C83,Hypothèses!$D$6:$F$13,3,0)),0,I83*VLOOKUP($C83,Hypothèses!$D$6:$F$13,3,0))","v":0},{"$f":"IF(ISNA(J83*VLOOKUP($C83,Hypothèses!$D$6:$F$13,3,0)),0,J83*VLOOKUP($C83,Hypothèses!$D$6:$F$13,3,0))","v":0},{"$f":"IF(ISNA(K83*VLOOKUP($C83,Hypothèses!$D$6:$F$13,3,0)),0,K83*VLOOKUP($C83,Hypothèses!$D$6:$F$13,3,0))","v":0},{"$f":"IF(ISNA(L83*VLOOKUP($C83,Hypothèses!$D$6:$F$13,3,0)),0,L83*VLOOKUP($C83,Hypothèses!$D$6:$F$13,3,0))","v":0},{"$f":"IF(ISNA(M83*VLOOKUP($C83,Hypothèses!$D$6:$F$13,3,0)),0,M83*VLOOKUP($C83,Hypothèses!$D$6:$F$13,3,0))","v":0},{"$f":"IF(ISNA(N83*VLOOKUP($C83,Hypothèses!$D$6:$F$13,3,0)),0,N83*VLOOKUP($C83,Hypothèses!$D$6:$F$13,3,0))","v":0},{"$f":"IF(ISNA(O83*VLOOKUP($C83,Hypothèses!$D$6:$F$13,3,0)),0,O83*VLOOKUP($C83,Hypothèses!$D$6:$F$13,3,0))","v":0},{"$f":"IF(ISNA(P83*VLOOKUP($C83,Hypothèses!$D$6:$F$13,3,0)),0,P83*VLOOKUP($C83,Hypothèses!$D$6:$F$13,3,0))","v":0},{"$f":"IF(ISNA(Q83*VLOOKUP($C83,Hypothèses!$D$6:$F$13,3,0)),0,Q83*VLOOKUP($C83,Hypothèses!$D$6:$F$13,3,0))","v":0},{"$f":"IF(ISNA(R83*VLOOKUP($C83,Hypothèses!$D$6:$F$13,3,0)),0,R83*VLOOKUP($C83,Hypothèses!$D$6:$F$13,3,0))","v":0},{"$f":"IF(ISNA(S83*VLOOKUP($C83,Hypothèses!$D$6:$F$13,3,0)),0,S83*VLOOKUP($C83,Hypothèses!$D$6:$F$13,3,0))","v":0},{"$f":"IF(ISNA(#REF!*VLOOKUP($C83,Hypothèses!$D$6:$F$13,3,0)),0,#REF!*VLOOKUP($C83,Hypothèses!$D$6:$F$13,3,0))","v":{"$error":"#REF!"}},{"$f":"IF(ISNA(#REF!*VLOOKUP($C83,Hypothèses!$D$6:$F$13,3,0)),0,#REF!*VLOOKUP($C83,Hypothèses!$D$6:$F$13,3,0))","v":{"$error":"#REF!"}},{"$f":"IF(ISNA(#REF!*VLOOKUP($C83,Hypothèses!$D$6:$F$13,3,0)),0,#REF!*VLOOKUP($C83,Hypothèses!$D$6:$F$13,3,0))","v":{"$error":"#REF!"}},{"$f":"IF(ISNA(#REF!*VLOOKUP($C83,Hypothèses!$D$6:$F$13,3,0)),0,#REF!*VLOOKUP($C83,Hypothèses!$D$6:$F$13,3,0))","v":{"$error":"#REF!"}},{"$f":"IF(ISNA(#REF!*VLOOKUP($C83,Hypothèses!$D$6:$F$13,3,0)),0,#REF!*VLOOKUP($C83,Hypothèses!$D$6:$F$13,3,0))","v":{"$error":"#REF!"}},{"$f":"IF(ISNA(#REF!*VLOOKUP($C83,Hypothèses!$D$6:$F$13,3,0)),0,#REF!*VLOOKUP($C83,Hypothèses!$D$6:$F$13,3,0))","v":{"$error":"#REF!"}},{"$f":"IF(ISNA(#REF!*VLOOKUP($C83,Hypothèses!$D$6:$F$13,3,0)),0,#REF!*VLOOKUP($C83,Hypothèses!$D$6:$F$13,3,0))","v":{"$error":"#REF!"}}]
[77,null,null,{"$f":"IF(ISNA(VLOOKUP(C84,Hypothèses!$D$6:$G$14,4,0)),\"\",VLOOKUP(C84,Hypothèses!$D$6:$G$14,4,0))","v":""},null,null,null,null,null,null,null,null,null,null,null,null,null,null,null,null,null,null,null,null,null,{"$f":"IF(ISNA(E84*VLOOKUP($C84,Hypothèses!$D$6:$F$13,3,0)),0,E84*VLOOKUP($C84,Hypothèses!$D$6:$F$13,3,0))","v":0},{"$f":"IF(ISNA(F84*VLOOKUP($C84,Hypothèses!$D$6:$F$13,3,0)),0,F84*VLOOKUP($C84,Hypothèses!$D$6:$F$13,3,0))","v":0},{"$f":"IF(ISNA(G84*VLOOKUP($C84,Hypothèses!$D$6:$F$13,3,0)),0,G84*VLOOKUP($C84,Hypothèses!$D$6:$F$13,3,0))","v":0},{"$f":"IF(ISNA(H84*VLOOKUP($C84,Hypothèses!$D$6:$F$13,3,0)),0,H84*VLOOKUP($C84,Hypothèses!$D$6:$F$13,3,0))","v":0},{"$f":"IF(ISNA(I84*VLOOKUP($C84,Hypothèses!$D$6:$F$13,3,0)),0,I84*VLOOKUP($C84,Hypothèses!$D$6:$F$13,3,0))","v":0},{"$f":"IF(ISNA(J84*VLOOKUP($C84,Hypothèses!$D$6:$F$13,3,0)),0,J84*VLOOKUP($C84,Hypothèses!$D$6:$F$13,3,0))","v":0},{"$f":"IF(ISNA(K84*VLOOKUP($C84,Hypothèses!$D$6:$F$13,3,0)),0,K84*VLOOKUP($C84,Hypothèses!$D$6:$F$13,3,0))","v":0},{"$f":"IF(ISNA(L84*VLOOKUP($C84,Hypothèses!$D$6:$F$13,3,0)),0,L84*VLOOKUP($C84,Hypothèses!$D$6:$F$13,3,0))","v":0},{"$f":"IF(ISNA(M84*VLOOKUP($C84,Hypothèses!$D$6:$F$13,3,0)),0,M84*VLOOKUP($C84,Hypothèses!$D$6:$F$13,3,0))","v":0},{"$f":"IF(ISNA(N84*VLOOKUP($C84,Hypothèses!$D$6:$F$13,3,0)),0,N84*VLOOKUP($C84,Hypothèses!$D$6:$F$13,3,0))","v":0},{"$f":"IF(ISNA(O84*VLOOKUP($C84,Hypothèses!$D$6:$F$13,3,0)),0,O84*VLOOKUP($C84,Hypothèses!$D$6:$F$13,3,0))","v":0},{"$f":"IF(ISNA(P84*VLOOKUP($C84,Hypothèses!$D$6:$F$13,3,0)),0,P84*VLOOKUP($C84,Hypothèses!$D$6:$F$13,3,0))","v":0},{"$f":"IF(ISNA(Q84*VLOOKUP($C84,Hypothèses!$D$6:$F$13,3,0)),0,Q84*VLOOKUP($C84,Hypothèses!$D$6:$F$13,3,0))","v":0},{"$f":"IF(ISNA(R84*VLOOKUP($C84,Hypothèses!$D$6:$F$13,3,0)),0,R84*VLOOKUP($C84,Hypothèses!$D$6:$F$13,3,0))","v":0},{"$f":"IF(ISNA(S84*VLOOKUP($C84,Hypothèses!$D$6:$F$13,3,0)),0,S84*VLOOKUP($C84,Hypothèses!$D$6:$F$13,3,0))","v":0},{"$f":"IF(ISNA(#REF!*VLOOKUP($C84,Hypothèses!$D$6:$F$13,3,0)),0,#REF!*VLOOKUP($C84,Hypothèses!$D$6:$F$13,3,0))","v":{"$error":"#REF!"}},{"$f":"IF(ISNA(#REF!*VLOOKUP($C84,Hypothèses!$D$6:$F$13,3,0)),0,#REF!*VLOOKUP($C84,Hypothèses!$D$6:$F$13,3,0))","v":{"$error":"#REF!"}},{"$f":"IF(ISNA(#REF!*VLOOKUP($C84,Hypothèses!$D$6:$F$13,3,0)),0,#REF!*VLOOKUP($C84,Hypothèses!$D$6:$F$13,3,0))","v":{"$error":"#REF!"}},{"$f":"IF(ISNA(#REF!*VLOOKUP($C84,Hypothèses!$D$6:$F$13,3,0)),0,#REF!*VLOOKUP($C84,Hypothèses!$D$6:$F$13,3,0))","v":{"$error":"#REF!"}},{"$f":"IF(ISNA(#REF!*VLOOKUP($C84,Hypothèses!$D$6:$F$13,3,0)),0,#REF!*VLOOKUP($C84,Hypothèses!$D$6:$F$13,3,0))","v":{"$error":"#REF!"}},{"$f":"IF(ISNA(#REF!*VLOOKUP($C84,Hypothèses!$D$6:$F$13,3,0)),0,#REF!*VLOOKUP($C84,Hypothèses!$D$6:$F$13,3,0))","v":{"$error":"#REF!"}},{"$f":"IF(ISNA(#REF!*VLOOKUP($C84,Hypothèses!$D$6:$F$13,3,0)),0,#REF!*VLOOKUP($C84,Hypothèses!$D$6:$F$13,3,0))","v":{"$error":"#REF!"}}]
[78,null,null,{"$f":"IF(ISNA(VLOOKUP(C85,Hypothèses!$D$6:$G$14,4,0)),\"\",VLOOKUP(C85,Hypothèses!$D$6:$G$14,4,0))","v":""},null,null,null,null,null,null,null,null,null,null,null,null,null,null,null,null,null,null,null,null,null,{"$f":"IF(ISNA(E85*VLOOKUP($C85,Hypothèses!$D$6:$F$13,3,0)),0,E85*VLOOKUP($C85,Hypothèses!$D$6:$F$13,3,0))","v":0},{"$f":"IF(ISNA(F85*VLOOKUP($C85,Hypothèses!$D$6:$F$13,3,0)),0,F85*VLOOKUP($C85,Hypothèses!$D$6:$F$13,3,0))","v":0},{"$f":"IF(ISNA(G85*VLOOKUP($C85,Hypothèses!$D$6:$F$13,3,0)),0,G85*VLOOKUP($C85,Hypothèses!$D$6:$F$13,3,0))","v":0},{"$f":"IF(ISNA(H85*VLOOKUP($C85,Hypothèses!$D$6:$F$13,3,0)),0,H85*VLOOKUP($C85,Hypothèses!$D$6:$F$13,3,0))","v":0},{"$f":"IF(ISNA(I85*VLOOKUP($C85,Hypothèses!$D$6:$F$13,3,0)),0,I85*VLOOKUP($C85,Hypothèses!$D$6:$F$13,3,0))","v":0},{"$f":"IF(ISNA(J85*VLOOKUP($C85,Hypothèses!$D$6:$F$13,3,0)),0,J85*VLOOKUP($C85,Hypothèses!$D$6:$F$13,3,0))","v":0},{"$f":"IF(ISNA(K85*VLOOKUP($C85,Hypothèses!$D$6:$F$13,3,0)),0,K85*VLOOKUP($C85,Hypothèses!$D$6:$F$13,3,0))","v":0},{"$f":"IF(ISNA(L85*VLOOKUP($C85,Hypothèses!$D$6:$F$13,3,0)),0,L85*VLOOKUP($C85,Hypothèses!$D$6:$F$13,3,0))","v":0},{"$f":"IF(ISNA(M85*VLOOKUP($C85,Hypothèses!$D$6:$F$13,3,0)),0,M85*VLOOKUP($C85,Hypothèses!$D$6:$F$13,3,0))","v":0},{"$f":"IF(ISNA(N85*VLOOKUP($C85,Hypothèses!$D$6:$F$13,3,0)),0,N85*VLOOKUP($C85,Hypothèses!$D$6:$F$13,3,0))","v":0},{"$f":"IF(ISNA(O85*VLOOKUP($C85,Hypothèses!$D$6:$F$13,3,0)),0,O85*VLOOKUP($C85,Hypothèses!$D$6:$F$13,3,0))","v":0},{"$f":"IF(ISNA(P85*VLOOKUP($C85,Hypothèses!$D$6:$F$13,3,0)),0,P85*VLOOKUP($C85,Hypothèses!$D$6:$F$13,3,0))","v":0},{"$f":"IF(ISNA(Q85*VLOOKUP($C85,Hypothèses!$D$6:$F$13,3,0)),0,Q85*VLOOKUP($C85,Hypothèses!$D$6:$F$13,3,0))","v":0},{"$f":"IF(ISNA(R85*VLOOKUP($C85,Hypothèses!$D$6:$F$13,3,0)),0,R85*VLOOKUP($C85,Hypothèses!$D$6:$F$13,3,0))","v":0},{"$f":"IF(ISNA(S85*VLOOKUP($C85,Hypothèses!$D$6:$F$13,3,0)),0,S85*VLOOKUP($C85,Hypothèses!$D$6:$F$13,3,0))","v":0},{"$f":"IF(ISNA(#REF!*VLOOKUP($C85,Hypothèses!$D$6:$F$13,3,0)),0,#REF!*VLOOKUP($C85,Hypothèses!$D$6:$F$13,3,0))","v":{"$error":"#REF!"}},{"$f":"IF(ISNA(#REF!*VLOOKUP($C85,Hypothèses!$D$6:$F$13,3,0)),0,#REF!*VLOOKUP($C85,Hypothèses!$D$6:$F$13,3,0))","v":{"$error":"#REF!"}},{"$f":"IF(ISNA(#REF!*VLOOKUP($C85,Hypothèses!$D$6:$F$13,3,0)),0,#REF!*VLOOKUP($C85,Hypothèses!$D$6:$F$13,3,0))","v":{"$error":"#REF!"}},{"$f":"IF(ISNA(#REF!*VLOOKUP($C85,Hypothèses!$D$6:$F$13,3,0)),0,#REF!*VLOOKUP($C85,Hypothèses!$D$6:$F$13,3,0))","v":{"$error":"#REF!"}},{"$f":"IF(ISNA(#REF!*VLOOKUP($C85,Hypothèses!$D$6:$F$13,3,0)),0,#REF!*VLOOKUP($C85,Hypothèses!$D$6:$F$13,3,0))","v":{"$error":"#REF!"}},{"$f":"IF(ISNA(#REF!*VLOOKUP($C85,Hypothèses!$D$6:$F$13,3,0)),0,#REF!*VLOOKUP($C85,Hypothèses!$D$6:$F$13,3,0))","v":{"$error":"#REF!"}},{"$f":"IF(ISNA(#REF!*VLOOKUP($C85,Hypothèses!$D$6:$F$13,3,0)),0,#REF!*VLOOKUP($C85,Hypothèses!$D$6:$F$13,3,0))","v":{"$error":"#REF!"}}]
[79,null,null,{"$f":"IF(ISNA(VLOOKUP(C86,Hypothèses!$D$6:$G$14,4,0)),\"\",VLOOKUP(C86,Hypothèses!$D$6:$G$14,4,0))","v":""},null,null,null,null,null,null,null,null,null,null,null,null,null,null,null,null,null,null,null,null,null,{"$f":"IF(ISNA(E86*VLOOKUP($C86,Hypothèses!$D$6:$F$13,3,0)),0,E86*VLOOKUP($C86,Hypothèses!$D$6:$F$13,3,0))","v":0},{"$f":"IF(ISNA(F86*VLOOKUP($C86,Hypothèses!$D$6:$F$13,3,0)),0,F86*VLOOKUP($C86,Hypothèses!$D$6:$F$13,3,0))","v":0},{"$f":"IF(ISNA(G86*VLOOKUP($C86,Hypothèses!$D$6:$F$13,3,0)),0,G86*VLOOKUP($C86,Hypothèses!$D$6:$F$13,3,0))","v":0},{"$f":"IF(ISNA(H86*VLOOKUP($C86,Hypothèses!$D$6:$F$13,3,0)),0,H86*VLOOKUP($C86,Hypothèses!$D$6:$F$13,3,0))","v":0},{"$f":"IF(ISNA(I86*VLOOKUP($C86,Hypothèses!$D$6:$F$13,3,0)),0,I86*VLOOKUP($C86,Hypothèses!$D$6:$F$13,3,0))","v":0},{"$f":"IF(ISNA(J86*VLOOKUP($C86,Hypothèses!$D$6:$F$13,3,0)),0,J86*VLOOKUP($C86,Hypothèses!$D$6:$F$13,3,0))","v":0},{"$f":"IF(ISNA(K86*VLOOKUP($C86,Hypothèses!$D$6:$F$13,3,0)),0,K86*VLOOKUP($C86,Hypothèses!$D$6:$F$13,3,0))","v":0},{"$f":"IF(ISNA(L86*VLOOKUP($C86,Hypothèses!$D$6:$F$13,3,0)),0,L86*VLOOKUP($C86,Hypothèses!$D$6:$F$13,3,0))","v":0},{"$f":"IF(ISNA(M86*VLOOKUP($C86,Hypothèses!$D$6:$F$13,3,0)),0,M86*VLOOKUP($C86,Hypothèses!$D$6:$F$13,3,0))","v":0},{"$f":"IF(ISNA(N86*VLOOKUP($C86,Hypothèses!$D$6:$F$13,3,0)),0,N86*VLOOKUP($C86,Hypothèses!$D$6:$F$13,3,0))","v":0},{"$f":"IF(ISNA(O86*VLOOKUP($C86,Hypothèses!$D$6:$F$13,3,0)),0,O86*VLOOKUP($C86,Hypothèses!$D$6:$F$13,3,0))","v":0},{"$f":"IF(ISNA(P86*VLOOKUP($C86,Hypothèses!$D$6:$F$13,3,0)),0,P86*VLOOKUP($C86,Hypothèses!$D$6:$F$13,3,0))","v":0},{"$f":"IF(ISNA(Q86*VLOOKUP($C86,Hypothèses!$D$6:$F$13,3,0)),0,Q86*VLOOKUP($C86,Hypothèses!$D$6:$F$13,3,0))","v":0},{"$f":"IF(ISNA(R86*VLOOKUP($C86,Hypothèses!$D$6:$F$13,3,0)),0,R86*VLOOKUP($C86,Hypothèses!$D$6:$F$13,3,0))","v":0},{"$f":"IF(ISNA(S86*VLOOKUP($C86,Hypothèses!$D$6:$F$13,3,0)),0,S86*VLOOKUP($C86,Hypothèses!$D$6:$F$13,3,0))","v":0},{"$f":"IF(ISNA(#REF!*VLOOKUP($C86,Hypothèses!$D$6:$F$13,3,0)),0,#REF!*VLOOKUP($C86,Hypothèses!$D$6:$F$13,3,0))","v":{"$error":"#REF!"}},{"$f":"IF(ISNA(#REF!*VLOOKUP($C86,Hypothèses!$D$6:$F$13,3,0)),0,#REF!*VLOOKUP($C86,Hypothèses!$D$6:$F$13,3,0))","v":{"$error":"#REF!"}},{"$f":"IF(ISNA(#REF!*VLOOKUP($C86,Hypothèses!$D$6:$F$13,3,0)),0,#REF!*VLOOKUP($C86,Hypothèses!$D$6:$F$13,3,0))","v":{"$error":"#REF!"}},{"$f":"IF(ISNA(#REF!*VLOOKUP($C86,Hypothèses!$D$6:$F$13,3,0)),0,#REF!*VLOOKUP($C86,Hypothèses!$D$6:$F$13,3,0))","v":{"$error":"#REF!"}},{"$f":"IF(ISNA(#REF!*VLOOKUP($C86,Hypothèses!$D$6:$F$13,3,0)),0,#REF!*VLOOKUP($C86,Hypothèses!$D$6:$F$13,3,0))","v":{"$error":"#REF!"}},{"$f":"IF(ISNA(#REF!*VLOOKUP($C86,Hypothèses!$D$6:$F$13,3,0)),0,#REF!*VLOOKUP($C86,Hypothèses!$D$6:$F$13,3,0))","v":{"$error":"#REF!"}},{"$f":"IF(ISNA(#REF!*VLOOKUP($C86,Hypothèses!$D$6:$F$13,3,0)),0,#REF!*VLOOKUP($C86,Hypothèses!$D$6:$F$13,3,0))","v":{"$error":"#REF!"}}]
[80,null,null,{"$f":"IF(ISNA(VLOOKUP(C87,Hypothèses!$D$6:$G$14,4,0)),\"\",VLOOKUP(C87,Hypothèses!$D$6:$G$14,4,0))","v":""},null,null,null,null,null,null,null,null,null,null,null,null,null,null,null,null,null,null,null,null,null,{"$f":"IF(ISNA(E87*VLOOKUP($C87,Hypothèses!$D$6:$F$13,3,0)),0,E87*VLOOKUP($C87,Hypothèses!$D$6:$F$13,3,0))","v":0},{"$f":"IF(ISNA(F87*VLOOKUP($C87,Hypothèses!$D$6:$F$13,3,0)),0,F87*VLOOKUP($C87,Hypothèses!$D$6:$F$13,3,0))","v":0},{"$f":"IF(ISNA(G87*VLOOKUP($C87,Hypothèses!$D$6:$F$13,3,0)),0,G87*VLOOKUP($C87,Hypothèses!$D$6:$F$13,3,0))","v":0},{"$f":"IF(ISNA(H87*VLOOKUP($C87,Hypothèses!$D$6:$F$13,3,0)),0,H87*VLOOKUP($C87,Hypothèses!$D$6:$F$13,3,0))","v":0},{"$f":"IF(ISNA(I87*VLOOKUP($C87,Hypothèses!$D$6:$F$13,3,0)),0,I87*VLOOKUP($C87,Hypothèses!$D$6:$F$13,3,0))","v":0},{"$f":"IF(ISNA(J87*VLOOKUP($C87,Hypothèses!$D$6:$F$13,3,0)),0,J87*VLOOKUP($C87,Hypothèses!$D$6:$F$13,3,0))","v":0},{"$f":"IF(ISNA(K87*VLOOKUP($C87,Hypothèses!$D$6:$F$13,3,0)),0,K87*VLOOKUP($C87,Hypothèses!$D$6:$F$13,3,0))","v":0},{"$f":"IF(ISNA(L87*VLOOKUP($C87,Hypothèses!$D$6:$F$13,3,0)),0,L87*VLOOKUP($C87,Hypothèses!$D$6:$F$13,3,0))","v":0},{"$f":"IF(ISNA(M87*VLOOKUP($C87,Hypothèses!$D$6:$F$13,3,0)),0,M87*VLOOKUP($C87,Hypothèses!$D$6:$F$13,3,0))","v":0},{"$f":"IF(ISNA(N87*VLOOKUP($C87,Hypothèses!$D$6:$F$13,3,0)),0,N87*VLOOKUP($C87,Hypothèses!$D$6:$F$13,3,0))","v":0},{"$f":"IF(ISNA(O87*VLOOKUP($C87,Hypothèses!$D$6:$F$13,3,0)),0,O87*VLOOKUP($C87,Hypothèses!$D$6:$F$13,3,0))","v":0},{"$f":"IF(ISNA(P87*VLOOKUP($C87,Hypothèses!$D$6:$F$13,3,0)),0,P87*VLOOKUP($C87,Hypothèses!$D$6:$F$13,3,0))","v":0},{"$f":"IF(ISNA(Q87*VLOOKUP($C87,Hypothèses!$D$6:$F$13,3,0)),0,Q87*VLOOKUP($C87,Hypothèses!$D$6:$F$13,3,0))","v":0},{"$f":"IF(ISNA(R87*VLOOKUP($C87,Hypothèses!$D$6:$F$13,3,0)),0,R87*VLOOKUP($C87,Hypothèses!$D$6:$F$13,3,0))","v":0},{"$f":"IF(ISNA(S87*VLOOKUP($C87,Hypothèses!$D$6:$F$13,3,0)),0,S87*VLOOKUP($C87,Hypothèses!$D$6:$F$13,3,0))","v":0},{"$f":"IF(ISNA(#REF!*VLOOKUP($C87,Hypothèses!$D$6:$F$13,3,0)),0,#REF!*VLOOKUP($C87,Hypothèses!$D$6:$F$13,3,0))","v":{"$error":"#REF!"}},{"$f":"IF(ISNA(#REF!*VLOOKUP($C87,Hypothèses!$D$6:$F$13,3,0)),0,#REF!*VLOOKUP($C87,Hypothèses!$D$6:$F$13,3,0))","v":{"$error":"#REF!"}},{"$f":"IF(ISNA(#REF!*VLOOKUP($C87,Hypothèses!$D$6:$F$13,3,0)),0,#REF!*VLOOKUP($C87,Hypothèses!$D$6:$F$13,3,0))","v":{"$error":"#REF!"}},{"$f":"IF(ISNA(#REF!*VLOOKUP($C87,Hypothèses!$D$6:$F$13,3,0)),0,#REF!*VLOOKUP($C87,Hypothèses!$D$6:$F$13,3,0))","v":{"$error":"#REF!"}},{"$f":"IF(ISNA(#REF!*VLOOKUP($C87,Hypothèses!$D$6:$F$13,3,0)),0,#REF!*VLOOKUP($C87,Hypothèses!$D$6:$F$13,3,0))","v":{"$error":"#REF!"}},{"$f":"IF(ISNA(#REF!*VLOOKUP($C87,Hypothèses!$D$6:$F$13,3,0)),0,#REF!*VLOOKUP($C87,Hypothèses!$D$6:$F$13,3,0))","v":{"$error":"#REF!"}},{"$f":"IF(ISNA(#REF!*VLOOKUP($C87,Hypothèses!$D$6:$F$13,3,0)),0,#REF!*VLOOKUP($C87,Hypothèses!$D$6:$F$13,3,0))","v":{"$error":"#REF!"}}]
[81,null,null,{"$f":"IF(ISNA(VLOOKUP(C88,Hypothèses!$D$6:$G$14,4,0)),\"\",VLOOKUP(C88,Hypothèses!$D$6:$G$14,4,0))","v":""},null,null,null,null,null,null,null,null,null,null,null,null,null,null,null,null,null,null,null,null,null,{"$f":"IF(ISNA(E88*VLOOKUP($C88,Hypothèses!$D$6:$F$13,3,0)),0,E88*VLOOKUP($C88,Hypothèses!$D$6:$F$13,3,0))","v":0},{"$f":"IF(ISNA(F88*VLOOKUP($C88,Hypothèses!$D$6:$F$13,3,0)),0,F88*VLOOKUP($C88,Hypothèses!$D$6:$F$13,3,0))","v":0},{"$f":"IF(ISNA(G88*VLOOKUP($C88,Hypothèses!$D$6:$F$13,3,0)),0,G88*VLOOKUP($C88,Hypothèses!$D$6:$F$13,3,0))","v":0},{"$f":"IF(ISNA(H88*VLOOKUP($C88,Hypothèses!$D$6:$F$13,3,0)),0,H88*VLOOKUP($C88,Hypothèses!$D$6:$F$13,3,0))","v":0},{"$f":"IF(ISNA(I88*VLOOKUP($C88,Hypothèses!$D$6:$F$13,3,0)),0,I88*VLOOKUP($C88,Hypothèses!$D$6:$F$13,3,0))","v":0},{"$f":"IF(ISNA(J88*VLOOKUP($C88,Hypothèses!$D$6:$F$13,3,0)),0,J88*VLOOKUP($C88,Hypothèses!$D$6:$F$13,3,0))","v":0},{"$f":"IF(ISNA(K88*VLOOKUP($C88,Hypothèses!$D$6:$F$13,3,0)),0,K88*VLOOKUP($C88,Hypothèses!$D$6:$F$13,3,0))","v":0},{"$f":"IF(ISNA(L88*VLOOKUP($C88,Hypothèses!$D$6:$F$13,3,0)),0,L88*VLOOKUP($C88,Hypothèses!$D$6:$F$13,3,0))","v":0},{"$f":"IF(ISNA(M88*VLOOKUP($C88,Hypothèses!$D$6:$F$13,3,0)),0,M88*VLOOKUP($C88,Hypothèses!$D$6:$F$13,3,0))","v":0},{"$f":"IF(ISNA(N88*VLOOKUP($C88,Hypothèses!$D$6:$F$13,3,0)),0,N88*VLOOKUP($C88,Hypothèses!$D$6:$F$13,3,0))","v":0},{"$f":"IF(ISNA(O88*VLOOKUP($C88,Hypothèses!$D$6:$F$13,3,0)),0,O88*VLOOKUP($C88,Hypothèses!$D$6:$F$13,3,0))","v":0},{"$f":"IF(ISNA(P88*VLOOKUP($C88,Hypothèses!$D$6:$F$13,3,0)),0,P88*VLOOKUP($C88,Hypothèses!$D$6:$F$13,3,0))","v":0},{"$f":"IF(ISNA(Q88*VLOOKUP($C88,Hypothèses!$D$6:$F$13,3,0)),0,Q88*VLOOKUP($C88,Hypothèses!$D$6:$F$13,3,0))","v":0},{"$f":"IF(ISNA(R88*VLOOKUP($C88,Hypothèses!$D$6:$F$13,3,0)),0,R88*VLOOKUP($C88,Hypothèses!$D$6:$F$13,3,0))","v":0},{"$f":"IF(ISNA(S88*VLOOKUP($C88,Hypothèses!$D$6:$F$13,3,0)),0,S88*VLOOKUP($C88,Hypothèses!$D$6:$F$13,3,0))","v":0},{"$f":"IF(ISNA(#REF!*VLOOKUP($C88,Hypothèses!$D$6:$F$13,3,0)),0,#REF!*VLOOKUP($C88,Hypothèses!$D$6:$F$13,3,0))","v":{"$error":"#REF!"}},{"$f":"IF(ISNA(#REF!*VLOOKUP($C88,Hypothèses!$D$6:$F$13,3,0)),0,#REF!*VLOOKUP($C88,Hypothèses!$D$6:$F$13,3,0))","v":{"$error":"#REF!"}},{"$f":"IF(ISNA(#REF!*VLOOKUP($C88,Hypothèses!$D$6:$F$13,3,0)),0,#REF!*VLOOKUP($C88,Hypothèses!$D$6:$F$13,3,0))","v":{"$error":"#REF!"}},{"$f":"IF(ISNA(#REF!*VLOOKUP($C88,Hypothèses!$D$6:$F$13,3,0)),0,#REF!*VLOOKUP($C88,Hypothèses!$D$6:$F$13,3,0))","v":{"$error":"#REF!"}},{"$f":"IF(ISNA(#REF!*VLOOKUP($C88,Hypothèses!$D$6:$F$13,3,0)),0,#REF!*VLOOKUP($C88,Hypothèses!$D$6:$F$13,3,0))","v":{"$error":"#REF!"}},{"$f":"IF(ISNA(#REF!*VLOOKUP($C88,Hypothèses!$D$6:$F$13,3,0)),0,#REF!*VLOOKUP($C88,Hypothèses!$D$6:$F$13,3,0))","v":{"$error":"#REF!"}},{"$f":"IF(ISNA(#REF!*VLOOKUP($C88,Hypothèses!$D$6:$F$13,3,0)),0,#REF!*VLOOKUP($C88,Hypothèses!$D$6:$F$13,3,0))","v":{"$error":"#REF!"}}]
[82,null,null,{"$f":"IF(ISNA(VLOOKUP(C89,Hypothèses!$D$6:$G$14,4,0)),\"\",VLOOKUP(C89,Hypothèses!$D$6:$G$14,4,0))","v":""},null,null,null,null,null,null,null,null,null,null,null,null,null,null,null,null,null,null,null,null,null,{"$f":"IF(ISNA(E89*VLOOKUP($C89,Hypothèses!$D$6:$F$13,3,0)),0,E89*VLOOKUP($C89,Hypothèses!$D$6:$F$13,3,0))","v":0},{"$f":"IF(ISNA(F89*VLOOKUP($C89,Hypothèses!$D$6:$F$13,3,0)),0,F89*VLOOKUP($C89,Hypothèses!$D$6:$F$13,3,0))","v":0},{"$f":"IF(ISNA(G89*VLOOKUP($C89,Hypothèses!$D$6:$F$13,3,0)),0,G89*VLOOKUP($C89,Hypothèses!$D$6:$F$13,3,0))","v":0},{"$f":"IF(ISNA(H89*VLOOKUP($C89,Hypothèses!$D$6:$F$13,3,0)),0,H89*VLOOKUP($C89,Hypothèses!$D$6:$F$13,3,0))","v":0},{"$f":"IF(ISNA(I89*VLOOKUP($C89,Hypothèses!$D$6:$F$13,3,0)),0,I89*VLOOKUP($C89,Hypothèses!$D$6:$F$13,3,0))","v":0},{"$f":"IF(ISNA(J89*VLOOKUP($C89,Hypothèses!$D$6:$F$13,3,0)),0,J89*VLOOKUP($C89,Hypothèses!$D$6:$F$13,3,0))","v":0},{"$f":"IF(ISNA(K89*VLOOKUP($C89,Hypothèses!$D$6:$F$13,3,0)),0,K89*VLOOKUP($C89,Hypothèses!$D$6:$F$13,3,0))","v":0},{"$f":"IF(ISNA(L89*VLOOKUP($C89,Hypothèses!$D$6:$F$13,3,0)),0,L89*VLOOKUP($C89,Hypothèses!$D$6:$F$13,3,0))","v":0},{"$f":"IF(ISNA(M89*VLOOKUP($C89,Hypothèses!$D$6:$F$13,3,0)),0,M89*VLOOKUP($C89,Hypothèses!$D$6:$F$13,3,0))","v":0},{"$f":"IF(ISNA(N89*VLOOKUP($C89,Hypothèses!$D$6:$F$13,3,0)),0,N89*VLOOKUP($C89,Hypothèses!$D$6:$F$13,3,0))","v":0},{"$f":"IF(ISNA(O89*VLOOKUP($C89,Hypothèses!$D$6:$F$13,3,0)),0,O89*VLOOKUP($C89,Hypothèses!$D$6:$F$13,3,0))","v":0},{"$f":"IF(ISNA(P89*VLOOKUP($C89,Hypothèses!$D$6:$F$13,3,0)),0,P89*VLOOKUP($C89,Hypothèses!$D$6:$F$13,3,0))","v":0},{"$f":"IF(ISNA(Q89*VLOOKUP($C89,Hypothèses!$D$6:$F$13,3,0)),0,Q89*VLOOKUP($C89,Hypothèses!$D$6:$F$13,3,0))","v":0},{"$f":"IF(ISNA(R89*VLOOKUP($C89,Hypothèses!$D$6:$F$13,3,0)),0,R89*VLOOKUP($C89,Hypothèses!$D$6:$F$13,3,0))","v":0},{"$f":"IF(ISNA(S89*VLOOKUP($C89,Hypothèses!$D$6:$F$13,3,0)),0,S89*VLOOKUP($C89,Hypothèses!$D$6:$F$13,3,0))","v":0},{"$f":"IF(ISNA(#REF!*VLOOKUP($C89,Hypothèses!$D$6:$F$13,3,0)),0,#REF!*VLOOKUP($C89,Hypothèses!$D$6:$F$13,3,0))","v":{"$error":"#REF!"}},{"$f":"IF(ISNA(#REF!*VLOOKUP($C89,Hypothèses!$D$6:$F$13,3,0)),0,#REF!*VLOOKUP($C89,Hypothèses!$D$6:$F$13,3,0))","v":{"$error":"#REF!"}},{"$f":"IF(ISNA(#REF!*VLOOKUP($C89,Hypothèses!$D$6:$F$13,3,0)),0,#REF!*VLOOKUP($C89,Hypothèses!$D$6:$F$13,3,0))","v":{"$error":"#REF!"}},{"$f":"IF(ISNA(#REF!*VLOOKUP($C89,Hypothèses!$D$6:$F$13,3,0)),0,#REF!*VLOOKUP($C89,Hypothèses!$D$6:$F$13,3,0))","v":{"$error":"#REF!"}},{"$f":"IF(ISNA(#REF!*VLOOKUP($C89,Hypothèses!$D$6:$F$13,3,0)),0,#REF!*VLOOKUP($C89,Hypothèses!$D$6:$F$13,3,0))","v":{"$error":"#REF!"}},{"$f":"IF(ISNA(#REF!*VLOOKUP($C89,Hypothèses!$D$6:$F$13,3,0)),0,#REF!*VLOOKUP($C89,Hypothèses!$D$6:$F$13,3,0))","v":{"$error":"#REF!"}},{"$f":"IF(ISNA(#REF!*VLOOKUP($C89,Hypothèses!$D$6:$F$13,3,0)),0,#REF!*VLOOKUP($C89,Hypothèses!$D$6:$F$13,3,0))","v":{"$error":"#REF!"}}]
[83,null,null,{"$f":"IF(ISNA(VLOOKUP(C90,Hypothèses!$D$6:$G$14,4,0)),\"\",VLOOKUP(C90,Hypothèses!$D$6:$G$14,4,0))","v":""},null,null,null,null,null,null,null,null,null,null,null,null,null,null,null,null,null,null,null,null,null,{"$f":"IF(ISNA(E90*VLOOKUP($C90,Hypothèses!$D$6:$F$13,3,0)),0,E90*VLOOKUP($C90,Hypothèses!$D$6:$F$13,3,0))","v":0},{"$f":"IF(ISNA(F90*VLOOKUP($C90,Hypothèses!$D$6:$F$13,3,0)),0,F90*VLOOKUP($C90,Hypothèses!$D$6:$F$13,3,0))","v":0},{"$f":"IF(ISNA(G90*VLOOKUP($C90,Hypothèses!$D$6:$F$13,3,0)),0,G90*VLOOKUP($C90,Hypothèses!$D$6:$F$13,3,0))","v":0},{"$f":"IF(ISNA(H90*VLOOKUP($C90,Hypothèses!$D$6:$F$13,3,0)),0,H90*VLOOKUP($C90,Hypothèses!$D$6:$F$13,3,0))","v":0},{"$f":"IF(ISNA(I90*VLOOKUP($C90,Hypothèses!$D$6:$F$13,3,0)),0,I90*VLOOKUP($C90,Hypothèses!$D$6:$F$13,3,0))","v":0},{"$f":"IF(ISNA(J90*VLOOKUP($C90,Hypothèses!$D$6:$F$13,3,0)),0,J90*VLOOKUP($C90,Hypothèses!$D$6:$F$13,3,0))","v":0},{"$f":"IF(ISNA(K90*VLOOKUP($C90,Hypothèses!$D$6:$F$13,3,0)),0,K90*VLOOKUP($C90,Hypothèses!$D$6:$F$13,3,0))","v":0},{"$f":"IF(ISNA(L90*VLOOKUP($C90,Hypothèses!$D$6:$F$13,3,0)),0,L90*VLOOKUP($C90,Hypothèses!$D$6:$F$13,3,0))","v":0},{"$f":"IF(ISNA(M90*VLOOKUP($C90,Hypothèses!$D$6:$F$13,3,0)),0,M90*VLOOKUP($C90,Hypothèses!$D$6:$F$13,3,0))","v":0},{"$f":"IF(ISNA(N90*VLOOKUP($C90,Hypothèses!$D$6:$F$13,3,0)),0,N90*VLOOKUP($C90,Hypothèses!$D$6:$F$13,3,0))","v":0},{"$f":"IF(ISNA(O90*VLOOKUP($C90,Hypothèses!$D$6:$F$13,3,0)),0,O90*VLOOKUP($C90,Hypothèses!$D$6:$F$13,3,0))","v":0},{"$f":"IF(ISNA(P90*VLOOKUP($C90,Hypothèses!$D$6:$F$13,3,0)),0,P90*VLOOKUP($C90,Hypothèses!$D$6:$F$13,3,0))","v":0},{"$f":"IF(ISNA(Q90*VLOOKUP($C90,Hypothèses!$D$6:$F$13,3,0)),0,Q90*VLOOKUP($C90,Hypothèses!$D$6:$F$13,3,0))","v":0},{"$f":"IF(ISNA(R90*VLOOKUP($C90,Hypothèses!$D$6:$F$13,3,0)),0,R90*VLOOKUP($C90,Hypothèses!$D$6:$F$13,3,0))","v":0},{"$f":"IF(ISNA(S90*VLOOKUP($C90,Hypothèses!$D$6:$F$13,3,0)),0,S90*VLOOKUP($C90,Hypothèses!$D$6:$F$13,3,0))","v":0},{"$f":"IF(ISNA(#REF!*VLOOKUP($C90,Hypothèses!$D$6:$F$13,3,0)),0,#REF!*VLOOKUP($C90,Hypothèses!$D$6:$F$13,3,0))","v":{"$error":"#REF!"}},{"$f":"IF(ISNA(#REF!*VLOOKUP($C90,Hypothèses!$D$6:$F$13,3,0)),0,#REF!*VLOOKUP($C90,Hypothèses!$D$6:$F$13,3,0))","v":{"$error":"#REF!"}},{"$f":"IF(ISNA(#REF!*VLOOKUP($C90,Hypothèses!$D$6:$F$13,3,0)),0,#REF!*VLOOKUP($C90,Hypothèses!$D$6:$F$13,3,0))","v":{"$error":"#REF!"}},{"$f":"IF(ISNA(#REF!*VLOOKUP($C90,Hypothèses!$D$6:$F$13,3,0)),0,#REF!*VLOOKUP($C90,Hypothèses!$D$6:$F$13,3,0))","v":{"$error":"#REF!"}},{"$f":"IF(ISNA(#REF!*VLOOKUP($C90,Hypothèses!$D$6:$F$13,3,0)),0,#REF!*VLOOKUP($C90,Hypothèses!$D$6:$F$13,3,0))","v":{"$error":"#REF!"}},{"$f":"IF(ISNA(#REF!*VLOOKUP($C90,Hypothèses!$D$6:$F$13,3,0)),0,#REF!*VLOOKUP($C90,Hypothèses!$D$6:$F$13,3,0))","v":{"$error":"#REF!"}},{"$f":"IF(ISNA(#REF!*VLOOKUP($C90,Hypothèses!$D$6:$F$13,3,0)),0,#REF!*VLOOKUP($C90,Hypothèses!$D$6:$F$13,3,0))","v":{"$error":"#REF!"}}]
[84,null,null,{"$f":"IF(ISNA(VLOOKUP(C91,Hypothèses!$D$6:$G$14,4,0)),\"\",VLOOKUP(C91,Hypothèses!$D$6:$G$14,4,0))","v":""},null,null,null,null,null,null,null,null,null,null,null,null,null,null,null,null,null,null,null,null,null,{"$f":"IF(ISNA(E91*VLOOKUP($C91,Hypothèses!$D$6:$F$13,3,0)),0,E91*VLOOKUP($C91,Hypothèses!$D$6:$F$13,3,0))","v":0},{"$f":"IF(ISNA(F91*VLOOKUP($C91,Hypothèses!$D$6:$F$13,3,0)),0,F91*VLOOKUP($C91,Hypothèses!$D$6:$F$13,3,0))","v":0},{"$f":"IF(ISNA(G91*VLOOKUP($C91,Hypothèses!$D$6:$F$13,3,0)),0,G91*VLOOKUP($C91,Hypothèses!$D$6:$F$13,3,0))","v":0},{"$f":"IF(ISNA(H91*VLOOKUP($C91,Hypothèses!$D$6:$F$13,3,0)),0,H91*VLOOKUP($C91,Hypothèses!$D$6:$F$13,3,0))","v":0},{"$f":"IF(ISNA(I91*VLOOKUP($C91,Hypothèses!$D$6:$F$13,3,0)),0,I91*VLOOKUP($C91,Hypothèses!$D$6:$F$13,3,0))","v":0},{"$f":"IF(ISNA(J91*VLOOKUP($C91,Hypothèses!$D$6:$F$13,3,0)),0,J91*VLOOKUP($C91,Hypothèses!$D$6:$F$13,3,0))","v":0},{"$f":"IF(ISNA(K91*VLOOKUP($C91,Hypothèses!$D$6:$F$13,3,0)),0,K91*VLOOKUP($C91,Hypothèses!$D$6:$F$13,3,0))","v":0},{"$f":"IF(ISNA(L91*VLOOKUP($C91,Hypothèses!$D$6:$F$13,3,0)),0,L91*VLOOKUP($C91,Hypothèses!$D$6:$F$13,3,0))","v":0},{"$f":"IF(ISNA(M91*VLOOKUP($C91,Hypothèses!$D$6:$F$13,3,0)),0,M91*VLOOKUP($C91,Hypothèses!$D$6:$F$13,3,0))","v":0},{"$f":"IF(ISNA(N91*VLOOKUP($C91,Hypothèses!$D$6:$F$13,3,0)),0,N91*VLOOKUP($C91,Hypothèses!$D$6:$F$13,3,0))","v":0},{"$f":"IF(ISNA(O91*VLOOKUP($C91,Hypothèses!$D$6:$F$13,3,0)),0,O91*VLOOKUP($C91,Hypothèses!$D$6:$F$13,3,0))","v":0},{"$f":"IF(ISNA(P91*VLOOKUP($C91,Hypothèses!$D$6:$F$13,3,0)),0,P91*VLOOKUP($C91,Hypothèses!$D$6:$F$13,3,0))","v":0},{"$f":"IF(ISNA(Q91*VLOOKUP($C91,Hypothèses!$D$6:$F$13,3,0)),0,Q91*VLOOKUP($C91,Hypothèses!$D$6:$F$13,3,0))","v":0},{"$f":"IF(ISNA(R91*VLOOKUP($C91,Hypothèses!$D$6:$F$13,3,0)),0,R91*VLOOKUP($C91,Hypothèses!$D$6:$F$13,3,0))","v":0},{"$f":"IF(ISNA(S91*VLOOKUP($C91,Hypothèses!$D$6:$F$13,3,0)),0,S91*VLOOKUP($C91,Hypothèses!$D$6:$F$13,3,0))","v":0},{"$f":"IF(ISNA(#REF!*VLOOKUP($C91,Hypothèses!$D$6:$F$13,3,0)),0,#REF!*VLOOKUP($C91,Hypothèses!$D$6:$F$13,3,0))","v":{"$error":"#REF!"}},{"$f":"IF(ISNA(#REF!*VLOOKUP($C91,Hypothèses!$D$6:$F$13,3,0)),0,#REF!*VLOOKUP($C91,Hypothèses!$D$6:$F$13,3,0))","v":{"$error":"#REF!"}},{"$f":"IF(ISNA(#REF!*VLOOKUP($C91,Hypothèses!$D$6:$F$13,3,0)),0,#REF!*VLOOKUP($C91,Hypothèses!$D$6:$F$13,3,0))","v":{"$error":"#REF!"}},{"$f":"IF(ISNA(#REF!*VLOOKUP($C91,Hypothèses!$D$6:$F$13,3,0)),0,#REF!*VLOOKUP($C91,Hypothèses!$D$6:$F$13,3,0))","v":{"$error":"#REF!"}},{"$f":"IF(ISNA(#REF!*VLOOKUP($C91,Hypothèses!$D$6:$F$13,3,0)),0,#REF!*VLOOKUP($C91,Hypothèses!$D$6:$F$13,3,0))","v":{"$error":"#REF!"}},{"$f":"IF(ISNA(#REF!*VLOOKUP($C91,Hypothèses!$D$6:$F$13,3,0)),0,#REF!*VLOOKUP($C91,Hypothèses!$D$6:$F$13,3,0))","v":{"$error":"#REF!"}},{"$f":"IF(ISNA(#REF!*VLOOKUP($C91,Hypothèses!$D$6:$F$13,3,0)),0,#REF!*VLOOKUP($C91,Hypothèses!$D$6:$F$13,3,0))","v":{"$error":"#REF!"}}]
[85,null,null,{"$f":"IF(ISNA(VLOOKUP(C92,Hypothèses!$D$6:$G$14,4,0)),\"\",VLOOKUP(C92,Hypothèses!$D$6:$G$14,4,0))","v":""},null,null,null,null,null,null,null,null,null,null,null,null,null,null,null,null,null,null,null,null,null,{"$f":"IF(ISNA(E92*VLOOKUP($C92,Hypothèses!$D$6:$F$13,3,0)),0,E92*VLOOKUP($C92,Hypothèses!$D$6:$F$13,3,0))","v":0},{"$f":"IF(ISNA(F92*VLOOKUP($C92,Hypothèses!$D$6:$F$13,3,0)),0,F92*VLOOKUP($C92,Hypothèses!$D$6:$F$13,3,0))","v":0},{"$f":"IF(ISNA(G92*VLOOKUP($C92,Hypothèses!$D$6:$F$13,3,0)),0,G92*VLOOKUP($C92,Hypothèses!$D$6:$F$13,3,0))","v":0},{"$f":"IF(ISNA(H92*VLOOKUP($C92,Hypothèses!$D$6:$F$13,3,0)),0,H92*VLOOKUP($C92,Hypothèses!$D$6:$F$13,3,0))","v":0},{"$f":"IF(ISNA(I92*VLOOKUP($C92,Hypothèses!$D$6:$F$13,3,0)),0,I92*VLOOKUP($C92,Hypothèses!$D$6:$F$13,3,0))","v":0},{"$f":"IF(ISNA(J92*VLOOKUP($C92,Hypothèses!$D$6:$F$13,3,0)),0,J92*VLOOKUP($C92,Hypothèses!$D$6:$F$13,3,0))","v":0},{"$f":"IF(ISNA(K92*VLOOKUP($C92,Hypothèses!$D$6:$F$13,3,0)),0,K92*VLOOKUP($C92,Hypothèses!$D$6:$F$13,3,0))","v":0},{"$f":"IF(ISNA(L92*VLOOKUP($C92,Hypothèses!$D$6:$F$13,3,0)),0,L92*VLOOKUP($C92,Hypothèses!$D$6:$F$13,3,0))","v":0},{"$f":"IF(ISNA(M92*VLOOKUP($C92,Hypothèses!$D$6:$F$13,3,0)),0,M92*VLOOKUP($C92,Hypothèses!$D$6:$F$13,3,0))","v":0},{"$f":"IF(ISNA(N92*VLOOKUP($C92,Hypothèses!$D$6:$F$13,3,0)),0,N92*VLOOKUP($C92,Hypothèses!$D$6:$F$13,3,0))","v":0},{"$f":"IF(ISNA(O92*VLOOKUP($C92,Hypothèses!$D$6:$F$13,3,0)),0,O92*VLOOKUP($C92,Hypothèses!$D$6:$F$13,3,0))","v":0},{"$f":"IF(ISNA(P92*VLOOKUP($C92,Hypothèses!$D$6:$F$13,3,0)),0,P92*VLOOKUP($C92,Hypothèses!$D$6:$F$13,3,0))","v":0},{"$f":"IF(ISNA(Q92*VLOOKUP($C92,Hypothèses!$D$6:$F$13,3,0)),0,Q92*VLOOKUP($C92,Hypothèses!$D$6:$F$13,3,0))","v":0},{"$f":"IF(ISNA(R92*VLOOKUP($C92,Hypothèses!$D$6:$F$13,3,0)),0,R92*VLOOKUP($C92,Hypothèses!$D$6:$F$13,3,0))","v":0},{"$f":"IF(ISNA(S92*VLOOKUP($C92,Hypothèses!$D$6:$F$13,3,0)),0,S92*VLOOKUP($C92,Hypothèses!$D$6:$F$13,3,0))","v":0},{"$f":"IF(ISNA(#REF!*VLOOKUP($C92,Hypothèses!$D$6:$F$13,3,0)),0,#REF!*VLOOKUP($C92,Hypothèses!$D$6:$F$13,3,0))","v":{"$error":"#REF!"}},{"$f":"IF(ISNA(#REF!*VLOOKUP($C92,Hypothèses!$D$6:$F$13,3,0)),0,#REF!*VLOOKUP($C92,Hypothèses!$D$6:$F$13,3,0))","v":{"$error":"#REF!"}},{"$f":"IF(ISNA(#REF!*VLOOKUP($C92,Hypothèses!$D$6:$F$13,3,0)),0,#REF!*VLOOKUP($C92,Hypothèses!$D$6:$F$13,3,0))","v":{"$error":"#REF!"}},{"$f":"IF(ISNA(#REF!*VLOOKUP($C92,Hypothèses!$D$6:$F$13,3,0)),0,#REF!*VLOOKUP($C92,Hypothèses!$D$6:$F$13,3,0))","v":{"$error":"#REF!"}},{"$f":"IF(ISNA(#REF!*VLOOKUP($C92,Hypothèses!$D$6:$F$13,3,0)),0,#REF!*VLOOKUP($C92,Hypothèses!$D$6:$F$13,3,0))","v":{"$error":"#REF!"}},{"$f":"IF(ISNA(#REF!*VLOOKUP($C92,Hypothèses!$D$6:$F$13,3,0)),0,#REF!*VLOOKUP($C92,Hypothèses!$D$6:$F$13,3,0))","v":{"$error":"#REF!"}},{"$f":"IF(ISNA(#REF!*VLOOKUP($C92,Hypothèses!$D$6:$F$13,3,0)),0,#REF!*VLOOKUP($C92,Hypothèses!$D$6:$F$13,3,0))","v":{"$error":"#REF!"}}]
[86,null,null,{"$f":"IF(ISNA(VLOOKUP(C93,Hypothèses!$D$6:$G$14,4,0)),\"\",VLOOKUP(C93,Hypothèses!$D$6:$G$14,4,0))","v":""},null,null,null,null,null,null,null,null,null,null,null,null,null,null,null,null,null,null,null,null,null,{"$f":"IF(ISNA(E93*VLOOKUP($C93,Hypothèses!$D$6:$F$13,3,0)),0,E93*VLOOKUP($C93,Hypothèses!$D$6:$F$13,3,0))","v":0},{"$f":"IF(ISNA(F93*VLOOKUP($C93,Hypothèses!$D$6:$F$13,3,0)),0,F93*VLOOKUP($C93,Hypothèses!$D$6:$F$13,3,0))","v":0},{"$f":"IF(ISNA(G93*VLOOKUP($C93,Hypothèses!$D$6:$F$13,3,0)),0,G93*VLOOKUP($C93,Hypothèses!$D$6:$F$13,3,0))","v":0},{"$f":"IF(ISNA(H93*VLOOKUP($C93,Hypothèses!$D$6:$F$13,3,0)),0,H93*VLOOKUP($C93,Hypothèses!$D$6:$F$13,3,0))","v":0},{"$f":"IF(ISNA(I93*VLOOKUP($C93,Hypothèses!$D$6:$F$13,3,0)),0,I93*VLOOKUP($C93,Hypothèses!$D$6:$F$13,3,0))","v":0},{"$f":"IF(ISNA(J93*VLOOKUP($C93,Hypothèses!$D$6:$F$13,3,0)),0,J93*VLOOKUP($C93,Hypothèses!$D$6:$F$13,3,0))","v":0},{"$f":"IF(ISNA(K93*VLOOKUP($C93,Hypothèses!$D$6:$F$13,3,0)),0,K93*VLOOKUP($C93,Hypothèses!$D$6:$F$13,3,0))","v":0},{"$f":"IF(ISNA(L93*VLOOKUP($C93,Hypothèses!$D$6:$F$13,3,0)),0,L93*VLOOKUP($C93,Hypothèses!$D$6:$F$13,3,0))","v":0},{"$f":"IF(ISNA(M93*VLOOKUP($C93,Hypothèses!$D$6:$F$13,3,0)),0,M93*VLOOKUP($C93,Hypothèses!$D$6:$F$13,3,0))","v":0},{"$f":"IF(ISNA(N93*VLOOKUP($C93,Hypothèses!$D$6:$F$13,3,0)),0,N93*VLOOKUP($C93,Hypothèses!$D$6:$F$13,3,0))","v":0},{"$f":"IF(ISNA(O93*VLOOKUP($C93,Hypothèses!$D$6:$F$13,3,0)),0,O93*VLOOKUP($C93,Hypothèses!$D$6:$F$13,3,0))","v":0},{"$f":"IF(ISNA(P93*VLOOKUP($C93,Hypothèses!$D$6:$F$13,3,0)),0,P93*VLOOKUP($C93,Hypothèses!$D$6:$F$13,3,0))","v":0},{"$f":"IF(ISNA(Q93*VLOOKUP($C93,Hypothèses!$D$6:$F$13,3,0)),0,Q93*VLOOKUP($C93,Hypothèses!$D$6:$F$13,3,0))","v":0},{"$f":"IF(ISNA(R93*VLOOKUP($C93,Hypothèses!$D$6:$F$13,3,0)),0,R93*VLOOKUP($C93,Hypothèses!$D$6:$F$13,3,0))","v":0},{"$f":"IF(ISNA(S93*VLOOKUP($C93,Hypothèses!$D$6:$F$13,3,0)),0,S93*VLOOKUP($C93,Hypothèses!$D$6:$F$13,3,0))","v":0},{"$f":"IF(ISNA(#REF!*VLOOKUP($C93,Hypothèses!$D$6:$F$13,3,0)),0,#REF!*VLOOKUP($C93,Hypothèses!$D$6:$F$13,3,0))","v":{"$error":"#REF!"}},{"$f":"IF(ISNA(#REF!*VLOOKUP($C93,Hypothèses!$D$6:$F$13,3,0)),0,#REF!*VLOOKUP($C93,Hypothèses!$D$6:$F$13,3,0))","v":{"$error":"#REF!"}},{"$f":"IF(ISNA(#REF!*VLOOKUP($C93,Hypothèses!$D$6:$F$13,3,0)),0,#REF!*VLOOKUP($C93,Hypothèses!$D$6:$F$13,3,0))","v":{"$error":"#REF!"}},{"$f":"IF(ISNA(#REF!*VLOOKUP($C93,Hypothèses!$D$6:$F$13,3,0)),0,#REF!*VLOOKUP($C93,Hypothèses!$D$6:$F$13,3,0))","v":{"$error":"#REF!"}},{"$f":"IF(ISNA(#REF!*VLOOKUP($C93,Hypothèses!$D$6:$F$13,3,0)),0,#REF!*VLOOKUP($C93,Hypothèses!$D$6:$F$13,3,0))","v":{"$error":"#REF!"}},{"$f":"IF(ISNA(#REF!*VLOOKUP($C93,Hypothèses!$D$6:$F$13,3,0)),0,#REF!*VLOOKUP($C93,Hypothèses!$D$6:$F$13,3,0))","v":{"$error":"#REF!"}},{"$f":"IF(ISNA(#REF!*VLOOKUP($C93,Hypothèses!$D$6:$F$13,3,0)),0,#REF!*VLOOKUP($C93,Hypothèses!$D$6:$F$13,3,0))","v":{"$error":"#REF!"}}]
[87,null,null,{"$f":"IF(ISNA(VLOOKUP(C94,Hypothèses!$D$6:$G$14,4,0)),\"\",VLOOKUP(C94,Hypothèses!$D$6:$G$14,4,0))","v":""},null,null,null,null,null,null,null,null,null,null,null,null,null,null,null,null,null,null,null,null,null,{"$f":"IF(ISNA(E94*VLOOKUP($C94,Hypothèses!$D$6:$F$13,3,0)),0,E94*VLOOKUP($C94,Hypothèses!$D$6:$F$13,3,0))","v":0},{"$f":"IF(ISNA(F94*VLOOKUP($C94,Hypothèses!$D$6:$F$13,3,0)),0,F94*VLOOKUP($C94,Hypothèses!$D$6:$F$13,3,0))","v":0},{"$f":"IF(ISNA(G94*VLOOKUP($C94,Hypothèses!$D$6:$F$13,3,0)),0,G94*VLOOKUP($C94,Hypothèses!$D$6:$F$13,3,0))","v":0},{"$f":"IF(ISNA(H94*VLOOKUP($C94,Hypothèses!$D$6:$F$13,3,0)),0,H94*VLOOKUP($C94,Hypothèses!$D$6:$F$13,3,0))","v":0},{"$f":"IF(ISNA(I94*VLOOKUP($C94,Hypothèses!$D$6:$F$13,3,0)),0,I94*VLOOKUP($C94,Hypothèses!$D$6:$F$13,3,0))","v":0},{"$f":"IF(ISNA(J94*VLOOKUP($C94,Hypothèses!$D$6:$F$13,3,0)),0,J94*VLOOKUP($C94,Hypothèses!$D$6:$F$13,3,0))","v":0},{"$f":"IF(ISNA(K94*VLOOKUP($C94,Hypothèses!$D$6:$F$13,3,0)),0,K94*VLOOKUP($C94,Hypothèses!$D$6:$F$13,3,0))","v":0},{"$f":"IF(ISNA(L94*VLOOKUP($C94,Hypothèses!$D$6:$F$13,3,0)),0,L94*VLOOKUP($C94,Hypothèses!$D$6:$F$13,3,0))","v":0},{"$f":"IF(ISNA(M94*VLOOKUP($C94,Hypothèses!$D$6:$F$13,3,0)),0,M94*VLOOKUP($C94,Hypothèses!$D$6:$F$13,3,0))","v":0},{"$f":"IF(ISNA(N94*VLOOKUP($C94,Hypothèses!$D$6:$F$13,3,0)),0,N94*VLOOKUP($C94,Hypothèses!$D$6:$F$13,3,0))","v":0},{"$f":"IF(ISNA(O94*VLOOKUP($C94,Hypothèses!$D$6:$F$13,3,0)),0,O94*VLOOKUP($C94,Hypothèses!$D$6:$F$13,3,0))","v":0},{"$f":"IF(ISNA(P94*VLOOKUP($C94,Hypothèses!$D$6:$F$13,3,0)),0,P94*VLOOKUP($C94,Hypothèses!$D$6:$F$13,3,0))","v":0},{"$f":"IF(ISNA(Q94*VLOOKUP($C94,Hypothèses!$D$6:$F$13,3,0)),0,Q94*VLOOKUP($C94,Hypothèses!$D$6:$F$13,3,0))","v":0},{"$f":"IF(ISNA(R94*VLOOKUP($C94,Hypothèses!$D$6:$F$13,3,0)),0,R94*VLOOKUP($C94,Hypothèses!$D$6:$F$13,3,0))","v":0},{"$f":"IF(ISNA(S94*VLOOKUP($C94,Hypothèses!$D$6:$F$13,3,0)),0,S94*VLOOKUP($C94,Hypothèses!$D$6:$F$13,3,0))","v":0},{"$f":"IF(ISNA(#REF!*VLOOKUP($C94,Hypothèses!$D$6:$F$13,3,0)),0,#REF!*VLOOKUP($C94,Hypothèses!$D$6:$F$13,3,0))","v":{"$error":"#REF!"}},{"$f":"IF(ISNA(#REF!*VLOOKUP($C94,Hypothèses!$D$6:$F$13,3,0)),0,#REF!*VLOOKUP($C94,Hypothèses!$D$6:$F$13,3,0))","v":{"$error":"#REF!"}},{"$f":"IF(ISNA(#REF!*VLOOKUP($C94,Hypothèses!$D$6:$F$13,3,0)),0,#REF!*VLOOKUP($C94,Hypothèses!$D$6:$F$13,3,0))","v":{"$error":"#REF!"}},{"$f":"IF(ISNA(#REF!*VLOOKUP($C94,Hypothèses!$D$6:$F$13,3,0)),0,#REF!*VLOOKUP($C94,Hypothèses!$D$6:$F$13,3,0))","v":{"$error":"#REF!"}},{"$f":"IF(ISNA(#REF!*VLOOKUP($C94,Hypothèses!$D$6:$F$13,3,0)),0,#REF!*VLOOKUP($C94,Hypothèses!$D$6:$F$13,3,0))","v":{"$error":"#REF!"}},{"$f":"IF(ISNA(#REF!*VLOOKUP($C94,Hypothèses!$D$6:$F$13,3,0)),0,#REF!*VLOOKUP($C94,Hypothèses!$D$6:$F$13,3,0))","v":{"$error":"#REF!"}},{"$f":"IF(ISNA(#REF!*VLOOKUP($C94,Hypothèses!$D$6:$F$13,3,0)),0,#REF!*VLOOKUP($C94,Hypothèses!$D$6:$F$13,3,0))","v":{"$error":"#REF!"}}]
[88,null,null,{"$f":"IF(ISNA(VLOOKUP(C95,Hypothèses!$D$6:$G$14,4,0)),\"\",VLOOKUP(C95,Hypothèses!$D$6:$G$14,4,0))","v":""},null,null,null,null,null,null,null,null,null,null,null,null,null,null,null,null,null,null,null,null,null,{"$f":"IF(ISNA(E95*VLOOKUP($C95,Hypothèses!$D$6:$F$13,3,0)),0,E95*VLOOKUP($C95,Hypothèses!$D$6:$F$13,3,0))","v":0},{"$f":"IF(ISNA(F95*VLOOKUP($C95,Hypothèses!$D$6:$F$13,3,0)),0,F95*VLOOKUP($C95,Hypothèses!$D$6:$F$13,3,0))","v":0},{"$f":"IF(ISNA(G95*VLOOKUP($C95,Hypothèses!$D$6:$F$13,3,0)),0,G95*VLOOKUP($C95,Hypothèses!$D$6:$F$13,3,0))","v":0},{"$f":"IF(ISNA(H95*VLOOKUP($C95,Hypothèses!$D$6:$F$13,3,0)),0,H95*VLOOKUP($C95,Hypothèses!$D$6:$F$13,3,0))","v":0},{"$f":"IF(ISNA(I95*VLOOKUP($C95,Hypothèses!$D$6:$F$13,3,0)),0,I95*VLOOKUP($C95,Hypothèses!$D$6:$F$13,3,0))","v":0},{"$f":"IF(ISNA(J95*VLOOKUP($C95,Hypothèses!$D$6:$F$13,3,0)),0,J95*VLOOKUP($C95,Hypothèses!$D$6:$F$13,3,0))","v":0},{"$f":"IF(ISNA(K95*VLOOKUP($C95,Hypothèses!$D$6:$F$13,3,0)),0,K95*VLOOKUP($C95,Hypothèses!$D$6:$F$13,3,0))","v":0},{"$f":"IF(ISNA(L95*VLOOKUP($C95,Hypothèses!$D$6:$F$13,3,0)),0,L95*VLOOKUP($C95,Hypothèses!$D$6:$F$13,3,0))","v":0},{"$f":"IF(ISNA(M95*VLOOKUP($C95,Hypothèses!$D$6:$F$13,3,0)),0,M95*VLOOKUP($C95,Hypothèses!$D$6:$F$13,3,0))","v":0},{"$f":"IF(ISNA(N95*VLOOKUP($C95,Hypothèses!$D$6:$F$13,3,0)),0,N95*VLOOKUP($C95,Hypothèses!$D$6:$F$13,3,0))","v":0},{"$f":"IF(ISNA(O95*VLOOKUP($C95,Hypothèses!$D$6:$F$13,3,0)),0,O95*VLOOKUP($C95,Hypothèses!$D$6:$F$13,3,0))","v":0},{"$f":"IF(ISNA(P95*VLOOKUP($C95,Hypothèses!$D$6:$F$13,3,0)),0,P95*VLOOKUP($C95,Hypothèses!$D$6:$F$13,3,0))","v":0},{"$f":"IF(ISNA(Q95*VLOOKUP($C95,Hypothèses!$D$6:$F$13,3,0)),0,Q95*VLOOKUP($C95,Hypothèses!$D$6:$F$13,3,0))","v":0},{"$f":"IF(ISNA(R95*VLOOKUP($C95,Hypothèses!$D$6:$F$13,3,0)),0,R95*VLOOKUP($C95,Hypothèses!$D$6:$F$13,3,0))","v":0},{"$f":"IF(ISNA(S95*VLOOKUP($C95,Hypothèses!$D$6:$F$13,3,0)),0,S95*VLOOKUP($C95,Hypothèses!$D$6:$F$13,3,0))","v":0},{"$f":"IF(ISNA(#REF!*VLOOKUP($C95,Hypothèses!$D$6:$F$13,3,0)),0,#REF!*VLOOKUP($C95,Hypothèses!$D$6:$F$13,3,0))","v":{"$error":"#REF!"}},{"$f":"IF(ISNA(#REF!*VLOOKUP($C95,Hypothèses!$D$6:$F$13,3,0)),0,#REF!*VLOOKUP($C95,Hypothèses!$D$6:$F$13,3,0))","v":{"$error":"#REF!"}},{"$f":"IF(ISNA(#REF!*VLOOKUP($C95,Hypothèses!$D$6:$F$13,3,0)),0,#REF!*VLOOKUP($C95,Hypothèses!$D$6:$F$13,3,0))","v":{"$error":"#REF!"}},{"$f":"IF(ISNA(#REF!*VLOOKUP($C95,Hypothèses!$D$6:$F$13,3,0)),0,#REF!*VLOOKUP($C95,Hypothèses!$D$6:$F$13,3,0))","v":{"$error":"#REF!"}},{"$f":"IF(ISNA(#REF!*VLOOKUP($C95,Hypothèses!$D$6:$F$13,3,0)),0,#REF!*VLOOKUP($C95,Hypothèses!$D$6:$F$13,3,0))","v":{"$error":"#REF!"}},{"$f":"IF(ISNA(#REF!*VLOOKUP($C95,Hypothèses!$D$6:$F$13,3,0)),0,#REF!*VLOOKUP($C95,Hypothèses!$D$6:$F$13,3,0))","v":{"$error":"#REF!"}},{"$f":"IF(ISNA(#REF!*VLOOKUP($C95,Hypothèses!$D$6:$F$13,3,0)),0,#REF!*VLOOKUP($C95,Hypothèses!$D$6:$F$13,3,0))","v":{"$error":"#REF!"}}]
[89,null,null,{"$f":"IF(ISNA(VLOOKUP(C96,Hypothèses!$D$6:$G$14,4,0)),\"\",VLOOKUP(C96,Hypothèses!$D$6:$G$14,4,0))","v":""},null,null,null,null,null,null,null,null,null,null,null,null,null,null,null,null,null,null,null,null,null,{"$f":"IF(ISNA(E96*VLOOKUP($C96,Hypothèses!$D$6:$F$13,3,0)),0,E96*VLOOKUP($C96,Hypothèses!$D$6:$F$13,3,0))","v":0},{"$f":"IF(ISNA(F96*VLOOKUP($C96,Hypothèses!$D$6:$F$13,3,0)),0,F96*VLOOKUP($C96,Hypothèses!$D$6:$F$13,3,0))","v":0},{"$f":"IF(ISNA(G96*VLOOKUP($C96,Hypothèses!$D$6:$F$13,3,0)),0,G96*VLOOKUP($C96,Hypothèses!$D$6:$F$13,3,0))","v":0},{"$f":"IF(ISNA(H96*VLOOKUP($C96,Hypothèses!$D$6:$F$13,3,0)),0,H96*VLOOKUP($C96,Hypothèses!$D$6:$F$13,3,0))","v":0},{"$f":"IF(ISNA(I96*VLOOKUP($C96,Hypothèses!$D$6:$F$13,3,0)),0,I96*VLOOKUP($C96,Hypothèses!$D$6:$F$13,3,0))","v":0},{"$f":"IF(ISNA(J96*VLOOKUP($C96,Hypothèses!$D$6:$F$13,3,0)),0,J96*VLOOKUP($C96,Hypothèses!$D$6:$F$13,3,0))","v":0},{"$f":"IF(ISNA(K96*VLOOKUP($C96,Hypothèses!$D$6:$F$13,3,0)),0,K96*VLOOKUP($C96,Hypothèses!$D$6:$F$13,3,0))","v":0},{"$f":"IF(ISNA(L96*VLOOKUP($C96,Hypothèses!$D$6:$F$13,3,0)),0,L96*VLOOKUP($C96,Hypothèses!$D$6:$F$13,3,0))","v":0},{"$f":"IF(ISNA(M96*VLOOKUP($C96,Hypothèses!$D$6:$F$13,3,0)),0,M96*VLOOKUP($C96,Hypothèses!$D$6:$F$13,3,0))","v":0},{"$f":"IF(ISNA(N96*VLOOKUP($C96,Hypothèses!$D$6:$F$13,3,0)),0,N96*VLOOKUP($C96,Hypothèses!$D$6:$F$13,3,0))","v":0},{"$f":"IF(ISNA(O96*VLOOKUP($C96,Hypothèses!$D$6:$F$13,3,0)),0,O96*VLOOKUP($C96,Hypothèses!$D$6:$F$13,3,0))","v":0},{"$f":"IF(ISNA(P96*VLOOKUP($C96,Hypothèses!$D$6:$F$13,3,0)),0,P96*VLOOKUP($C96,Hypothèses!$D$6:$F$13,3,0))","v":0},{"$f":"IF(ISNA(Q96*VLOOKUP($C96,Hypothèses!$D$6:$F$13,3,0)),0,Q96*VLOOKUP($C96,Hypothèses!$D$6:$F$13,3,0))","v":0},{"$f":"IF(ISNA(R96*VLOOKUP($C96,Hypothèses!$D$6:$F$13,3,0)),0,R96*VLOOKUP($C96,Hypothèses!$D$6:$F$13,3,0))","v":0},{"$f":"IF(ISNA(S96*VLOOKUP($C96,Hypothèses!$D$6:$F$13,3,0)),0,S96*VLOOKUP($C96,Hypothèses!$D$6:$F$13,3,0))","v":0},{"$f":"IF(ISNA(#REF!*VLOOKUP($C96,Hypothèses!$D$6:$F$13,3,0)),0,#REF!*VLOOKUP($C96,Hypothèses!$D$6:$F$13,3,0))","v":{"$error":"#REF!"}},{"$f":"IF(ISNA(#REF!*VLOOKUP($C96,Hypothèses!$D$6:$F$13,3,0)),0,#REF!*VLOOKUP($C96,Hypothèses!$D$6:$F$13,3,0))","v":{"$error":"#REF!"}},{"$f":"IF(ISNA(#REF!*VLOOKUP($C96,Hypothèses!$D$6:$F$13,3,0)),0,#REF!*VLOOKUP($C96,Hypothèses!$D$6:$F$13,3,0))","v":{"$error":"#REF!"}},{"$f":"IF(ISNA(#REF!*VLOOKUP($C96,Hypothèses!$D$6:$F$13,3,0)),0,#REF!*VLOOKUP($C96,Hypothèses!$D$6:$F$13,3,0))","v":{"$error":"#REF!"}},{"$f":"IF(ISNA(#REF!*VLOOKUP($C96,Hypothèses!$D$6:$F$13,3,0)),0,#REF!*VLOOKUP($C96,Hypothèses!$D$6:$F$13,3,0))","v":{"$error":"#REF!"}},{"$f":"IF(ISNA(#REF!*VLOOKUP($C96,Hypothèses!$D$6:$F$13,3,0)),0,#REF!*VLOOKUP($C96,Hypothèses!$D$6:$F$13,3,0))","v":{"$error":"#REF!"}},{"$f":"IF(ISNA(#REF!*VLOOKUP($C96,Hypothèses!$D$6:$F$13,3,0)),0,#REF!*VLOOKUP($C96,Hypothèses!$D$6:$F$13,3,0))","v":{"$error":"#REF!"}}]
[90,null,null,{"$f":"IF(ISNA(VLOOKUP(C97,Hypothèses!$D$6:$G$14,4,0)),\"\",VLOOKUP(C97,Hypothèses!$D$6:$G$14,4,0))","v":""},null,null,null,null,null,null,null,null,null,null,null,null,null,null,null,null,null,null,null,null,null,{"$f":"IF(ISNA(E97*VLOOKUP($C97,Hypothèses!$D$6:$F$13,3,0)),0,E97*VLOOKUP($C97,Hypothèses!$D$6:$F$13,3,0))","v":0},{"$f":"IF(ISNA(F97*VLOOKUP($C97,Hypothèses!$D$6:$F$13,3,0)),0,F97*VLOOKUP($C97,Hypothèses!$D$6:$F$13,3,0))","v":0},{"$f":"IF(ISNA(G97*VLOOKUP($C97,Hypothèses!$D$6:$F$13,3,0)),0,G97*VLOOKUP($C97,Hypothèses!$D$6:$F$13,3,0))","v":0},{"$f":"IF(ISNA(H97*VLOOKUP($C97,Hypothèses!$D$6:$F$13,3,0)),0,H97*VLOOKUP($C97,Hypothèses!$D$6:$F$13,3,0))","v":0},{"$f":"IF(ISNA(I97*VLOOKUP($C97,Hypothèses!$D$6:$F$13,3,0)),0,I97*VLOOKUP($C97,Hypothèses!$D$6:$F$13,3,0))","v":0},{"$f":"IF(ISNA(J97*VLOOKUP($C97,Hypothèses!$D$6:$F$13,3,0)),0,J97*VLOOKUP($C97,Hypothèses!$D$6:$F$13,3,0))","v":0},{"$f":"IF(ISNA(K97*VLOOKUP($C97,Hypothèses!$D$6:$F$13,3,0)),0,K97*VLOOKUP($C97,Hypothèses!$D$6:$F$13,3,0))","v":0},{"$f":"IF(ISNA(L97*VLOOKUP($C97,Hypothèses!$D$6:$F$13,3,0)),0,L97*VLOOKUP($C97,Hypothèses!$D$6:$F$13,3,0))","v":0},{"$f":"IF(ISNA(M97*VLOOKUP($C97,Hypothèses!$D$6:$F$13,3,0)),0,M97*VLOOKUP($C97,Hypothèses!$D$6:$F$13,3,0))","v":0},{"$f":"IF(ISNA(N97*VLOOKUP($C97,Hypothèses!$D$6:$F$13,3,0)),0,N97*VLOOKUP($C97,Hypothèses!$D$6:$F$13,3,0))","v":0},{"$f":"IF(ISNA(O97*VLOOKUP($C97,Hypothèses!$D$6:$F$13,3,0)),0,O97*VLOOKUP($C97,Hypothèses!$D$6:$F$13,3,0))","v":0},{"$f":"IF(ISNA(P97*VLOOKUP($C97,Hypothèses!$D$6:$F$13,3,0)),0,P97*VLOOKUP($C97,Hypothèses!$D$6:$F$13,3,0))","v":0},{"$f":"IF(ISNA(Q97*VLOOKUP($C97,Hypothèses!$D$6:$F$13,3,0)),0,Q97*VLOOKUP($C97,Hypothèses!$D$6:$F$13,3,0))","v":0},{"$f":"IF(ISNA(R97*VLOOKUP($C97,Hypothèses!$D$6:$F$13,3,0)),0,R97*VLOOKUP($C97,Hypothèses!$D$6:$F$13,3,0))","v":0},{"$f":"IF(ISNA(S97*VLOOKUP($C97,Hypothèses!$D$6:$F$13,3,0)),0,S97*VLOOKUP($C97,Hypothèses!$D$6:$F$13,3,0))","v":0},{"$f":"IF(ISNA(#REF!*VLOOKUP($C97,Hypothèses!$D$6:$F$13,3,0)),0,#REF!*VLOOKUP($C97,Hypothèses!$D$6:$F$13,3,0))","v":{"$error":"#REF!"}},{"$f":"IF(ISNA(#REF!*VLOOKUP($C97,Hypothèses!$D$6:$F$13,3,0)),0,#REF!*VLOOKUP($C97,Hypothèses!$D$6:$F$13,3,0))","v":{"$error":"#REF!"}},{"$f":"IF(ISNA(#REF!*VLOOKUP($C97,Hypothèses!$D$6:$F$13,3,0)),0,#REF!*VLOOKUP($C97,Hypothèses!$D$6:$F$13,3,0))","v":{"$error":"#REF!"}},{"$f":"IF(ISNA(#REF!*VLOOKUP($C97,Hypothèses!$D$6:$F$13,3,0)),0,#REF!*VLOOKUP($C97,Hypothèses!$D$6:$F$13,3,0))","v":{"$error":"#REF!"}},{"$f":"IF(ISNA(#REF!*VLOOKUP($C97,Hypothèses!$D$6:$F$13,3,0)),0,#REF!*VLOOKUP($C97,Hypothèses!$D$6:$F$13,3,0))","v":{"$error":"#REF!"}},{"$f":"IF(ISNA(#REF!*VLOOKUP($C97,Hypothèses!$D$6:$F$13,3,0)),0,#REF!*VLOOKUP($C97,Hypothèses!$D$6:$F$13,3,0))","v":{"$error":"#REF!"}},{"$f":"IF(ISNA(#REF!*VLOOKUP($C97,Hypothèses!$D$6:$F$13,3,0)),0,#REF!*VLOOKUP($C97,Hypothèses!$D$6:$F$13,3,0))","v":{"$error":"#REF!"}}]
[91,null,null,{"$f":"IF(ISNA(VLOOKUP(C98,Hypothèses!$D$6:$G$14,4,0)),\"\",VLOOKUP(C98,Hypothèses!$D$6:$G$14,4,0))","v":""},null,null,null,null,null,null,null,null,null,null,null,null,null,null,null,null,null,null,null,null,null,{"$f":"IF(ISNA(E98*VLOOKUP($C98,Hypothèses!$D$6:$F$13,3,0)),0,E98*VLOOKUP($C98,Hypothèses!$D$6:$F$13,3,0))","v":0},{"$f":"IF(ISNA(F98*VLOOKUP($C98,Hypothèses!$D$6:$F$13,3,0)),0,F98*VLOOKUP($C98,Hypothèses!$D$6:$F$13,3,0))","v":0},{"$f":"IF(ISNA(G98*VLOOKUP($C98,Hypothèses!$D$6:$F$13,3,0)),0,G98*VLOOKUP($C98,Hypothèses!$D$6:$F$13,3,0))","v":0},{"$f":"IF(ISNA(H98*VLOOKUP($C98,Hypothèses!$D$6:$F$13,3,0)),0,H98*VLOOKUP($C98,Hypothèses!$D$6:$F$13,3,0))","v":0},{"$f":"IF(ISNA(I98*VLOOKUP($C98,Hypothèses!$D$6:$F$13,3,0)),0,I98*VLOOKUP($C98,Hypothèses!$D$6:$F$13,3,0))","v":0},{"$f":"IF(ISNA(J98*VLOOKUP($C98,Hypothèses!$D$6:$F$13,3,0)),0,J98*VLOOKUP($C98,Hypothèses!$D$6:$F$13,3,0))","v":0},{"$f":"IF(ISNA(K98*VLOOKUP($C98,Hypothèses!$D$6:$F$13,3,0)),0,K98*VLOOKUP($C98,Hypothèses!$D$6:$F$13,3,0))","v":0},{"$f":"IF(ISNA(L98*VLOOKUP($C98,Hypothèses!$D$6:$F$13,3,0)),0,L98*VLOOKUP($C98,Hypothèses!$D$6:$F$13,3,0))","v":0},{"$f":"IF(ISNA(M98*VLOOKUP($C98,Hypothèses!$D$6:$F$13,3,0)),0,M98*VLOOKUP($C98,Hypothèses!$D$6:$F$13,3,0))","v":0},{"$f":"IF(ISNA(N98*VLOOKUP($C98,Hypothèses!$D$6:$F$13,3,0)),0,N98*VLOOKUP($C98,Hypothèses!$D$6:$F$13,3,0))","v":0},{"$f":"IF(ISNA(O98*VLOOKUP($C98,Hypothèses!$D$6:$F$13,3,0)),0,O98*VLOOKUP($C98,Hypothèses!$D$6:$F$13,3,0))","v":0},{"$f":"IF(ISNA(P98*VLOOKUP($C98,Hypothèses!$D$6:$F$13,3,0)),0,P98*VLOOKUP($C98,Hypothèses!$D$6:$F$13,3,0))","v":0},{"$f":"IF(ISNA(Q98*VLOOKUP($C98,Hypothèses!$D$6:$F$13,3,0)),0,Q98*VLOOKUP($C98,Hypothèses!$D$6:$F$13,3,0))","v":0},{"$f":"IF(ISNA(R98*VLOOKUP($C98,Hypothèses!$D$6:$F$13,3,0)),0,R98*VLOOKUP($C98,Hypothèses!$D$6:$F$13,3,0))","v":0},{"$f":"IF(ISNA(S98*VLOOKUP($C98,Hypothèses!$D$6:$F$13,3,0)),0,S98*VLOOKUP($C98,Hypothèses!$D$6:$F$13,3,0))","v":0},{"$f":"IF(ISNA(#REF!*VLOOKUP($C98,Hypothèses!$D$6:$F$13,3,0)),0,#REF!*VLOOKUP($C98,Hypothèses!$D$6:$F$13,3,0))","v":{"$error":"#REF!"}},{"$f":"IF(ISNA(#REF!*VLOOKUP($C98,Hypothèses!$D$6:$F$13,3,0)),0,#REF!*VLOOKUP($C98,Hypothèses!$D$6:$F$13,3,0))","v":{"$error":"#REF!"}},{"$f":"IF(ISNA(#REF!*VLOOKUP($C98,Hypothèses!$D$6:$F$13,3,0)),0,#REF!*VLOOKUP($C98,Hypothèses!$D$6:$F$13,3,0))","v":{"$error":"#REF!"}},{"$f":"IF(ISNA(#REF!*VLOOKUP($C98,Hypothèses!$D$6:$F$13,3,0)),0,#REF!*VLOOKUP($C98,Hypothèses!$D$6:$F$13,3,0))","v":{"$error":"#REF!"}},{"$f":"IF(ISNA(#REF!*VLOOKUP($C98,Hypothèses!$D$6:$F$13,3,0)),0,#REF!*VLOOKUP($C98,Hypothèses!$D$6:$F$13,3,0))","v":{"$error":"#REF!"}},{"$f":"IF(ISNA(#REF!*VLOOKUP($C98,Hypothèses!$D$6:$F$13,3,0)),0,#REF!*VLOOKUP($C98,Hypothèses!$D$6:$F$13,3,0))","v":{"$error":"#REF!"}},{"$f":"IF(ISNA(#REF!*VLOOKUP($C98,Hypothèses!$D$6:$F$13,3,0)),0,#REF!*VLOOKUP($C98,Hypothèses!$D$6:$F$13,3,0))","v":{"$error":"#REF!"}}]
[92,null,null,{"$f":"IF(ISNA(VLOOKUP(C99,Hypothèses!$D$6:$G$14,4,0)),\"\",VLOOKUP(C99,Hypothèses!$D$6:$G$14,4,0))","v":""},null,null,null,null,null,null,null,null,null,null,null,null,null,null,null,null,null,null,null,null,null,{"$f":"IF(ISNA(E99*VLOOKUP($C99,Hypothèses!$D$6:$F$13,3,0)),0,E99*VLOOKUP($C99,Hypothèses!$D$6:$F$13,3,0))","v":0},{"$f":"IF(ISNA(F99*VLOOKUP($C99,Hypothèses!$D$6:$F$13,3,0)),0,F99*VLOOKUP($C99,Hypothèses!$D$6:$F$13,3,0))","v":0},{"$f":"IF(ISNA(G99*VLOOKUP($C99,Hypothèses!$D$6:$F$13,3,0)),0,G99*VLOOKUP($C99,Hypothèses!$D$6:$F$13,3,0))","v":0},{"$f":"IF(ISNA(H99*VLOOKUP($C99,Hypothèses!$D$6:$F$13,3,0)),0,H99*VLOOKUP($C99,Hypothèses!$D$6:$F$13,3,0))","v":0},{"$f":"IF(ISNA(I99*VLOOKUP($C99,Hypothèses!$D$6:$F$13,3,0)),0,I99*VLOOKUP($C99,Hypothèses!$D$6:$F$13,3,0))","v":0},{"$f":"IF(ISNA(J99*VLOOKUP($C99,Hypothèses!$D$6:$F$13,3,0)),0,J99*VLOOKUP($C99,Hypothèses!$D$6:$F$13,3,0))","v":0},{"$f":"IF(ISNA(K99*VLOOKUP($C99,Hypothèses!$D$6:$F$13,3,0)),0,K99*VLOOKUP($C99,Hypothèses!$D$6:$F$13,3,0))","v":0},{"$f":"IF(ISNA(L99*VLOOKUP($C99,Hypothèses!$D$6:$F$13,3,0)),0,L99*VLOOKUP($C99,Hypothèses!$D$6:$F$13,3,0))","v":0},{"$f":"IF(ISNA(M99*VLOOKUP($C99,Hypothèses!$D$6:$F$13,3,0)),0,M99*VLOOKUP($C99,Hypothèses!$D$6:$F$13,3,0))","v":0},{"$f":"IF(ISNA(N99*VLOOKUP($C99,Hypothèses!$D$6:$F$13,3,0)),0,N99*VLOOKUP($C99,Hypothèses!$D$6:$F$13,3,0))","v":0},{"$f":"IF(ISNA(O99*VLOOKUP($C99,Hypothèses!$D$6:$F$13,3,0)),0,O99*VLOOKUP($C99,Hypothèses!$D$6:$F$13,3,0))","v":0},{"$f":"IF(ISNA(P99*VLOOKUP($C99,Hypothèses!$D$6:$F$13,3,0)),0,P99*VLOOKUP($C99,Hypothèses!$D$6:$F$13,3,0))","v":0},{"$f":"IF(ISNA(Q99*VLOOKUP($C99,Hypothèses!$D$6:$F$13,3,0)),0,Q99*VLOOKUP($C99,Hypothèses!$D$6:$F$13,3,0))","v":0},{"$f":"IF(ISNA(R99*VLOOKUP($C99,Hypothèses!$D$6:$F$13,3,0)),0,R99*VLOOKUP($C99,Hypothèses!$D$6:$F$13,3,0))","v":0},{"$f":"IF(ISNA(S99*VLOOKUP($C99,Hypothèses!$D$6:$F$13,3,0)),0,S99*VLOOKUP($C99,Hypothèses!$D$6:$F$13,3,0))","v":0},{"$f":"IF(ISNA(#REF!*VLOOKUP($C99,Hypothèses!$D$6:$F$13,3,0)),0,#REF!*VLOOKUP($C99,Hypothèses!$D$6:$F$13,3,0))","v":{"$error":"#REF!"}},{"$f":"IF(ISNA(#REF!*VLOOKUP($C99,Hypothèses!$D$6:$F$13,3,0)),0,#REF!*VLOOKUP($C99,Hypothèses!$D$6:$F$13,3,0))","v":{"$error":"#REF!"}},{"$f":"IF(ISNA(#REF!*VLOOKUP($C99,Hypothèses!$D$6:$F$13,3,0)),0,#REF!*VLOOKUP($C99,Hypothèses!$D$6:$F$13,3,0))","v":{"$error":"#REF!"}},{"$f":"IF(ISNA(#REF!*VLOOKUP($C99,Hypothèses!$D$6:$F$13,3,0)),0,#REF!*VLOOKUP($C99,Hypothèses!$D$6:$F$13,3,0))","v":{"$error":"#REF!"}},{"$f":"IF(ISNA(#REF!*VLOOKUP($C99,Hypothèses!$D$6:$F$13,3,0)),0,#REF!*VLOOKUP($C99,Hypothèses!$D$6:$F$13,3,0))","v":{"$error":"#REF!"}},{"$f":"IF(ISNA(#REF!*VLOOKUP($C99,Hypothèses!$D$6:$F$13,3,0)),0,#REF!*VLOOKUP($C99,Hypothèses!$D$6:$F$13,3,0))","v":{"$error":"#REF!"}},{"$f":"IF(ISNA(#REF!*VLOOKUP($C99,Hypothèses!$D$6:$F$13,3,0)),0,#REF!*VLOOKUP($C99,Hypothèses!$D$6:$F$13,3,0))","v":{"$error":"#REF!"}}]
[93,null,null,{"$f":"IF(ISNA(VLOOKUP(C100,Hypothèses!$D$6:$G$14,4,0)),\"\",VLOOKUP(C100,Hypothèses!$D$6:$G$14,4,0))","v":""},null,null,null,null,null,null,null,null,null,null,null,null,null,null,null,null,null,null,null,null,null,{"$f":"IF(ISNA(E100*VLOOKUP($C100,Hypothèses!$D$6:$F$13,3,0)),0,E100*VLOOKUP($C100,Hypothèses!$D$6:$F$13,3,0))","v":0},{"$f":"IF(ISNA(F100*VLOOKUP($C100,Hypothèses!$D$6:$F$13,3,0)),0,F100*VLOOKUP($C100,Hypothèses!$D$6:$F$13,3,0))","v":0},{"$f":"IF(ISNA(G100*VLOOKUP($C100,Hypothèses!$D$6:$F$13,3,0)),0,G100*VLOOKUP($C100,Hypothèses!$D$6:$F$13,3,0))","v":0},{"$f":"IF(ISNA(H100*VLOOKUP($C100,Hypothèses!$D$6:$F$13,3,0)),0,H100*VLOOKUP($C100,Hypothèses!$D$6:$F$13,3,0))","v":0},{"$f":"IF(ISNA(I100*VLOOKUP($C100,Hypothèses!$D$6:$F$13,3,0)),0,I100*VLOOKUP($C100,Hypothèses!$D$6:$F$13,3,0))","v":0},{"$f":"IF(ISNA(J100*VLOOKUP($C100,Hypothèses!$D$6:$F$13,3,0)),0,J100*VLOOKUP($C100,Hypothèses!$D$6:$F$13,3,0))","v":0},{"$f":"IF(ISNA(K100*VLOOKUP($C100,Hypothèses!$D$6:$F$13,3,0)),0,K100*VLOOKUP($C100,Hypothèses!$D$6:$F$13,3,0))","v":0},{"$f":"IF(ISNA(L100*VLOOKUP($C100,Hypothèses!$D$6:$F$13,3,0)),0,L100*VLOOKUP($C100,Hypothèses!$D$6:$F$13,3,0))","v":0},{"$f":"IF(ISNA(M100*VLOOKUP($C100,Hypothèses!$D$6:$F$13,3,0)),0,M100*VLOOKUP($C100,Hypothèses!$D$6:$F$13,3,0))","v":0},{"$f":"IF(ISNA(N100*VLOOKUP($C100,Hypothèses!$D$6:$F$13,3,0)),0,N100*VLOOKUP($C100,Hypothèses!$D$6:$F$13,3,0))","v":0},{"$f":"IF(ISNA(O100*VLOOKUP($C100,Hypothèses!$D$6:$F$13,3,0)),0,O100*VLOOKUP($C100,Hypothèses!$D$6:$F$13,3,0))","v":0},{"$f":"IF(ISNA(P100*VLOOKUP($C100,Hypothèses!$D$6:$F$13,3,0)),0,P100*VLOOKUP($C100,Hypothèses!$D$6:$F$13,3,0))","v":0},{"$f":"IF(ISNA(Q100*VLOOKUP($C100,Hypothèses!$D$6:$F$13,3,0)),0,Q100*VLOOKUP($C100,Hypothèses!$D$6:$F$13,3,0))","v":0},{"$f":"IF(ISNA(R100*VLOOKUP($C100,Hypothèses!$D$6:$F$13,3,0)),0,R100*VLOOKUP($C100,Hypothèses!$D$6:$F$13,3,0))","v":0},{"$f":"IF(ISNA(S100*VLOOKUP($C100,Hypothèses!$D$6:$F$13,3,0)),0,S100*VLOOKUP($C100,Hypothèses!$D$6:$F$13,3,0))","v":0},{"$f":"IF(ISNA(#REF!*VLOOKUP($C100,Hypothèses!$D$6:$F$13,3,0)),0,#REF!*VLOOKUP($C100,Hypothèses!$D$6:$F$13,3,0))","v":{"$error":"#REF!"}},{"$f":"IF(ISNA(#REF!*VLOOKUP($C100,Hypothèses!$D$6:$F$13,3,0)),0,#REF!*VLOOKUP($C100,Hypothèses!$D$6:$F$13,3,0))","v":{"$error":"#REF!"}},{"$f":"IF(ISNA(#REF!*VLOOKUP($C100,Hypothèses!$D$6:$F$13,3,0)),0,#REF!*VLOOKUP($C100,Hypothèses!$D$6:$F$13,3,0))","v":{"$error":"#REF!"}},{"$f":"IF(ISNA(#REF!*VLOOKUP($C100,Hypothèses!$D$6:$F$13,3,0)),0,#REF!*VLOOKUP($C100,Hypothèses!$D$6:$F$13,3,0))","v":{"$error":"#REF!"}},{"$f":"IF(ISNA(#REF!*VLOOKUP($C100,Hypothèses!$D$6:$F$13,3,0)),0,#REF!*VLOOKUP($C100,Hypothèses!$D$6:$F$13,3,0))","v":{"$error":"#REF!"}},{"$f":"IF(ISNA(#REF!*VLOOKUP($C100,Hypothèses!$D$6:$F$13,3,0)),0,#REF!*VLOOKUP($C100,Hypothèses!$D$6:$F$13,3,0))","v":{"$error":"#REF!"}},{"$f":"IF(ISNA(#REF!*VLOOKUP($C100,Hypothèses!$D$6:$F$13,3,0)),0,#REF!*VLOOKUP($C100,Hypothèses!$D$6:$F$13,3,0))","v":{"$error":"#REF!"}}]
[94,null,null,{"$f":"IF(ISNA(VLOOKUP(C101,Hypothèses!$D$6:$G$14,4,0)),\"\",VLOOKUP(C101,Hypothèses!$D$6:$G$14,4,0))","v":""},null,null,null,null,null,null,null,null,null,null,null,null,null,null,null,null,null,null,null,null,null,{"$f":"IF(ISNA(E101*VLOOKUP($C101,Hypothèses!$D$6:$F$13,3,0)),0,E101*VLOOKUP($C101,Hypothèses!$D$6:$F$13,3,0))","v":0},{"$f":"IF(ISNA(F101*VLOOKUP($C101,Hypothèses!$D$6:$F$13,3,0)),0,F101*VLOOKUP($C101,Hypothèses!$D$6:$F$13,3,0))","v":0},{"$f":"IF(ISNA(G101*VLOOKUP($C101,Hypothèses!$D$6:$F$13,3,0)),0,G101*VLOOKUP($C101,Hypothèses!$D$6:$F$13,3,0))","v":0},{"$f":"IF(ISNA(H101*VLOOKUP($C101,Hypothèses!$D$6:$F$13,3,0)),0,H101*VLOOKUP($C101,Hypothèses!$D$6:$F$13,3,0))","v":0},{"$f":"IF(ISNA(I101*VLOOKUP($C101,Hypothèses!$D$6:$F$13,3,0)),0,I101*VLOOKUP($C101,Hypothèses!$D$6:$F$13,3,0))","v":0},{"$f":"IF(ISNA(J101*VLOOKUP($C101,Hypothèses!$D$6:$F$13,3,0)),0,J101*VLOOKUP($C101,Hypothèses!$D$6:$F$13,3,0))","v":0},{"$f":"IF(ISNA(K101*VLOOKUP($C101,Hypothèses!$D$6:$F$13,3,0)),0,K101*VLOOKUP($C101,Hypothèses!$D$6:$F$13,3,0))","v":0},{"$f":"IF(ISNA(L101*VLOOKUP($C101,Hypothèses!$D$6:$F$13,3,0)),0,L101*VLOOKUP($C101,Hypothèses!$D$6:$F$13,3,0))","v":0},{"$f":"IF(ISNA(M101*VLOOKUP($C101,Hypothèses!$D$6:$F$13,3,0)),0,M101*VLOOKUP($C101,Hypothèses!$D$6:$F$13,3,0))","v":0},{"$f":"IF(ISNA(N101*VLOOKUP($C101,Hypothèses!$D$6:$F$13,3,0)),0,N101*VLOOKUP($C101,Hypothèses!$D$6:$F$13,3,0))","v":0},{"$f":"IF(ISNA(O101*VLOOKUP($C101,Hypothèses!$D$6:$F$13,3,0)),0,O101*VLOOKUP($C101,Hypothèses!$D$6:$F$13,3,0))","v":0},{"$f":"IF(ISNA(P101*VLOOKUP($C101,Hypothèses!$D$6:$F$13,3,0)),0,P101*VLOOKUP($C101,Hypothèses!$D$6:$F$13,3,0))","v":0},{"$f":"IF(ISNA(Q101*VLOOKUP($C101,Hypothèses!$D$6:$F$13,3,0)),0,Q101*VLOOKUP($C101,Hypothèses!$D$6:$F$13,3,0))","v":0},{"$f":"IF(ISNA(R101*VLOOKUP($C101,Hypothèses!$D$6:$F$13,3,0)),0,R101*VLOOKUP($C101,Hypothèses!$D$6:$F$13,3,0))","v":0},{"$f":"IF(ISNA(S101*VLOOKUP($C101,Hypothèses!$D$6:$F$13,3,0)),0,S101*VLOOKUP($C101,Hypothèses!$D$6:$F$13,3,0))","v":0},{"$f":"IF(ISNA(#REF!*VLOOKUP($C101,Hypothèses!$D$6:$F$13,3,0)),0,#REF!*VLOOKUP($C101,Hypothèses!$D$6:$F$13,3,0))","v":{"$error":"#REF!"}},{"$f":"IF(ISNA(#REF!*VLOOKUP($C101,Hypothèses!$D$6:$F$13,3,0)),0,#REF!*VLOOKUP($C101,Hypothèses!$D$6:$F$13,3,0))","v":{"$error":"#REF!"}},{"$f":"IF(ISNA(#REF!*VLOOKUP($C101,Hypothèses!$D$6:$F$13,3,0)),0,#REF!*VLOOKUP($C101,Hypothèses!$D$6:$F$13,3,0))","v":{"$error":"#REF!"}},{"$f":"IF(ISNA(#REF!*VLOOKUP($C101,Hypothèses!$D$6:$F$13,3,0)),0,#REF!*VLOOKUP($C101,Hypothèses!$D$6:$F$13,3,0))","v":{"$error":"#REF!"}},{"$f":"IF(ISNA(#REF!*VLOOKUP($C101,Hypothèses!$D$6:$F$13,3,0)),0,#REF!*VLOOKUP($C101,Hypothèses!$D$6:$F$13,3,0))","v":{"$error":"#REF!"}},{"$f":"IF(ISNA(#REF!*VLOOKUP($C101,Hypothèses!$D$6:$F$13,3,0)),0,#REF!*VLOOKUP($C101,Hypothèses!$D$6:$F$13,3,0))","v":{"$error":"#REF!"}},{"$f":"IF(ISNA(#REF!*VLOOKUP($C101,Hypothèses!$D$6:$F$13,3,0)),0,#REF!*VLOOKUP($C101,Hypothèses!$D$6:$F$13,3,0))","v":{"$error":"#REF!"}}]
[95,null,null,{"$f":"IF(ISNA(VLOOKUP(C102,Hypothèses!$D$6:$G$14,4,0)),\"\",VLOOKUP(C102,Hypothèses!$D$6:$G$14,4,0))","v":""},null,null,null,null,null,null,null,null,null,null,null,null,null,null,null,null,null,null,null,null,null,{"$f":"IF(ISNA(E102*VLOOKUP($C102,Hypothèses!$D$6:$F$13,3,0)),0,E102*VLOOKUP($C102,Hypothèses!$D$6:$F$13,3,0))","v":0},{"$f":"IF(ISNA(F102*VLOOKUP($C102,Hypothèses!$D$6:$F$13,3,0)),0,F102*VLOOKUP($C102,Hypothèses!$D$6:$F$13,3,0))","v":0},{"$f":"IF(ISNA(G102*VLOOKUP($C102,Hypothèses!$D$6:$F$13,3,0)),0,G102*VLOOKUP($C102,Hypothèses!$D$6:$F$13,3,0))","v":0},{"$f":"IF(ISNA(H102*VLOOKUP($C102,Hypothèses!$D$6:$F$13,3,0)),0,H102*VLOOKUP($C102,Hypothèses!$D$6:$F$13,3,0))","v":0},{"$f":"IF(ISNA(I102*VLOOKUP($C102,Hypothèses!$D$6:$F$13,3,0)),0,I102*VLOOKUP($C102,Hypothèses!$D$6:$F$13,3,0))","v":0},{"$f":"IF(ISNA(J102*VLOOKUP($C102,Hypothèses!$D$6:$F$13,3,0)),0,J102*VLOOKUP($C102,Hypothèses!$D$6:$F$13,3,0))","v":0},{"$f":"IF(ISNA(K102*VLOOKUP($C102,Hypothèses!$D$6:$F$13,3,0)),0,K102*VLOOKUP($C102,Hypothèses!$D$6:$F$13,3,0))","v":0},{"$f":"IF(ISNA(L102*VLOOKUP($C102,Hypothèses!$D$6:$F$13,3,0)),0,L102*VLOOKUP($C102,Hypothèses!$D$6:$F$13,3,0))","v":0},{"$f":"IF(ISNA(M102*VLOOKUP($C102,Hypothèses!$D$6:$F$13,3,0)),0,M102*VLOOKUP($C102,Hypothèses!$D$6:$F$13,3,0))","v":0},{"$f":"IF(ISNA(N102*VLOOKUP($C102,Hypothèses!$D$6:$F$13,3,0)),0,N102*VLOOKUP($C102,Hypothèses!$D$6:$F$13,3,0))","v":0},{"$f":"IF(ISNA(O102*VLOOKUP($C102,Hypothèses!$D$6:$F$13,3,0)),0,O102*VLOOKUP($C102,Hypothèses!$D$6:$F$13,3,0))","v":0},{"$f":"IF(ISNA(P102*VLOOKUP($C102,Hypothèses!$D$6:$F$13,3,0)),0,P102*VLOOKUP($C102,Hypothèses!$D$6:$F$13,3,0))","v":0},{"$f":"IF(ISNA(Q102*VLOOKUP($C102,Hypothèses!$D$6:$F$13,3,0)),0,Q102*VLOOKUP($C102,Hypothèses!$D$6:$F$13,3,0))","v":0},{"$f":"IF(ISNA(R102*VLOOKUP($C102,Hypothèses!$D$6:$F$13,3,0)),0,R102*VLOOKUP($C102,Hypothèses!$D$6:$F$13,3,0))","v":0},{"$f":"IF(ISNA(S102*VLOOKUP($C102,Hypothèses!$D$6:$F$13,3,0)),0,S102*VLOOKUP($C102,Hypothèses!$D$6:$F$13,3,0))","v":0},{"$f":"IF(ISNA(#REF!*VLOOKUP($C102,Hypothèses!$D$6:$F$13,3,0)),0,#REF!*VLOOKUP($C102,Hypothèses!$D$6:$F$13,3,0))","v":{"$error":"#REF!"}},{"$f":"IF(ISNA(#REF!*VLOOKUP($C102,Hypothèses!$D$6:$F$13,3,0)),0,#REF!*VLOOKUP($C102,Hypothèses!$D$6:$F$13,3,0))","v":{"$error":"#REF!"}},{"$f":"IF(ISNA(#REF!*VLOOKUP($C102,Hypothèses!$D$6:$F$13,3,0)),0,#REF!*VLOOKUP($C102,Hypothèses!$D$6:$F$13,3,0))","v":{"$error":"#REF!"}},{"$f":"IF(ISNA(#REF!*VLOOKUP($C102,Hypothèses!$D$6:$F$13,3,0)),0,#REF!*VLOOKUP($C102,Hypothèses!$D$6:$F$13,3,0))","v":{"$error":"#REF!"}},{"$f":"IF(ISNA(#REF!*VLOOKUP($C102,Hypothèses!$D$6:$F$13,3,0)),0,#REF!*VLOOKUP($C102,Hypothèses!$D$6:$F$13,3,0))","v":{"$error":"#REF!"}},{"$f":"IF(ISNA(#REF!*VLOOKUP($C102,Hypothèses!$D$6:$F$13,3,0)),0,#REF!*VLOOKUP($C102,Hypothèses!$D$6:$F$13,3,0))","v":{"$error":"#REF!"}},{"$f":"IF(ISNA(#REF!*VLOOKUP($C102,Hypothèses!$D$6:$F$13,3,0)),0,#REF!*VLOOKUP($C102,Hypothèses!$D$6:$F$13,3,0))","v":{"$error":"#REF!"}}]
[96,null,null,{"$f":"IF(ISNA(VLOOKUP(C103,Hypothèses!$D$6:$G$14,4,0)),\"\",VLOOKUP(C103,Hypothèses!$D$6:$G$14,4,0))","v":""},null,null,null,null,null,null,null,null,null,null,null,null,null,null,null,null,null,null,null,null,null,{"$f":"IF(ISNA(E103*VLOOKUP($C103,Hypothèses!$D$6:$F$13,3,0)),0,E103*VLOOKUP($C103,Hypothèses!$D$6:$F$13,3,0))","v":0},{"$f":"IF(ISNA(F103*VLOOKUP($C103,Hypothèses!$D$6:$F$13,3,0)),0,F103*VLOOKUP($C103,Hypothèses!$D$6:$F$13,3,0))","v":0},{"$f":"IF(ISNA(G103*VLOOKUP($C103,Hypothèses!$D$6:$F$13,3,0)),0,G103*VLOOKUP($C103,Hypothèses!$D$6:$F$13,3,0))","v":0},{"$f":"IF(ISNA(H103*VLOOKUP($C103,Hypothèses!$D$6:$F$13,3,0)),0,H103*VLOOKUP($C103,Hypothèses!$D$6:$F$13,3,0))","v":0},{"$f":"IF(ISNA(I103*VLOOKUP($C103,Hypothèses!$D$6:$F$13,3,0)),0,I103*VLOOKUP($C103,Hypothèses!$D$6:$F$13,3,0))","v":0},{"$f":"IF(ISNA(J103*VLOOKUP($C103,Hypothèses!$D$6:$F$13,3,0)),0,J103*VLOOKUP($C103,Hypothèses!$D$6:$F$13,3,0))","v":0},{"$f":"IF(ISNA(K103*VLOOKUP($C103,Hypothèses!$D$6:$F$13,3,0)),0,K103*VLOOKUP($C103,Hypothèses!$D$6:$F$13,3,0))","v":0},{"$f":"IF(ISNA(L103*VLOOKUP($C103,Hypothèses!$D$6:$F$13,3,0)),0,L103*VLOOKUP($C103,Hypothèses!$D$6:$F$13,3,0))","v":0},{"$f":"IF(ISNA(M103*VLOOKUP($C103,Hypothèses!$D$6:$F$13,3,0)),0,M103*VLOOKUP($C103,Hypothèses!$D$6:$F$13,3,0))","v":0},{"$f":"IF(ISNA(N103*VLOOKUP($C103,Hypothèses!$D$6:$F$13,3,0)),0,N103*VLOOKUP($C103,Hypothèses!$D$6:$F$13,3,0))","v":0},{"$f":"IF(ISNA(O103*VLOOKUP($C103,Hypothèses!$D$6:$F$13,3,0)),0,O103*VLOOKUP($C103,Hypothèses!$D$6:$F$13,3,0))","v":0},{"$f":"IF(ISNA(P103*VLOOKUP($C103,Hypothèses!$D$6:$F$13,3,0)),0,P103*VLOOKUP($C103,Hypothèses!$D$6:$F$13,3,0))","v":0},{"$f":"IF(ISNA(Q103*VLOOKUP($C103,Hypothèses!$D$6:$F$13,3,0)),0,Q103*VLOOKUP($C103,Hypothèses!$D$6:$F$13,3,0))","v":0},{"$f":"IF(ISNA(R103*VLOOKUP($C103,Hypothèses!$D$6:$F$13,3,0)),0,R103*VLOOKUP($C103,Hypothèses!$D$6:$F$13,3,0))","v":0},{"$f":"IF(ISNA(S103*VLOOKUP($C103,Hypothèses!$D$6:$F$13,3,0)),0,S103*VLOOKUP($C103,Hypothèses!$D$6:$F$13,3,0))","v":0},{"$f":"IF(ISNA(#REF!*VLOOKUP($C103,Hypothèses!$D$6:$F$13,3,0)),0,#REF!*VLOOKUP($C103,Hypothèses!$D$6:$F$13,3,0))","v":{"$error":"#REF!"}},{"$f":"IF(ISNA(#REF!*VLOOKUP($C103,Hypothèses!$D$6:$F$13,3,0)),0,#REF!*VLOOKUP($C103,Hypothèses!$D$6:$F$13,3,0))","v":{"$error":"#REF!"}},{"$f":"IF(ISNA(#REF!*VLOOKUP($C103,Hypothèses!$D$6:$F$13,3,0)),0,#REF!*VLOOKUP($C103,Hypothèses!$D$6:$F$13,3,0))","v":{"$error":"#REF!"}},{"$f":"IF(ISNA(#REF!*VLOOKUP($C103,Hypothèses!$D$6:$F$13,3,0)),0,#REF!*VLOOKUP($C103,Hypothèses!$D$6:$F$13,3,0))","v":{"$error":"#REF!"}},{"$f":"IF(ISNA(#REF!*VLOOKUP($C103,Hypothèses!$D$6:$F$13,3,0)),0,#REF!*VLOOKUP($C103,Hypothèses!$D$6:$F$13,3,0))","v":{"$error":"#REF!"}},{"$f":"IF(ISNA(#REF!*VLOOKUP($C103,Hypothèses!$D$6:$F$13,3,0)),0,#REF!*VLOOKUP($C103,Hypothèses!$D$6:$F$13,3,0))","v":{"$error":"#REF!"}},{"$f":"IF(ISNA(#REF!*VLOOKUP($C103,Hypothèses!$D$6:$F$13,3,0)),0,#REF!*VLOOKUP($C103,Hypothèses!$D$6:$F$13,3,0))","v":{"$error":"#REF!"}}]
[97,null,null,{"$f":"IF(ISNA(VLOOKUP(C104,Hypothèses!$D$6:$G$14,4,0)),\"\",VLOOKUP(C104,Hypothèses!$D$6:$G$14,4,0))","v":""},null,null,null,null,null,null,null,null,null,null,null,null,null,null,null,null,null,null,null,null,null,{"$f":"IF(ISNA(E104*VLOOKUP($C104,Hypothèses!$D$6:$F$13,3,0)),0,E104*VLOOKUP($C104,Hypothèses!$D$6:$F$13,3,0))","v":0},{"$f":"IF(ISNA(F104*VLOOKUP($C104,Hypothèses!$D$6:$F$13,3,0)),0,F104*VLOOKUP($C104,Hypothèses!$D$6:$F$13,3,0))","v":0},{"$f":"IF(ISNA(G104*VLOOKUP($C104,Hypothèses!$D$6:$F$13,3,0)),0,G104*VLOOKUP($C104,Hypothèses!$D$6:$F$13,3,0))","v":0},{"$f":"IF(ISNA(H104*VLOOKUP($C104,Hypothèses!$D$6:$F$13,3,0)),0,H104*VLOOKUP($C104,Hypothèses!$D$6:$F$13,3,0))","v":0},{"$f":"IF(ISNA(I104*VLOOKUP($C104,Hypothèses!$D$6:$F$13,3,0)),0,I104*VLOOKUP($C104,Hypothèses!$D$6:$F$13,3,0))","v":0},{"$f":"IF(ISNA(J104*VLOOKUP($C104,Hypothèses!$D$6:$F$13,3,0)),0,J104*VLOOKUP($C104,Hypothèses!$D$6:$F$13,3,0))","v":0},{"$f":"IF(ISNA(K104*VLOOKUP($C104,Hypothèses!$D$6:$F$13,3,0)),0,K104*VLOOKUP($C104,Hypothèses!$D$6:$F$13,3,0))","v":0},{"$f":"IF(ISNA(L104*VLOOKUP($C104,Hypothèses!$D$6:$F$13,3,0)),0,L104*VLOOKUP($C104,Hypothèses!$D$6:$F$13,3,0))","v":0},{"$f":"IF(ISNA(M104*VLOOKUP($C104,Hypothèses!$D$6:$F$13,3,0)),0,M104*VLOOKUP($C104,Hypothèses!$D$6:$F$13,3,0))","v":0},{"$f":"IF(ISNA(N104*VLOOKUP($C104,Hypothèses!$D$6:$F$13,3,0)),0,N104*VLOOKUP($C104,Hypothèses!$D$6:$F$13,3,0))","v":0},{"$f":"IF(ISNA(O104*VLOOKUP($C104,Hypothèses!$D$6:$F$13,3,0)),0,O104*VLOOKUP($C104,Hypothèses!$D$6:$F$13,3,0))","v":0},{"$f":"IF(ISNA(P104*VLOOKUP($C104,Hypothèses!$D$6:$F$13,3,0)),0,P104*VLOOKUP($C104,Hypothèses!$D$6:$F$13,3,0))","v":0},{"$f":"IF(ISNA(Q104*VLOOKUP($C104,Hypothèses!$D$6:$F$13,3,0)),0,Q104*VLOOKUP($C104,Hypothèses!$D$6:$F$13,3,0))","v":0},{"$f":"IF(ISNA(R104*VLOOKUP($C104,Hypothèses!$D$6:$F$13,3,0)),0,R104*VLOOKUP($C104,Hypothèses!$D$6:$F$13,3,0))","v":0},{"$f":"IF(ISNA(S104*VLOOKUP($C104,Hypothèses!$D$6:$F$13,3,0)),0,S104*VLOOKUP($C104,Hypothèses!$D$6:$F$13,3,0))","v":0},{"$f":"IF(ISNA(#REF!*VLOOKUP($C104,Hypothèses!$D$6:$F$13,3,0)),0,#REF!*VLOOKUP($C104,Hypothèses!$D$6:$F$13,3,0))","v":{"$error":"#REF!"}},{"$f":"IF(ISNA(#REF!*VLOOKUP($C104,Hypothèses!$D$6:$F$13,3,0)),0,#REF!*VLOOKUP($C104,Hypothèses!$D$6:$F$13,3,0))","v":{"$error":"#REF!"}},{"$f":"IF(ISNA(#REF!*VLOOKUP($C104,Hypothèses!$D$6:$F$13,3,0)),0,#REF!*VLOOKUP($C104,Hypothèses!$D$6:$F$13,3,0))","v":{"$error":"#REF!"}},{"$f":"IF(ISNA(#REF!*VLOOKUP($C104,Hypothèses!$D$6:$F$13,3,0)),0,#REF!*VLOOKUP($C104,Hypothèses!$D$6:$F$13,3,0))","v":{"$error":"#REF!"}},{"$f":"IF(ISNA(#REF!*VLOOKUP($C104,Hypothèses!$D$6:$F$13,3,0)),0,#REF!*VLOOKUP($C104,Hypothèses!$D$6:$F$13,3,0))","v":{"$error":"#REF!"}},{"$f":"IF(ISNA(#REF!*VLOOKUP($C104,Hypothèses!$D$6:$F$13,3,0)),0,#REF!*VLOOKUP($C104,Hypothèses!$D$6:$F$13,3,0))","v":{"$error":"#REF!"}},{"$f":"IF(ISNA(#REF!*VLOOKUP($C104,Hypothèses!$D$6:$F$13,3,0)),0,#REF!*VLOOKUP($C104,Hypothèses!$D$6:$F$13,3,0))","v":{"$error":"#REF!"}}]
[98,null,null,{"$f":"IF(ISNA(VLOOKUP(C105,Hypothèses!$D$6:$G$14,4,0)),\"\",VLOOKUP(C105,Hypothèses!$D$6:$G$14,4,0))","v":""},null,null,null,null,null,null,null,null,null,null,null,null,null,null,null,null,null,null,null,null,null,{"$f":"IF(ISNA(E105*VLOOKUP($C105,Hypothèses!$D$6:$F$13,3,0)),0,E105*VLOOKUP($C105,Hypothèses!$D$6:$F$13,3,0))","v":0},{"$f":"IF(ISNA(F105*VLOOKUP($C105,Hypothèses!$D$6:$F$13,3,0)),0,F105*VLOOKUP($C105,Hypothèses!$D$6:$F$13,3,0))","v":0},{"$f":"IF(ISNA(G105*VLOOKUP($C105,Hypothèses!$D$6:$F$13,3,0)),0,G105*VLOOKUP($C105,Hypothèses!$D$6:$F$13,3,0))","v":0},{"$f":"IF(ISNA(H105*VLOOKUP($C105,Hypothèses!$D$6:$F$13,3,0)),0,H105*VLOOKUP($C105,Hypothèses!$D$6:$F$13,3,0))","v":0},{"$f":"IF(ISNA(I105*VLOOKUP($C105,Hypothèses!$D$6:$F$13,3,0)),0,I105*VLOOKUP($C105,Hypothèses!$D$6:$F$13,3,0))","v":0},{"$f":"IF(ISNA(J105*VLOOKUP($C105,Hypothèses!$D$6:$F$13,3,0)),0,J105*VLOOKUP($C105,Hypothèses!$D$6:$F$13,3,0))","v":0},{"$f":"IF(ISNA(K105*VLOOKUP($C105,Hypothèses!$D$6:$F$13,3,0)),0,K105*VLOOKUP($C105,Hypothèses!$D$6:$F$13,3,0))","v":0},{"$f":"IF(ISNA(L105*VLOOKUP($C105,Hypothèses!$D$6:$F$13,3,0)),0,L105*VLOOKUP($C105,Hypothèses!$D$6:$F$13,3,0))","v":0},{"$f":"IF(ISNA(M105*VLOOKUP($C105,Hypothèses!$D$6:$F$13,3,0)),0,M105*VLOOKUP($C105,Hypothèses!$D$6:$F$13,3,0))","v":0},{"$f":"IF(ISNA(N105*VLOOKUP($C105,Hypothèses!$D$6:$F$13,3,0)),0,N105*VLOOKUP($C105,Hypothèses!$D$6:$F$13,3,0))","v":0},{"$f":"IF(ISNA(O105*VLOOKUP($C105,Hypothèses!$D$6:$F$13,3,0)),0,O105*VLOOKUP($C105,Hypothèses!$D$6:$F$13,3,0))","v":0},{"$f":"IF(ISNA(P105*VLOOKUP($C105,Hypothèses!$D$6:$F$13,3,0)),0,P105*VLOOKUP($C105,Hypothèses!$D$6:$F$13,3,0))","v":0},{"$f":"IF(ISNA(Q105*VLOOKUP($C105,Hypothèses!$D$6:$F$13,3,0)),0,Q105*VLOOKUP($C105,Hypothèses!$D$6:$F$13,3,0))","v":0},{"$f":"IF(ISNA(R105*VLOOKUP($C105,Hypothèses!$D$6:$F$13,3,0)),0,R105*VLOOKUP($C105,Hypothèses!$D$6:$F$13,3,0))","v":0},{"$f":"IF(ISNA(S105*VLOOKUP($C105,Hypothèses!$D$6:$F$13,3,0)),0,S105*VLOOKUP($C105,Hypothèses!$D$6:$F$13,3,0))","v":0},{"$f":"IF(ISNA(#REF!*VLOOKUP($C105,Hypothèses!$D$6:$F$13,3,0)),0,#REF!*VLOOKUP($C105,Hypothèses!$D$6:$F$13,3,0))","v":{"$error":"#REF!"}},{"$f":"IF(ISNA(#REF!*VLOOKUP($C105,Hypothèses!$D$6:$F$13,3,0)),0,#REF!*VLOOKUP($C105,Hypothèses!$D$6:$F$13,3,0))","v":{"$error":"#REF!"}},{"$f":"IF(ISNA(#REF!*VLOOKUP($C105,Hypothèses!$D$6:$F$13,3,0)),0,#REF!*VLOOKUP($C105,Hypothèses!$D$6:$F$13,3,0))","v":{"$error":"#REF!"}},{"$f":"IF(ISNA(#REF!*VLOOKUP($C105,Hypothèses!$D$6:$F$13,3,0)),0,#REF!*VLOOKUP($C105,Hypothèses!$D$6:$F$13,3,0))","v":{"$error":"#REF!"}},{"$f":"IF(ISNA(#REF!*VLOOKUP($C105,Hypothèses!$D$6:$F$13,3,0)),0,#REF!*VLOOKUP($C105,Hypothèses!$D$6:$F$13,3,0))","v":{"$error":"#REF!"}},{"$f":"IF(ISNA(#REF!*VLOOKUP($C105,Hypothèses!$D$6:$F$13,3,0)),0,#REF!*VLOOKUP($C105,Hypothèses!$D$6:$F$13,3,0))","v":{"$error":"#REF!"}},{"$f":"IF(ISNA(#REF!*VLOOKUP($C105,Hypothèses!$D$6:$F$13,3,0)),0,#REF!*VLOOKUP($C105,Hypothèses!$D$6:$F$13,3,0))","v":{"$error":"#REF!"}}]
[99,null,null,{"$f":"IF(ISNA(VLOOKUP(C106,Hypothèses!$D$6:$G$14,4,0)),\"\",VLOOKUP(C106,Hypothèses!$D$6:$G$14,4,0))","v":""},null,null,null,null,null,null,null,null,null,null,null,null,null,null,null,null,null,null,null,null,null,{"$f":"IF(ISNA(E106*VLOOKUP($C106,Hypothèses!$D$6:$F$13,3,0)),0,E106*VLOOKUP($C106,Hypothèses!$D$6:$F$13,3,0))","v":0},{"$f":"IF(ISNA(F106*VLOOKUP($C106,Hypothèses!$D$6:$F$13,3,0)),0,F106*VLOOKUP($C106,Hypothèses!$D$6:$F$13,3,0))","v":0},{"$f":"IF(ISNA(G106*VLOOKUP($C106,Hypothèses!$D$6:$F$13,3,0)),0,G106*VLOOKUP($C106,Hypothèses!$D$6:$F$13,3,0))","v":0},{"$f":"IF(ISNA(H106*VLOOKUP($C106,Hypothèses!$D$6:$F$13,3,0)),0,H106*VLOOKUP($C106,Hypothèses!$D$6:$F$13,3,0))","v":0},{"$f":"IF(ISNA(I106*VLOOKUP($C106,Hypothèses!$D$6:$F$13,3,0)),0,I106*VLOOKUP($C106,Hypothèses!$D$6:$F$13,3,0))","v":0},{"$f":"IF(ISNA(J106*VLOOKUP($C106,Hypothèses!$D$6:$F$13,3,0)),0,J106*VLOOKUP($C106,Hypothèses!$D$6:$F$13,3,0))","v":0},{"$f":"IF(ISNA(K106*VLOOKUP($C106,Hypothèses!$D$6:$F$13,3,0)),0,K106*VLOOKUP($C106,Hypothèses!$D$6:$F$13,3,0))","v":0},{"$f":"IF(ISNA(L106*VLOOKUP($C106,Hypothèses!$D$6:$F$13,3,0)),0,L106*VLOOKUP($C106,Hypothèses!$D$6:$F$13,3,0))","v":0},{"$f":"IF(ISNA(M106*VLOOKUP($C106,Hypothèses!$D$6:$F$13,3,0)),0,M106*VLOOKUP($C106,Hypothèses!$D$6:$F$13,3,0))","v":0},{"$f":"IF(ISNA(N106*VLOOKUP($C106,Hypothèses!$D$6:$F$13,3,0)),0,N106*VLOOKUP($C106,Hypothèses!$D$6:$F$13,3,0))","v":0},{"$f":"IF(ISNA(O106*VLOOKUP($C106,Hypothèses!$D$6:$F$13,3,0)),0,O106*VLOOKUP($C106,Hypothèses!$D$6:$F$13,3,0))","v":0},{"$f":"IF(ISNA(P106*VLOOKUP($C106,Hypothèses!$D$6:$F$13,3,0)),0,P106*VLOOKUP($C106,Hypothèses!$D$6:$F$13,3,0))","v":0},{"$f":"IF(ISNA(Q106*VLOOKUP($C106,Hypothèses!$D$6:$F$13,3,0)),0,Q106*VLOOKUP($C106,Hypothèses!$D$6:$F$13,3,0))","v":0},{"$f":"IF(ISNA(R106*VLOOKUP($C106,Hypothèses!$D$6:$F$13,3,0)),0,R106*VLOOKUP($C106,Hypothèses!$D$6:$F$13,3,0))","v":0},{"$f":"IF(ISNA(S106*VLOOKUP($C106,Hypothèses!$D$6:$F$13,3,0)),0,S106*VLOOKUP($C106,Hypothèses!$D$6:$F$13,3,0))","v":0},{"$f":"IF(ISNA(#REF!*VLOOKUP($C106,Hypothèses!$D$6:$F$13,3,0)),0,#REF!*VLOOKUP($C106,Hypothèses!$D$6:$F$13,3,0))","v":{"$error":"#REF!"}},{"$f":"IF(ISNA(#REF!*VLOOKUP($C106,Hypothèses!$D$6:$F$13,3,0)),0,#REF!*VLOOKUP($C106,Hypothèses!$D$6:$F$13,3,0))","v":{"$error":"#REF!"}},{"$f":"IF(ISNA(#REF!*VLOOKUP($C106,Hypothèses!$D$6:$F$13,3,0)),0,#REF!*VLOOKUP($C106,Hypothèses!$D$6:$F$13,3,0))","v":{"$error":"#REF!"}},{"$f":"IF(ISNA(#REF!*VLOOKUP($C106,Hypothèses!$D$6:$F$13,3,0)),0,#REF!*VLOOKUP($C106,Hypothèses!$D$6:$F$13,3,0))","v":{"$error":"#REF!"}},{"$f":"IF(ISNA(#REF!*VLOOKUP($C106,Hypothèses!$D$6:$F$13,3,0)),0,#REF!*VLOOKUP($C106,Hypothèses!$D$6:$F$13,3,0))","v":{"$error":"#REF!"}},{"$f":"IF(ISNA(#REF!*VLOOKUP($C106,Hypothèses!$D$6:$F$13,3,0)),0,#REF!*VLOOKUP($C106,Hypothèses!$D$6:$F$13,3,0))","v":{"$error":"#REF!"}},{"$f":"IF(ISNA(#REF!*VLOOKUP($C106,Hypothèses!$D$6:$F$13,3,0)),0,#REF!*VLOOKUP($C106,Hypothèses!$D$6:$F$13,3,0))","v":{"$error":"#REF!"}}]
[100,null,null,{"$f":"IF(ISNA(VLOOKUP(C107,Hypothèses!$D$6:$G$14,4,0)),\"\",VLOOKUP(C107,Hypothèses!$D$6:$G$14,4,0))","v":""},null,null,null,null,null,null,null,null,null,null,null,null,null,null,null,null,null,null,null,null,null,{"$f":"IF(ISNA(E107*VLOOKUP($C107,Hypothèses!$D$6:$F$13,3,0)),0,E107*VLOOKUP($C107,Hypothèses!$D$6:$F$13,3,0))","v":0},{"$f":"IF(ISNA(F107*VLOOKUP($C107,Hypothèses!$D$6:$F$13,3,0)),0,F107*VLOOKUP($C107,Hypothèses!$D$6:$F$13,3,0))","v":0},{"$f":"IF(ISNA(G107*VLOOKUP($C107,Hypothèses!$D$6:$F$13,3,0)),0,G107*VLOOKUP($C107,Hypothèses!$D$6:$F$13,3,0))","v":0},{"$f":"IF(ISNA(H107*VLOOKUP($C107,Hypothèses!$D$6:$F$13,3,0)),0,H107*VLOOKUP($C107,Hypothèses!$D$6:$F$13,3,0))","v":0},{"$f":"IF(ISNA(I107*VLOOKUP($C107,Hypothèses!$D$6:$F$13,3,0)),0,I107*VLOOKUP($C107,Hypothèses!$D$6:$F$13,3,0))","v":0},{"$f":"IF(ISNA(J107*VLOOKUP($C107,Hypothèses!$D$6:$F$13,3,0)),0,J107*VLOOKUP($C107,Hypothèses!$D$6:$F$13,3,0))","v":0},{"$f":"IF(ISNA(K107*VLOOKUP($C107,Hypothèses!$D$6:$F$13,3,0)),0,K107*VLOOKUP($C107,Hypothèses!$D$6:$F$13,3,0))","v":0},{"$f":"IF(ISNA(L107*VLOOKUP($C107,Hypothèses!$D$6:$F$13,3,0)),0,L107*VLOOKUP($C107,Hypothèses!$D$6:$F$13,3,0))","v":0},{"$f":"IF(ISNA(M107*VLOOKUP($C107,Hypothèses!$D$6:$F$13,3,0)),0,M107*VLOOKUP($C107,Hypothèses!$D$6:$F$13,3,0))","v":0},{"$f":"IF(ISNA(N107*VLOOKUP($C107,Hypothèses!$D$6:$F$13,3,0)),0,N107*VLOOKUP($C107,Hypothèses!$D$6:$F$13,3,0))","v":0},{"$f":"IF(ISNA(O107*VLOOKUP($C107,Hypothèses!$D$6:$F$13,3,0)),0,O107*VLOOKUP($C107,Hypothèses!$D$6:$F$13,3,0))","v":0},{"$f":"IF(ISNA(P107*VLOOKUP($C107,Hypothèses!$D$6:$F$13,3,0)),0,P107*VLOOKUP($C107,Hypothèses!$D$6:$F$13,3,0))","v":0},{"$f":"IF(ISNA(Q107*VLOOKUP($C107,Hypothèses!$D$6:$F$13,3,0)),0,Q107*VLOOKUP($C107,Hypothèses!$D$6:$F$13,3,0))","v":0},{"$f":"IF(ISNA(R107*VLOOKUP($C107,Hypothèses!$D$6:$F$13,3,0)),0,R107*VLOOKUP($C107,Hypothèses!$D$6:$F$13,3,0))","v":0},{"$f":"IF(ISNA(S107*VLOOKUP($C107,Hypothèses!$D$6:$F$13,3,0)),0,S107*VLOOKUP($C107,Hypothèses!$D$6:$F$13,3,0))","v":0},{"$f":"IF(ISNA(#REF!*VLOOKUP($C107,Hypothèses!$D$6:$F$13,3,0)),0,#REF!*VLOOKUP($C107,Hypothèses!$D$6:$F$13,3,0))","v":{"$error":"#REF!"}},{"$f":"IF(ISNA(#REF!*VLOOKUP($C107,Hypothèses!$D$6:$F$13,3,0)),0,#REF!*VLOOKUP($C107,Hypothèses!$D$6:$F$13,3,0))","v":{"$error":"#REF!"}},{"$f":"IF(ISNA(#REF!*VLOOKUP($C107,Hypothèses!$D$6:$F$13,3,0)),0,#REF!*VLOOKUP($C107,Hypothèses!$D$6:$F$13,3,0))","v":{"$error":"#REF!"}},{"$f":"IF(ISNA(#REF!*VLOOKUP($C107,Hypothèses!$D$6:$F$13,3,0)),0,#REF!*VLOOKUP($C107,Hypothèses!$D$6:$F$13,3,0))","v":{"$error":"#REF!"}},{"$f":"IF(ISNA(#REF!*VLOOKUP($C107,Hypothèses!$D$6:$F$13,3,0)),0,#REF!*VLOOKUP($C107,Hypothèses!$D$6:$F$13,3,0))","v":{"$error":"#REF!"}},{"$f":"IF(ISNA(#REF!*VLOOKUP($C107,Hypothèses!$D$6:$F$13,3,0)),0,#REF!*VLOOKUP($C107,Hypothèses!$D$6:$F$13,3,0))","v":{"$error":"#REF!"}},{"$f":"IF(ISNA(#REF!*VLOOKUP($C107,Hypothèses!$D$6:$F$13,3,0)),0,#REF!*VLOOKUP($C107,Hypothèses!$D$6:$F$13,3,0))","v":{"$error":"#REF!"}}]
[101,null,null,{"$f":"IF(ISNA(VLOOKUP(C108,Hypothèses!$D$6:$G$14,4,0)),\"\",VLOOKUP(C108,Hypothèses!$D$6:$G$14,4,0))","v":""},null,null,null,null,null,null,null,null,null,null,null,null,null,null,null,null,null,null,null,null,null,{"$f":"IF(ISNA(E108*VLOOKUP($C108,Hypothèses!$D$6:$F$13,3,0)),0,E108*VLOOKUP($C108,Hypothèses!$D$6:$F$13,3,0))","v":0},{"$f":"IF(ISNA(F108*VLOOKUP($C108,Hypothèses!$D$6:$F$13,3,0)),0,F108*VLOOKUP($C108,Hypothèses!$D$6:$F$13,3,0))","v":0},{"$f":"IF(ISNA(G108*VLOOKUP($C108,Hypothèses!$D$6:$F$13,3,0)),0,G108*VLOOKUP($C108,Hypothèses!$D$6:$F$13,3,0))","v":0},{"$f":"IF(ISNA(H108*VLOOKUP($C108,Hypothèses!$D$6:$F$13,3,0)),0,H108*VLOOKUP($C108,Hypothèses!$D$6:$F$13,3,0))","v":0},{"$f":"IF(ISNA(I108*VLOOKUP($C108,Hypothèses!$D$6:$F$13,3,0)),0,I108*VLOOKUP($C108,Hypothèses!$D$6:$F$13,3,0))","v":0},{"$f":"IF(ISNA(J108*VLOOKUP($C108,Hypothèses!$D$6:$F$13,3,0)),0,J108*VLOOKUP($C108,Hypothèses!$D$6:$F$13,3,0))","v":0},{"$f":"IF(ISNA(K108*VLOOKUP($C108,Hypothèses!$D$6:$F$13,3,0)),0,K108*VLOOKUP($C108,Hypothèses!$D$6:$F$13,3,0))","v":0},{"$f":"IF(ISNA(L108*VLOOKUP($C108,Hypothèses!$D$6:$F$13,3,0)),0,L108*VLOOKUP($C108,Hypothèses!$D$6:$F$13,3,0))","v":0},{"$f":"IF(ISNA(M108*VLOOKUP($C108,Hypothèses!$D$6:$F$13,3,0)),0,M108*VLOOKUP($C108,Hypothèses!$D$6:$F$13,3,0))","v":0},{"$f":"IF(ISNA(N108*VLOOKUP($C108,Hypothèses!$D$6:$F$13,3,0)),0,N108*VLOOKUP($C108,Hypothèses!$D$6:$F$13,3,0))","v":0},{"$f":"IF(ISNA(O108*VLOOKUP($C108,Hypothèses!$D$6:$F$13,3,0)),0,O108*VLOOKUP($C108,Hypothèses!$D$6:$F$13,3,0))","v":0},{"$f":"IF(ISNA(P108*VLOOKUP($C108,Hypothèses!$D$6:$F$13,3,0)),0,P108*VLOOKUP($C108,Hypothèses!$D$6:$F$13,3,0))","v":0},{"$f":"IF(ISNA(Q108*VLOOKUP($C108,Hypothèses!$D$6:$F$13,3,0)),0,Q108*VLOOKUP($C108,Hypothèses!$D$6:$F$13,3,0))","v":0},{"$f":"IF(ISNA(R108*VLOOKUP($C108,Hypothèses!$D$6:$F$13,3,0)),0,R108*VLOOKUP($C108,Hypothèses!$D$6:$F$13,3,0))","v":0},{"$f":"IF(ISNA(S108*VLOOKUP($C108,Hypothèses!$D$6:$F$13,3,0)),0,S108*VLOOKUP($C108,Hypothèses!$D$6:$F$13,3,0))","v":0},{"$f":"IF(ISNA(#REF!*VLOOKUP($C108,Hypothèses!$D$6:$F$13,3,0)),0,#REF!*VLOOKUP($C108,Hypothèses!$D$6:$F$13,3,0))","v":{"$error":"#REF!"}},{"$f":"IF(ISNA(#REF!*VLOOKUP($C108,Hypothèses!$D$6:$F$13,3,0)),0,#REF!*VLOOKUP($C108,Hypothèses!$D$6:$F$13,3,0))","v":{"$error":"#REF!"}},{"$f":"IF(ISNA(#REF!*VLOOKUP($C108,Hypothèses!$D$6:$F$13,3,0)),0,#REF!*VLOOKUP($C108,Hypothèses!$D$6:$F$13,3,0))","v":{"$error":"#REF!"}},{"$f":"IF(ISNA(#REF!*VLOOKUP($C108,Hypothèses!$D$6:$F$13,3,0)),0,#REF!*VLOOKUP($C108,Hypothèses!$D$6:$F$13,3,0))","v":{"$error":"#REF!"}},{"$f":"IF(ISNA(#REF!*VLOOKUP($C108,Hypothèses!$D$6:$F$13,3,0)),0,#REF!*VLOOKUP($C108,Hypothèses!$D$6:$F$13,3,0))","v":{"$error":"#REF!"}},{"$f":"IF(ISNA(#REF!*VLOOKUP($C108,Hypothèses!$D$6:$F$13,3,0)),0,#REF!*VLOOKUP($C108,Hypothèses!$D$6:$F$13,3,0))","v":{"$error":"#REF!"}},{"$f":"IF(ISNA(#REF!*VLOOKUP($C108,Hypothèses!$D$6:$F$13,3,0)),0,#REF!*VLOOKUP($C108,Hypothèses!$D$6:$F$13,3,0))","v":{"$error":"#REF!"}}]
[102,null,null,{"$f":"IF(ISNA(VLOOKUP(C109,Hypothèses!$D$6:$G$14,4,0)),\"\",VLOOKUP(C109,Hypothèses!$D$6:$G$14,4,0))","v":""},null,null,null,null,null,null,null,null,null,null,null,null,null,null,null,null,null,null,null,null,null,{"$f":"IF(ISNA(E109*VLOOKUP($C109,Hypothèses!$D$6:$F$13,3,0)),0,E109*VLOOKUP($C109,Hypothèses!$D$6:$F$13,3,0))","v":0},{"$f":"IF(ISNA(F109*VLOOKUP($C109,Hypothèses!$D$6:$F$13,3,0)),0,F109*VLOOKUP($C109,Hypothèses!$D$6:$F$13,3,0))","v":0},{"$f":"IF(ISNA(G109*VLOOKUP($C109,Hypothèses!$D$6:$F$13,3,0)),0,G109*VLOOKUP($C109,Hypothèses!$D$6:$F$13,3,0))","v":0},{"$f":"IF(ISNA(H109*VLOOKUP($C109,Hypothèses!$D$6:$F$13,3,0)),0,H109*VLOOKUP($C109,Hypothèses!$D$6:$F$13,3,0))","v":0},{"$f":"IF(ISNA(I109*VLOOKUP($C109,Hypothèses!$D$6:$F$13,3,0)),0,I109*VLOOKUP($C109,Hypothèses!$D$6:$F$13,3,0))","v":0},{"$f":"IF(ISNA(J109*VLOOKUP($C109,Hypothèses!$D$6:$F$13,3,0)),0,J109*VLOOKUP($C109,Hypothèses!$D$6:$F$13,3,0))","v":0},{"$f":"IF(ISNA(K109*VLOOKUP($C109,Hypothèses!$D$6:$F$13,3,0)),0,K109*VLOOKUP($C109,Hypothèses!$D$6:$F$13,3,0))","v":0},{"$f":"IF(ISNA(L109*VLOOKUP($C109,Hypothèses!$D$6:$F$13,3,0)),0,L109*VLOOKUP($C109,Hypothèses!$D$6:$F$13,3,0))","v":0},{"$f":"IF(ISNA(M109*VLOOKUP($C109,Hypothèses!$D$6:$F$13,3,0)),0,M109*VLOOKUP($C109,Hypothèses!$D$6:$F$13,3,0))","v":0},{"$f":"IF(ISNA(N109*VLOOKUP($C109,Hypothèses!$D$6:$F$13,3,0)),0,N109*VLOOKUP($C109,Hypothèses!$D$6:$F$13,3,0))","v":0},{"$f":"IF(ISNA(O109*VLOOKUP($C109,Hypothèses!$D$6:$F$13,3,0)),0,O109*VLOOKUP($C109,Hypothèses!$D$6:$F$13,3,0))","v":0},{"$f":"IF(ISNA(P109*VLOOKUP($C109,Hypothèses!$D$6:$F$13,3,0)),0,P109*VLOOKUP($C109,Hypothèses!$D$6:$F$13,3,0))","v":0},{"$f":"IF(ISNA(Q109*VLOOKUP($C109,Hypothèses!$D$6:$F$13,3,0)),0,Q109*VLOOKUP($C109,Hypothèses!$D$6:$F$13,3,0))","v":0},{"$f":"IF(ISNA(R109*VLOOKUP($C109,Hypothèses!$D$6:$F$13,3,0)),0,R109*VLOOKUP($C109,Hypothèses!$D$6:$F$13,3,0))","v":0},{"$f":"IF(ISNA(S109*VLOOKUP($C109,Hypothèses!$D$6:$F$13,3,0)),0,S109*VLOOKUP($C109,Hypothèses!$D$6:$F$13,3,0))","v":0},{"$f":"IF(ISNA(#REF!*VLOOKUP($C109,Hypothèses!$D$6:$F$13,3,0)),0,#REF!*VLOOKUP($C109,Hypothèses!$D$6:$F$13,3,0))","v":{"$error":"#REF!"}},{"$f":"IF(ISNA(#REF!*VLOOKUP($C109,Hypothèses!$D$6:$F$13,3,0)),0,#REF!*VLOOKUP($C109,Hypothèses!$D$6:$F$13,3,0))","v":{"$error":"#REF!"}},{"$f":"IF(ISNA(#REF!*VLOOKUP($C109,Hypothèses!$D$6:$F$13,3,0)),0,#REF!*VLOOKUP($C109,Hypothèses!$D$6:$F$13,3,0))","v":{"$error":"#REF!"}},{"$f":"IF(ISNA(#REF!*VLOOKUP($C109,Hypothèses!$D$6:$F$13,3,0)),0,#REF!*VLOOKUP($C109,Hypothèses!$D$6:$F$13,3,0))","v":{"$error":"#REF!"}},{"$f":"IF(ISNA(#REF!*VLOOKUP($C109,Hypothèses!$D$6:$F$13,3,0)),0,#REF!*VLOOKUP($C109,Hypothèses!$D$6:$F$13,3,0))","v":{"$error":"#REF!"}},{"$f":"IF(ISNA(#REF!*VLOOKUP($C109,Hypothèses!$D$6:$F$13,3,0)),0,#REF!*VLOOKUP($C109,Hypothèses!$D$6:$F$13,3,0))","v":{"$error":"#REF!"}},{"$f":"IF(ISNA(#REF!*VLOOKUP($C109,Hypothèses!$D$6:$F$13,3,0)),0,#REF!*VLOOKUP($C109,Hypothèses!$D$6:$F$13,3,0))","v":{"$error":"#REF!"}}]
[103,null,null,{"$f":"IF(ISNA(VLOOKUP(C110,Hypothèses!$D$6:$G$14,4,0)),\"\",VLOOKUP(C110,Hypothèses!$D$6:$G$14,4,0))","v":""},null,null,null,null,null,null,null,null,null,null,null,null,null,null,null,null,null,null,null,null,null,{"$f":"IF(ISNA(E110*VLOOKUP($C110,Hypothèses!$D$6:$F$13,3,0)),0,E110*VLOOKUP($C110,Hypothèses!$D$6:$F$13,3,0))","v":0},{"$f":"IF(ISNA(F110*VLOOKUP($C110,Hypothèses!$D$6:$F$13,3,0)),0,F110*VLOOKUP($C110,Hypothèses!$D$6:$F$13,3,0))","v":0},{"$f":"IF(ISNA(G110*VLOOKUP($C110,Hypothèses!$D$6:$F$13,3,0)),0,G110*VLOOKUP($C110,Hypothèses!$D$6:$F$13,3,0))","v":0},{"$f":"IF(ISNA(H110*VLOOKUP($C110,Hypothèses!$D$6:$F$13,3,0)),0,H110*VLOOKUP($C110,Hypothèses!$D$6:$F$13,3,0))","v":0},{"$f":"IF(ISNA(I110*VLOOKUP($C110,Hypothèses!$D$6:$F$13,3,0)),0,I110*VLOOKUP($C110,Hypothèses!$D$6:$F$13,3,0))","v":0},{"$f":"IF(ISNA(J110*VLOOKUP($C110,Hypothèses!$D$6:$F$13,3,0)),0,J110*VLOOKUP($C110,Hypothèses!$D$6:$F$13,3,0))","v":0},{"$f":"IF(ISNA(K110*VLOOKUP($C110,Hypothèses!$D$6:$F$13,3,0)),0,K110*VLOOKUP($C110,Hypothèses!$D$6:$F$13,3,0))","v":0},{"$f":"IF(ISNA(L110*VLOOKUP($C110,Hypothèses!$D$6:$F$13,3,0)),0,L110*VLOOKUP($C110,Hypothèses!$D$6:$F$13,3,0))","v":0},{"$f":"IF(ISNA(M110*VLOOKUP($C110,Hypothèses!$D$6:$F$13,3,0)),0,M110*VLOOKUP($C110,Hypothèses!$D$6:$F$13,3,0))","v":0},{"$f":"IF(ISNA(N110*VLOOKUP($C110,Hypothèses!$D$6:$F$13,3,0)),0,N110*VLOOKUP($C110,Hypothèses!$D$6:$F$13,3,0))","v":0},{"$f":"IF(ISNA(O110*VLOOKUP($C110,Hypothèses!$D$6:$F$13,3,0)),0,O110*VLOOKUP($C110,Hypothèses!$D$6:$F$13,3,0))","v":0},{"$f":"IF(ISNA(P110*VLOOKUP($C110,Hypothèses!$D$6:$F$13,3,0)),0,P110*VLOOKUP($C110,Hypothèses!$D$6:$F$13,3,0))","v":0},{"$f":"IF(ISNA(Q110*VLOOKUP($C110,Hypothèses!$D$6:$F$13,3,0)),0,Q110*VLOOKUP($C110,Hypothèses!$D$6:$F$13,3,0))","v":0},{"$f":"IF(ISNA(R110*VLOOKUP($C110,Hypothèses!$D$6:$F$13,3,0)),0,R110*VLOOKUP($C110,Hypothèses!$D$6:$F$13,3,0))","v":0},{"$f":"IF(ISNA(S110*VLOOKUP($C110,Hypothèses!$D$6:$F$13,3,0)),0,S110*VLOOKUP($C110,Hypothèses!$D$6:$F$13,3,0))","v":0},{"$f":"IF(ISNA(#REF!*VLOOKUP($C110,Hypothèses!$D$6:$F$13,3,0)),0,#REF!*VLOOKUP($C110,Hypothèses!$D$6:$F$13,3,0))","v":{"$error":"#REF!"}},{"$f":"IF(ISNA(#REF!*VLOOKUP($C110,Hypothèses!$D$6:$F$13,3,0)),0,#REF!*VLOOKUP($C110,Hypothèses!$D$6:$F$13,3,0))","v":{"$error":"#REF!"}},{"$f":"IF(ISNA(#REF!*VLOOKUP($C110,Hypothèses!$D$6:$F$13,3,0)),0,#REF!*VLOOKUP($C110,Hypothèses!$D$6:$F$13,3,0))","v":{"$error":"#REF!"}},{"$f":"IF(ISNA(#REF!*VLOOKUP($C110,Hypothèses!$D$6:$F$13,3,0)),0,#REF!*VLOOKUP($C110,Hypothèses!$D$6:$F$13,3,0))","v":{"$error":"#REF!"}},{"$f":"IF(ISNA(#REF!*VLOOKUP($C110,Hypothèses!$D$6:$F$13,3,0)),0,#REF!*VLOOKUP($C110,Hypothèses!$D$6:$F$13,3,0))","v":{"$error":"#REF!"}},{"$f":"IF(ISNA(#REF!*VLOOKUP($C110,Hypothèses!$D$6:$F$13,3,0)),0,#REF!*VLOOKUP($C110,Hypothèses!$D$6:$F$13,3,0))","v":{"$error":"#REF!"}},{"$f":"IF(ISNA(#REF!*VLOOKUP($C110,Hypothèses!$D$6:$F$13,3,0)),0,#REF!*VLOOKUP($C110,Hypothèses!$D$6:$F$13,3,0))","v":{"$error":"#REF!"}}]
[104,null,null,{"$f":"IF(ISNA(VLOOKUP(C111,Hypothèses!$D$6:$G$14,4,0)),\"\",VLOOKUP(C111,Hypothèses!$D$6:$G$14,4,0))","v":""},null,null,null,null,null,null,null,null,null,null,null,null,null,null,null,null,null,null,null,null,null,{"$f":"IF(ISNA(E111*VLOOKUP($C111,Hypothèses!$D$6:$F$13,3,0)),0,E111*VLOOKUP($C111,Hypothèses!$D$6:$F$13,3,0))","v":0},{"$f":"IF(ISNA(F111*VLOOKUP($C111,Hypothèses!$D$6:$F$13,3,0)),0,F111*VLOOKUP($C111,Hypothèses!$D$6:$F$13,3,0))","v":0},{"$f":"IF(ISNA(G111*VLOOKUP($C111,Hypothèses!$D$6:$F$13,3,0)),0,G111*VLOOKUP($C111,Hypothèses!$D$6:$F$13,3,0))","v":0},{"$f":"IF(ISNA(H111*VLOOKUP($C111,Hypothèses!$D$6:$F$13,3,0)),0,H111*VLOOKUP($C111,Hypothèses!$D$6:$F$13,3,0))","v":0},{"$f":"IF(ISNA(I111*VLOOKUP($C111,Hypothèses!$D$6:$F$13,3,0)),0,I111*VLOOKUP($C111,Hypothèses!$D$6:$F$13,3,0))","v":0},{"$f":"IF(ISNA(J111*VLOOKUP($C111,Hypothèses!$D$6:$F$13,3,0)),0,J111*VLOOKUP($C111,Hypothèses!$D$6:$F$13,3,0))","v":0},{"$f":"IF(ISNA(K111*VLOOKUP($C111,Hypothèses!$D$6:$F$13,3,0)),0,K111*VLOOKUP($C111,Hypothèses!$D$6:$F$13,3,0))","v":0},{"$f":"IF(ISNA(L111*VLOOKUP($C111,Hypothèses!$D$6:$F$13,3,0)),0,L111*VLOOKUP($C111,Hypothèses!$D$6:$F$13,3,0))","v":0},{"$f":"IF(ISNA(M111*VLOOKUP($C111,Hypothèses!$D$6:$F$13,3,0)),0,M111*VLOOKUP($C111,Hypothèses!$D$6:$F$13,3,0))","v":0},{"$f":"IF(ISNA(N111*VLOOKUP($C111,Hypothèses!$D$6:$F$13,3,0)),0,N111*VLOOKUP($C111,Hypothèses!$D$6:$F$13,3,0))","v":0},{"$f":"IF(ISNA(O111*VLOOKUP($C111,Hypothèses!$D$6:$F$13,3,0)),0,O111*VLOOKUP($C111,Hypothèses!$D$6:$F$13,3,0))","v":0},{"$f":"IF(ISNA(P111*VLOOKUP($C111,Hypothèses!$D$6:$F$13,3,0)),0,P111*VLOOKUP($C111,Hypothèses!$D$6:$F$13,3,0))","v":0},{"$f":"IF(ISNA(Q111*VLOOKUP($C111,Hypothèses!$D$6:$F$13,3,0)),0,Q111*VLOOKUP($C111,Hypothèses!$D$6:$F$13,3,0))","v":0},{"$f":"IF(ISNA(R111*VLOOKUP($C111,Hypothèses!$D$6:$F$13,3,0)),0,R111*VLOOKUP($C111,Hypothèses!$D$6:$F$13,3,0))","v":0},{"$f":"IF(ISNA(S111*VLOOKUP($C111,Hypothèses!$D$6:$F$13,3,0)),0,S111*VLOOKUP($C111,Hypothèses!$D$6:$F$13,3,0))","v":0},{"$f":"IF(ISNA(#REF!*VLOOKUP($C111,Hypothèses!$D$6:$F$13,3,0)),0,#REF!*VLOOKUP($C111,Hypothèses!$D$6:$F$13,3,0))","v":{"$error":"#REF!"}},{"$f":"IF(ISNA(#REF!*VLOOKUP($C111,Hypothèses!$D$6:$F$13,3,0)),0,#REF!*VLOOKUP($C111,Hypothèses!$D$6:$F$13,3,0))","v":{"$error":"#REF!"}},{"$f":"IF(ISNA(#REF!*VLOOKUP($C111,Hypothèses!$D$6:$F$13,3,0)),0,#REF!*VLOOKUP($C111,Hypothèses!$D$6:$F$13,3,0))","v":{"$error":"#REF!"}},{"$f":"IF(ISNA(#REF!*VLOOKUP($C111,Hypothèses!$D$6:$F$13,3,0)),0,#REF!*VLOOKUP($C111,Hypothèses!$D$6:$F$13,3,0))","v":{"$error":"#REF!"}},{"$f":"IF(ISNA(#REF!*VLOOKUP($C111,Hypothèses!$D$6:$F$13,3,0)),0,#REF!*VLOOKUP($C111,Hypothèses!$D$6:$F$13,3,0))","v":{"$error":"#REF!"}},{"$f":"IF(ISNA(#REF!*VLOOKUP($C111,Hypothèses!$D$6:$F$13,3,0)),0,#REF!*VLOOKUP($C111,Hypothèses!$D$6:$F$13,3,0))","v":{"$error":"#REF!"}},{"$f":"IF(ISNA(#REF!*VLOOKUP($C111,Hypothèses!$D$6:$F$13,3,0)),0,#REF!*VLOOKUP($C111,Hypothèses!$D$6:$F$13,3,0))","v":{"$error":"#REF!"}}]
[105,null,null,{"$f":"IF(ISNA(VLOOKUP(C112,Hypothèses!$D$6:$G$14,4,0)),\"\",VLOOKUP(C112,Hypothèses!$D$6:$G$14,4,0))","v":""},null,null,null,null,null,null,null,null,null,null,null,null,null,null,null,null,null,null,null,null,null,{"$f":"IF(ISNA(E112*VLOOKUP($C112,Hypothèses!$D$6:$F$13,3,0)),0,E112*VLOOKUP($C112,Hypothèses!$D$6:$F$13,3,0))","v":0},{"$f":"IF(ISNA(F112*VLOOKUP($C112,Hypothèses!$D$6:$F$13,3,0)),0,F112*VLOOKUP($C112,Hypothèses!$D$6:$F$13,3,0))","v":0},{"$f":"IF(ISNA(G112*VLOOKUP($C112,Hypothèses!$D$6:$F$13,3,0)),0,G112*VLOOKUP($C112,Hypothèses!$D$6:$F$13,3,0))","v":0},{"$f":"IF(ISNA(H112*VLOOKUP($C112,Hypothèses!$D$6:$F$13,3,0)),0,H112*VLOOKUP($C112,Hypothèses!$D$6:$F$13,3,0))","v":0},{"$f":"IF(ISNA(I112*VLOOKUP($C112,Hypothèses!$D$6:$F$13,3,0)),0,I112*VLOOKUP($C112,Hypothèses!$D$6:$F$13,3,0))","v":0},{"$f":"IF(ISNA(J112*VLOOKUP($C112,Hypothèses!$D$6:$F$13,3,0)),0,J112*VLOOKUP($C112,Hypothèses!$D$6:$F$13,3,0))","v":0},{"$f":"IF(ISNA(K112*VLOOKUP($C112,Hypothèses!$D$6:$F$13,3,0)),0,K112*VLOOKUP($C112,Hypothèses!$D$6:$F$13,3,0))","v":0},{"$f":"IF(ISNA(L112*VLOOKUP($C112,Hypothèses!$D$6:$F$13,3,0)),0,L112*VLOOKUP($C112,Hypothèses!$D$6:$F$13,3,0))","v":0},{"$f":"IF(ISNA(M112*VLOOKUP($C112,Hypothèses!$D$6:$F$13,3,0)),0,M112*VLOOKUP($C112,Hypothèses!$D$6:$F$13,3,0))","v":0},{"$f":"IF(ISNA(N112*VLOOKUP($C112,Hypothèses!$D$6:$F$13,3,0)),0,N112*VLOOKUP($C112,Hypothèses!$D$6:$F$13,3,0))","v":0},{"$f":"IF(ISNA(O112*VLOOKUP($C112,Hypothèses!$D$6:$F$13,3,0)),0,O112*VLOOKUP($C112,Hypothèses!$D$6:$F$13,3,0))","v":0},{"$f":"IF(ISNA(P112*VLOOKUP($C112,Hypothèses!$D$6:$F$13,3,0)),0,P112*VLOOKUP($C112,Hypothèses!$D$6:$F$13,3,0))","v":0},{"$f":"IF(ISNA(Q112*VLOOKUP($C112,Hypothèses!$D$6:$F$13,3,0)),0,Q112*VLOOKUP($C112,Hypothèses!$D$6:$F$13,3,0))","v":0},{"$f":"IF(ISNA(R112*VLOOKUP($C112,Hypothèses!$D$6:$F$13,3,0)),0,R112*VLOOKUP($C112,Hypothèses!$D$6:$F$13,3,0))","v":0},{"$f":"IF(ISNA(S112*VLOOKUP($C112,Hypothèses!$D$6:$F$13,3,0)),0,S112*VLOOKUP($C112,Hypothèses!$D$6:$F$13,3,0))","v":0},{"$f":"IF(ISNA(#REF!*VLOOKUP($C112,Hypothèses!$D$6:$F$13,3,0)),0,#REF!*VLOOKUP($C112,Hypothèses!$D$6:$F$13,3,0))","v":{"$error":"#REF!"}},{"$f":"IF(ISNA(#REF!*VLOOKUP($C112,Hypothèses!$D$6:$F$13,3,0)),0,#REF!*VLOOKUP($C112,Hypothèses!$D$6:$F$13,3,0))","v":{"$error":"#REF!"}},{"$f":"IF(ISNA(#REF!*VLOOKUP($C112,Hypothèses!$D$6:$F$13,3,0)),0,#REF!*VLOOKUP($C112,Hypothèses!$D$6:$F$13,3,0))","v":{"$error":"#REF!"}},{"$f":"IF(ISNA(#REF!*VLOOKUP($C112,Hypothèses!$D$6:$F$13,3,0)),0,#REF!*VLOOKUP($C112,Hypothèses!$D$6:$F$13,3,0))","v":{"$error":"#REF!"}},{"$f":"IF(ISNA(#REF!*VLOOKUP($C112,Hypothèses!$D$6:$F$13,3,0)),0,#REF!*VLOOKUP($C112,Hypothèses!$D$6:$F$13,3,0))","v":{"$error":"#REF!"}},{"$f":"IF(ISNA(#REF!*VLOOKUP($C112,Hypothèses!$D$6:$F$13,3,0)),0,#REF!*VLOOKUP($C112,Hypothèses!$D$6:$F$13,3,0))","v":{"$error":"#REF!"}},{"$f":"IF(ISNA(#REF!*VLOOKUP($C112,Hypothèses!$D$6:$F$13,3,0)),0,#REF!*VLOOKUP($C112,Hypothèses!$D$6:$F$13,3,0))","v":{"$error":"#REF!"}}]
[106,null,null,{"$f":"IF(ISNA(VLOOKUP(C113,Hypothèses!$D$6:$G$14,4,0)),\"\",VLOOKUP(C113,Hypothèses!$D$6:$G$14,4,0))","v":""},null,null,null,null,null,null,null,null,null,null,null,null,null,null,null,null,null,null,null,null,null,{"$f":"IF(ISNA(E113*VLOOKUP($C113,Hypothèses!$D$6:$F$13,3,0)),0,E113*VLOOKUP($C113,Hypothèses!$D$6:$F$13,3,0))","v":0},{"$f":"IF(ISNA(F113*VLOOKUP($C113,Hypothèses!$D$6:$F$13,3,0)),0,F113*VLOOKUP($C113,Hypothèses!$D$6:$F$13,3,0))","v":0},{"$f":"IF(ISNA(G113*VLOOKUP($C113,Hypothèses!$D$6:$F$13,3,0)),0,G113*VLOOKUP($C113,Hypothèses!$D$6:$F$13,3,0))","v":0},{"$f":"IF(ISNA(H113*VLOOKUP($C113,Hypothèses!$D$6:$F$13,3,0)),0,H113*VLOOKUP($C113,Hypothèses!$D$6:$F$13,3,0))","v":0},{"$f":"IF(ISNA(I113*VLOOKUP($C113,Hypothèses!$D$6:$F$13,3,0)),0,I113*VLOOKUP($C113,Hypothèses!$D$6:$F$13,3,0))","v":0},{"$f":"IF(ISNA(J113*VLOOKUP($C113,Hypothèses!$D$6:$F$13,3,0)),0,J113*VLOOKUP($C113,Hypothèses!$D$6:$F$13,3,0))","v":0},{"$f":"IF(ISNA(K113*VLOOKUP($C113,Hypothèses!$D$6:$F$13,3,0)),0,K113*VLOOKUP($C113,Hypothèses!$D$6:$F$13,3,0))","v":0},{"$f":"IF(ISNA(L113*VLOOKUP($C113,Hypothèses!$D$6:$F$13,3,0)),0,L113*VLOOKUP($C113,Hypothèses!$D$6:$F$13,3,0))","v":0},{"$f":"IF(ISNA(M113*VLOOKUP($C113,Hypothèses!$D$6:$F$13,3,0)),0,M113*VLOOKUP($C113,Hypothèses!$D$6:$F$13,3,0))","v":0},{"$f":"IF(ISNA(N113*VLOOKUP($C113,Hypothèses!$D$6:$F$13,3,0)),0,N113*VLOOKUP($C113,Hypothèses!$D$6:$F$13,3,0))","v":0},{"$f":"IF(ISNA(O113*VLOOKUP($C113,Hypothèses!$D$6:$F$13,3,0)),0,O113*VLOOKUP($C113,Hypothèses!$D$6:$F$13,3,0))","v":0},{"$f":"IF(ISNA(P113*VLOOKUP($C113,Hypothèses!$D$6:$F$13,3,0)),0,P113*VLOOKUP($C113,Hypothèses!$D$6:$F$13,3,0))","v":0},{"$f":"IF(ISNA(Q113*VLOOKUP($C113,Hypothèses!$D$6:$F$13,3,0)),0,Q113*VLOOKUP($C113,Hypothèses!$D$6:$F$13,3,0))","v":0},{"$f":"IF(ISNA(R113*VLOOKUP($C113,Hypothèses!$D$6:$F$13,3,0)),0,R113*VLOOKUP($C113,Hypothèses!$D$6:$F$13,3,0))","v":0},{"$f":"IF(ISNA(S113*VLOOKUP($C113,Hypothèses!$D$6:$F$13,3,0)),0,S113*VLOOKUP($C113,Hypothèses!$D$6:$F$13,3,0))","v":0},{"$f":"IF(ISNA(#REF!*VLOOKUP($C113,Hypothèses!$D$6:$F$13,3,0)),0,#REF!*VLOOKUP($C113,Hypothèses!$D$6:$F$13,3,0))","v":{"$error":"#REF!"}},{"$f":"IF(ISNA(#REF!*VLOOKUP($C113,Hypothèses!$D$6:$F$13,3,0)),0,#REF!*VLOOKUP($C113,Hypothèses!$D$6:$F$13,3,0))","v":{"$error":"#REF!"}},{"$f":"IF(ISNA(#REF!*VLOOKUP($C113,Hypothèses!$D$6:$F$13,3,0)),0,#REF!*VLOOKUP($C113,Hypothèses!$D$6:$F$13,3,0))","v":{"$error":"#REF!"}},{"$f":"IF(ISNA(#REF!*VLOOKUP($C113,Hypothèses!$D$6:$F$13,3,0)),0,#REF!*VLOOKUP($C113,Hypothèses!$D$6:$F$13,3,0))","v":{"$error":"#REF!"}},{"$f":"IF(ISNA(#REF!*VLOOKUP($C113,Hypothèses!$D$6:$F$13,3,0)),0,#REF!*VLOOKUP($C113,Hypothèses!$D$6:$F$13,3,0))","v":{"$error":"#REF!"}},{"$f":"IF(ISNA(#REF!*VLOOKUP($C113,Hypothèses!$D$6:$F$13,3,0)),0,#REF!*VLOOKUP($C113,Hypothèses!$D$6:$F$13,3,0))","v":{"$error":"#REF!"}},{"$f":"IF(ISNA(#REF!*VLOOKUP($C113,Hypothèses!$D$6:$F$13,3,0)),0,#REF!*VLOOKUP($C113,Hypothèses!$D$6:$F$13,3,0))","v":{"$error":"#REF!"}}]
[107,null,null,{"$f":"IF(ISNA(VLOOKUP(C114,Hypothèses!$D$6:$G$14,4,0)),\"\",VLOOKUP(C114,Hypothèses!$D$6:$G$14,4,0))","v":""},null,null,null,null,null,null,null,null,null,null,null,null,null,null,null,null,null,null,null,null,null,{"$f":"IF(ISNA(E114*VLOOKUP($C114,Hypothèses!$D$6:$F$13,3,0)),0,E114*VLOOKUP($C114,Hypothèses!$D$6:$F$13,3,0))","v":0},{"$f":"IF(ISNA(F114*VLOOKUP($C114,Hypothèses!$D$6:$F$13,3,0)),0,F114*VLOOKUP($C114,Hypothèses!$D$6:$F$13,3,0))","v":0},{"$f":"IF(ISNA(G114*VLOOKUP($C114,Hypothèses!$D$6:$F$13,3,0)),0,G114*VLOOKUP($C114,Hypothèses!$D$6:$F$13,3,0))","v":0},{"$f":"IF(ISNA(H114*VLOOKUP($C114,Hypothèses!$D$6:$F$13,3,0)),0,H114*VLOOKUP($C114,Hypothèses!$D$6:$F$13,3,0))","v":0},{"$f":"IF(ISNA(I114*VLOOKUP($C114,Hypothèses!$D$6:$F$13,3,0)),0,I114*VLOOKUP($C114,Hypothèses!$D$6:$F$13,3,0))","v":0},{"$f":"IF(ISNA(J114*VLOOKUP($C114,Hypothèses!$D$6:$F$13,3,0)),0,J114*VLOOKUP($C114,Hypothèses!$D$6:$F$13,3,0))","v":0},{"$f":"IF(ISNA(K114*VLOOKUP($C114,Hypothèses!$D$6:$F$13,3,0)),0,K114*VLOOKUP($C114,Hypothèses!$D$6:$F$13,3,0))","v":0},{"$f":"IF(ISNA(L114*VLOOKUP($C114,Hypothèses!$D$6:$F$13,3,0)),0,L114*VLOOKUP($C114,Hypothèses!$D$6:$F$13,3,0))","v":0},{"$f":"IF(ISNA(M114*VLOOKUP($C114,Hypothèses!$D$6:$F$13,3,0)),0,M114*VLOOKUP($C114,Hypothèses!$D$6:$F$13,3,0))","v":0},{"$f":"IF(ISNA(N114*VLOOKUP($C114,Hypothèses!$D$6:$F$13,3,0)),0,N114*VLOOKUP($C114,Hypothèses!$D$6:$F$13,3,0))","v":0},{"$f":"IF(ISNA(O114*VLOOKUP($C114,Hypothèses!$D$6:$F$13,3,0)),0,O114*VLOOKUP($C114,Hypothèses!$D$6:$F$13,3,0))","v":0},{"$f":"IF(ISNA(P114*VLOOKUP($C114,Hypothèses!$D$6:$F$13,3,0)),0,P114*VLOOKUP($C114,Hypothèses!$D$6:$F$13,3,0))","v":0},{"$f":"IF(ISNA(Q114*VLOOKUP($C114,Hypothèses!$D$6:$F$13,3,0)),0,Q114*VLOOKUP($C114,Hypothèses!$D$6:$F$13,3,0))","v":0},{"$f":"IF(ISNA(R114*VLOOKUP($C114,Hypothèses!$D$6:$F$13,3,0)),0,R114*VLOOKUP($C114,Hypothèses!$D$6:$F$13,3,0))","v":0},{"$f":"IF(ISNA(S114*VLOOKUP($C114,Hypothèses!$D$6:$F$13,3,0)),0,S114*VLOOKUP($C114,Hypothèses!$D$6:$F$13,3,0))","v":0},{"$f":"IF(ISNA(#REF!*VLOOKUP($C114,Hypothèses!$D$6:$F$13,3,0)),0,#REF!*VLOOKUP($C114,Hypothèses!$D$6:$F$13,3,0))","v":{"$error":"#REF!"}},{"$f":"IF(ISNA(#REF!*VLOOKUP($C114,Hypothèses!$D$6:$F$13,3,0)),0,#REF!*VLOOKUP($C114,Hypothèses!$D$6:$F$13,3,0))","v":{"$error":"#REF!"}},{"$f":"IF(ISNA(#REF!*VLOOKUP($C114,Hypothèses!$D$6:$F$13,3,0)),0,#REF!*VLOOKUP($C114,Hypothèses!$D$6:$F$13,3,0))","v":{"$error":"#REF!"}},{"$f":"IF(ISNA(#REF!*VLOOKUP($C114,Hypothèses!$D$6:$F$13,3,0)),0,#REF!*VLOOKUP($C114,Hypothèses!$D$6:$F$13,3,0))","v":{"$error":"#REF!"}},{"$f":"IF(ISNA(#REF!*VLOOKUP($C114,Hypothèses!$D$6:$F$13,3,0)),0,#REF!*VLOOKUP($C114,Hypothèses!$D$6:$F$13,3,0))","v":{"$error":"#REF!"}},{"$f":"IF(ISNA(#REF!*VLOOKUP($C114,Hypothèses!$D$6:$F$13,3,0)),0,#REF!*VLOOKUP($C114,Hypothèses!$D$6:$F$13,3,0))","v":{"$error":"#REF!"}},{"$f":"IF(ISNA(#REF!*VLOOKUP($C114,Hypothèses!$D$6:$F$13,3,0)),0,#REF!*VLOOKUP($C114,Hypothèses!$D$6:$F$13,3,0))","v":{"$error":"#REF!"}}]
[108,null,null,{"$f":"IF(ISNA(VLOOKUP(C115,Hypothèses!$D$6:$G$14,4,0)),\"\",VLOOKUP(C115,Hypothèses!$D$6:$G$14,4,0))","v":""},null,null,null,null,null,null,null,null,null,null,null,null,null,null,null,null,null,null,null,null,null,{"$f":"IF(ISNA(E115*VLOOKUP($C115,Hypothèses!$D$6:$F$13,3,0)),0,E115*VLOOKUP($C115,Hypothèses!$D$6:$F$13,3,0))","v":0},{"$f":"IF(ISNA(F115*VLOOKUP($C115,Hypothèses!$D$6:$F$13,3,0)),0,F115*VLOOKUP($C115,Hypothèses!$D$6:$F$13,3,0))","v":0},{"$f":"IF(ISNA(G115*VLOOKUP($C115,Hypothèses!$D$6:$F$13,3,0)),0,G115*VLOOKUP($C115,Hypothèses!$D$6:$F$13,3,0))","v":0},{"$f":"IF(ISNA(H115*VLOOKUP($C115,Hypothèses!$D$6:$F$13,3,0)),0,H115*VLOOKUP($C115,Hypothèses!$D$6:$F$13,3,0))","v":0},{"$f":"IF(ISNA(I115*VLOOKUP($C115,Hypothèses!$D$6:$F$13,3,0)),0,I115*VLOOKUP($C115,Hypothèses!$D$6:$F$13,3,0))","v":0},{"$f":"IF(ISNA(J115*VLOOKUP($C115,Hypothèses!$D$6:$F$13,3,0)),0,J115*VLOOKUP($C115,Hypothèses!$D$6:$F$13,3,0))","v":0},{"$f":"IF(ISNA(K115*VLOOKUP($C115,Hypothèses!$D$6:$F$13,3,0)),0,K115*VLOOKUP($C115,Hypothèses!$D$6:$F$13,3,0))","v":0},{"$f":"IF(ISNA(L115*VLOOKUP($C115,Hypothèses!$D$6:$F$13,3,0)),0,L115*VLOOKUP($C115,Hypothèses!$D$6:$F$13,3,0))","v":0},{"$f":"IF(ISNA(M115*VLOOKUP($C115,Hypothèses!$D$6:$F$13,3,0)),0,M115*VLOOKUP($C115,Hypothèses!$D$6:$F$13,3,0))","v":0},{"$f":"IF(ISNA(N115*VLOOKUP($C115,Hypothèses!$D$6:$F$13,3,0)),0,N115*VLOOKUP($C115,Hypothèses!$D$6:$F$13,3,0))","v":0},{"$f":"IF(ISNA(O115*VLOOKUP($C115,Hypothèses!$D$6:$F$13,3,0)),0,O115*VLOOKUP($C115,Hypothèses!$D$6:$F$13,3,0))","v":0},{"$f":"IF(ISNA(P115*VLOOKUP($C115,Hypothèses!$D$6:$F$13,3,0)),0,P115*VLOOKUP($C115,Hypothèses!$D$6:$F$13,3,0))","v":0},{"$f":"IF(ISNA(Q115*VLOOKUP($C115,Hypothèses!$D$6:$F$13,3,0)),0,Q115*VLOOKUP($C115,Hypothèses!$D$6:$F$13,3,0))","v":0},{"$f":"IF(ISNA(R115*VLOOKUP($C115,Hypothèses!$D$6:$F$13,3,0)),0,R115*VLOOKUP($C115,Hypothèses!$D$6:$F$13,3,0))","v":0},{"$f":"IF(ISNA(S115*VLOOKUP($C115,Hypothèses!$D$6:$F$13,3,0)),0,S115*VLOOKUP($C115,Hypothèses!$D$6:$F$13,3,0))","v":0},{"$f":"IF(ISNA(#REF!*VLOOKUP($C115,Hypothèses!$D$6:$F$13,3,0)),0,#REF!*VLOOKUP($C115,Hypothèses!$D$6:$F$13,3,0))","v":{"$error":"#REF!"}},{"$f":"IF(ISNA(#REF!*VLOOKUP($C115,Hypothèses!$D$6:$F$13,3,0)),0,#REF!*VLOOKUP($C115,Hypothèses!$D$6:$F$13,3,0))","v":{"$error":"#REF!"}},{"$f":"IF(ISNA(#REF!*VLOOKUP($C115,Hypothèses!$D$6:$F$13,3,0)),0,#REF!*VLOOKUP($C115,Hypothèses!$D$6:$F$13,3,0))","v":{"$error":"#REF!"}},{"$f":"IF(ISNA(#REF!*VLOOKUP($C115,Hypothèses!$D$6:$F$13,3,0)),0,#REF!*VLOOKUP($C115,Hypothèses!$D$6:$F$13,3,0))","v":{"$error":"#REF!"}},{"$f":"IF(ISNA(#REF!*VLOOKUP($C115,Hypothèses!$D$6:$F$13,3,0)),0,#REF!*VLOOKUP($C115,Hypothèses!$D$6:$F$13,3,0))","v":{"$error":"#REF!"}},{"$f":"IF(ISNA(#REF!*VLOOKUP($C115,Hypothèses!$D$6:$F$13,3,0)),0,#REF!*VLOOKUP($C115,Hypothèses!$D$6:$F$13,3,0))","v":{"$error":"#REF!"}},{"$f":"IF(ISNA(#REF!*VLOOKUP($C115,Hypothèses!$D$6:$F$13,3,0)),0,#REF!*VLOOKUP($C115,Hypothèses!$D$6:$F$13,3,0))","v":{"$error":"#REF!"}}]
[109,null,null,{"$f":"IF(ISNA(VLOOKUP(C116,Hypothèses!$D$6:$G$14,4,0)),\"\",VLOOKUP(C116,Hypothèses!$D$6:$G$14,4,0))","v":""},null,null,null,null,null,null,null,null,null,null,null,null,null,null,null,null,null,null,null,null,null,{"$f":"IF(ISNA(E116*VLOOKUP($C116,Hypothèses!$D$6:$F$13,3,0)),0,E116*VLOOKUP($C116,Hypothèses!$D$6:$F$13,3,0))","v":0},{"$f":"IF(ISNA(F116*VLOOKUP($C116,Hypothèses!$D$6:$F$13,3,0)),0,F116*VLOOKUP($C116,Hypothèses!$D$6:$F$13,3,0))","v":0},{"$f":"IF(ISNA(G116*VLOOKUP($C116,Hypothèses!$D$6:$F$13,3,0)),0,G116*VLOOKUP($C116,Hypothèses!$D$6:$F$13,3,0))","v":0},{"$f":"IF(ISNA(H116*VLOOKUP($C116,Hypothèses!$D$6:$F$13,3,0)),0,H116*VLOOKUP($C116,Hypothèses!$D$6:$F$13,3,0))","v":0},{"$f":"IF(ISNA(I116*VLOOKUP($C116,Hypothèses!$D$6:$F$13,3,0)),0,I116*VLOOKUP($C116,Hypothèses!$D$6:$F$13,3,0))","v":0},{"$f":"IF(ISNA(J116*VLOOKUP($C116,Hypothèses!$D$6:$F$13,3,0)),0,J116*VLOOKUP($C116,Hypothèses!$D$6:$F$13,3,0))","v":0},{"$f":"IF(ISNA(K116*VLOOKUP($C116,Hypothèses!$D$6:$F$13,3,0)),0,K116*VLOOKUP($C116,Hypothèses!$D$6:$F$13,3,0))","v":0},{"$f":"IF(ISNA(L116*VLOOKUP($C116,Hypothèses!$D$6:$F$13,3,0)),0,L116*VLOOKUP($C116,Hypothèses!$D$6:$F$13,3,0))","v":0},{"$f":"IF(ISNA(M116*VLOOKUP($C116,Hypothèses!$D$6:$F$13,3,0)),0,M116*VLOOKUP($C116,Hypothèses!$D$6:$F$13,3,0))","v":0},{"$f":"IF(ISNA(N116*VLOOKUP($C116,Hypothèses!$D$6:$F$13,3,0)),0,N116*VLOOKUP($C116,Hypothèses!$D$6:$F$13,3,0))","v":0},{"$f":"IF(ISNA(O116*VLOOKUP($C116,Hypothèses!$D$6:$F$13,3,0)),0,O116*VLOOKUP($C116,Hypothèses!$D$6:$F$13,3,0))","v":0},{"$f":"IF(ISNA(P116*VLOOKUP($C116,Hypothèses!$D$6:$F$13,3,0)),0,P116*VLOOKUP($C116,Hypothèses!$D$6:$F$13,3,0))","v":0},{"$f":"IF(ISNA(Q116*VLOOKUP($C116,Hypothèses!$D$6:$F$13,3,0)),0,Q116*VLOOKUP($C116,Hypothèses!$D$6:$F$13,3,0))","v":0},{"$f":"IF(ISNA(R116*VLOOKUP($C116,Hypothèses!$D$6:$F$13,3,0)),0,R116*VLOOKUP($C116,Hypothèses!$D$6:$F$13,3,0))","v":0},{"$f":"IF(ISNA(S116*VLOOKUP($C116,Hypothèses!$D$6:$F$13,3,0)),0,S116*VLOOKUP($C116,Hypothèses!$D$6:$F$13,3,0))","v":0},{"$f":"IF(ISNA(#REF!*VLOOKUP($C116,Hypothèses!$D$6:$F$13,3,0)),0,#REF!*VLOOKUP($C116,Hypothèses!$D$6:$F$13,3,0))","v":{"$error":"#REF!"}},{"$f":"IF(ISNA(#REF!*VLOOKUP($C116,Hypothèses!$D$6:$F$13,3,0)),0,#REF!*VLOOKUP($C116,Hypothèses!$D$6:$F$13,3,0))","v":{"$error":"#REF!"}},{"$f":"IF(ISNA(#REF!*VLOOKUP($C116,Hypothèses!$D$6:$F$13,3,0)),0,#REF!*VLOOKUP($C116,Hypothèses!$D$6:$F$13,3,0))","v":{"$error":"#REF!"}},{"$f":"IF(ISNA(#REF!*VLOOKUP($C116,Hypothèses!$D$6:$F$13,3,0)),0,#REF!*VLOOKUP($C116,Hypothèses!$D$6:$F$13,3,0))","v":{"$error":"#REF!"}},{"$f":"IF(ISNA(#REF!*VLOOKUP($C116,Hypothèses!$D$6:$F$13,3,0)),0,#REF!*VLOOKUP($C116,Hypothèses!$D$6:$F$13,3,0))","v":{"$error":"#REF!"}},{"$f":"IF(ISNA(#REF!*VLOOKUP($C116,Hypothèses!$D$6:$F$13,3,0)),0,#REF!*VLOOKUP($C116,Hypothèses!$D$6:$F$13,3,0))","v":{"$error":"#REF!"}},{"$f":"IF(ISNA(#REF!*VLOOKUP($C116,Hypothèses!$D$6:$F$13,3,0)),0,#REF!*VLOOKUP($C116,Hypothèses!$D$6:$F$13,3,0))","v":{"$error":"#REF!"}}]
[110,null,null,{"$f":"IF(ISNA(VLOOKUP(C117,Hypothèses!$D$6:$G$14,4,0)),\"\",VLOOKUP(C117,Hypothèses!$D$6:$G$14,4,0))","v":""},null,null,null,null,null,null,null,null,null,null,null,null,null,null,null,null,null,null,null,null,null,{"$f":"IF(ISNA(E117*VLOOKUP($C117,Hypothèses!$D$6:$F$13,3,0)),0,E117*VLOOKUP($C117,Hypothèses!$D$6:$F$13,3,0))","v":0},{"$f":"IF(ISNA(F117*VLOOKUP($C117,Hypothèses!$D$6:$F$13,3,0)),0,F117*VLOOKUP($C117,Hypothèses!$D$6:$F$13,3,0))","v":0},{"$f":"IF(ISNA(G117*VLOOKUP($C117,Hypothèses!$D$6:$F$13,3,0)),0,G117*VLOOKUP($C117,Hypothèses!$D$6:$F$13,3,0))","v":0},{"$f":"IF(ISNA(H117*VLOOKUP($C117,Hypothèses!$D$6:$F$13,3,0)),0,H117*VLOOKUP($C117,Hypothèses!$D$6:$F$13,3,0))","v":0},{"$f":"IF(ISNA(I117*VLOOKUP($C117,Hypothèses!$D$6:$F$13,3,0)),0,I117*VLOOKUP($C117,Hypothèses!$D$6:$F$13,3,0))","v":0},{"$f":"IF(ISNA(J117*VLOOKUP($C117,Hypothèses!$D$6:$F$13,3,0)),0,J117*VLOOKUP($C117,Hypothèses!$D$6:$F$13,3,0))","v":0},{"$f":"IF(ISNA(K117*VLOOKUP($C117,Hypothèses!$D$6:$F$13,3,0)),0,K117*VLOOKUP($C117,Hypothèses!$D$6:$F$13,3,0))","v":0},{"$f":"IF(ISNA(L117*VLOOKUP($C117,Hypothèses!$D$6:$F$13,3,0)),0,L117*VLOOKUP($C117,Hypothèses!$D$6:$F$13,3,0))","v":0},{"$f":"IF(ISNA(M117*VLOOKUP($C117,Hypothèses!$D$6:$F$13,3,0)),0,M117*VLOOKUP($C117,Hypothèses!$D$6:$F$13,3,0))","v":0},{"$f":"IF(ISNA(N117*VLOOKUP($C117,Hypothèses!$D$6:$F$13,3,0)),0,N117*VLOOKUP($C117,Hypothèses!$D$6:$F$13,3,0))","v":0},{"$f":"IF(ISNA(O117*VLOOKUP($C117,Hypothèses!$D$6:$F$13,3,0)),0,O117*VLOOKUP($C117,Hypothèses!$D$6:$F$13,3,0))","v":0},{"$f":"IF(ISNA(P117*VLOOKUP($C117,Hypothèses!$D$6:$F$13,3,0)),0,P117*VLOOKUP($C117,Hypothèses!$D$6:$F$13,3,0))","v":0},{"$f":"IF(ISNA(Q117*VLOOKUP($C117,Hypothèses!$D$6:$F$13,3,0)),0,Q117*VLOOKUP($C117,Hypothèses!$D$6:$F$13,3,0))","v":0},{"$f":"IF(ISNA(R117*VLOOKUP($C117,Hypothèses!$D$6:$F$13,3,0)),0,R117*VLOOKUP($C117,Hypothèses!$D$6:$F$13,3,0))","v":0},{"$f":"IF(ISNA(S117*VLOOKUP($C117,Hypothèses!$D$6:$F$13,3,0)),0,S117*VLOOKUP($C117,Hypothèses!$D$6:$F$13,3,0))","v":0},{"$f":"IF(ISNA(#REF!*VLOOKUP($C117,Hypothèses!$D$6:$F$13,3,0)),0,#REF!*VLOOKUP($C117,Hypothèses!$D$6:$F$13,3,0))","v":{"$error":"#REF!"}},{"$f":"IF(ISNA(#REF!*VLOOKUP($C117,Hypothèses!$D$6:$F$13,3,0)),0,#REF!*VLOOKUP($C117,Hypothèses!$D$6:$F$13,3,0))","v":{"$error":"#REF!"}},{"$f":"IF(ISNA(#REF!*VLOOKUP($C117,Hypothèses!$D$6:$F$13,3,0)),0,#REF!*VLOOKUP($C117,Hypothèses!$D$6:$F$13,3,0))","v":{"$error":"#REF!"}},{"$f":"IF(ISNA(#REF!*VLOOKUP($C117,Hypothèses!$D$6:$F$13,3,0)),0,#REF!*VLOOKUP($C117,Hypothèses!$D$6:$F$13,3,0))","v":{"$error":"#REF!"}},{"$f":"IF(ISNA(#REF!*VLOOKUP($C117,Hypothèses!$D$6:$F$13,3,0)),0,#REF!*VLOOKUP($C117,Hypothèses!$D$6:$F$13,3,0))","v":{"$error":"#REF!"}},{"$f":"IF(ISNA(#REF!*VLOOKUP($C117,Hypothèses!$D$6:$F$13,3,0)),0,#REF!*VLOOKUP($C117,Hypothèses!$D$6:$F$13,3,0))","v":{"$error":"#REF!"}},{"$f":"IF(ISNA(#REF!*VLOOKUP($C117,Hypothèses!$D$6:$F$13,3,0)),0,#REF!*VLOOKUP($C117,Hypothèses!$D$6:$F$13,3,0))","v":{"$error":"#REF!"}}]
[111,null,null,{"$f":"IF(ISNA(VLOOKUP(C118,Hypothèses!$D$6:$G$14,4,0)),\"\",VLOOKUP(C118,Hypothèses!$D$6:$G$14,4,0))","v":""},null,null,null,null,null,null,null,null,null,null,null,null,null,null,null,null,null,null,null,null,null,{"$f":"IF(ISNA(E118*VLOOKUP($C118,Hypothèses!$D$6:$F$13,3,0)),0,E118*VLOOKUP($C118,Hypothèses!$D$6:$F$13,3,0))","v":0},{"$f":"IF(ISNA(F118*VLOOKUP($C118,Hypothèses!$D$6:$F$13,3,0)),0,F118*VLOOKUP($C118,Hypothèses!$D$6:$F$13,3,0))","v":0},{"$f":"IF(ISNA(G118*VLOOKUP($C118,Hypothèses!$D$6:$F$13,3,0)),0,G118*VLOOKUP($C118,Hypothèses!$D$6:$F$13,3,0))","v":0},{"$f":"IF(ISNA(H118*VLOOKUP($C118,Hypothèses!$D$6:$F$13,3,0)),0,H118*VLOOKUP($C118,Hypothèses!$D$6:$F$13,3,0))","v":0},{"$f":"IF(ISNA(I118*VLOOKUP($C118,Hypothèses!$D$6:$F$13,3,0)),0,I118*VLOOKUP($C118,Hypothèses!$D$6:$F$13,3,0))","v":0},{"$f":"IF(ISNA(J118*VLOOKUP($C118,Hypothèses!$D$6:$F$13,3,0)),0,J118*VLOOKUP($C118,Hypothèses!$D$6:$F$13,3,0))","v":0},{"$f":"IF(ISNA(K118*VLOOKUP($C118,Hypothèses!$D$6:$F$13,3,0)),0,K118*VLOOKUP($C118,Hypothèses!$D$6:$F$13,3,0))","v":0},{"$f":"IF(ISNA(L118*VLOOKUP($C118,Hypothèses!$D$6:$F$13,3,0)),0,L118*VLOOKUP($C118,Hypothèses!$D$6:$F$13,3,0))","v":0},{"$f":"IF(ISNA(M118*VLOOKUP($C118,Hypothèses!$D$6:$F$13,3,0)),0,M118*VLOOKUP($C118,Hypothèses!$D$6:$F$13,3,0))","v":0},{"$f":"IF(ISNA(N118*VLOOKUP($C118,Hypothèses!$D$6:$F$13,3,0)),0,N118*VLOOKUP($C118,Hypothèses!$D$6:$F$13,3,0))","v":0},{"$f":"IF(ISNA(O118*VLOOKUP($C118,Hypothèses!$D$6:$F$13,3,0)),0,O118*VLOOKUP($C118,Hypothèses!$D$6:$F$13,3,0))","v":0},{"$f":"IF(ISNA(P118*VLOOKUP($C118,Hypothèses!$D$6:$F$13,3,0)),0,P118*VLOOKUP($C118,Hypothèses!$D$6:$F$13,3,0))","v":0},{"$f":"IF(ISNA(Q118*VLOOKUP($C118,Hypothèses!$D$6:$F$13,3,0)),0,Q118*VLOOKUP($C118,Hypothèses!$D$6:$F$13,3,0))","v":0},{"$f":"IF(ISNA(R118*VLOOKUP($C118,Hypothèses!$D$6:$F$13,3,0)),0,R118*VLOOKUP($C118,Hypothèses!$D$6:$F$13,3,0))","v":0},{"$f":"IF(ISNA(S118*VLOOKUP($C118,Hypothèses!$D$6:$F$13,3,0)),0,S118*VLOOKUP($C118,Hypothèses!$D$6:$F$13,3,0))","v":0},{"$f":"IF(ISNA(#REF!*VLOOKUP($C118,Hypothèses!$D$6:$F$13,3,0)),0,#REF!*VLOOKUP($C118,Hypothèses!$D$6:$F$13,3,0))","v":{"$error":"#REF!"}},{"$f":"IF(ISNA(#REF!*VLOOKUP($C118,Hypothèses!$D$6:$F$13,3,0)),0,#REF!*VLOOKUP($C118,Hypothèses!$D$6:$F$13,3,0))","v":{"$error":"#REF!"}},{"$f":"IF(ISNA(#REF!*VLOOKUP($C118,Hypothèses!$D$6:$F$13,3,0)),0,#REF!*VLOOKUP($C118,Hypothèses!$D$6:$F$13,3,0))","v":{"$error":"#REF!"}},{"$f":"IF(ISNA(#REF!*VLOOKUP($C118,Hypothèses!$D$6:$F$13,3,0)),0,#REF!*VLOOKUP($C118,Hypothèses!$D$6:$F$13,3,0))","v":{"$error":"#REF!"}},{"$f":"IF(ISNA(#REF!*VLOOKUP($C118,Hypothèses!$D$6:$F$13,3,0)),0,#REF!*VLOOKUP($C118,Hypothèses!$D$6:$F$13,3,0))","v":{"$error":"#REF!"}},{"$f":"IF(ISNA(#REF!*VLOOKUP($C118,Hypothèses!$D$6:$F$13,3,0)),0,#REF!*VLOOKUP($C118,Hypothèses!$D$6:$F$13,3,0))","v":{"$error":"#REF!"}},{"$f":"IF(ISNA(#REF!*VLOOKUP($C118,Hypothèses!$D$6:$F$13,3,0)),0,#REF!*VLOOKUP($C118,Hypothèses!$D$6:$F$13,3,0))","v":{"$error":"#REF!"}}]
[112,null,null,{"$f":"IF(ISNA(VLOOKUP(C119,Hypothèses!$D$6:$G$14,4,0)),\"\",VLOOKUP(C119,Hypothèses!$D$6:$G$14,4,0))","v":""},null,null,null,null,null,null,null,null,null,null,null,null,null,null,null,null,null,null,null,null,null,{"$f":"IF(ISNA(E119*VLOOKUP($C119,Hypothèses!$D$6:$F$13,3,0)),0,E119*VLOOKUP($C119,Hypothèses!$D$6:$F$13,3,0))","v":0},{"$f":"IF(ISNA(F119*VLOOKUP($C119,Hypothèses!$D$6:$F$13,3,0)),0,F119*VLOOKUP($C119,Hypothèses!$D$6:$F$13,3,0))","v":0},{"$f":"IF(ISNA(G119*VLOOKUP($C119,Hypothèses!$D$6:$F$13,3,0)),0,G119*VLOOKUP($C119,Hypothèses!$D$6:$F$13,3,0))","v":0},{"$f":"IF(ISNA(H119*VLOOKUP($C119,Hypothèses!$D$6:$F$13,3,0)),0,H119*VLOOKUP($C119,Hypothèses!$D$6:$F$13,3,0))","v":0},{"$f":"IF(ISNA(I119*VLOOKUP($C119,Hypothèses!$D$6:$F$13,3,0)),0,I119*VLOOKUP($C119,Hypothèses!$D$6:$F$13,3,0))","v":0},{"$f":"IF(ISNA(J119*VLOOKUP($C119,Hypothèses!$D$6:$F$13,3,0)),0,J119*VLOOKUP($C119,Hypothèses!$D$6:$F$13,3,0))","v":0},{"$f":"IF(ISNA(K119*VLOOKUP($C119,Hypothèses!$D$6:$F$13,3,0)),0,K119*VLOOKUP($C119,Hypothèses!$D$6:$F$13,3,0))","v":0},{"$f":"IF(ISNA(L119*VLOOKUP($C119,Hypothèses!$D$6:$F$13,3,0)),0,L119*VLOOKUP($C119,Hypothèses!$D$6:$F$13,3,0))","v":0},{"$f":"IF(ISNA(M119*VLOOKUP($C119,Hypothèses!$D$6:$F$13,3,0)),0,M119*VLOOKUP($C119,Hypothèses!$D$6:$F$13,3,0))","v":0},{"$f":"IF(ISNA(N119*VLOOKUP($C119,Hypothèses!$D$6:$F$13,3,0)),0,N119*VLOOKUP($C119,Hypothèses!$D$6:$F$13,3,0))","v":0},{"$f":"IF(ISNA(O119*VLOOKUP($C119,Hypothèses!$D$6:$F$13,3,0)),0,O119*VLOOKUP($C119,Hypothèses!$D$6:$F$13,3,0))","v":0},{"$f":"IF(ISNA(P119*VLOOKUP($C119,Hypothèses!$D$6:$F$13,3,0)),0,P119*VLOOKUP($C119,Hypothèses!$D$6:$F$13,3,0))","v":0},{"$f":"IF(ISNA(Q119*VLOOKUP($C119,Hypothèses!$D$6:$F$13,3,0)),0,Q119*VLOOKUP($C119,Hypothèses!$D$6:$F$13,3,0))","v":0},{"$f":"IF(ISNA(R119*VLOOKUP($C119,Hypothèses!$D$6:$F$13,3,0)),0,R119*VLOOKUP($C119,Hypothèses!$D$6:$F$13,3,0))","v":0},{"$f":"IF(ISNA(S119*VLOOKUP($C119,Hypothèses!$D$6:$F$13,3,0)),0,S119*VLOOKUP($C119,Hypothèses!$D$6:$F$13,3,0))","v":0},{"$f":"IF(ISNA(#REF!*VLOOKUP($C119,Hypothèses!$D$6:$F$13,3,0)),0,#REF!*VLOOKUP($C119,Hypothèses!$D$6:$F$13,3,0))","v":{"$error":"#REF!"}},{"$f":"IF(ISNA(#REF!*VLOOKUP($C119,Hypothèses!$D$6:$F$13,3,0)),0,#REF!*VLOOKUP($C119,Hypothèses!$D$6:$F$13,3,0))","v":{"$error":"#REF!"}},{"$f":"IF(ISNA(#REF!*VLOOKUP($C119,Hypothèses!$D$6:$F$13,3,0)),0,#REF!*VLOOKUP($C119,Hypothèses!$D$6:$F$13,3,0))","v":{"$error":"#REF!"}},{"$f":"IF(ISNA(#REF!*VLOOKUP($C119,Hypothèses!$D$6:$F$13,3,0)),0,#REF!*VLOOKUP($C119,Hypothèses!$D$6:$F$13,3,0))","v":{"$error":"#REF!"}},{"$f":"IF(ISNA(#REF!*VLOOKUP($C119,Hypothèses!$D$6:$F$13,3,0)),0,#REF!*VLOOKUP($C119,Hypothèses!$D$6:$F$13,3,0))","v":{"$error":"#REF!"}},{"$f":"IF(ISNA(#REF!*VLOOKUP($C119,Hypothèses!$D$6:$F$13,3,0)),0,#REF!*VLOOKUP($C119,Hypothèses!$D$6:$F$13,3,0))","v":{"$error":"#REF!"}},{"$f":"IF(ISNA(#REF!*VLOOKUP($C119,Hypothèses!$D$6:$F$13,3,0)),0,#REF!*VLOOKUP($C119,Hypothèses!$D$6:$F$13,3,0))","v":{"$error":"#REF!"}}]
[113,null,null,{"$f":"IF(ISNA(VLOOKUP(C120,Hypothèses!$D$6:$G$14,4,0)),\"\",VLOOKUP(C120,Hypothèses!$D$6:$G$14,4,0))","v":""},null,null,null,null,null,null,null,null,null,null,null,null,null,null,null,null,null,null,null,null,null,{"$f":"IF(ISNA(E120*VLOOKUP($C120,Hypothèses!$D$6:$F$13,3,0)),0,E120*VLOOKUP($C120,Hypothèses!$D$6:$F$13,3,0))","v":0},{"$f":"IF(ISNA(F120*VLOOKUP($C120,Hypothèses!$D$6:$F$13,3,0)),0,F120*VLOOKUP($C120,Hypothèses!$D$6:$F$13,3,0))","v":0},{"$f":"IF(ISNA(G120*VLOOKUP($C120,Hypothèses!$D$6:$F$13,3,0)),0,G120*VLOOKUP($C120,Hypothèses!$D$6:$F$13,3,0))","v":0},{"$f":"IF(ISNA(H120*VLOOKUP($C120,Hypothèses!$D$6:$F$13,3,0)),0,H120*VLOOKUP($C120,Hypothèses!$D$6:$F$13,3,0))","v":0},{"$f":"IF(ISNA(I120*VLOOKUP($C120,Hypothèses!$D$6:$F$13,3,0)),0,I120*VLOOKUP($C120,Hypothèses!$D$6:$F$13,3,0))","v":0},{"$f":"IF(ISNA(J120*VLOOKUP($C120,Hypothèses!$D$6:$F$13,3,0)),0,J120*VLOOKUP($C120,Hypothèses!$D$6:$F$13,3,0))","v":0},{"$f":"IF(ISNA(K120*VLOOKUP($C120,Hypothèses!$D$6:$F$13,3,0)),0,K120*VLOOKUP($C120,Hypothèses!$D$6:$F$13,3,0))","v":0},{"$f":"IF(ISNA(L120*VLOOKUP($C120,Hypothèses!$D$6:$F$13,3,0)),0,L120*VLOOKUP($C120,Hypothèses!$D$6:$F$13,3,0))","v":0},{"$f":"IF(ISNA(M120*VLOOKUP($C120,Hypothèses!$D$6:$F$13,3,0)),0,M120*VLOOKUP($C120,Hypothèses!$D$6:$F$13,3,0))","v":0},{"$f":"IF(ISNA(N120*VLOOKUP($C120,Hypothèses!$D$6:$F$13,3,0)),0,N120*VLOOKUP($C120,Hypothèses!$D$6:$F$13,3,0))","v":0},{"$f":"IF(ISNA(O120*VLOOKUP($C120,Hypothèses!$D$6:$F$13,3,0)),0,O120*VLOOKUP($C120,Hypothèses!$D$6:$F$13,3,0))","v":0},{"$f":"IF(ISNA(P120*VLOOKUP($C120,Hypothèses!$D$6:$F$13,3,0)),0,P120*VLOOKUP($C120,Hypothèses!$D$6:$F$13,3,0))","v":0},{"$f":"IF(ISNA(Q120*VLOOKUP($C120,Hypothèses!$D$6:$F$13,3,0)),0,Q120*VLOOKUP($C120,Hypothèses!$D$6:$F$13,3,0))","v":0},{"$f":"IF(ISNA(R120*VLOOKUP($C120,Hypothèses!$D$6:$F$13,3,0)),0,R120*VLOOKUP($C120,Hypothèses!$D$6:$F$13,3,0))","v":0},{"$f":"IF(ISNA(S120*VLOOKUP($C120,Hypothèses!$D$6:$F$13,3,0)),0,S120*VLOOKUP($C120,Hypothèses!$D$6:$F$13,3,0))","v":0},{"$f":"IF(ISNA(#REF!*VLOOKUP($C120,Hypothèses!$D$6:$F$13,3,0)),0,#REF!*VLOOKUP($C120,Hypothèses!$D$6:$F$13,3,0))","v":{"$error":"#REF!"}},{"$f":"IF(ISNA(#REF!*VLOOKUP($C120,Hypothèses!$D$6:$F$13,3,0)),0,#REF!*VLOOKUP($C120,Hypothèses!$D$6:$F$13,3,0))","v":{"$error":"#REF!"}},{"$f":"IF(ISNA(#REF!*VLOOKUP($C120,Hypothèses!$D$6:$F$13,3,0)),0,#REF!*VLOOKUP($C120,Hypothèses!$D$6:$F$13,3,0))","v":{"$error":"#REF!"}},{"$f":"IF(ISNA(#REF!*VLOOKUP($C120,Hypothèses!$D$6:$F$13,3,0)),0,#REF!*VLOOKUP($C120,Hypothèses!$D$6:$F$13,3,0))","v":{"$error":"#REF!"}},{"$f":"IF(ISNA(#REF!*VLOOKUP($C120,Hypothèses!$D$6:$F$13,3,0)),0,#REF!*VLOOKUP($C120,Hypothèses!$D$6:$F$13,3,0))","v":{"$error":"#REF!"}},{"$f":"IF(ISNA(#REF!*VLOOKUP($C120,Hypothèses!$D$6:$F$13,3,0)),0,#REF!*VLOOKUP($C120,Hypothèses!$D$6:$F$13,3,0))","v":{"$error":"#REF!"}},{"$f":"IF(ISNA(#REF!*VLOOKUP($C120,Hypothèses!$D$6:$F$13,3,0)),0,#REF!*VLOOKUP($C120,Hypothèses!$D$6:$F$13,3,0))","v":{"$error":"#REF!"}}]
[114,null,null,{"$f":"IF(ISNA(VLOOKUP(C121,Hypothèses!$D$6:$G$14,4,0)),\"\",VLOOKUP(C121,Hypothèses!$D$6:$G$14,4,0))","v":""},null,null,null,null,null,null,null,null,null,null,null,null,null,null,null,null,null,null,null,null,null,{"$f":"IF(ISNA(E121*VLOOKUP($C121,Hypothèses!$D$6:$F$13,3,0)),0,E121*VLOOKUP($C121,Hypothèses!$D$6:$F$13,3,0))","v":0},{"$f":"IF(ISNA(F121*VLOOKUP($C121,Hypothèses!$D$6:$F$13,3,0)),0,F121*VLOOKUP($C121,Hypothèses!$D$6:$F$13,3,0))","v":0},{"$f":"IF(ISNA(G121*VLOOKUP($C121,Hypothèses!$D$6:$F$13,3,0)),0,G121*VLOOKUP($C121,Hypothèses!$D$6:$F$13,3,0))","v":0},{"$f":"IF(ISNA(H121*VLOOKUP($C121,Hypothèses!$D$6:$F$13,3,0)),0,H121*VLOOKUP($C121,Hypothèses!$D$6:$F$13,3,0))","v":0},{"$f":"IF(ISNA(I121*VLOOKUP($C121,Hypothèses!$D$6:$F$13,3,0)),0,I121*VLOOKUP($C121,Hypothèses!$D$6:$F$13,3,0))","v":0},{"$f":"IF(ISNA(J121*VLOOKUP($C121,Hypothèses!$D$6:$F$13,3,0)),0,J121*VLOOKUP($C121,Hypothèses!$D$6:$F$13,3,0))","v":0},{"$f":"IF(ISNA(K121*VLOOKUP($C121,Hypothèses!$D$6:$F$13,3,0)),0,K121*VLOOKUP($C121,Hypothèses!$D$6:$F$13,3,0))","v":0},{"$f":"IF(ISNA(L121*VLOOKUP($C121,Hypothèses!$D$6:$F$13,3,0)),0,L121*VLOOKUP($C121,Hypothèses!$D$6:$F$13,3,0))","v":0},{"$f":"IF(ISNA(M121*VLOOKUP($C121,Hypothèses!$D$6:$F$13,3,0)),0,M121*VLOOKUP($C121,Hypothèses!$D$6:$F$13,3,0))","v":0},{"$f":"IF(ISNA(N121*VLOOKUP($C121,Hypothèses!$D$6:$F$13,3,0)),0,N121*VLOOKUP($C121,Hypothèses!$D$6:$F$13,3,0))","v":0},{"$f":"IF(ISNA(O121*VLOOKUP($C121,Hypothèses!$D$6:$F$13,3,0)),0,O121*VLOOKUP($C121,Hypothèses!$D$6:$F$13,3,0))","v":0},{"$f":"IF(ISNA(P121*VLOOKUP($C121,Hypothèses!$D$6:$F$13,3,0)),0,P121*VLOOKUP($C121,Hypothèses!$D$6:$F$13,3,0))","v":0},{"$f":"IF(ISNA(Q121*VLOOKUP($C121,Hypothèses!$D$6:$F$13,3,0)),0,Q121*VLOOKUP($C121,Hypothèses!$D$6:$F$13,3,0))","v":0},{"$f":"IF(ISNA(R121*VLOOKUP($C121,Hypothèses!$D$6:$F$13,3,0)),0,R121*VLOOKUP($C121,Hypothèses!$D$6:$F$13,3,0))","v":0},{"$f":"IF(ISNA(S121*VLOOKUP($C121,Hypothèses!$D$6:$F$13,3,0)),0,S121*VLOOKUP($C121,Hypothèses!$D$6:$F$13,3,0))","v":0},{"$f":"IF(ISNA(#REF!*VLOOKUP($C121,Hypothèses!$D$6:$F$13,3,0)),0,#REF!*VLOOKUP($C121,Hypothèses!$D$6:$F$13,3,0))","v":{"$error":"#REF!"}},{"$f":"IF(ISNA(#REF!*VLOOKUP($C121,Hypothèses!$D$6:$F$13,3,0)),0,#REF!*VLOOKUP($C121,Hypothèses!$D$6:$F$13,3,0))","v":{"$error":"#REF!"}},{"$f":"IF(ISNA(#REF!*VLOOKUP($C121,Hypothèses!$D$6:$F$13,3,0)),0,#REF!*VLOOKUP($C121,Hypothèses!$D$6:$F$13,3,0))","v":{"$error":"#REF!"}},{"$f":"IF(ISNA(#REF!*VLOOKUP($C121,Hypothèses!$D$6:$F$13,3,0)),0,#REF!*VLOOKUP($C121,Hypothèses!$D$6:$F$13,3,0))","v":{"$error":"#REF!"}},{"$f":"IF(ISNA(#REF!*VLOOKUP($C121,Hypothèses!$D$6:$F$13,3,0)),0,#REF!*VLOOKUP($C121,Hypothèses!$D$6:$F$13,3,0))","v":{"$error":"#REF!"}},{"$f":"IF(ISNA(#REF!*VLOOKUP($C121,Hypothèses!$D$6:$F$13,3,0)),0,#REF!*VLOOKUP($C121,Hypothèses!$D$6:$F$13,3,0))","v":{"$error":"#REF!"}},{"$f":"IF(ISNA(#REF!*VLOOKUP($C121,Hypothèses!$D$6:$F$13,3,0)),0,#REF!*VLOOKUP($C121,Hypothèses!$D$6:$F$13,3,0))","v":{"$error":"#REF!"}}]
[115,null,null,{"$f":"IF(ISNA(VLOOKUP(C122,Hypothèses!$D$6:$G$14,4,0)),\"\",VLOOKUP(C122,Hypothèses!$D$6:$G$14,4,0))","v":""},null,null,null,null,null,null,null,null,null,null,null,null,null,null,null,null,null,null,null,null,null,{"$f":"IF(ISNA(E122*VLOOKUP($C122,Hypothèses!$D$6:$F$13,3,0)),0,E122*VLOOKUP($C122,Hypothèses!$D$6:$F$13,3,0))","v":0},{"$f":"IF(ISNA(F122*VLOOKUP($C122,Hypothèses!$D$6:$F$13,3,0)),0,F122*VLOOKUP($C122,Hypothèses!$D$6:$F$13,3,0))","v":0},{"$f":"IF(ISNA(G122*VLOOKUP($C122,Hypothèses!$D$6:$F$13,3,0)),0,G122*VLOOKUP($C122,Hypothèses!$D$6:$F$13,3,0))","v":0},{"$f":"IF(ISNA(H122*VLOOKUP($C122,Hypothèses!$D$6:$F$13,3,0)),0,H122*VLOOKUP($C122,Hypothèses!$D$6:$F$13,3,0))","v":0},{"$f":"IF(ISNA(I122*VLOOKUP($C122,Hypothèses!$D$6:$F$13,3,0)),0,I122*VLOOKUP($C122,Hypothèses!$D$6:$F$13,3,0))","v":0},{"$f":"IF(ISNA(J122*VLOOKUP($C122,Hypothèses!$D$6:$F$13,3,0)),0,J122*VLOOKUP($C122,Hypothèses!$D$6:$F$13,3,0))","v":0},{"$f":"IF(ISNA(K122*VLOOKUP($C122,Hypothèses!$D$6:$F$13,3,0)),0,K122*VLOOKUP($C122,Hypothèses!$D$6:$F$13,3,0))","v":0},{"$f":"IF(ISNA(L122*VLOOKUP($C122,Hypothèses!$D$6:$F$13,3,0)),0,L122*VLOOKUP($C122,Hypothèses!$D$6:$F$13,3,0))","v":0},{"$f":"IF(ISNA(M122*VLOOKUP($C122,Hypothèses!$D$6:$F$13,3,0)),0,M122*VLOOKUP($C122,Hypothèses!$D$6:$F$13,3,0))","v":0},{"$f":"IF(ISNA(N122*VLOOKUP($C122,Hypothèses!$D$6:$F$13,3,0)),0,N122*VLOOKUP($C122,Hypothèses!$D$6:$F$13,3,0))","v":0},{"$f":"IF(ISNA(O122*VLOOKUP($C122,Hypothèses!$D$6:$F$13,3,0)),0,O122*VLOOKUP($C122,Hypothèses!$D$6:$F$13,3,0))","v":0},{"$f":"IF(ISNA(P122*VLOOKUP($C122,Hypothèses!$D$6:$F$13,3,0)),0,P122*VLOOKUP($C122,Hypothèses!$D$6:$F$13,3,0))","v":0},{"$f":"IF(ISNA(Q122*VLOOKUP($C122,Hypothèses!$D$6:$F$13,3,0)),0,Q122*VLOOKUP($C122,Hypothèses!$D$6:$F$13,3,0))","v":0},{"$f":"IF(ISNA(R122*VLOOKUP($C122,Hypothèses!$D$6:$F$13,3,0)),0,R122*VLOOKUP($C122,Hypothèses!$D$6:$F$13,3,0))","v":0},{"$f":"IF(ISNA(S122*VLOOKUP($C122,Hypothèses!$D$6:$F$13,3,0)),0,S122*VLOOKUP($C122,Hypothèses!$D$6:$F$13,3,0))","v":0},{"$f":"IF(ISNA(#REF!*VLOOKUP($C122,Hypothèses!$D$6:$F$13,3,0)),0,#REF!*VLOOKUP($C122,Hypothèses!$D$6:$F$13,3,0))","v":{"$error":"#REF!"}},{"$f":"IF(ISNA(#REF!*VLOOKUP($C122,Hypothèses!$D$6:$F$13,3,0)),0,#REF!*VLOOKUP($C122,Hypothèses!$D$6:$F$13,3,0))","v":{"$error":"#REF!"}},{"$f":"IF(ISNA(#REF!*VLOOKUP($C122,Hypothèses!$D$6:$F$13,3,0)),0,#REF!*VLOOKUP($C122,Hypothèses!$D$6:$F$13,3,0))","v":{"$error":"#REF!"}},{"$f":"IF(ISNA(#REF!*VLOOKUP($C122,Hypothèses!$D$6:$F$13,3,0)),0,#REF!*VLOOKUP($C122,Hypothèses!$D$6:$F$13,3,0))","v":{"$error":"#REF!"}},{"$f":"IF(ISNA(#REF!*VLOOKUP($C122,Hypothèses!$D$6:$F$13,3,0)),0,#REF!*VLOOKUP($C122,Hypothèses!$D$6:$F$13,3,0))","v":{"$error":"#REF!"}},{"$f":"IF(ISNA(#REF!*VLOOKUP($C122,Hypothèses!$D$6:$F$13,3,0)),0,#REF!*VLOOKUP($C122,Hypothèses!$D$6:$F$13,3,0))","v":{"$error":"#REF!"}},{"$f":"IF(ISNA(#REF!*VLOOKUP($C122,Hypothèses!$D$6:$F$13,3,0)),0,#REF!*VLOOKUP($C122,Hypothèses!$D$6:$F$13,3,0))","v":{"$error":"#REF!"}}]
[116,null,null,{"$f":"IF(ISNA(VLOOKUP(C123,Hypothèses!$D$6:$G$14,4,0)),\"\",VLOOKUP(C123,Hypothèses!$D$6:$G$14,4,0))","v":""},null,null,null,null,null,null,null,null,null,null,null,null,null,null,null,null,null,null,null,null,null,{"$f":"IF(ISNA(E123*VLOOKUP($C123,Hypothèses!$D$6:$F$13,3,0)),0,E123*VLOOKUP($C123,Hypothèses!$D$6:$F$13,3,0))","v":0},{"$f":"IF(ISNA(F123*VLOOKUP($C123,Hypothèses!$D$6:$F$13,3,0)),0,F123*VLOOKUP($C123,Hypothèses!$D$6:$F$13,3,0))","v":0},{"$f":"IF(ISNA(G123*VLOOKUP($C123,Hypothèses!$D$6:$F$13,3,0)),0,G123*VLOOKUP($C123,Hypothèses!$D$6:$F$13,3,0))","v":0},{"$f":"IF(ISNA(H123*VLOOKUP($C123,Hypothèses!$D$6:$F$13,3,0)),0,H123*VLOOKUP($C123,Hypothèses!$D$6:$F$13,3,0))","v":0},{"$f":"IF(ISNA(I123*VLOOKUP($C123,Hypothèses!$D$6:$F$13,3,0)),0,I123*VLOOKUP($C123,Hypothèses!$D$6:$F$13,3,0))","v":0},{"$f":"IF(ISNA(J123*VLOOKUP($C123,Hypothèses!$D$6:$F$13,3,0)),0,J123*VLOOKUP($C123,Hypothèses!$D$6:$F$13,3,0))","v":0},{"$f":"IF(ISNA(K123*VLOOKUP($C123,Hypothèses!$D$6:$F$13,3,0)),0,K123*VLOOKUP($C123,Hypothèses!$D$6:$F$13,3,0))","v":0},{"$f":"IF(ISNA(L123*VLOOKUP($C123,Hypothèses!$D$6:$F$13,3,0)),0,L123*VLOOKUP($C123,Hypothèses!$D$6:$F$13,3,0))","v":0},{"$f":"IF(ISNA(M123*VLOOKUP($C123,Hypothèses!$D$6:$F$13,3,0)),0,M123*VLOOKUP($C123,Hypothèses!$D$6:$F$13,3,0))","v":0},{"$f":"IF(ISNA(N123*VLOOKUP($C123,Hypothèses!$D$6:$F$13,3,0)),0,N123*VLOOKUP($C123,Hypothèses!$D$6:$F$13,3,0))","v":0},{"$f":"IF(ISNA(O123*VLOOKUP($C123,Hypothèses!$D$6:$F$13,3,0)),0,O123*VLOOKUP($C123,Hypothèses!$D$6:$F$13,3,0))","v":0},{"$f":"IF(ISNA(P123*VLOOKUP($C123,Hypothèses!$D$6:$F$13,3,0)),0,P123*VLOOKUP($C123,Hypothèses!$D$6:$F$13,3,0))","v":0},{"$f":"IF(ISNA(Q123*VLOOKUP($C123,Hypothèses!$D$6:$F$13,3,0)),0,Q123*VLOOKUP($C123,Hypothèses!$D$6:$F$13,3,0))","v":0},{"$f":"IF(ISNA(R123*VLOOKUP($C123,Hypothèses!$D$6:$F$13,3,0)),0,R123*VLOOKUP($C123,Hypothèses!$D$6:$F$13,3,0))","v":0},{"$f":"IF(ISNA(S123*VLOOKUP($C123,Hypothèses!$D$6:$F$13,3,0)),0,S123*VLOOKUP($C123,Hypothèses!$D$6:$F$13,3,0))","v":0},{"$f":"IF(ISNA(#REF!*VLOOKUP($C123,Hypothèses!$D$6:$F$13,3,0)),0,#REF!*VLOOKUP($C123,Hypothèses!$D$6:$F$13,3,0))","v":{"$error":"#REF!"}},{"$f":"IF(ISNA(#REF!*VLOOKUP($C123,Hypothèses!$D$6:$F$13,3,0)),0,#REF!*VLOOKUP($C123,Hypothèses!$D$6:$F$13,3,0))","v":{"$error":"#REF!"}},{"$f":"IF(ISNA(#REF!*VLOOKUP($C123,Hypothèses!$D$6:$F$13,3,0)),0,#REF!*VLOOKUP($C123,Hypothèses!$D$6:$F$13,3,0))","v":{"$error":"#REF!"}},{"$f":"IF(ISNA(#REF!*VLOOKUP($C123,Hypothèses!$D$6:$F$13,3,0)),0,#REF!*VLOOKUP($C123,Hypothèses!$D$6:$F$13,3,0))","v":{"$error":"#REF!"}},{"$f":"IF(ISNA(#REF!*VLOOKUP($C123,Hypothèses!$D$6:$F$13,3,0)),0,#REF!*VLOOKUP($C123,Hypothèses!$D$6:$F$13,3,0))","v":{"$error":"#REF!"}},{"$f":"IF(ISNA(#REF!*VLOOKUP($C123,Hypothèses!$D$6:$F$13,3,0)),0,#REF!*VLOOKUP($C123,Hypothèses!$D$6:$F$13,3,0))","v":{"$error":"#REF!"}},{"$f":"IF(ISNA(#REF!*VLOOKUP($C123,Hypothèses!$D$6:$F$13,3,0)),0,#REF!*VLOOKUP($C123,Hypothèses!$D$6:$F$13,3,0))","v":{"$error":"#REF!"}}]
[117,null,null,{"$f":"IF(ISNA(VLOOKUP(C124,Hypothèses!$D$6:$G$14,4,0)),\"\",VLOOKUP(C124,Hypothèses!$D$6:$G$14,4,0))","v":""},null,null,null,null,null,null,null,null,null,null,null,null,null,null,null,null,null,null,null,null,null,{"$f":"IF(ISNA(E124*VLOOKUP($C124,Hypothèses!$D$6:$F$13,3,0)),0,E124*VLOOKUP($C124,Hypothèses!$D$6:$F$13,3,0))","v":0},{"$f":"IF(ISNA(F124*VLOOKUP($C124,Hypothèses!$D$6:$F$13,3,0)),0,F124*VLOOKUP($C124,Hypothèses!$D$6:$F$13,3,0))","v":0},{"$f":"IF(ISNA(G124*VLOOKUP($C124,Hypothèses!$D$6:$F$13,3,0)),0,G124*VLOOKUP($C124,Hypothèses!$D$6:$F$13,3,0))","v":0},{"$f":"IF(ISNA(H124*VLOOKUP($C124,Hypothèses!$D$6:$F$13,3,0)),0,H124*VLOOKUP($C124,Hypothèses!$D$6:$F$13,3,0))","v":0},{"$f":"IF(ISNA(I124*VLOOKUP($C124,Hypothèses!$D$6:$F$13,3,0)),0,I124*VLOOKUP($C124,Hypothèses!$D$6:$F$13,3,0))","v":0},{"$f":"IF(ISNA(J124*VLOOKUP($C124,Hypothèses!$D$6:$F$13,3,0)),0,J124*VLOOKUP($C124,Hypothèses!$D$6:$F$13,3,0))","v":0},{"$f":"IF(ISNA(K124*VLOOKUP($C124,Hypothèses!$D$6:$F$13,3,0)),0,K124*VLOOKUP($C124,Hypothèses!$D$6:$F$13,3,0))","v":0},{"$f":"IF(ISNA(L124*VLOOKUP($C124,Hypothèses!$D$6:$F$13,3,0)),0,L124*VLOOKUP($C124,Hypothèses!$D$6:$F$13,3,0))","v":0},{"$f":"IF(ISNA(M124*VLOOKUP($C124,Hypothèses!$D$6:$F$13,3,0)),0,M124*VLOOKUP($C124,Hypothèses!$D$6:$F$13,3,0))","v":0},{"$f":"IF(ISNA(N124*VLOOKUP($C124,Hypothèses!$D$6:$F$13,3,0)),0,N124*VLOOKUP($C124,Hypothèses!$D$6:$F$13,3,0))","v":0},{"$f":"IF(ISNA(O124*VLOOKUP($C124,Hypothèses!$D$6:$F$13,3,0)),0,O124*VLOOKUP($C124,Hypothèses!$D$6:$F$13,3,0))","v":0},{"$f":"IF(ISNA(P124*VLOOKUP($C124,Hypothèses!$D$6:$F$13,3,0)),0,P124*VLOOKUP($C124,Hypothèses!$D$6:$F$13,3,0))","v":0},{"$f":"IF(ISNA(Q124*VLOOKUP($C124,Hypothèses!$D$6:$F$13,3,0)),0,Q124*VLOOKUP($C124,Hypothèses!$D$6:$F$13,3,0))","v":0},{"$f":"IF(ISNA(R124*VLOOKUP($C124,Hypothèses!$D$6:$F$13,3,0)),0,R124*VLOOKUP($C124,Hypothèses!$D$6:$F$13,3,0))","v":0},{"$f":"IF(ISNA(S124*VLOOKUP($C124,Hypothèses!$D$6:$F$13,3,0)),0,S124*VLOOKUP($C124,Hypothèses!$D$6:$F$13,3,0))","v":0},{"$f":"IF(ISNA(#REF!*VLOOKUP($C124,Hypothèses!$D$6:$F$13,3,0)),0,#REF!*VLOOKUP($C124,Hypothèses!$D$6:$F$13,3,0))","v":{"$error":"#REF!"}},{"$f":"IF(ISNA(#REF!*VLOOKUP($C124,Hypothèses!$D$6:$F$13,3,0)),0,#REF!*VLOOKUP($C124,Hypothèses!$D$6:$F$13,3,0))","v":{"$error":"#REF!"}},{"$f":"IF(ISNA(#REF!*VLOOKUP($C124,Hypothèses!$D$6:$F$13,3,0)),0,#REF!*VLOOKUP($C124,Hypothèses!$D$6:$F$13,3,0))","v":{"$error":"#REF!"}},{"$f":"IF(ISNA(#REF!*VLOOKUP($C124,Hypothèses!$D$6:$F$13,3,0)),0,#REF!*VLOOKUP($C124,Hypothèses!$D$6:$F$13,3,0))","v":{"$error":"#REF!"}},{"$f":"IF(ISNA(#REF!*VLOOKUP($C124,Hypothèses!$D$6:$F$13,3,0)),0,#REF!*VLOOKUP($C124,Hypothèses!$D$6:$F$13,3,0))","v":{"$error":"#REF!"}},{"$f":"IF(ISNA(#REF!*VLOOKUP($C124,Hypothèses!$D$6:$F$13,3,0)),0,#REF!*VLOOKUP($C124,Hypothèses!$D$6:$F$13,3,0))","v":{"$error":"#REF!"}},{"$f":"IF(ISNA(#REF!*VLOOKUP($C124,Hypothèses!$D$6:$F$13,3,0)),0,#REF!*VLOOKUP($C124,Hypothèses!$D$6:$F$13,3,0))","v":{"$error":"#REF!"}}]
[118,null,null,{"$f":"IF(ISNA(VLOOKUP(C125,Hypothèses!$D$6:$G$14,4,0)),\"\",VLOOKUP(C125,Hypothèses!$D$6:$G$14,4,0))","v":""},null,null,null,null,null,null,null,null,null,null,null,null,null,null,null,null,null,null,null,null,null,{"$f":"IF(ISNA(E125*VLOOKUP($C125,Hypothèses!$D$6:$F$13,3,0)),0,E125*VLOOKUP($C125,Hypothèses!$D$6:$F$13,3,0))","v":0},{"$f":"IF(ISNA(F125*VLOOKUP($C125,Hypothèses!$D$6:$F$13,3,0)),0,F125*VLOOKUP($C125,Hypothèses!$D$6:$F$13,3,0))","v":0},{"$f":"IF(ISNA(G125*VLOOKUP($C125,Hypothèses!$D$6:$F$13,3,0)),0,G125*VLOOKUP($C125,Hypothèses!$D$6:$F$13,3,0))","v":0},{"$f":"IF(ISNA(H125*VLOOKUP($C125,Hypothèses!$D$6:$F$13,3,0)),0,H125*VLOOKUP($C125,Hypothèses!$D$6:$F$13,3,0))","v":0},{"$f":"IF(ISNA(I125*VLOOKUP($C125,Hypothèses!$D$6:$F$13,3,0)),0,I125*VLOOKUP($C125,Hypothèses!$D$6:$F$13,3,0))","v":0},{"$f":"IF(ISNA(J125*VLOOKUP($C125,Hypothèses!$D$6:$F$13,3,0)),0,J125*VLOOKUP($C125,Hypothèses!$D$6:$F$13,3,0))","v":0},{"$f":"IF(ISNA(K125*VLOOKUP($C125,Hypothèses!$D$6:$F$13,3,0)),0,K125*VLOOKUP($C125,Hypothèses!$D$6:$F$13,3,0))","v":0},{"$f":"IF(ISNA(L125*VLOOKUP($C125,Hypothèses!$D$6:$F$13,3,0)),0,L125*VLOOKUP($C125,Hypothèses!$D$6:$F$13,3,0))","v":0},{"$f":"IF(ISNA(M125*VLOOKUP($C125,Hypothèses!$D$6:$F$13,3,0)),0,M125*VLOOKUP($C125,Hypothèses!$D$6:$F$13,3,0))","v":0},{"$f":"IF(ISNA(N125*VLOOKUP($C125,Hypothèses!$D$6:$F$13,3,0)),0,N125*VLOOKUP($C125,Hypothèses!$D$6:$F$13,3,0))","v":0},{"$f":"IF(ISNA(O125*VLOOKUP($C125,Hypothèses!$D$6:$F$13,3,0)),0,O125*VLOOKUP($C125,Hypothèses!$D$6:$F$13,3,0))","v":0},{"$f":"IF(ISNA(P125*VLOOKUP($C125,Hypothèses!$D$6:$F$13,3,0)),0,P125*VLOOKUP($C125,Hypothèses!$D$6:$F$13,3,0))","v":0},{"$f":"IF(ISNA(Q125*VLOOKUP($C125,Hypothèses!$D$6:$F$13,3,0)),0,Q125*VLOOKUP($C125,Hypothèses!$D$6:$F$13,3,0))","v":0},{"$f":"IF(ISNA(R125*VLOOKUP($C125,Hypothèses!$D$6:$F$13,3,0)),0,R125*VLOOKUP($C125,Hypothèses!$D$6:$F$13,3,0))","v":0},{"$f":"IF(ISNA(S125*VLOOKUP($C125,Hypothèses!$D$6:$F$13,3,0)),0,S125*VLOOKUP($C125,Hypothèses!$D$6:$F$13,3,0))","v":0},{"$f":"IF(ISNA(#REF!*VLOOKUP($C125,Hypothèses!$D$6:$F$13,3,0)),0,#REF!*VLOOKUP($C125,Hypothèses!$D$6:$F$13,3,0))","v":{"$error":"#REF!"}},{"$f":"IF(ISNA(#REF!*VLOOKUP($C125,Hypothèses!$D$6:$F$13,3,0)),0,#REF!*VLOOKUP($C125,Hypothèses!$D$6:$F$13,3,0))","v":{"$error":"#REF!"}},{"$f":"IF(ISNA(#REF!*VLOOKUP($C125,Hypothèses!$D$6:$F$13,3,0)),0,#REF!*VLOOKUP($C125,Hypothèses!$D$6:$F$13,3,0))","v":{"$error":"#REF!"}},{"$f":"IF(ISNA(#REF!*VLOOKUP($C125,Hypothèses!$D$6:$F$13,3,0)),0,#REF!*VLOOKUP($C125,Hypothèses!$D$6:$F$13,3,0))","v":{"$error":"#REF!"}},{"$f":"IF(ISNA(#REF!*VLOOKUP($C125,Hypothèses!$D$6:$F$13,3,0)),0,#REF!*VLOOKUP($C125,Hypothèses!$D$6:$F$13,3,0))","v":{"$error":"#REF!"}},{"$f":"IF(ISNA(#REF!*VLOOKUP($C125,Hypothèses!$D$6:$F$13,3,0)),0,#REF!*VLOOKUP($C125,Hypothèses!$D$6:$F$13,3,0))","v":{"$error":"#REF!"}},{"$f":"IF(ISNA(#REF!*VLOOKUP($C125,Hypothèses!$D$6:$F$13,3,0)),0,#REF!*VLOOKUP($C125,Hypothèses!$D$6:$F$13,3,0))","v":{"$error":"#REF!"}}]
[119,null,null,{"$f":"IF(ISNA(VLOOKUP(C126,Hypothèses!$D$6:$G$14,4,0)),\"\",VLOOKUP(C126,Hypothèses!$D$6:$G$14,4,0))","v":""},null,null,null,null,null,null,null,null,null,null,null,null,null,null,null,null,null,null,null,null,null,{"$f":"IF(ISNA(E126*VLOOKUP($C126,Hypothèses!$D$6:$F$13,3,0)),0,E126*VLOOKUP($C126,Hypothèses!$D$6:$F$13,3,0))","v":0},{"$f":"IF(ISNA(F126*VLOOKUP($C126,Hypothèses!$D$6:$F$13,3,0)),0,F126*VLOOKUP($C126,Hypothèses!$D$6:$F$13,3,0))","v":0},{"$f":"IF(ISNA(G126*VLOOKUP($C126,Hypothèses!$D$6:$F$13,3,0)),0,G126*VLOOKUP($C126,Hypothèses!$D$6:$F$13,3,0))","v":0},{"$f":"IF(ISNA(H126*VLOOKUP($C126,Hypothèses!$D$6:$F$13,3,0)),0,H126*VLOOKUP($C126,Hypothèses!$D$6:$F$13,3,0))","v":0},{"$f":"IF(ISNA(I126*VLOOKUP($C126,Hypothèses!$D$6:$F$13,3,0)),0,I126*VLOOKUP($C126,Hypothèses!$D$6:$F$13,3,0))","v":0},{"$f":"IF(ISNA(J126*VLOOKUP($C126,Hypothèses!$D$6:$F$13,3,0)),0,J126*VLOOKUP($C126,Hypothèses!$D$6:$F$13,3,0))","v":0},{"$f":"IF(ISNA(K126*VLOOKUP($C126,Hypothèses!$D$6:$F$13,3,0)),0,K126*VLOOKUP($C126,Hypothèses!$D$6:$F$13,3,0))","v":0},{"$f":"IF(ISNA(L126*VLOOKUP($C126,Hypothèses!$D$6:$F$13,3,0)),0,L126*VLOOKUP($C126,Hypothèses!$D$6:$F$13,3,0))","v":0},{"$f":"IF(ISNA(M126*VLOOKUP($C126,Hypothèses!$D$6:$F$13,3,0)),0,M126*VLOOKUP($C126,Hypothèses!$D$6:$F$13,3,0))","v":0},{"$f":"IF(ISNA(N126*VLOOKUP($C126,Hypothèses!$D$6:$F$13,3,0)),0,N126*VLOOKUP($C126,Hypothèses!$D$6:$F$13,3,0))","v":0},{"$f":"IF(ISNA(O126*VLOOKUP($C126,Hypothèses!$D$6:$F$13,3,0)),0,O126*VLOOKUP($C126,Hypothèses!$D$6:$F$13,3,0))","v":0},{"$f":"IF(ISNA(P126*VLOOKUP($C126,Hypothèses!$D$6:$F$13,3,0)),0,P126*VLOOKUP($C126,Hypothèses!$D$6:$F$13,3,0))","v":0},{"$f":"IF(ISNA(Q126*VLOOKUP($C126,Hypothèses!$D$6:$F$13,3,0)),0,Q126*VLOOKUP($C126,Hypothèses!$D$6:$F$13,3,0))","v":0},{"$f":"IF(ISNA(R126*VLOOKUP($C126,Hypothèses!$D$6:$F$13,3,0)),0,R126*VLOOKUP($C126,Hypothèses!$D$6:$F$13,3,0))","v":0},{"$f":"IF(ISNA(S126*VLOOKUP($C126,Hypothèses!$D$6:$F$13,3,0)),0,S126*VLOOKUP($C126,Hypothèses!$D$6:$F$13,3,0))","v":0},{"$f":"IF(ISNA(#REF!*VLOOKUP($C126,Hypothèses!$D$6:$F$13,3,0)),0,#REF!*VLOOKUP($C126,Hypothèses!$D$6:$F$13,3,0))","v":{"$error":"#REF!"}},{"$f":"IF(ISNA(#REF!*VLOOKUP($C126,Hypothèses!$D$6:$F$13,3,0)),0,#REF!*VLOOKUP($C126,Hypothèses!$D$6:$F$13,3,0))","v":{"$error":"#REF!"}},{"$f":"IF(ISNA(#REF!*VLOOKUP($C126,Hypothèses!$D$6:$F$13,3,0)),0,#REF!*VLOOKUP($C126,Hypothèses!$D$6:$F$13,3,0))","v":{"$error":"#REF!"}},{"$f":"IF(ISNA(#REF!*VLOOKUP($C126,Hypothèses!$D$6:$F$13,3,0)),0,#REF!*VLOOKUP($C126,Hypothèses!$D$6:$F$13,3,0))","v":{"$error":"#REF!"}},{"$f":"IF(ISNA(#REF!*VLOOKUP($C126,Hypothèses!$D$6:$F$13,3,0)),0,#REF!*VLOOKUP($C126,Hypothèses!$D$6:$F$13,3,0))","v":{"$error":"#REF!"}},{"$f":"IF(ISNA(#REF!*VLOOKUP($C126,Hypothèses!$D$6:$F$13,3,0)),0,#REF!*VLOOKUP($C126,Hypothèses!$D$6:$F$13,3,0))","v":{"$error":"#REF!"}},{"$f":"IF(ISNA(#REF!*VLOOKUP($C126,Hypothèses!$D$6:$F$13,3,0)),0,#REF!*VLOOKUP($C126,Hypothèses!$D$6:$F$13,3,0))","v":{"$error":"#REF!"}}]
[120,null,null,{"$f":"IF(ISNA(VLOOKUP(C127,Hypothèses!$D$6:$G$14,4,0)),\"\",VLOOKUP(C127,Hypothèses!$D$6:$G$14,4,0))","v":""},null,null,null,null,null,null,null,null,null,null,null,null,null,null,null,null,null,null,null,null,null,{"$f":"IF(ISNA(E127*VLOOKUP($C127,Hypothèses!$D$6:$F$13,3,0)),0,E127*VLOOKUP($C127,Hypothèses!$D$6:$F$13,3,0))","v":0},{"$f":"IF(ISNA(F127*VLOOKUP($C127,Hypothèses!$D$6:$F$13,3,0)),0,F127*VLOOKUP($C127,Hypothèses!$D$6:$F$13,3,0))","v":0},{"$f":"IF(ISNA(G127*VLOOKUP($C127,Hypothèses!$D$6:$F$13,3,0)),0,G127*VLOOKUP($C127,Hypothèses!$D$6:$F$13,3,0))","v":0},{"$f":"IF(ISNA(H127*VLOOKUP($C127,Hypothèses!$D$6:$F$13,3,0)),0,H127*VLOOKUP($C127,Hypothèses!$D$6:$F$13,3,0))","v":0},{"$f":"IF(ISNA(I127*VLOOKUP($C127,Hypothèses!$D$6:$F$13,3,0)),0,I127*VLOOKUP($C127,Hypothèses!$D$6:$F$13,3,0))","v":0},{"$f":"IF(ISNA(J127*VLOOKUP($C127,Hypothèses!$D$6:$F$13,3,0)),0,J127*VLOOKUP($C127,Hypothèses!$D$6:$F$13,3,0))","v":0},{"$f":"IF(ISNA(K127*VLOOKUP($C127,Hypothèses!$D$6:$F$13,3,0)),0,K127*VLOOKUP($C127,Hypothèses!$D$6:$F$13,3,0))","v":0},{"$f":"IF(ISNA(L127*VLOOKUP($C127,Hypothèses!$D$6:$F$13,3,0)),0,L127*VLOOKUP($C127,Hypothèses!$D$6:$F$13,3,0))","v":0},{"$f":"IF(ISNA(M127*VLOOKUP($C127,Hypothèses!$D$6:$F$13,3,0)),0,M127*VLOOKUP($C127,Hypothèses!$D$6:$F$13,3,0))","v":0},{"$f":"IF(ISNA(N127*VLOOKUP($C127,Hypothèses!$D$6:$F$13,3,0)),0,N127*VLOOKUP($C127,Hypothèses!$D$6:$F$13,3,0))","v":0},{"$f":"IF(ISNA(O127*VLOOKUP($C127,Hypothèses!$D$6:$F$13,3,0)),0,O127*VLOOKUP($C127,Hypothèses!$D$6:$F$13,3,0))","v":0},{"$f":"IF(ISNA(P127*VLOOKUP($C127,Hypothèses!$D$6:$F$13,3,0)),0,P127*VLOOKUP($C127,Hypothèses!$D$6:$F$13,3,0))","v":0},{"$f":"IF(ISNA(Q127*VLOOKUP($C127,Hypothèses!$D$6:$F$13,3,0)),0,Q127*VLOOKUP($C127,Hypothèses!$D$6:$F$13,3,0))","v":0},{"$f":"IF(ISNA(R127*VLOOKUP($C127,Hypothèses!$D$6:$F$13,3,0)),0,R127*VLOOKUP($C127,Hypothèses!$D$6:$F$13,3,0))","v":0},{"$f":"IF(ISNA(S127*VLOOKUP($C127,Hypothèses!$D$6:$F$13,3,0)),0,S127*VLOOKUP($C127,Hypothèses!$D$6:$F$13,3,0))","v":0},{"$f":"IF(ISNA(#REF!*VLOOKUP($C127,Hypothèses!$D$6:$F$13,3,0)),0,#REF!*VLOOKUP($C127,Hypothèses!$D$6:$F$13,3,0))","v":{"$error":"#REF!"}},{"$f":"IF(ISNA(#REF!*VLOOKUP($C127,Hypothèses!$D$6:$F$13,3,0)),0,#REF!*VLOOKUP($C127,Hypothèses!$D$6:$F$13,3,0))","v":{"$error":"#REF!"}},{"$f":"IF(ISNA(#REF!*VLOOKUP($C127,Hypothèses!$D$6:$F$13,3,0)),0,#REF!*VLOOKUP($C127,Hypothèses!$D$6:$F$13,3,0))","v":{"$error":"#REF!"}},{"$f":"IF(ISNA(#REF!*VLOOKUP($C127,Hypothèses!$D$6:$F$13,3,0)),0,#REF!*VLOOKUP($C127,Hypothèses!$D$6:$F$13,3,0))","v":{"$error":"#REF!"}},{"$f":"IF(ISNA(#REF!*VLOOKUP($C127,Hypothèses!$D$6:$F$13,3,0)),0,#REF!*VLOOKUP($C127,Hypothèses!$D$6:$F$13,3,0))","v":{"$error":"#REF!"}},{"$f":"IF(ISNA(#REF!*VLOOKUP($C127,Hypothèses!$D$6:$F$13,3,0)),0,#REF!*VLOOKUP($C127,Hypothèses!$D$6:$F$13,3,0))","v":{"$error":"#REF!"}},{"$f":"IF(ISNA(#REF!*VLOOKUP($C127,Hypothèses!$D$6:$F$13,3,0)),0,#REF!*VLOOKUP($C127,Hypothèses!$D$6:$F$13,3,0))","v":{"$error":"#REF!"}}]
[121,null,null,{"$f":"IF(ISNA(VLOOKUP(C128,Hypothèses!$D$6:$G$14,4,0)),\"\",VLOOKUP(C128,Hypothèses!$D$6:$G$14,4,0))","v":""},null,null,null,null,null,null,null,null,null,null,null,null,null,null,null,null,null,null,null,null,null,{"$f":"IF(ISNA(E128*VLOOKUP($C128,Hypothèses!$D$6:$F$13,3,0)),0,E128*VLOOKUP($C128,Hypothèses!$D$6:$F$13,3,0))","v":0},{"$f":"IF(ISNA(F128*VLOOKUP($C128,Hypothèses!$D$6:$F$13,3,0)),0,F128*VLOOKUP($C128,Hypothèses!$D$6:$F$13,3,0))","v":0},{"$f":"IF(ISNA(G128*VLOOKUP($C128,Hypothèses!$D$6:$F$13,3,0)),0,G128*VLOOKUP($C128,Hypothèses!$D$6:$F$13,3,0))","v":0},{"$f":"IF(ISNA(H128*VLOOKUP($C128,Hypothèses!$D$6:$F$13,3,0)),0,H128*VLOOKUP($C128,Hypothèses!$D$6:$F$13,3,0))","v":0},{"$f":"IF(ISNA(I128*VLOOKUP($C128,Hypothèses!$D$6:$F$13,3,0)),0,I128*VLOOKUP($C128,Hypothèses!$D$6:$F$13,3,0))","v":0},{"$f":"IF(ISNA(J128*VLOOKUP($C128,Hypothèses!$D$6:$F$13,3,0)),0,J128*VLOOKUP($C128,Hypothèses!$D$6:$F$13,3,0))","v":0},{"$f":"IF(ISNA(K128*VLOOKUP($C128,Hypothèses!$D$6:$F$13,3,0)),0,K128*VLOOKUP($C128,Hypothèses!$D$6:$F$13,3,0))","v":0},{"$f":"IF(ISNA(L128*VLOOKUP($C128,Hypothèses!$D$6:$F$13,3,0)),0,L128*VLOOKUP($C128,Hypothèses!$D$6:$F$13,3,0))","v":0},{"$f":"IF(ISNA(M128*VLOOKUP($C128,Hypothèses!$D$6:$F$13,3,0)),0,M128*VLOOKUP($C128,Hypothèses!$D$6:$F$13,3,0))","v":0},{"$f":"IF(ISNA(N128*VLOOKUP($C128,Hypothèses!$D$6:$F$13,3,0)),0,N128*VLOOKUP($C128,Hypothèses!$D$6:$F$13,3,0))","v":0},{"$f":"IF(ISNA(O128*VLOOKUP($C128,Hypothèses!$D$6:$F$13,3,0)),0,O128*VLOOKUP($C128,Hypothèses!$D$6:$F$13,3,0))","v":0},{"$f":"IF(ISNA(P128*VLOOKUP($C128,Hypothèses!$D$6:$F$13,3,0)),0,P128*VLOOKUP($C128,Hypothèses!$D$6:$F$13,3,0))","v":0},{"$f":"IF(ISNA(Q128*VLOOKUP($C128,Hypothèses!$D$6:$F$13,3,0)),0,Q128*VLOOKUP($C128,Hypothèses!$D$6:$F$13,3,0))","v":0},{"$f":"IF(ISNA(R128*VLOOKUP($C128,Hypothèses!$D$6:$F$13,3,0)),0,R128*VLOOKUP($C128,Hypothèses!$D$6:$F$13,3,0))","v":0},{"$f":"IF(ISNA(S128*VLOOKUP($C128,Hypothèses!$D$6:$F$13,3,0)),0,S128*VLOOKUP($C128,Hypothèses!$D$6:$F$13,3,0))","v":0},{"$f":"IF(ISNA(#REF!*VLOOKUP($C128,Hypothèses!$D$6:$F$13,3,0)),0,#REF!*VLOOKUP($C128,Hypothèses!$D$6:$F$13,3,0))","v":{"$error":"#REF!"}},{"$f":"IF(ISNA(#REF!*VLOOKUP($C128,Hypothèses!$D$6:$F$13,3,0)),0,#REF!*VLOOKUP($C128,Hypothèses!$D$6:$F$13,3,0))","v":{"$error":"#REF!"}},{"$f":"IF(ISNA(#REF!*VLOOKUP($C128,Hypothèses!$D$6:$F$13,3,0)),0,#REF!*VLOOKUP($C128,Hypothèses!$D$6:$F$13,3,0))","v":{"$error":"#REF!"}},{"$f":"IF(ISNA(#REF!*VLOOKUP($C128,Hypothèses!$D$6:$F$13,3,0)),0,#REF!*VLOOKUP($C128,Hypothèses!$D$6:$F$13,3,0))","v":{"$error":"#REF!"}},{"$f":"IF(ISNA(#REF!*VLOOKUP($C128,Hypothèses!$D$6:$F$13,3,0)),0,#REF!*VLOOKUP($C128,Hypothèses!$D$6:$F$13,3,0))","v":{"$error":"#REF!"}},{"$f":"IF(ISNA(#REF!*VLOOKUP($C128,Hypothèses!$D$6:$F$13,3,0)),0,#REF!*VLOOKUP($C128,Hypothèses!$D$6:$F$13,3,0))","v":{"$error":"#REF!"}},{"$f":"IF(ISNA(#REF!*VLOOKUP($C128,Hypothèses!$D$6:$F$13,3,0)),0,#REF!*VLOOKUP($C128,Hypothèses!$D$6:$F$13,3,0))","v":{"$error":"#REF!"}}]
[122,null,null,{"$f":"IF(ISNA(VLOOKUP(C129,Hypothèses!$D$6:$G$14,4,0)),\"\",VLOOKUP(C129,Hypothèses!$D$6:$G$14,4,0))","v":""},null,null,null,null,null,null,null,null,null,null,null,null,null,null,null,null,null,null,null,null,null,{"$f":"IF(ISNA(E129*VLOOKUP($C129,Hypothèses!$D$6:$F$13,3,0)),0,E129*VLOOKUP($C129,Hypothèses!$D$6:$F$13,3,0))","v":0},{"$f":"IF(ISNA(F129*VLOOKUP($C129,Hypothèses!$D$6:$F$13,3,0)),0,F129*VLOOKUP($C129,Hypothèses!$D$6:$F$13,3,0))","v":0},{"$f":"IF(ISNA(G129*VLOOKUP($C129,Hypothèses!$D$6:$F$13,3,0)),0,G129*VLOOKUP($C129,Hypothèses!$D$6:$F$13,3,0))","v":0},{"$f":"IF(ISNA(H129*VLOOKUP($C129,Hypothèses!$D$6:$F$13,3,0)),0,H129*VLOOKUP($C129,Hypothèses!$D$6:$F$13,3,0))","v":0},{"$f":"IF(ISNA(I129*VLOOKUP($C129,Hypothèses!$D$6:$F$13,3,0)),0,I129*VLOOKUP($C129,Hypothèses!$D$6:$F$13,3,0))","v":0},{"$f":"IF(ISNA(J129*VLOOKUP($C129,Hypothèses!$D$6:$F$13,3,0)),0,J129*VLOOKUP($C129,Hypothèses!$D$6:$F$13,3,0))","v":0},{"$f":"IF(ISNA(K129*VLOOKUP($C129,Hypothèses!$D$6:$F$13,3,0)),0,K129*VLOOKUP($C129,Hypothèses!$D$6:$F$13,3,0))","v":0},{"$f":"IF(ISNA(L129*VLOOKUP($C129,Hypothèses!$D$6:$F$13,3,0)),0,L129*VLOOKUP($C129,Hypothèses!$D$6:$F$13,3,0))","v":0},{"$f":"IF(ISNA(M129*VLOOKUP($C129,Hypothèses!$D$6:$F$13,3,0)),0,M129*VLOOKUP($C129,Hypothèses!$D$6:$F$13,3,0))","v":0},{"$f":"IF(ISNA(N129*VLOOKUP($C129,Hypothèses!$D$6:$F$13,3,0)),0,N129*VLOOKUP($C129,Hypothèses!$D$6:$F$13,3,0))","v":0},{"$f":"IF(ISNA(O129*VLOOKUP($C129,Hypothèses!$D$6:$F$13,3,0)),0,O129*VLOOKUP($C129,Hypothèses!$D$6:$F$13,3,0))","v":0},{"$f":"IF(ISNA(P129*VLOOKUP($C129,Hypothèses!$D$6:$F$13,3,0)),0,P129*VLOOKUP($C129,Hypothèses!$D$6:$F$13,3,0))","v":0},{"$f":"IF(ISNA(Q129*VLOOKUP($C129,Hypothèses!$D$6:$F$13,3,0)),0,Q129*VLOOKUP($C129,Hypothèses!$D$6:$F$13,3,0))","v":0},{"$f":"IF(ISNA(R129*VLOOKUP($C129,Hypothèses!$D$6:$F$13,3,0)),0,R129*VLOOKUP($C129,Hypothèses!$D$6:$F$13,3,0))","v":0},{"$f":"IF(ISNA(S129*VLOOKUP($C129,Hypothèses!$D$6:$F$13,3,0)),0,S129*VLOOKUP($C129,Hypothèses!$D$6:$F$13,3,0))","v":0},{"$f":"IF(ISNA(#REF!*VLOOKUP($C129,Hypothèses!$D$6:$F$13,3,0)),0,#REF!*VLOOKUP($C129,Hypothèses!$D$6:$F$13,3,0))","v":{"$error":"#REF!"}},{"$f":"IF(ISNA(#REF!*VLOOKUP($C129,Hypothèses!$D$6:$F$13,3,0)),0,#REF!*VLOOKUP($C129,Hypothèses!$D$6:$F$13,3,0))","v":{"$error":"#REF!"}},{"$f":"IF(ISNA(#REF!*VLOOKUP($C129,Hypothèses!$D$6:$F$13,3,0)),0,#REF!*VLOOKUP($C129,Hypothèses!$D$6:$F$13,3,0))","v":{"$error":"#REF!"}},{"$f":"IF(ISNA(#REF!*VLOOKUP($C129,Hypothèses!$D$6:$F$13,3,0)),0,#REF!*VLOOKUP($C129,Hypothèses!$D$6:$F$13,3,0))","v":{"$error":"#REF!"}},{"$f":"IF(ISNA(#REF!*VLOOKUP($C129,Hypothèses!$D$6:$F$13,3,0)),0,#REF!*VLOOKUP($C129,Hypothèses!$D$6:$F$13,3,0))","v":{"$error":"#REF!"}},{"$f":"IF(ISNA(#REF!*VLOOKUP($C129,Hypothèses!$D$6:$F$13,3,0)),0,#REF!*VLOOKUP($C129,Hypothèses!$D$6:$F$13,3,0))","v":{"$error":"#REF!"}},{"$f":"IF(ISNA(#REF!*VLOOKUP($C129,Hypothèses!$D$6:$F$13,3,0)),0,#REF!*VLOOKUP($C129,Hypothèses!$D$6:$F$13,3,0))","v":{"$error":"#REF!"}}]
[123,null,null,{"$f":"IF(ISNA(VLOOKUP(C130,Hypothèses!$D$6:$G$14,4,0)),\"\",VLOOKUP(C130,Hypothèses!$D$6:$G$14,4,0))","v":""},null,null,null,null,null,null,null,null,null,null,null,null,null,null,null,null,null,null,null,null,null,{"$f":"IF(ISNA(E130*VLOOKUP($C130,Hypothèses!$D$6:$F$13,3,0)),0,E130*VLOOKUP($C130,Hypothèses!$D$6:$F$13,3,0))","v":0},{"$f":"IF(ISNA(F130*VLOOKUP($C130,Hypothèses!$D$6:$F$13,3,0)),0,F130*VLOOKUP($C130,Hypothèses!$D$6:$F$13,3,0))","v":0},{"$f":"IF(ISNA(G130*VLOOKUP($C130,Hypothèses!$D$6:$F$13,3,0)),0,G130*VLOOKUP($C130,Hypothèses!$D$6:$F$13,3,0))","v":0},{"$f":"IF(ISNA(H130*VLOOKUP($C130,Hypothèses!$D$6:$F$13,3,0)),0,H130*VLOOKUP($C130,Hypothèses!$D$6:$F$13,3,0))","v":0},{"$f":"IF(ISNA(I130*VLOOKUP($C130,Hypothèses!$D$6:$F$13,3,0)),0,I130*VLOOKUP($C130,Hypothèses!$D$6:$F$13,3,0))","v":0},{"$f":"IF(ISNA(J130*VLOOKUP($C130,Hypothèses!$D$6:$F$13,3,0)),0,J130*VLOOKUP($C130,Hypothèses!$D$6:$F$13,3,0))","v":0},{"$f":"IF(ISNA(K130*VLOOKUP($C130,Hypothèses!$D$6:$F$13,3,0)),0,K130*VLOOKUP($C130,Hypothèses!$D$6:$F$13,3,0))","v":0},{"$f":"IF(ISNA(L130*VLOOKUP($C130,Hypothèses!$D$6:$F$13,3,0)),0,L130*VLOOKUP($C130,Hypothèses!$D$6:$F$13,3,0))","v":0},{"$f":"IF(ISNA(M130*VLOOKUP($C130,Hypothèses!$D$6:$F$13,3,0)),0,M130*VLOOKUP($C130,Hypothèses!$D$6:$F$13,3,0))","v":0},{"$f":"IF(ISNA(N130*VLOOKUP($C130,Hypothèses!$D$6:$F$13,3,0)),0,N130*VLOOKUP($C130,Hypothèses!$D$6:$F$13,3,0))","v":0},{"$f":"IF(ISNA(O130*VLOOKUP($C130,Hypothèses!$D$6:$F$13,3,0)),0,O130*VLOOKUP($C130,Hypothèses!$D$6:$F$13,3,0))","v":0},{"$f":"IF(ISNA(P130*VLOOKUP($C130,Hypothèses!$D$6:$F$13,3,0)),0,P130*VLOOKUP($C130,Hypothèses!$D$6:$F$13,3,0))","v":0},{"$f":"IF(ISNA(Q130*VLOOKUP($C130,Hypothèses!$D$6:$F$13,3,0)),0,Q130*VLOOKUP($C130,Hypothèses!$D$6:$F$13,3,0))","v":0},{"$f":"IF(ISNA(R130*VLOOKUP($C130,Hypothèses!$D$6:$F$13,3,0)),0,R130*VLOOKUP($C130,Hypothèses!$D$6:$F$13,3,0))","v":0},{"$f":"IF(ISNA(S130*VLOOKUP($C130,Hypothèses!$D$6:$F$13,3,0)),0,S130*VLOOKUP($C130,Hypothèses!$D$6:$F$13,3,0))","v":0},{"$f":"IF(ISNA(#REF!*VLOOKUP($C130,Hypothèses!$D$6:$F$13,3,0)),0,#REF!*VLOOKUP($C130,Hypothèses!$D$6:$F$13,3,0))","v":{"$error":"#REF!"}},{"$f":"IF(ISNA(#REF!*VLOOKUP($C130,Hypothèses!$D$6:$F$13,3,0)),0,#REF!*VLOOKUP($C130,Hypothèses!$D$6:$F$13,3,0))","v":{"$error":"#REF!"}},{"$f":"IF(ISNA(#REF!*VLOOKUP($C130,Hypothèses!$D$6:$F$13,3,0)),0,#REF!*VLOOKUP($C130,Hypothèses!$D$6:$F$13,3,0))","v":{"$error":"#REF!"}},{"$f":"IF(ISNA(#REF!*VLOOKUP($C130,Hypothèses!$D$6:$F$13,3,0)),0,#REF!*VLOOKUP($C130,Hypothèses!$D$6:$F$13,3,0))","v":{"$error":"#REF!"}},{"$f":"IF(ISNA(#REF!*VLOOKUP($C130,Hypothèses!$D$6:$F$13,3,0)),0,#REF!*VLOOKUP($C130,Hypothèses!$D$6:$F$13,3,0))","v":{"$error":"#REF!"}},{"$f":"IF(ISNA(#REF!*VLOOKUP($C130,Hypothèses!$D$6:$F$13,3,0)),0,#REF!*VLOOKUP($C130,Hypothèses!$D$6:$F$13,3,0))","v":{"$error":"#REF!"}},{"$f":"IF(ISNA(#REF!*VLOOKUP($C130,Hypothèses!$D$6:$F$13,3,0)),0,#REF!*VLOOKUP($C130,Hypothèses!$D$6:$F$13,3,0))","v":{"$error":"#REF!"}}]
[124,null,null,{"$f":"IF(ISNA(VLOOKUP(C131,Hypothèses!$D$6:$G$14,4,0)),\"\",VLOOKUP(C131,Hypothèses!$D$6:$G$14,4,0))","v":""},null,null,null,null,null,null,null,null,null,null,null,null,null,null,null,null,null,null,null,null,null,{"$f":"IF(ISNA(E131*VLOOKUP($C131,Hypothèses!$D$6:$F$13,3,0)),0,E131*VLOOKUP($C131,Hypothèses!$D$6:$F$13,3,0))","v":0},{"$f":"IF(ISNA(F131*VLOOKUP($C131,Hypothèses!$D$6:$F$13,3,0)),0,F131*VLOOKUP($C131,Hypothèses!$D$6:$F$13,3,0))","v":0},{"$f":"IF(ISNA(G131*VLOOKUP($C131,Hypothèses!$D$6:$F$13,3,0)),0,G131*VLOOKUP($C131,Hypothèses!$D$6:$F$13,3,0))","v":0},{"$f":"IF(ISNA(H131*VLOOKUP($C131,Hypothèses!$D$6:$F$13,3,0)),0,H131*VLOOKUP($C131,Hypothèses!$D$6:$F$13,3,0))","v":0},{"$f":"IF(ISNA(I131*VLOOKUP($C131,Hypothèses!$D$6:$F$13,3,0)),0,I131*VLOOKUP($C131,Hypothèses!$D$6:$F$13,3,0))","v":0},{"$f":"IF(ISNA(J131*VLOOKUP($C131,Hypothèses!$D$6:$F$13,3,0)),0,J131*VLOOKUP($C131,Hypothèses!$D$6:$F$13,3,0))","v":0},{"$f":"IF(ISNA(K131*VLOOKUP($C131,Hypothèses!$D$6:$F$13,3,0)),0,K131*VLOOKUP($C131,Hypothèses!$D$6:$F$13,3,0))","v":0},{"$f":"IF(ISNA(L131*VLOOKUP($C131,Hypothèses!$D$6:$F$13,3,0)),0,L131*VLOOKUP($C131,Hypothèses!$D$6:$F$13,3,0))","v":0},{"$f":"IF(ISNA(M131*VLOOKUP($C131,Hypothèses!$D$6:$F$13,3,0)),0,M131*VLOOKUP($C131,Hypothèses!$D$6:$F$13,3,0))","v":0},{"$f":"IF(ISNA(N131*VLOOKUP($C131,Hypothèses!$D$6:$F$13,3,0)),0,N131*VLOOKUP($C131,Hypothèses!$D$6:$F$13,3,0))","v":0},{"$f":"IF(ISNA(O131*VLOOKUP($C131,Hypothèses!$D$6:$F$13,3,0)),0,O131*VLOOKUP($C131,Hypothèses!$D$6:$F$13,3,0))","v":0},{"$f":"IF(ISNA(P131*VLOOKUP($C131,Hypothèses!$D$6:$F$13,3,0)),0,P131*VLOOKUP($C131,Hypothèses!$D$6:$F$13,3,0))","v":0},{"$f":"IF(ISNA(Q131*VLOOKUP($C131,Hypothèses!$D$6:$F$13,3,0)),0,Q131*VLOOKUP($C131,Hypothèses!$D$6:$F$13,3,0))","v":0},{"$f":"IF(ISNA(R131*VLOOKUP($C131,Hypothèses!$D$6:$F$13,3,0)),0,R131*VLOOKUP($C131,Hypothèses!$D$6:$F$13,3,0))","v":0},{"$f":"IF(ISNA(S131*VLOOKUP($C131,Hypothèses!$D$6:$F$13,3,0)),0,S131*VLOOKUP($C131,Hypothèses!$D$6:$F$13,3,0))","v":0},{"$f":"IF(ISNA(#REF!*VLOOKUP($C131,Hypothèses!$D$6:$F$13,3,0)),0,#REF!*VLOOKUP($C131,Hypothèses!$D$6:$F$13,3,0))","v":{"$error":"#REF!"}},{"$f":"IF(ISNA(#REF!*VLOOKUP($C131,Hypothèses!$D$6:$F$13,3,0)),0,#REF!*VLOOKUP($C131,Hypothèses!$D$6:$F$13,3,0))","v":{"$error":"#REF!"}},{"$f":"IF(ISNA(#REF!*VLOOKUP($C131,Hypothèses!$D$6:$F$13,3,0)),0,#REF!*VLOOKUP($C131,Hypothèses!$D$6:$F$13,3,0))","v":{"$error":"#REF!"}},{"$f":"IF(ISNA(#REF!*VLOOKUP($C131,Hypothèses!$D$6:$F$13,3,0)),0,#REF!*VLOOKUP($C131,Hypothèses!$D$6:$F$13,3,0))","v":{"$error":"#REF!"}},{"$f":"IF(ISNA(#REF!*VLOOKUP($C131,Hypothèses!$D$6:$F$13,3,0)),0,#REF!*VLOOKUP($C131,Hypothèses!$D$6:$F$13,3,0))","v":{"$error":"#REF!"}},{"$f":"IF(ISNA(#REF!*VLOOKUP($C131,Hypothèses!$D$6:$F$13,3,0)),0,#REF!*VLOOKUP($C131,Hypothèses!$D$6:$F$13,3,0))","v":{"$error":"#REF!"}},{"$f":"IF(ISNA(#REF!*VLOOKUP($C131,Hypothèses!$D$6:$F$13,3,0)),0,#REF!*VLOOKUP($C131,Hypothèses!$D$6:$F$13,3,0))","v":{"$error":"#REF!"}}]
[125,null,null,{"$f":"IF(ISNA(VLOOKUP(C132,Hypothèses!$D$6:$G$14,4,0)),\"\",VLOOKUP(C132,Hypothèses!$D$6:$G$14,4,0))","v":""},null,null,null,null,null,null,null,null,null,null,null,null,null,null,null,null,null,null,null,null,null,{"$f":"IF(ISNA(E132*VLOOKUP($C132,Hypothèses!$D$6:$F$13,3,0)),0,E132*VLOOKUP($C132,Hypothèses!$D$6:$F$13,3,0))","v":0},{"$f":"IF(ISNA(F132*VLOOKUP($C132,Hypothèses!$D$6:$F$13,3,0)),0,F132*VLOOKUP($C132,Hypothèses!$D$6:$F$13,3,0))","v":0},{"$f":"IF(ISNA(G132*VLOOKUP($C132,Hypothèses!$D$6:$F$13,3,0)),0,G132*VLOOKUP($C132,Hypothèses!$D$6:$F$13,3,0))","v":0},{"$f":"IF(ISNA(H132*VLOOKUP($C132,Hypothèses!$D$6:$F$13,3,0)),0,H132*VLOOKUP($C132,Hypothèses!$D$6:$F$13,3,0))","v":0},{"$f":"IF(ISNA(I132*VLOOKUP($C132,Hypothèses!$D$6:$F$13,3,0)),0,I132*VLOOKUP($C132,Hypothèses!$D$6:$F$13,3,0))","v":0},{"$f":"IF(ISNA(J132*VLOOKUP($C132,Hypothèses!$D$6:$F$13,3,0)),0,J132*VLOOKUP($C132,Hypothèses!$D$6:$F$13,3,0))","v":0},{"$f":"IF(ISNA(K132*VLOOKUP($C132,Hypothèses!$D$6:$F$13,3,0)),0,K132*VLOOKUP($C132,Hypothèses!$D$6:$F$13,3,0))","v":0},{"$f":"IF(ISNA(L132*VLOOKUP($C132,Hypothèses!$D$6:$F$13,3,0)),0,L132*VLOOKUP($C132,Hypothèses!$D$6:$F$13,3,0))","v":0},{"$f":"IF(ISNA(M132*VLOOKUP($C132,Hypothèses!$D$6:$F$13,3,0)),0,M132*VLOOKUP($C132,Hypothèses!$D$6:$F$13,3,0))","v":0},{"$f":"IF(ISNA(N132*VLOOKUP($C132,Hypothèses!$D$6:$F$13,3,0)),0,N132*VLOOKUP($C132,Hypothèses!$D$6:$F$13,3,0))","v":0},{"$f":"IF(ISNA(O132*VLOOKUP($C132,Hypothèses!$D$6:$F$13,3,0)),0,O132*VLOOKUP($C132,Hypothèses!$D$6:$F$13,3,0))","v":0},{"$f":"IF(ISNA(P132*VLOOKUP($C132,Hypothèses!$D$6:$F$13,3,0)),0,P132*VLOOKUP($C132,Hypothèses!$D$6:$F$13,3,0))","v":0},{"$f":"IF(ISNA(Q132*VLOOKUP($C132,Hypothèses!$D$6:$F$13,3,0)),0,Q132*VLOOKUP($C132,Hypothèses!$D$6:$F$13,3,0))","v":0},{"$f":"IF(ISNA(R132*VLOOKUP($C132,Hypothèses!$D$6:$F$13,3,0)),0,R132*VLOOKUP($C132,Hypothèses!$D$6:$F$13,3,0))","v":0},{"$f":"IF(ISNA(S132*VLOOKUP($C132,Hypothèses!$D$6:$F$13,3,0)),0,S132*VLOOKUP($C132,Hypothèses!$D$6:$F$13,3,0))","v":0},{"$f":"IF(ISNA(#REF!*VLOOKUP($C132,Hypothèses!$D$6:$F$13,3,0)),0,#REF!*VLOOKUP($C132,Hypothèses!$D$6:$F$13,3,0))","v":{"$error":"#REF!"}},{"$f":"IF(ISNA(#REF!*VLOOKUP($C132,Hypothèses!$D$6:$F$13,3,0)),0,#REF!*VLOOKUP($C132,Hypothèses!$D$6:$F$13,3,0))","v":{"$error":"#REF!"}},{"$f":"IF(ISNA(#REF!*VLOOKUP($C132,Hypothèses!$D$6:$F$13,3,0)),0,#REF!*VLOOKUP($C132,Hypothèses!$D$6:$F$13,3,0))","v":{"$error":"#REF!"}},{"$f":"IF(ISNA(#REF!*VLOOKUP($C132,Hypothèses!$D$6:$F$13,3,0)),0,#REF!*VLOOKUP($C132,Hypothèses!$D$6:$F$13,3,0))","v":{"$error":"#REF!"}},{"$f":"IF(ISNA(#REF!*VLOOKUP($C132,Hypothèses!$D$6:$F$13,3,0)),0,#REF!*VLOOKUP($C132,Hypothèses!$D$6:$F$13,3,0))","v":{"$error":"#REF!"}},{"$f":"IF(ISNA(#REF!*VLOOKUP($C132,Hypothèses!$D$6:$F$13,3,0)),0,#REF!*VLOOKUP($C132,Hypothèses!$D$6:$F$13,3,0))","v":{"$error":"#REF!"}},{"$f":"IF(ISNA(#REF!*VLOOKUP($C132,Hypothèses!$D$6:$F$13,3,0)),0,#REF!*VLOOKUP($C132,Hypothèses!$D$6:$F$13,3,0))","v":{"$error":"#REF!"}}]
[126,null,null,{"$f":"IF(ISNA(VLOOKUP(C133,Hypothèses!$D$6:$G$14,4,0)),\"\",VLOOKUP(C133,Hypothèses!$D$6:$G$14,4,0))","v":""},null,null,null,null,null,null,null,null,null,null,null,null,null,null,null,null,null,null,null,null,null,{"$f":"IF(ISNA(E133*VLOOKUP($C133,Hypothèses!$D$6:$F$13,3,0)),0,E133*VLOOKUP($C133,Hypothèses!$D$6:$F$13,3,0))","v":0},{"$f":"IF(ISNA(F133*VLOOKUP($C133,Hypothèses!$D$6:$F$13,3,0)),0,F133*VLOOKUP($C133,Hypothèses!$D$6:$F$13,3,0))","v":0},{"$f":"IF(ISNA(G133*VLOOKUP($C133,Hypothèses!$D$6:$F$13,3,0)),0,G133*VLOOKUP($C133,Hypothèses!$D$6:$F$13,3,0))","v":0},{"$f":"IF(ISNA(H133*VLOOKUP($C133,Hypothèses!$D$6:$F$13,3,0)),0,H133*VLOOKUP($C133,Hypothèses!$D$6:$F$13,3,0))","v":0},{"$f":"IF(ISNA(I133*VLOOKUP($C133,Hypothèses!$D$6:$F$13,3,0)),0,I133*VLOOKUP($C133,Hypothèses!$D$6:$F$13,3,0))","v":0},{"$f":"IF(ISNA(J133*VLOOKUP($C133,Hypothèses!$D$6:$F$13,3,0)),0,J133*VLOOKUP($C133,Hypothèses!$D$6:$F$13,3,0))","v":0},{"$f":"IF(ISNA(K133*VLOOKUP($C133,Hypothèses!$D$6:$F$13,3,0)),0,K133*VLOOKUP($C133,Hypothèses!$D$6:$F$13,3,0))","v":0},{"$f":"IF(ISNA(L133*VLOOKUP($C133,Hypothèses!$D$6:$F$13,3,0)),0,L133*VLOOKUP($C133,Hypothèses!$D$6:$F$13,3,0))","v":0},{"$f":"IF(ISNA(M133*VLOOKUP($C133,Hypothèses!$D$6:$F$13,3,0)),0,M133*VLOOKUP($C133,Hypothèses!$D$6:$F$13,3,0))","v":0},{"$f":"IF(ISNA(N133*VLOOKUP($C133,Hypothèses!$D$6:$F$13,3,0)),0,N133*VLOOKUP($C133,Hypothèses!$D$6:$F$13,3,0))","v":0},{"$f":"IF(ISNA(O133*VLOOKUP($C133,Hypothèses!$D$6:$F$13,3,0)),0,O133*VLOOKUP($C133,Hypothèses!$D$6:$F$13,3,0))","v":0},{"$f":"IF(ISNA(P133*VLOOKUP($C133,Hypothèses!$D$6:$F$13,3,0)),0,P133*VLOOKUP($C133,Hypothèses!$D$6:$F$13,3,0))","v":0},{"$f":"IF(ISNA(Q133*VLOOKUP($C133,Hypothèses!$D$6:$F$13,3,0)),0,Q133*VLOOKUP($C133,Hypothèses!$D$6:$F$13,3,0))","v":0},{"$f":"IF(ISNA(R133*VLOOKUP($C133,Hypothèses!$D$6:$F$13,3,0)),0,R133*VLOOKUP($C133,Hypothèses!$D$6:$F$13,3,0))","v":0},{"$f":"IF(ISNA(S133*VLOOKUP($C133,Hypothèses!$D$6:$F$13,3,0)),0,S133*VLOOKUP($C133,Hypothèses!$D$6:$F$13,3,0))","v":0},{"$f":"IF(ISNA(#REF!*VLOOKUP($C133,Hypothèses!$D$6:$F$13,3,0)),0,#REF!*VLOOKUP($C133,Hypothèses!$D$6:$F$13,3,0))","v":{"$error":"#REF!"}},{"$f":"IF(ISNA(#REF!*VLOOKUP($C133,Hypothèses!$D$6:$F$13,3,0)),0,#REF!*VLOOKUP($C133,Hypothèses!$D$6:$F$13,3,0))","v":{"$error":"#REF!"}},{"$f":"IF(ISNA(#REF!*VLOOKUP($C133,Hypothèses!$D$6:$F$13,3,0)),0,#REF!*VLOOKUP($C133,Hypothèses!$D$6:$F$13,3,0))","v":{"$error":"#REF!"}},{"$f":"IF(ISNA(#REF!*VLOOKUP($C133,Hypothèses!$D$6:$F$13,3,0)),0,#REF!*VLOOKUP($C133,Hypothèses!$D$6:$F$13,3,0))","v":{"$error":"#REF!"}},{"$f":"IF(ISNA(#REF!*VLOOKUP($C133,Hypothèses!$D$6:$F$13,3,0)),0,#REF!*VLOOKUP($C133,Hypothèses!$D$6:$F$13,3,0))","v":{"$error":"#REF!"}},{"$f":"IF(ISNA(#REF!*VLOOKUP($C133,Hypothèses!$D$6:$F$13,3,0)),0,#REF!*VLOOKUP($C133,Hypothèses!$D$6:$F$13,3,0))","v":{"$error":"#REF!"}},{"$f":"IF(ISNA(#REF!*VLOOKUP($C133,Hypothèses!$D$6:$F$13,3,0)),0,#REF!*VLOOKUP($C133,Hypothèses!$D$6:$F$13,3,0))","v":{"$error":"#REF!"}}]
[127,null,null,{"$f":"IF(ISNA(VLOOKUP(C134,Hypothèses!$D$6:$G$14,4,0)),\"\",VLOOKUP(C134,Hypothèses!$D$6:$G$14,4,0))","v":""},null,null,null,null,null,null,null,null,null,null,null,null,null,null,null,null,null,null,null,null,null,{"$f":"IF(ISNA(E134*VLOOKUP($C134,Hypothèses!$D$6:$F$13,3,0)),0,E134*VLOOKUP($C134,Hypothèses!$D$6:$F$13,3,0))","v":0},{"$f":"IF(ISNA(F134*VLOOKUP($C134,Hypothèses!$D$6:$F$13,3,0)),0,F134*VLOOKUP($C134,Hypothèses!$D$6:$F$13,3,0))","v":0},{"$f":"IF(ISNA(G134*VLOOKUP($C134,Hypothèses!$D$6:$F$13,3,0)),0,G134*VLOOKUP($C134,Hypothèses!$D$6:$F$13,3,0))","v":0},{"$f":"IF(ISNA(H134*VLOOKUP($C134,Hypothèses!$D$6:$F$13,3,0)),0,H134*VLOOKUP($C134,Hypothèses!$D$6:$F$13,3,0))","v":0},{"$f":"IF(ISNA(I134*VLOOKUP($C134,Hypothèses!$D$6:$F$13,3,0)),0,I134*VLOOKUP($C134,Hypothèses!$D$6:$F$13,3,0))","v":0},{"$f":"IF(ISNA(J134*VLOOKUP($C134,Hypothèses!$D$6:$F$13,3,0)),0,J134*VLOOKUP($C134,Hypothèses!$D$6:$F$13,3,0))","v":0},{"$f":"IF(ISNA(K134*VLOOKUP($C134,Hypothèses!$D$6:$F$13,3,0)),0,K134*VLOOKUP($C134,Hypothèses!$D$6:$F$13,3,0))","v":0},{"$f":"IF(ISNA(L134*VLOOKUP($C134,Hypothèses!$D$6:$F$13,3,0)),0,L134*VLOOKUP($C134,Hypothèses!$D$6:$F$13,3,0))","v":0},{"$f":"IF(ISNA(M134*VLOOKUP($C134,Hypothèses!$D$6:$F$13,3,0)),0,M134*VLOOKUP($C134,Hypothèses!$D$6:$F$13,3,0))","v":0},{"$f":"IF(ISNA(N134*VLOOKUP($C134,Hypothèses!$D$6:$F$13,3,0)),0,N134*VLOOKUP($C134,Hypothèses!$D$6:$F$13,3,0))","v":0},{"$f":"IF(ISNA(O134*VLOOKUP($C134,Hypothèses!$D$6:$F$13,3,0)),0,O134*VLOOKUP($C134,Hypothèses!$D$6:$F$13,3,0))","v":0},{"$f":"IF(ISNA(P134*VLOOKUP($C134,Hypothèses!$D$6:$F$13,3,0)),0,P134*VLOOKUP($C134,Hypothèses!$D$6:$F$13,3,0))","v":0},{"$f":"IF(ISNA(Q134*VLOOKUP($C134,Hypothèses!$D$6:$F$13,3,0)),0,Q134*VLOOKUP($C134,Hypothèses!$D$6:$F$13,3,0))","v":0},{"$f":"IF(ISNA(R134*VLOOKUP($C134,Hypothèses!$D$6:$F$13,3,0)),0,R134*VLOOKUP($C134,Hypothèses!$D$6:$F$13,3,0))","v":0},{"$f":"IF(ISNA(S134*VLOOKUP($C134,Hypothèses!$D$6:$F$13,3,0)),0,S134*VLOOKUP($C134,Hypothèses!$D$6:$F$13,3,0))","v":0},{"$f":"IF(ISNA(#REF!*VLOOKUP($C134,Hypothèses!$D$6:$F$13,3,0)),0,#REF!*VLOOKUP($C134,Hypothèses!$D$6:$F$13,3,0))","v":{"$error":"#REF!"}},{"$f":"IF(ISNA(#REF!*VLOOKUP($C134,Hypothèses!$D$6:$F$13,3,0)),0,#REF!*VLOOKUP($C134,Hypothèses!$D$6:$F$13,3,0))","v":{"$error":"#REF!"}},{"$f":"IF(ISNA(#REF!*VLOOKUP($C134,Hypothèses!$D$6:$F$13,3,0)),0,#REF!*VLOOKUP($C134,Hypothèses!$D$6:$F$13,3,0))","v":{"$error":"#REF!"}},{"$f":"IF(ISNA(#REF!*VLOOKUP($C134,Hypothèses!$D$6:$F$13,3,0)),0,#REF!*VLOOKUP($C134,Hypothèses!$D$6:$F$13,3,0))","v":{"$error":"#REF!"}},{"$f":"IF(ISNA(#REF!*VLOOKUP($C134,Hypothèses!$D$6:$F$13,3,0)),0,#REF!*VLOOKUP($C134,Hypothèses!$D$6:$F$13,3,0))","v":{"$error":"#REF!"}},{"$f":"IF(ISNA(#REF!*VLOOKUP($C134,Hypothèses!$D$6:$F$13,3,0)),0,#REF!*VLOOKUP($C134,Hypothèses!$D$6:$F$13,3,0))","v":{"$error":"#REF!"}},{"$f":"IF(ISNA(#REF!*VLOOKUP($C134,Hypothèses!$D$6:$F$13,3,0)),0,#REF!*VLOOKUP($C134,Hypothèses!$D$6:$F$13,3,0))","v":{"$error":"#REF!"}}]
[128,null,null,{"$f":"IF(ISNA(VLOOKUP(C135,Hypothèses!$D$6:$G$14,4,0)),\"\",VLOOKUP(C135,Hypothèses!$D$6:$G$14,4,0))","v":""},null,null,null,null,null,null,null,null,null,null,null,null,null,null,null,null,null,null,null,null,null,{"$f":"IF(ISNA(E135*VLOOKUP($C135,Hypothèses!$D$6:$F$13,3,0)),0,E135*VLOOKUP($C135,Hypothèses!$D$6:$F$13,3,0))","v":0},{"$f":"IF(ISNA(F135*VLOOKUP($C135,Hypothèses!$D$6:$F$13,3,0)),0,F135*VLOOKUP($C135,Hypothèses!$D$6:$F$13,3,0))","v":0},{"$f":"IF(ISNA(G135*VLOOKUP($C135,Hypothèses!$D$6:$F$13,3,0)),0,G135*VLOOKUP($C135,Hypothèses!$D$6:$F$13,3,0))","v":0},{"$f":"IF(ISNA(H135*VLOOKUP($C135,Hypothèses!$D$6:$F$13,3,0)),0,H135*VLOOKUP($C135,Hypothèses!$D$6:$F$13,3,0))","v":0},{"$f":"IF(ISNA(I135*VLOOKUP($C135,Hypothèses!$D$6:$F$13,3,0)),0,I135*VLOOKUP($C135,Hypothèses!$D$6:$F$13,3,0))","v":0},{"$f":"IF(ISNA(J135*VLOOKUP($C135,Hypothèses!$D$6:$F$13,3,0)),0,J135*VLOOKUP($C135,Hypothèses!$D$6:$F$13,3,0))","v":0},{"$f":"IF(ISNA(K135*VLOOKUP($C135,Hypothèses!$D$6:$F$13,3,0)),0,K135*VLOOKUP($C135,Hypothèses!$D$6:$F$13,3,0))","v":0},{"$f":"IF(ISNA(L135*VLOOKUP($C135,Hypothèses!$D$6:$F$13,3,0)),0,L135*VLOOKUP($C135,Hypothèses!$D$6:$F$13,3,0))","v":0},{"$f":"IF(ISNA(M135*VLOOKUP($C135,Hypothèses!$D$6:$F$13,3,0)),0,M135*VLOOKUP($C135,Hypothèses!$D$6:$F$13,3,0))","v":0},{"$f":"IF(ISNA(N135*VLOOKUP($C135,Hypothèses!$D$6:$F$13,3,0)),0,N135*VLOOKUP($C135,Hypothèses!$D$6:$F$13,3,0))","v":0},{"$f":"IF(ISNA(O135*VLOOKUP($C135,Hypothèses!$D$6:$F$13,3,0)),0,O135*VLOOKUP($C135,Hypothèses!$D$6:$F$13,3,0))","v":0},{"$f":"IF(ISNA(P135*VLOOKUP($C135,Hypothèses!$D$6:$F$13,3,0)),0,P135*VLOOKUP($C135,Hypothèses!$D$6:$F$13,3,0))","v":0},{"$f":"IF(ISNA(Q135*VLOOKUP($C135,Hypothèses!$D$6:$F$13,3,0)),0,Q135*VLOOKUP($C135,Hypothèses!$D$6:$F$13,3,0))","v":0},{"$f":"IF(ISNA(R135*VLOOKUP($C135,Hypothèses!$D$6:$F$13,3,0)),0,R135*VLOOKUP($C135,Hypothèses!$D$6:$F$13,3,0))","v":0},{"$f":"IF(ISNA(S135*VLOOKUP($C135,Hypothèses!$D$6:$F$13,3,0)),0,S135*VLOOKUP($C135,Hypothèses!$D$6:$F$13,3,0))","v":0},{"$f":"IF(ISNA(#REF!*VLOOKUP($C135,Hypothèses!$D$6:$F$13,3,0)),0,#REF!*VLOOKUP($C135,Hypothèses!$D$6:$F$13,3,0))","v":{"$error":"#REF!"}},{"$f":"IF(ISNA(#REF!*VLOOKUP($C135,Hypothèses!$D$6:$F$13,3,0)),0,#REF!*VLOOKUP($C135,Hypothèses!$D$6:$F$13,3,0))","v":{"$error":"#REF!"}},{"$f":"IF(ISNA(#REF!*VLOOKUP($C135,Hypothèses!$D$6:$F$13,3,0)),0,#REF!*VLOOKUP($C135,Hypothèses!$D$6:$F$13,3,0))","v":{"$error":"#REF!"}},{"$f":"IF(ISNA(#REF!*VLOOKUP($C135,Hypothèses!$D$6:$F$13,3,0)),0,#REF!*VLOOKUP($C135,Hypothèses!$D$6:$F$13,3,0))","v":{"$error":"#REF!"}},{"$f":"IF(ISNA(#REF!*VLOOKUP($C135,Hypothèses!$D$6:$F$13,3,0)),0,#REF!*VLOOKUP($C135,Hypothèses!$D$6:$F$13,3,0))","v":{"$error":"#REF!"}},{"$f":"IF(ISNA(#REF!*VLOOKUP($C135,Hypothèses!$D$6:$F$13,3,0)),0,#REF!*VLOOKUP($C135,Hypothèses!$D$6:$F$13,3,0))","v":{"$error":"#REF!"}},{"$f":"IF(ISNA(#REF!*VLOOKUP($C135,Hypothèses!$D$6:$F$13,3,0)),0,#REF!*VLOOKUP($C135,Hypothèses!$D$6:$F$13,3,0))","v":{"$error":"#REF!"}}]
[129,null,null,{"$f":"IF(ISNA(VLOOKUP(C136,Hypothèses!$D$6:$G$14,4,0)),\"\",VLOOKUP(C136,Hypothèses!$D$6:$G$14,4,0))","v":""},null,null,null,null,null,null,null,null,null,null,null,null,null,null,null,null,null,null,null,null,null,{"$f":"IF(ISNA(E136*VLOOKUP($C136,Hypothèses!$D$6:$F$13,3,0)),0,E136*VLOOKUP($C136,Hypothèses!$D$6:$F$13,3,0))","v":0},{"$f":"IF(ISNA(F136*VLOOKUP($C136,Hypothèses!$D$6:$F$13,3,0)),0,F136*VLOOKUP($C136,Hypothèses!$D$6:$F$13,3,0))","v":0},{"$f":"IF(ISNA(G136*VLOOKUP($C136,Hypothèses!$D$6:$F$13,3,0)),0,G136*VLOOKUP($C136,Hypothèses!$D$6:$F$13,3,0))","v":0},{"$f":"IF(ISNA(H136*VLOOKUP($C136,Hypothèses!$D$6:$F$13,3,0)),0,H136*VLOOKUP($C136,Hypothèses!$D$6:$F$13,3,0))","v":0},{"$f":"IF(ISNA(I136*VLOOKUP($C136,Hypothèses!$D$6:$F$13,3,0)),0,I136*VLOOKUP($C136,Hypothèses!$D$6:$F$13,3,0))","v":0},{"$f":"IF(ISNA(J136*VLOOKUP($C136,Hypothèses!$D$6:$F$13,3,0)),0,J136*VLOOKUP($C136,Hypothèses!$D$6:$F$13,3,0))","v":0},{"$f":"IF(ISNA(K136*VLOOKUP($C136,Hypothèses!$D$6:$F$13,3,0)),0,K136*VLOOKUP($C136,Hypothèses!$D$6:$F$13,3,0))","v":0},{"$f":"IF(ISNA(L136*VLOOKUP($C136,Hypothèses!$D$6:$F$13,3,0)),0,L136*VLOOKUP($C136,Hypothèses!$D$6:$F$13,3,0))","v":0},{"$f":"IF(ISNA(M136*VLOOKUP($C136,Hypothèses!$D$6:$F$13,3,0)),0,M136*VLOOKUP($C136,Hypothèses!$D$6:$F$13,3,0))","v":0},{"$f":"IF(ISNA(N136*VLOOKUP($C136,Hypothèses!$D$6:$F$13,3,0)),0,N136*VLOOKUP($C136,Hypothèses!$D$6:$F$13,3,0))","v":0},{"$f":"IF(ISNA(O136*VLOOKUP($C136,Hypothèses!$D$6:$F$13,3,0)),0,O136*VLOOKUP($C136,Hypothèses!$D$6:$F$13,3,0))","v":0},{"$f":"IF(ISNA(P136*VLOOKUP($C136,Hypothèses!$D$6:$F$13,3,0)),0,P136*VLOOKUP($C136,Hypothèses!$D$6:$F$13,3,0))","v":0},{"$f":"IF(ISNA(Q136*VLOOKUP($C136,Hypothèses!$D$6:$F$13,3,0)),0,Q136*VLOOKUP($C136,Hypothèses!$D$6:$F$13,3,0))","v":0},{"$f":"IF(ISNA(R136*VLOOKUP($C136,Hypothèses!$D$6:$F$13,3,0)),0,R136*VLOOKUP($C136,Hypothèses!$D$6:$F$13,3,0))","v":0},{"$f":"IF(ISNA(S136*VLOOKUP($C136,Hypothèses!$D$6:$F$13,3,0)),0,S136*VLOOKUP($C136,Hypothèses!$D$6:$F$13,3,0))","v":0},{"$f":"IF(ISNA(#REF!*VLOOKUP($C136,Hypothèses!$D$6:$F$13,3,0)),0,#REF!*VLOOKUP($C136,Hypothèses!$D$6:$F$13,3,0))","v":{"$error":"#REF!"}},{"$f":"IF(ISNA(#REF!*VLOOKUP($C136,Hypothèses!$D$6:$F$13,3,0)),0,#REF!*VLOOKUP($C136,Hypothèses!$D$6:$F$13,3,0))","v":{"$error":"#REF!"}},{"$f":"IF(ISNA(#REF!*VLOOKUP($C136,Hypothèses!$D$6:$F$13,3,0)),0,#REF!*VLOOKUP($C136,Hypothèses!$D$6:$F$13,3,0))","v":{"$error":"#REF!"}},{"$f":"IF(ISNA(#REF!*VLOOKUP($C136,Hypothèses!$D$6:$F$13,3,0)),0,#REF!*VLOOKUP($C136,Hypothèses!$D$6:$F$13,3,0))","v":{"$error":"#REF!"}},{"$f":"IF(ISNA(#REF!*VLOOKUP($C136,Hypothèses!$D$6:$F$13,3,0)),0,#REF!*VLOOKUP($C136,Hypothèses!$D$6:$F$13,3,0))","v":{"$error":"#REF!"}},{"$f":"IF(ISNA(#REF!*VLOOKUP($C136,Hypothèses!$D$6:$F$13,3,0)),0,#REF!*VLOOKUP($C136,Hypothèses!$D$6:$F$13,3,0))","v":{"$error":"#REF!"}},{"$f":"IF(ISNA(#REF!*VLOOKUP($C136,Hypothèses!$D$6:$F$13,3,0)),0,#REF!*VLOOKUP($C136,Hypothèses!$D$6:$F$13,3,0))","v":{"$error":"#REF!"}}]
[130,null,null,{"$f":"IF(ISNA(VLOOKUP(C137,Hypothèses!$D$6:$G$14,4,0)),\"\",VLOOKUP(C137,Hypothèses!$D$6:$G$14,4,0))","v":""},null,null,null,null,null,null,null,null,null,null,null,null,null,null,null,null,null,null,null,null,null,{"$f":"IF(ISNA(E137*VLOOKUP($C137,Hypothèses!$D$6:$F$13,3,0)),0,E137*VLOOKUP($C137,Hypothèses!$D$6:$F$13,3,0))","v":0},{"$f":"IF(ISNA(F137*VLOOKUP($C137,Hypothèses!$D$6:$F$13,3,0)),0,F137*VLOOKUP($C137,Hypothèses!$D$6:$F$13,3,0))","v":0},{"$f":"IF(ISNA(G137*VLOOKUP($C137,Hypothèses!$D$6:$F$13,3,0)),0,G137*VLOOKUP($C137,Hypothèses!$D$6:$F$13,3,0))","v":0},{"$f":"IF(ISNA(H137*VLOOKUP($C137,Hypothèses!$D$6:$F$13,3,0)),0,H137*VLOOKUP($C137,Hypothèses!$D$6:$F$13,3,0))","v":0},{"$f":"IF(ISNA(I137*VLOOKUP($C137,Hypothèses!$D$6:$F$13,3,0)),0,I137*VLOOKUP($C137,Hypothèses!$D$6:$F$13,3,0))","v":0},{"$f":"IF(ISNA(J137*VLOOKUP($C137,Hypothèses!$D$6:$F$13,3,0)),0,J137*VLOOKUP($C137,Hypothèses!$D$6:$F$13,3,0))","v":0},{"$f":"IF(ISNA(K137*VLOOKUP($C137,Hypothèses!$D$6:$F$13,3,0)),0,K137*VLOOKUP($C137,Hypothèses!$D$6:$F$13,3,0))","v":0},{"$f":"IF(ISNA(L137*VLOOKUP($C137,Hypothèses!$D$6:$F$13,3,0)),0,L137*VLOOKUP($C137,Hypothèses!$D$6:$F$13,3,0))","v":0},{"$f":"IF(ISNA(M137*VLOOKUP($C137,Hypothèses!$D$6:$F$13,3,0)),0,M137*VLOOKUP($C137,Hypothèses!$D$6:$F$13,3,0))","v":0},{"$f":"IF(ISNA(N137*VLOOKUP($C137,Hypothèses!$D$6:$F$13,3,0)),0,N137*VLOOKUP($C137,Hypothèses!$D$6:$F$13,3,0))","v":0},{"$f":"IF(ISNA(O137*VLOOKUP($C137,Hypothèses!$D$6:$F$13,3,0)),0,O137*VLOOKUP($C137,Hypothèses!$D$6:$F$13,3,0))","v":0},{"$f":"IF(ISNA(P137*VLOOKUP($C137,Hypothèses!$D$6:$F$13,3,0)),0,P137*VLOOKUP($C137,Hypothèses!$D$6:$F$13,3,0))","v":0},{"$f":"IF(ISNA(Q137*VLOOKUP($C137,Hypothèses!$D$6:$F$13,3,0)),0,Q137*VLOOKUP($C137,Hypothèses!$D$6:$F$13,3,0))","v":0},{"$f":"IF(ISNA(R137*VLOOKUP($C137,Hypothèses!$D$6:$F$13,3,0)),0,R137*VLOOKUP($C137,Hypothèses!$D$6:$F$13,3,0))","v":0},{"$f":"IF(ISNA(S137*VLOOKUP($C137,Hypothèses!$D$6:$F$13,3,0)),0,S137*VLOOKUP($C137,Hypothèses!$D$6:$F$13,3,0))","v":0},{"$f":"IF(ISNA(#REF!*VLOOKUP($C137,Hypothèses!$D$6:$F$13,3,0)),0,#REF!*VLOOKUP($C137,Hypothèses!$D$6:$F$13,3,0))","v":{"$error":"#REF!"}},{"$f":"IF(ISNA(#REF!*VLOOKUP($C137,Hypothèses!$D$6:$F$13,3,0)),0,#REF!*VLOOKUP($C137,Hypothèses!$D$6:$F$13,3,0))","v":{"$error":"#REF!"}},{"$f":"IF(ISNA(#REF!*VLOOKUP($C137,Hypothèses!$D$6:$F$13,3,0)),0,#REF!*VLOOKUP($C137,Hypothèses!$D$6:$F$13,3,0))","v":{"$error":"#REF!"}},{"$f":"IF(ISNA(#REF!*VLOOKUP($C137,Hypothèses!$D$6:$F$13,3,0)),0,#REF!*VLOOKUP($C137,Hypothèses!$D$6:$F$13,3,0))","v":{"$error":"#REF!"}},{"$f":"IF(ISNA(#REF!*VLOOKUP($C137,Hypothèses!$D$6:$F$13,3,0)),0,#REF!*VLOOKUP($C137,Hypothèses!$D$6:$F$13,3,0))","v":{"$error":"#REF!"}},{"$f":"IF(ISNA(#REF!*VLOOKUP($C137,Hypothèses!$D$6:$F$13,3,0)),0,#REF!*VLOOKUP($C137,Hypothèses!$D$6:$F$13,3,0))","v":{"$error":"#REF!"}},{"$f":"IF(ISNA(#REF!*VLOOKUP($C137,Hypothèses!$D$6:$F$13,3,0)),0,#REF!*VLOOKUP($C137,Hypothèses!$D$6:$F$13,3,0))","v":{"$error":"#REF!"}}]
[131,null,null,{"$f":"IF(ISNA(VLOOKUP(C138,Hypothèses!$D$6:$G$14,4,0)),\"\",VLOOKUP(C138,Hypothèses!$D$6:$G$14,4,0))","v":""},null,null,null,null,null,null,null,null,null,null,null,null,null,null,null,null,null,null,null,null,null,{"$f":"IF(ISNA(E138*VLOOKUP($C138,Hypothèses!$D$6:$F$13,3,0)),0,E138*VLOOKUP($C138,Hypothèses!$D$6:$F$13,3,0))","v":0},{"$f":"IF(ISNA(F138*VLOOKUP($C138,Hypothèses!$D$6:$F$13,3,0)),0,F138*VLOOKUP($C138,Hypothèses!$D$6:$F$13,3,0))","v":0},{"$f":"IF(ISNA(G138*VLOOKUP($C138,Hypothèses!$D$6:$F$13,3,0)),0,G138*VLOOKUP($C138,Hypothèses!$D$6:$F$13,3,0))","v":0},{"$f":"IF(ISNA(H138*VLOOKUP($C138,Hypothèses!$D$6:$F$13,3,0)),0,H138*VLOOKUP($C138,Hypothèses!$D$6:$F$13,3,0))","v":0},{"$f":"IF(ISNA(I138*VLOOKUP($C138,Hypothèses!$D$6:$F$13,3,0)),0,I138*VLOOKUP($C138,Hypothèses!$D$6:$F$13,3,0))","v":0},{"$f":"IF(ISNA(J138*VLOOKUP($C138,Hypothèses!$D$6:$F$13,3,0)),0,J138*VLOOKUP($C138,Hypothèses!$D$6:$F$13,3,0))","v":0},{"$f":"IF(ISNA(K138*VLOOKUP($C138,Hypothèses!$D$6:$F$13,3,0)),0,K138*VLOOKUP($C138,Hypothèses!$D$6:$F$13,3,0))","v":0},{"$f":"IF(ISNA(L138*VLOOKUP($C138,Hypothèses!$D$6:$F$13,3,0)),0,L138*VLOOKUP($C138,Hypothèses!$D$6:$F$13,3,0))","v":0},{"$f":"IF(ISNA(M138*VLOOKUP($C138,Hypothèses!$D$6:$F$13,3,0)),0,M138*VLOOKUP($C138,Hypothèses!$D$6:$F$13,3,0))","v":0},{"$f":"IF(ISNA(N138*VLOOKUP($C138,Hypothèses!$D$6:$F$13,3,0)),0,N138*VLOOKUP($C138,Hypothèses!$D$6:$F$13,3,0))","v":0},{"$f":"IF(ISNA(O138*VLOOKUP($C138,Hypothèses!$D$6:$F$13,3,0)),0,O138*VLOOKUP($C138,Hypothèses!$D$6:$F$13,3,0))","v":0},{"$f":"IF(ISNA(P138*VLOOKUP($C138,Hypothèses!$D$6:$F$13,3,0)),0,P138*VLOOKUP($C138,Hypothèses!$D$6:$F$13,3,0))","v":0},{"$f":"IF(ISNA(Q138*VLOOKUP($C138,Hypothèses!$D$6:$F$13,3,0)),0,Q138*VLOOKUP($C138,Hypothèses!$D$6:$F$13,3,0))","v":0},{"$f":"IF(ISNA(R138*VLOOKUP($C138,Hypothèses!$D$6:$F$13,3,0)),0,R138*VLOOKUP($C138,Hypothèses!$D$6:$F$13,3,0))","v":0},{"$f":"IF(ISNA(S138*VLOOKUP($C138,Hypothèses!$D$6:$F$13,3,0)),0,S138*VLOOKUP($C138,Hypothèses!$D$6:$F$13,3,0))","v":0},{"$f":"IF(ISNA(#REF!*VLOOKUP($C138,Hypothèses!$D$6:$F$13,3,0)),0,#REF!*VLOOKUP($C138,Hypothèses!$D$6:$F$13,3,0))","v":{"$error":"#REF!"}},{"$f":"IF(ISNA(#REF!*VLOOKUP($C138,Hypothèses!$D$6:$F$13,3,0)),0,#REF!*VLOOKUP($C138,Hypothèses!$D$6:$F$13,3,0))","v":{"$error":"#REF!"}},{"$f":"IF(ISNA(#REF!*VLOOKUP($C138,Hypothèses!$D$6:$F$13,3,0)),0,#REF!*VLOOKUP($C138,Hypothèses!$D$6:$F$13,3,0))","v":{"$error":"#REF!"}},{"$f":"IF(ISNA(#REF!*VLOOKUP($C138,Hypothèses!$D$6:$F$13,3,0)),0,#REF!*VLOOKUP($C138,Hypothèses!$D$6:$F$13,3,0))","v":{"$error":"#REF!"}},{"$f":"IF(ISNA(#REF!*VLOOKUP($C138,Hypothèses!$D$6:$F$13,3,0)),0,#REF!*VLOOKUP($C138,Hypothèses!$D$6:$F$13,3,0))","v":{"$error":"#REF!"}},{"$f":"IF(ISNA(#REF!*VLOOKUP($C138,Hypothèses!$D$6:$F$13,3,0)),0,#REF!*VLOOKUP($C138,Hypothèses!$D$6:$F$13,3,0))","v":{"$error":"#REF!"}},{"$f":"IF(ISNA(#REF!*VLOOKUP($C138,Hypothèses!$D$6:$F$13,3,0)),0,#REF!*VLOOKUP($C138,Hypothèses!$D$6:$F$13,3,0))","v":{"$error":"#REF!"}}]
[132,null,null,{"$f":"IF(ISNA(VLOOKUP(C139,Hypothèses!$D$6:$G$14,4,0)),\"\",VLOOKUP(C139,Hypothèses!$D$6:$G$14,4,0))","v":""},null,null,null,null,null,null,null,null,null,null,null,null,null,null,null,null,null,null,null,null,null,{"$f":"IF(ISNA(E139*VLOOKUP($C139,Hypothèses!$D$6:$F$13,3,0)),0,E139*VLOOKUP($C139,Hypothèses!$D$6:$F$13,3,0))","v":0},{"$f":"IF(ISNA(F139*VLOOKUP($C139,Hypothèses!$D$6:$F$13,3,0)),0,F139*VLOOKUP($C139,Hypothèses!$D$6:$F$13,3,0))","v":0},{"$f":"IF(ISNA(G139*VLOOKUP($C139,Hypothèses!$D$6:$F$13,3,0)),0,G139*VLOOKUP($C139,Hypothèses!$D$6:$F$13,3,0))","v":0},{"$f":"IF(ISNA(H139*VLOOKUP($C139,Hypothèses!$D$6:$F$13,3,0)),0,H139*VLOOKUP($C139,Hypothèses!$D$6:$F$13,3,0))","v":0},{"$f":"IF(ISNA(I139*VLOOKUP($C139,Hypothèses!$D$6:$F$13,3,0)),0,I139*VLOOKUP($C139,Hypothèses!$D$6:$F$13,3,0))","v":0},{"$f":"IF(ISNA(J139*VLOOKUP($C139,Hypothèses!$D$6:$F$13,3,0)),0,J139*VLOOKUP($C139,Hypothèses!$D$6:$F$13,3,0))","v":0},{"$f":"IF(ISNA(K139*VLOOKUP($C139,Hypothèses!$D$6:$F$13,3,0)),0,K139*VLOOKUP($C139,Hypothèses!$D$6:$F$13,3,0))","v":0},{"$f":"IF(ISNA(L139*VLOOKUP($C139,Hypothèses!$D$6:$F$13,3,0)),0,L139*VLOOKUP($C139,Hypothèses!$D$6:$F$13,3,0))","v":0},{"$f":"IF(ISNA(M139*VLOOKUP($C139,Hypothèses!$D$6:$F$13,3,0)),0,M139*VLOOKUP($C139,Hypothèses!$D$6:$F$13,3,0))","v":0},{"$f":"IF(ISNA(N139*VLOOKUP($C139,Hypothèses!$D$6:$F$13,3,0)),0,N139*VLOOKUP($C139,Hypothèses!$D$6:$F$13,3,0))","v":0},{"$f":"IF(ISNA(O139*VLOOKUP($C139,Hypothèses!$D$6:$F$13,3,0)),0,O139*VLOOKUP($C139,Hypothèses!$D$6:$F$13,3,0))","v":0},{"$f":"IF(ISNA(P139*VLOOKUP($C139,Hypothèses!$D$6:$F$13,3,0)),0,P139*VLOOKUP($C139,Hypothèses!$D$6:$F$13,3,0))","v":0},{"$f":"IF(ISNA(Q139*VLOOKUP($C139,Hypothèses!$D$6:$F$13,3,0)),0,Q139*VLOOKUP($C139,Hypothèses!$D$6:$F$13,3,0))","v":0},{"$f":"IF(ISNA(R139*VLOOKUP($C139,Hypothèses!$D$6:$F$13,3,0)),0,R139*VLOOKUP($C139,Hypothèses!$D$6:$F$13,3,0))","v":0},{"$f":"IF(ISNA(S139*VLOOKUP($C139,Hypothèses!$D$6:$F$13,3,0)),0,S139*VLOOKUP($C139,Hypothèses!$D$6:$F$13,3,0))","v":0},{"$f":"IF(ISNA(#REF!*VLOOKUP($C139,Hypothèses!$D$6:$F$13,3,0)),0,#REF!*VLOOKUP($C139,Hypothèses!$D$6:$F$13,3,0))","v":{"$error":"#REF!"}},{"$f":"IF(ISNA(#REF!*VLOOKUP($C139,Hypothèses!$D$6:$F$13,3,0)),0,#REF!*VLOOKUP($C139,Hypothèses!$D$6:$F$13,3,0))","v":{"$error":"#REF!"}},{"$f":"IF(ISNA(#REF!*VLOOKUP($C139,Hypothèses!$D$6:$F$13,3,0)),0,#REF!*VLOOKUP($C139,Hypothèses!$D$6:$F$13,3,0))","v":{"$error":"#REF!"}},{"$f":"IF(ISNA(#REF!*VLOOKUP($C139,Hypothèses!$D$6:$F$13,3,0)),0,#REF!*VLOOKUP($C139,Hypothèses!$D$6:$F$13,3,0))","v":{"$error":"#REF!"}},{"$f":"IF(ISNA(#REF!*VLOOKUP($C139,Hypothèses!$D$6:$F$13,3,0)),0,#REF!*VLOOKUP($C139,Hypothèses!$D$6:$F$13,3,0))","v":{"$error":"#REF!"}},{"$f":"IF(ISNA(#REF!*VLOOKUP($C139,Hypothèses!$D$6:$F$13,3,0)),0,#REF!*VLOOKUP($C139,Hypothèses!$D$6:$F$13,3,0))","v":{"$error":"#REF!"}},{"$f":"IF(ISNA(#REF!*VLOOKUP($C139,Hypothèses!$D$6:$F$13,3,0)),0,#REF!*VLOOKUP($C139,Hypothèses!$D$6:$F$13,3,0))","v":{"$error":"#REF!"}}]
[133,null,null,{"$f":"IF(ISNA(VLOOKUP(C140,Hypothèses!$D$6:$G$14,4,0)),\"\",VLOOKUP(C140,Hypothèses!$D$6:$G$14,4,0))","v":""},null,null,null,null,null,null,null,null,null,null,null,null,null,null,null,null,null,null,null,null,null,{"$f":"IF(ISNA(E140*VLOOKUP($C140,Hypothèses!$D$6:$F$13,3,0)),0,E140*VLOOKUP($C140,Hypothèses!$D$6:$F$13,3,0))","v":0},{"$f":"IF(ISNA(F140*VLOOKUP($C140,Hypothèses!$D$6:$F$13,3,0)),0,F140*VLOOKUP($C140,Hypothèses!$D$6:$F$13,3,0))","v":0},{"$f":"IF(ISNA(G140*VLOOKUP($C140,Hypothèses!$D$6:$F$13,3,0)),0,G140*VLOOKUP($C140,Hypothèses!$D$6:$F$13,3,0))","v":0},{"$f":"IF(ISNA(H140*VLOOKUP($C140,Hypothèses!$D$6:$F$13,3,0)),0,H140*VLOOKUP($C140,Hypothèses!$D$6:$F$13,3,0))","v":0},{"$f":"IF(ISNA(I140*VLOOKUP($C140,Hypothèses!$D$6:$F$13,3,0)),0,I140*VLOOKUP($C140,Hypothèses!$D$6:$F$13,3,0))","v":0},{"$f":"IF(ISNA(J140*VLOOKUP($C140,Hypothèses!$D$6:$F$13,3,0)),0,J140*VLOOKUP($C140,Hypothèses!$D$6:$F$13,3,0))","v":0},{"$f":"IF(ISNA(K140*VLOOKUP($C140,Hypothèses!$D$6:$F$13,3,0)),0,K140*VLOOKUP($C140,Hypothèses!$D$6:$F$13,3,0))","v":0},{"$f":"IF(ISNA(L140*VLOOKUP($C140,Hypothèses!$D$6:$F$13,3,0)),0,L140*VLOOKUP($C140,Hypothèses!$D$6:$F$13,3,0))","v":0},{"$f":"IF(ISNA(M140*VLOOKUP($C140,Hypothèses!$D$6:$F$13,3,0)),0,M140*VLOOKUP($C140,Hypothèses!$D$6:$F$13,3,0))","v":0},{"$f":"IF(ISNA(N140*VLOOKUP($C140,Hypothèses!$D$6:$F$13,3,0)),0,N140*VLOOKUP($C140,Hypothèses!$D$6:$F$13,3,0))","v":0},{"$f":"IF(ISNA(O140*VLOOKUP($C140,Hypothèses!$D$6:$F$13,3,0)),0,O140*VLOOKUP($C140,Hypothèses!$D$6:$F$13,3,0))","v":0},{"$f":"IF(ISNA(P140*VLOOKUP($C140,Hypothèses!$D$6:$F$13,3,0)),0,P140*VLOOKUP($C140,Hypothèses!$D$6:$F$13,3,0))","v":0},{"$f":"IF(ISNA(Q140*VLOOKUP($C140,Hypothèses!$D$6:$F$13,3,0)),0,Q140*VLOOKUP($C140,Hypothèses!$D$6:$F$13,3,0))","v":0},{"$f":"IF(ISNA(R140*VLOOKUP($C140,Hypothèses!$D$6:$F$13,3,0)),0,R140*VLOOKUP($C140,Hypothèses!$D$6:$F$13,3,0))","v":0},{"$f":"IF(ISNA(S140*VLOOKUP($C140,Hypothèses!$D$6:$F$13,3,0)),0,S140*VLOOKUP($C140,Hypothèses!$D$6:$F$13,3,0))","v":0},{"$f":"IF(ISNA(#REF!*VLOOKUP($C140,Hypothèses!$D$6:$F$13,3,0)),0,#REF!*VLOOKUP($C140,Hypothèses!$D$6:$F$13,3,0))","v":{"$error":"#REF!"}},{"$f":"IF(ISNA(#REF!*VLOOKUP($C140,Hypothèses!$D$6:$F$13,3,0)),0,#REF!*VLOOKUP($C140,Hypothèses!$D$6:$F$13,3,0))","v":{"$error":"#REF!"}},{"$f":"IF(ISNA(#REF!*VLOOKUP($C140,Hypothèses!$D$6:$F$13,3,0)),0,#REF!*VLOOKUP($C140,Hypothèses!$D$6:$F$13,3,0))","v":{"$error":"#REF!"}},{"$f":"IF(ISNA(#REF!*VLOOKUP($C140,Hypothèses!$D$6:$F$13,3,0)),0,#REF!*VLOOKUP($C140,Hypothèses!$D$6:$F$13,3,0))","v":{"$error":"#REF!"}},{"$f":"IF(ISNA(#REF!*VLOOKUP($C140,Hypothèses!$D$6:$F$13,3,0)),0,#REF!*VLOOKUP($C140,Hypothèses!$D$6:$F$13,3,0))","v":{"$error":"#REF!"}},{"$f":"IF(ISNA(#REF!*VLOOKUP($C140,Hypothèses!$D$6:$F$13,3,0)),0,#REF!*VLOOKUP($C140,Hypothèses!$D$6:$F$13,3,0))","v":{"$error":"#REF!"}},{"$f":"IF(ISNA(#REF!*VLOOKUP($C140,Hypothèses!$D$6:$F$13,3,0)),0,#REF!*VLOOKUP($C140,Hypothèses!$D$6:$F$13,3,0))","v":{"$error":"#REF!"}}]
[134,null,null,{"$f":"IF(ISNA(VLOOKUP(C141,Hypothèses!$D$6:$G$14,4,0)),\"\",VLOOKUP(C141,Hypothèses!$D$6:$G$14,4,0))","v":""},null,null,null,null,null,null,null,null,null,null,null,null,null,null,null,null,null,null,null,null,null,{"$f":"IF(ISNA(E141*VLOOKUP($C141,Hypothèses!$D$6:$F$13,3,0)),0,E141*VLOOKUP($C141,Hypothèses!$D$6:$F$13,3,0))","v":0},{"$f":"IF(ISNA(F141*VLOOKUP($C141,Hypothèses!$D$6:$F$13,3,0)),0,F141*VLOOKUP($C141,Hypothèses!$D$6:$F$13,3,0))","v":0},{"$f":"IF(ISNA(G141*VLOOKUP($C141,Hypothèses!$D$6:$F$13,3,0)),0,G141*VLOOKUP($C141,Hypothèses!$D$6:$F$13,3,0))","v":0},{"$f":"IF(ISNA(H141*VLOOKUP($C141,Hypothèses!$D$6:$F$13,3,0)),0,H141*VLOOKUP($C141,Hypothèses!$D$6:$F$13,3,0))","v":0},{"$f":"IF(ISNA(I141*VLOOKUP($C141,Hypothèses!$D$6:$F$13,3,0)),0,I141*VLOOKUP($C141,Hypothèses!$D$6:$F$13,3,0))","v":0},{"$f":"IF(ISNA(J141*VLOOKUP($C141,Hypothèses!$D$6:$F$13,3,0)),0,J141*VLOOKUP($C141,Hypothèses!$D$6:$F$13,3,0))","v":0},{"$f":"IF(ISNA(K141*VLOOKUP($C141,Hypothèses!$D$6:$F$13,3,0)),0,K141*VLOOKUP($C141,Hypothèses!$D$6:$F$13,3,0))","v":0},{"$f":"IF(ISNA(L141*VLOOKUP($C141,Hypothèses!$D$6:$F$13,3,0)),0,L141*VLOOKUP($C141,Hypothèses!$D$6:$F$13,3,0))","v":0},{"$f":"IF(ISNA(M141*VLOOKUP($C141,Hypothèses!$D$6:$F$13,3,0)),0,M141*VLOOKUP($C141,Hypothèses!$D$6:$F$13,3,0))","v":0},{"$f":"IF(ISNA(N141*VLOOKUP($C141,Hypothèses!$D$6:$F$13,3,0)),0,N141*VLOOKUP($C141,Hypothèses!$D$6:$F$13,3,0))","v":0},{"$f":"IF(ISNA(O141*VLOOKUP($C141,Hypothèses!$D$6:$F$13,3,0)),0,O141*VLOOKUP($C141,Hypothèses!$D$6:$F$13,3,0))","v":0},{"$f":"IF(ISNA(P141*VLOOKUP($C141,Hypothèses!$D$6:$F$13,3,0)),0,P141*VLOOKUP($C141,Hypothèses!$D$6:$F$13,3,0))","v":0},{"$f":"IF(ISNA(Q141*VLOOKUP($C141,Hypothèses!$D$6:$F$13,3,0)),0,Q141*VLOOKUP($C141,Hypothèses!$D$6:$F$13,3,0))","v":0},{"$f":"IF(ISNA(R141*VLOOKUP($C141,Hypothèses!$D$6:$F$13,3,0)),0,R141*VLOOKUP($C141,Hypothèses!$D$6:$F$13,3,0))","v":0},{"$f":"IF(ISNA(S141*VLOOKUP($C141,Hypothèses!$D$6:$F$13,3,0)),0,S141*VLOOKUP($C141,Hypothèses!$D$6:$F$13,3,0))","v":0},{"$f":"IF(ISNA(#REF!*VLOOKUP($C141,Hypothèses!$D$6:$F$13,3,0)),0,#REF!*VLOOKUP($C141,Hypothèses!$D$6:$F$13,3,0))","v":{"$error":"#REF!"}},{"$f":"IF(ISNA(#REF!*VLOOKUP($C141,Hypothèses!$D$6:$F$13,3,0)),0,#REF!*VLOOKUP($C141,Hypothèses!$D$6:$F$13,3,0))","v":{"$error":"#REF!"}},{"$f":"IF(ISNA(#REF!*VLOOKUP($C141,Hypothèses!$D$6:$F$13,3,0)),0,#REF!*VLOOKUP($C141,Hypothèses!$D$6:$F$13,3,0))","v":{"$error":"#REF!"}},{"$f":"IF(ISNA(#REF!*VLOOKUP($C141,Hypothèses!$D$6:$F$13,3,0)),0,#REF!*VLOOKUP($C141,Hypothèses!$D$6:$F$13,3,0))","v":{"$error":"#REF!"}},{"$f":"IF(ISNA(#REF!*VLOOKUP($C141,Hypothèses!$D$6:$F$13,3,0)),0,#REF!*VLOOKUP($C141,Hypothèses!$D$6:$F$13,3,0))","v":{"$error":"#REF!"}},{"$f":"IF(ISNA(#REF!*VLOOKUP($C141,Hypothèses!$D$6:$F$13,3,0)),0,#REF!*VLOOKUP($C141,Hypothèses!$D$6:$F$13,3,0))","v":{"$error":"#REF!"}},{"$f":"IF(ISNA(#REF!*VLOOKUP($C141,Hypothèses!$D$6:$F$13,3,0)),0,#REF!*VLOOKUP($C141,Hypothèses!$D$6:$F$13,3,0))","v":{"$error":"#REF!"}}]
[135,null,null,{"$f":"IF(ISNA(VLOOKUP(C142,Hypothèses!$D$6:$G$14,4,0)),\"\",VLOOKUP(C142,Hypothèses!$D$6:$G$14,4,0))","v":""},null,null,null,null,null,null,null,null,null,null,null,null,null,null,null,null,null,null,null,null,null,{"$f":"IF(ISNA(E142*VLOOKUP($C142,Hypothèses!$D$6:$F$13,3,0)),0,E142*VLOOKUP($C142,Hypothèses!$D$6:$F$13,3,0))","v":0},{"$f":"IF(ISNA(F142*VLOOKUP($C142,Hypothèses!$D$6:$F$13,3,0)),0,F142*VLOOKUP($C142,Hypothèses!$D$6:$F$13,3,0))","v":0},{"$f":"IF(ISNA(G142*VLOOKUP($C142,Hypothèses!$D$6:$F$13,3,0)),0,G142*VLOOKUP($C142,Hypothèses!$D$6:$F$13,3,0))","v":0},{"$f":"IF(ISNA(H142*VLOOKUP($C142,Hypothèses!$D$6:$F$13,3,0)),0,H142*VLOOKUP($C142,Hypothèses!$D$6:$F$13,3,0))","v":0},{"$f":"IF(ISNA(I142*VLOOKUP($C142,Hypothèses!$D$6:$F$13,3,0)),0,I142*VLOOKUP($C142,Hypothèses!$D$6:$F$13,3,0))","v":0},{"$f":"IF(ISNA(J142*VLOOKUP($C142,Hypothèses!$D$6:$F$13,3,0)),0,J142*VLOOKUP($C142,Hypothèses!$D$6:$F$13,3,0))","v":0},{"$f":"IF(ISNA(K142*VLOOKUP($C142,Hypothèses!$D$6:$F$13,3,0)),0,K142*VLOOKUP($C142,Hypothèses!$D$6:$F$13,3,0))","v":0},{"$f":"IF(ISNA(L142*VLOOKUP($C142,Hypothèses!$D$6:$F$13,3,0)),0,L142*VLOOKUP($C142,Hypothèses!$D$6:$F$13,3,0))","v":0},{"$f":"IF(ISNA(M142*VLOOKUP($C142,Hypothèses!$D$6:$F$13,3,0)),0,M142*VLOOKUP($C142,Hypothèses!$D$6:$F$13,3,0))","v":0},{"$f":"IF(ISNA(N142*VLOOKUP($C142,Hypothèses!$D$6:$F$13,3,0)),0,N142*VLOOKUP($C142,Hypothèses!$D$6:$F$13,3,0))","v":0},{"$f":"IF(ISNA(O142*VLOOKUP($C142,Hypothèses!$D$6:$F$13,3,0)),0,O142*VLOOKUP($C142,Hypothèses!$D$6:$F$13,3,0))","v":0},{"$f":"IF(ISNA(P142*VLOOKUP($C142,Hypothèses!$D$6:$F$13,3,0)),0,P142*VLOOKUP($C142,Hypothèses!$D$6:$F$13,3,0))","v":0},{"$f":"IF(ISNA(Q142*VLOOKUP($C142,Hypothèses!$D$6:$F$13,3,0)),0,Q142*VLOOKUP($C142,Hypothèses!$D$6:$F$13,3,0))","v":0},{"$f":"IF(ISNA(R142*VLOOKUP($C142,Hypothèses!$D$6:$F$13,3,0)),0,R142*VLOOKUP($C142,Hypothèses!$D$6:$F$13,3,0))","v":0},{"$f":"IF(ISNA(S142*VLOOKUP($C142,Hypothèses!$D$6:$F$13,3,0)),0,S142*VLOOKUP($C142,Hypothèses!$D$6:$F$13,3,0))","v":0},{"$f":"IF(ISNA(#REF!*VLOOKUP($C142,Hypothèses!$D$6:$F$13,3,0)),0,#REF!*VLOOKUP($C142,Hypothèses!$D$6:$F$13,3,0))","v":{"$error":"#REF!"}},{"$f":"IF(ISNA(#REF!*VLOOKUP($C142,Hypothèses!$D$6:$F$13,3,0)),0,#REF!*VLOOKUP($C142,Hypothèses!$D$6:$F$13,3,0))","v":{"$error":"#REF!"}},{"$f":"IF(ISNA(#REF!*VLOOKUP($C142,Hypothèses!$D$6:$F$13,3,0)),0,#REF!*VLOOKUP($C142,Hypothèses!$D$6:$F$13,3,0))","v":{"$error":"#REF!"}},{"$f":"IF(ISNA(#REF!*VLOOKUP($C142,Hypothèses!$D$6:$F$13,3,0)),0,#REF!*VLOOKUP($C142,Hypothèses!$D$6:$F$13,3,0))","v":{"$error":"#REF!"}},{"$f":"IF(ISNA(#REF!*VLOOKUP($C142,Hypothèses!$D$6:$F$13,3,0)),0,#REF!*VLOOKUP($C142,Hypothèses!$D$6:$F$13,3,0))","v":{"$error":"#REF!"}},{"$f":"IF(ISNA(#REF!*VLOOKUP($C142,Hypothèses!$D$6:$F$13,3,0)),0,#REF!*VLOOKUP($C142,Hypothèses!$D$6:$F$13,3,0))","v":{"$error":"#REF!"}},{"$f":"IF(ISNA(#REF!*VLOOKUP($C142,Hypothèses!$D$6:$F$13,3,0)),0,#REF!*VLOOKUP($C142,Hypothèses!$D$6:$F$13,3,0))","v":{"$error":"#REF!"}}]
[136,null,null,{"$f":"IF(ISNA(VLOOKUP(C143,Hypothèses!$D$6:$G$14,4,0)),\"\",VLOOKUP(C143,Hypothèses!$D$6:$G$14,4,0))","v":""},null,null,null,null,null,null,null,null,null,null,null,null,null,null,null,null,null,null,null,null,null,{"$f":"IF(ISNA(E143*VLOOKUP($C143,Hypothèses!$D$6:$F$13,3,0)),0,E143*VLOOKUP($C143,Hypothèses!$D$6:$F$13,3,0))","v":0},{"$f":"IF(ISNA(F143*VLOOKUP($C143,Hypothèses!$D$6:$F$13,3,0)),0,F143*VLOOKUP($C143,Hypothèses!$D$6:$F$13,3,0))","v":0},{"$f":"IF(ISNA(G143*VLOOKUP($C143,Hypothèses!$D$6:$F$13,3,0)),0,G143*VLOOKUP($C143,Hypothèses!$D$6:$F$13,3,0))","v":0},{"$f":"IF(ISNA(H143*VLOOKUP($C143,Hypothèses!$D$6:$F$13,3,0)),0,H143*VLOOKUP($C143,Hypothèses!$D$6:$F$13,3,0))","v":0},{"$f":"IF(ISNA(I143*VLOOKUP($C143,Hypothèses!$D$6:$F$13,3,0)),0,I143*VLOOKUP($C143,Hypothèses!$D$6:$F$13,3,0))","v":0},{"$f":"IF(ISNA(J143*VLOOKUP($C143,Hypothèses!$D$6:$F$13,3,0)),0,J143*VLOOKUP($C143,Hypothèses!$D$6:$F$13,3,0))","v":0},{"$f":"IF(ISNA(K143*VLOOKUP($C143,Hypothèses!$D$6:$F$13,3,0)),0,K143*VLOOKUP($C143,Hypothèses!$D$6:$F$13,3,0))","v":0},{"$f":"IF(ISNA(L143*VLOOKUP($C143,Hypothèses!$D$6:$F$13,3,0)),0,L143*VLOOKUP($C143,Hypothèses!$D$6:$F$13,3,0))","v":0},{"$f":"IF(ISNA(M143*VLOOKUP($C143,Hypothèses!$D$6:$F$13,3,0)),0,M143*VLOOKUP($C143,Hypothèses!$D$6:$F$13,3,0))","v":0},{"$f":"IF(ISNA(N143*VLOOKUP($C143,Hypothèses!$D$6:$F$13,3,0)),0,N143*VLOOKUP($C143,Hypothèses!$D$6:$F$13,3,0))","v":0},{"$f":"IF(ISNA(O143*VLOOKUP($C143,Hypothèses!$D$6:$F$13,3,0)),0,O143*VLOOKUP($C143,Hypothèses!$D$6:$F$13,3,0))","v":0},{"$f":"IF(ISNA(P143*VLOOKUP($C143,Hypothèses!$D$6:$F$13,3,0)),0,P143*VLOOKUP($C143,Hypothèses!$D$6:$F$13,3,0))","v":0},{"$f":"IF(ISNA(Q143*VLOOKUP($C143,Hypothèses!$D$6:$F$13,3,0)),0,Q143*VLOOKUP($C143,Hypothèses!$D$6:$F$13,3,0))","v":0},{"$f":"IF(ISNA(R143*VLOOKUP($C143,Hypothèses!$D$6:$F$13,3,0)),0,R143*VLOOKUP($C143,Hypothèses!$D$6:$F$13,3,0))","v":0},{"$f":"IF(ISNA(S143*VLOOKUP($C143,Hypothèses!$D$6:$F$13,3,0)),0,S143*VLOOKUP($C143,Hypothèses!$D$6:$F$13,3,0))","v":0},{"$f":"IF(ISNA(#REF!*VLOOKUP($C143,Hypothèses!$D$6:$F$13,3,0)),0,#REF!*VLOOKUP($C143,Hypothèses!$D$6:$F$13,3,0))","v":{"$error":"#REF!"}},{"$f":"IF(ISNA(#REF!*VLOOKUP($C143,Hypothèses!$D$6:$F$13,3,0)),0,#REF!*VLOOKUP($C143,Hypothèses!$D$6:$F$13,3,0))","v":{"$error":"#REF!"}},{"$f":"IF(ISNA(#REF!*VLOOKUP($C143,Hypothèses!$D$6:$F$13,3,0)),0,#REF!*VLOOKUP($C143,Hypothèses!$D$6:$F$13,3,0))","v":{"$error":"#REF!"}},{"$f":"IF(ISNA(#REF!*VLOOKUP($C143,Hypothèses!$D$6:$F$13,3,0)),0,#REF!*VLOOKUP($C143,Hypothèses!$D$6:$F$13,3,0))","v":{"$error":"#REF!"}},{"$f":"IF(ISNA(#REF!*VLOOKUP($C143,Hypothèses!$D$6:$F$13,3,0)),0,#REF!*VLOOKUP($C143,Hypothèses!$D$6:$F$13,3,0))","v":{"$error":"#REF!"}},{"$f":"IF(ISNA(#REF!*VLOOKUP($C143,Hypothèses!$D$6:$F$13,3,0)),0,#REF!*VLOOKUP($C143,Hypothèses!$D$6:$F$13,3,0))","v":{"$error":"#REF!"}},{"$f":"IF(ISNA(#REF!*VLOOKUP($C143,Hypothèses!$D$6:$F$13,3,0)),0,#REF!*VLOOKUP($C143,Hypothèses!$D$6:$F$13,3,0))","v":{"$error":"#REF!"}}]
[137,null,null,{"$f":"IF(ISNA(VLOOKUP(C144,Hypothèses!$D$6:$G$14,4,0)),\"\",VLOOKUP(C144,Hypothèses!$D$6:$G$14,4,0))","v":""},null,null,null,null,null,null,null,null,null,null,null,null,null,null,null,null,null,null,null,null,null,{"$f":"IF(ISNA(E144*VLOOKUP($C144,Hypothèses!$D$6:$F$13,3,0)),0,E144*VLOOKUP($C144,Hypothèses!$D$6:$F$13,3,0))","v":0},{"$f":"IF(ISNA(F144*VLOOKUP($C144,Hypothèses!$D$6:$F$13,3,0)),0,F144*VLOOKUP($C144,Hypothèses!$D$6:$F$13,3,0))","v":0},{"$f":"IF(ISNA(G144*VLOOKUP($C144,Hypothèses!$D$6:$F$13,3,0)),0,G144*VLOOKUP($C144,Hypothèses!$D$6:$F$13,3,0))","v":0},{"$f":"IF(ISNA(H144*VLOOKUP($C144,Hypothèses!$D$6:$F$13,3,0)),0,H144*VLOOKUP($C144,Hypothèses!$D$6:$F$13,3,0))","v":0},{"$f":"IF(ISNA(I144*VLOOKUP($C144,Hypothèses!$D$6:$F$13,3,0)),0,I144*VLOOKUP($C144,Hypothèses!$D$6:$F$13,3,0))","v":0},{"$f":"IF(ISNA(J144*VLOOKUP($C144,Hypothèses!$D$6:$F$13,3,0)),0,J144*VLOOKUP($C144,Hypothèses!$D$6:$F$13,3,0))","v":0},{"$f":"IF(ISNA(K144*VLOOKUP($C144,Hypothèses!$D$6:$F$13,3,0)),0,K144*VLOOKUP($C144,Hypothèses!$D$6:$F$13,3,0))","v":0},{"$f":"IF(ISNA(L144*VLOOKUP($C144,Hypothèses!$D$6:$F$13,3,0)),0,L144*VLOOKUP($C144,Hypothèses!$D$6:$F$13,3,0))","v":0},{"$f":"IF(ISNA(M144*VLOOKUP($C144,Hypothèses!$D$6:$F$13,3,0)),0,M144*VLOOKUP($C144,Hypothèses!$D$6:$F$13,3,0))","v":0},{"$f":"IF(ISNA(N144*VLOOKUP($C144,Hypothèses!$D$6:$F$13,3,0)),0,N144*VLOOKUP($C144,Hypothèses!$D$6:$F$13,3,0))","v":0},{"$f":"IF(ISNA(O144*VLOOKUP($C144,Hypothèses!$D$6:$F$13,3,0)),0,O144*VLOOKUP($C144,Hypothèses!$D$6:$F$13,3,0))","v":0},{"$f":"IF(ISNA(P144*VLOOKUP($C144,Hypothèses!$D$6:$F$13,3,0)),0,P144*VLOOKUP($C144,Hypothèses!$D$6:$F$13,3,0))","v":0},{"$f":"IF(ISNA(Q144*VLOOKUP($C144,Hypothèses!$D$6:$F$13,3,0)),0,Q144*VLOOKUP($C144,Hypothèses!$D$6:$F$13,3,0))","v":0},{"$f":"IF(ISNA(R144*VLOOKUP($C144,Hypothèses!$D$6:$F$13,3,0)),0,R144*VLOOKUP($C144,Hypothèses!$D$6:$F$13,3,0))","v":0},{"$f":"IF(ISNA(S144*VLOOKUP($C144,Hypothèses!$D$6:$F$13,3,0)),0,S144*VLOOKUP($C144,Hypothèses!$D$6:$F$13,3,0))","v":0},{"$f":"IF(ISNA(#REF!*VLOOKUP($C144,Hypothèses!$D$6:$F$13,3,0)),0,#REF!*VLOOKUP($C144,Hypothèses!$D$6:$F$13,3,0))","v":{"$error":"#REF!"}},{"$f":"IF(ISNA(#REF!*VLOOKUP($C144,Hypothèses!$D$6:$F$13,3,0)),0,#REF!*VLOOKUP($C144,Hypothèses!$D$6:$F$13,3,0))","v":{"$error":"#REF!"}},{"$f":"IF(ISNA(#REF!*VLOOKUP($C144,Hypothèses!$D$6:$F$13,3,0)),0,#REF!*VLOOKUP($C144,Hypothèses!$D$6:$F$13,3,0))","v":{"$error":"#REF!"}},{"$f":"IF(ISNA(#REF!*VLOOKUP($C144,Hypothèses!$D$6:$F$13,3,0)),0,#REF!*VLOOKUP($C144,Hypothèses!$D$6:$F$13,3,0))","v":{"$error":"#REF!"}},{"$f":"IF(ISNA(#REF!*VLOOKUP($C144,Hypothèses!$D$6:$F$13,3,0)),0,#REF!*VLOOKUP($C144,Hypothèses!$D$6:$F$13,3,0))","v":{"$error":"#REF!"}},{"$f":"IF(ISNA(#REF!*VLOOKUP($C144,Hypothèses!$D$6:$F$13,3,0)),0,#REF!*VLOOKUP($C144,Hypothèses!$D$6:$F$13,3,0))","v":{"$error":"#REF!"}},{"$f":"IF(ISNA(#REF!*VLOOKUP($C144,Hypothèses!$D$6:$F$13,3,0)),0,#REF!*VLOOKUP($C144,Hypothèses!$D$6:$F$13,3,0))","v":{"$error":"#REF!"}}]
[138,null,null,{"$f":"IF(ISNA(VLOOKUP(C145,Hypothèses!$D$6:$G$14,4,0)),\"\",VLOOKUP(C145,Hypothèses!$D$6:$G$14,4,0))","v":""},null,null,null,null,null,null,null,null,null,null,null,null,null,null,null,null,null,null,null,null,null,{"$f":"IF(ISNA(E145*VLOOKUP($C145,Hypothèses!$D$6:$F$13,3,0)),0,E145*VLOOKUP($C145,Hypothèses!$D$6:$F$13,3,0))","v":0},{"$f":"IF(ISNA(F145*VLOOKUP($C145,Hypothèses!$D$6:$F$13,3,0)),0,F145*VLOOKUP($C145,Hypothèses!$D$6:$F$13,3,0))","v":0},{"$f":"IF(ISNA(G145*VLOOKUP($C145,Hypothèses!$D$6:$F$13,3,0)),0,G145*VLOOKUP($C145,Hypothèses!$D$6:$F$13,3,0))","v":0},{"$f":"IF(ISNA(H145*VLOOKUP($C145,Hypothèses!$D$6:$F$13,3,0)),0,H145*VLOOKUP($C145,Hypothèses!$D$6:$F$13,3,0))","v":0},{"$f":"IF(ISNA(I145*VLOOKUP($C145,Hypothèses!$D$6:$F$13,3,0)),0,I145*VLOOKUP($C145,Hypothèses!$D$6:$F$13,3,0))","v":0},{"$f":"IF(ISNA(J145*VLOOKUP($C145,Hypothèses!$D$6:$F$13,3,0)),0,J145*VLOOKUP($C145,Hypothèses!$D$6:$F$13,3,0))","v":0},{"$f":"IF(ISNA(K145*VLOOKUP($C145,Hypothèses!$D$6:$F$13,3,0)),0,K145*VLOOKUP($C145,Hypothèses!$D$6:$F$13,3,0))","v":0},{"$f":"IF(ISNA(L145*VLOOKUP($C145,Hypothèses!$D$6:$F$13,3,0)),0,L145*VLOOKUP($C145,Hypothèses!$D$6:$F$13,3,0))","v":0},{"$f":"IF(ISNA(M145*VLOOKUP($C145,Hypothèses!$D$6:$F$13,3,0)),0,M145*VLOOKUP($C145,Hypothèses!$D$6:$F$13,3,0))","v":0},{"$f":"IF(ISNA(N145*VLOOKUP($C145,Hypothèses!$D$6:$F$13,3,0)),0,N145*VLOOKUP($C145,Hypothèses!$D$6:$F$13,3,0))","v":0},{"$f":"IF(ISNA(O145*VLOOKUP($C145,Hypothèses!$D$6:$F$13,3,0)),0,O145*VLOOKUP($C145,Hypothèses!$D$6:$F$13,3,0))","v":0},{"$f":"IF(ISNA(P145*VLOOKUP($C145,Hypothèses!$D$6:$F$13,3,0)),0,P145*VLOOKUP($C145,Hypothèses!$D$6:$F$13,3,0))","v":0},{"$f":"IF(ISNA(Q145*VLOOKUP($C145,Hypothèses!$D$6:$F$13,3,0)),0,Q145*VLOOKUP($C145,Hypothèses!$D$6:$F$13,3,0))","v":0},{"$f":"IF(ISNA(R145*VLOOKUP($C145,Hypothèses!$D$6:$F$13,3,0)),0,R145*VLOOKUP($C145,Hypothèses!$D$6:$F$13,3,0))","v":0},{"$f":"IF(ISNA(S145*VLOOKUP($C145,Hypothèses!$D$6:$F$13,3,0)),0,S145*VLOOKUP($C145,Hypothèses!$D$6:$F$13,3,0))","v":0},{"$f":"IF(ISNA(#REF!*VLOOKUP($C145,Hypothèses!$D$6:$F$13,3,0)),0,#REF!*VLOOKUP($C145,Hypothèses!$D$6:$F$13,3,0))","v":{"$error":"#REF!"}},{"$f":"IF(ISNA(#REF!*VLOOKUP($C145,Hypothèses!$D$6:$F$13,3,0)),0,#REF!*VLOOKUP($C145,Hypothèses!$D$6:$F$13,3,0))","v":{"$error":"#REF!"}},{"$f":"IF(ISNA(#REF!*VLOOKUP($C145,Hypothèses!$D$6:$F$13,3,0)),0,#REF!*VLOOKUP($C145,Hypothèses!$D$6:$F$13,3,0))","v":{"$error":"#REF!"}},{"$f":"IF(ISNA(#REF!*VLOOKUP($C145,Hypothèses!$D$6:$F$13,3,0)),0,#REF!*VLOOKUP($C145,Hypothèses!$D$6:$F$13,3,0))","v":{"$error":"#REF!"}},{"$f":"IF(ISNA(#REF!*VLOOKUP($C145,Hypothèses!$D$6:$F$13,3,0)),0,#REF!*VLOOKUP($C145,Hypothèses!$D$6:$F$13,3,0))","v":{"$error":"#REF!"}},{"$f":"IF(ISNA(#REF!*VLOOKUP($C145,Hypothèses!$D$6:$F$13,3,0)),0,#REF!*VLOOKUP($C145,Hypothèses!$D$6:$F$13,3,0))","v":{"$error":"#REF!"}},{"$f":"IF(ISNA(#REF!*VLOOKUP($C145,Hypothèses!$D$6:$F$13,3,0)),0,#REF!*VLOOKUP($C145,Hypothèses!$D$6:$F$13,3,0))","v":{"$error":"#REF!"}}]
[139,null,null,{"$f":"IF(ISNA(VLOOKUP(C146,Hypothèses!$D$6:$G$14,4,0)),\"\",VLOOKUP(C146,Hypothèses!$D$6:$G$14,4,0))","v":""},null,null,null,null,null,null,null,null,null,null,null,null,null,null,null,null,null,null,null,null,null,{"$f":"IF(ISNA(E146*VLOOKUP($C146,Hypothèses!$D$6:$F$13,3,0)),0,E146*VLOOKUP($C146,Hypothèses!$D$6:$F$13,3,0))","v":0},{"$f":"IF(ISNA(F146*VLOOKUP($C146,Hypothèses!$D$6:$F$13,3,0)),0,F146*VLOOKUP($C146,Hypothèses!$D$6:$F$13,3,0))","v":0},{"$f":"IF(ISNA(G146*VLOOKUP($C146,Hypothèses!$D$6:$F$13,3,0)),0,G146*VLOOKUP($C146,Hypothèses!$D$6:$F$13,3,0))","v":0},{"$f":"IF(ISNA(H146*VLOOKUP($C146,Hypothèses!$D$6:$F$13,3,0)),0,H146*VLOOKUP($C146,Hypothèses!$D$6:$F$13,3,0))","v":0},{"$f":"IF(ISNA(I146*VLOOKUP($C146,Hypothèses!$D$6:$F$13,3,0)),0,I146*VLOOKUP($C146,Hypothèses!$D$6:$F$13,3,0))","v":0},{"$f":"IF(ISNA(J146*VLOOKUP($C146,Hypothèses!$D$6:$F$13,3,0)),0,J146*VLOOKUP($C146,Hypothèses!$D$6:$F$13,3,0))","v":0},{"$f":"IF(ISNA(K146*VLOOKUP($C146,Hypothèses!$D$6:$F$13,3,0)),0,K146*VLOOKUP($C146,Hypothèses!$D$6:$F$13,3,0))","v":0},{"$f":"IF(ISNA(L146*VLOOKUP($C146,Hypothèses!$D$6:$F$13,3,0)),0,L146*VLOOKUP($C146,Hypothèses!$D$6:$F$13,3,0))","v":0},{"$f":"IF(ISNA(M146*VLOOKUP($C146,Hypothèses!$D$6:$F$13,3,0)),0,M146*VLOOKUP($C146,Hypothèses!$D$6:$F$13,3,0))","v":0},{"$f":"IF(ISNA(N146*VLOOKUP($C146,Hypothèses!$D$6:$F$13,3,0)),0,N146*VLOOKUP($C146,Hypothèses!$D$6:$F$13,3,0))","v":0},{"$f":"IF(ISNA(O146*VLOOKUP($C146,Hypothèses!$D$6:$F$13,3,0)),0,O146*VLOOKUP($C146,Hypothèses!$D$6:$F$13,3,0))","v":0},{"$f":"IF(ISNA(P146*VLOOKUP($C146,Hypothèses!$D$6:$F$13,3,0)),0,P146*VLOOKUP($C146,Hypothèses!$D$6:$F$13,3,0))","v":0},{"$f":"IF(ISNA(Q146*VLOOKUP($C146,Hypothèses!$D$6:$F$13,3,0)),0,Q146*VLOOKUP($C146,Hypothèses!$D$6:$F$13,3,0))","v":0},{"$f":"IF(ISNA(R146*VLOOKUP($C146,Hypothèses!$D$6:$F$13,3,0)),0,R146*VLOOKUP($C146,Hypothèses!$D$6:$F$13,3,0))","v":0},{"$f":"IF(ISNA(S146*VLOOKUP($C146,Hypothèses!$D$6:$F$13,3,0)),0,S146*VLOOKUP($C146,Hypothèses!$D$6:$F$13,3,0))","v":0},{"$f":"IF(ISNA(#REF!*VLOOKUP($C146,Hypothèses!$D$6:$F$13,3,0)),0,#REF!*VLOOKUP($C146,Hypothèses!$D$6:$F$13,3,0))","v":{"$error":"#REF!"}},{"$f":"IF(ISNA(#REF!*VLOOKUP($C146,Hypothèses!$D$6:$F$13,3,0)),0,#REF!*VLOOKUP($C146,Hypothèses!$D$6:$F$13,3,0))","v":{"$error":"#REF!"}},{"$f":"IF(ISNA(#REF!*VLOOKUP($C146,Hypothèses!$D$6:$F$13,3,0)),0,#REF!*VLOOKUP($C146,Hypothèses!$D$6:$F$13,3,0))","v":{"$error":"#REF!"}},{"$f":"IF(ISNA(#REF!*VLOOKUP($C146,Hypothèses!$D$6:$F$13,3,0)),0,#REF!*VLOOKUP($C146,Hypothèses!$D$6:$F$13,3,0))","v":{"$error":"#REF!"}},{"$f":"IF(ISNA(#REF!*VLOOKUP($C146,Hypothèses!$D$6:$F$13,3,0)),0,#REF!*VLOOKUP($C146,Hypothèses!$D$6:$F$13,3,0))","v":{"$error":"#REF!"}},{"$f":"IF(ISNA(#REF!*VLOOKUP($C146,Hypothèses!$D$6:$F$13,3,0)),0,#REF!*VLOOKUP($C146,Hypothèses!$D$6:$F$13,3,0))","v":{"$error":"#REF!"}},{"$f":"IF(ISNA(#REF!*VLOOKUP($C146,Hypothèses!$D$6:$F$13,3,0)),0,#REF!*VLOOKUP($C146,Hypothèses!$D$6:$F$13,3,0))","v":{"$error":"#REF!"}}]
[140,null,null,{"$f":"IF(ISNA(VLOOKUP(C147,Hypothèses!$D$6:$G$14,4,0)),\"\",VLOOKUP(C147,Hypothèses!$D$6:$G$14,4,0))","v":""},null,null,null,null,null,null,null,null,null,null,null,null,null,null,null,null,null,null,null,null,null,{"$f":"IF(ISNA(E147*VLOOKUP($C147,Hypothèses!$D$6:$F$13,3,0)),0,E147*VLOOKUP($C147,Hypothèses!$D$6:$F$13,3,0))","v":0},{"$f":"IF(ISNA(F147*VLOOKUP($C147,Hypothèses!$D$6:$F$13,3,0)),0,F147*VLOOKUP($C147,Hypothèses!$D$6:$F$13,3,0))","v":0},{"$f":"IF(ISNA(G147*VLOOKUP($C147,Hypothèses!$D$6:$F$13,3,0)),0,G147*VLOOKUP($C147,Hypothèses!$D$6:$F$13,3,0))","v":0},{"$f":"IF(ISNA(H147*VLOOKUP($C147,Hypothèses!$D$6:$F$13,3,0)),0,H147*VLOOKUP($C147,Hypothèses!$D$6:$F$13,3,0))","v":0},{"$f":"IF(ISNA(I147*VLOOKUP($C147,Hypothèses!$D$6:$F$13,3,0)),0,I147*VLOOKUP($C147,Hypothèses!$D$6:$F$13,3,0))","v":0},{"$f":"IF(ISNA(J147*VLOOKUP($C147,Hypothèses!$D$6:$F$13,3,0)),0,J147*VLOOKUP($C147,Hypothèses!$D$6:$F$13,3,0))","v":0},{"$f":"IF(ISNA(K147*VLOOKUP($C147,Hypothèses!$D$6:$F$13,3,0)),0,K147*VLOOKUP($C147,Hypothèses!$D$6:$F$13,3,0))","v":0},{"$f":"IF(ISNA(L147*VLOOKUP($C147,Hypothèses!$D$6:$F$13,3,0)),0,L147*VLOOKUP($C147,Hypothèses!$D$6:$F$13,3,0))","v":0},{"$f":"IF(ISNA(M147*VLOOKUP($C147,Hypothèses!$D$6:$F$13,3,0)),0,M147*VLOOKUP($C147,Hypothèses!$D$6:$F$13,3,0))","v":0},{"$f":"IF(ISNA(N147*VLOOKUP($C147,Hypothèses!$D$6:$F$13,3,0)),0,N147*VLOOKUP($C147,Hypothèses!$D$6:$F$13,3,0))","v":0},{"$f":"IF(ISNA(O147*VLOOKUP($C147,Hypothèses!$D$6:$F$13,3,0)),0,O147*VLOOKUP($C147,Hypothèses!$D$6:$F$13,3,0))","v":0},{"$f":"IF(ISNA(P147*VLOOKUP($C147,Hypothèses!$D$6:$F$13,3,0)),0,P147*VLOOKUP($C147,Hypothèses!$D$6:$F$13,3,0))","v":0},{"$f":"IF(ISNA(Q147*VLOOKUP($C147,Hypothèses!$D$6:$F$13,3,0)),0,Q147*VLOOKUP($C147,Hypothèses!$D$6:$F$13,3,0))","v":0},{"$f":"IF(ISNA(R147*VLOOKUP($C147,Hypothèses!$D$6:$F$13,3,0)),0,R147*VLOOKUP($C147,Hypothèses!$D$6:$F$13,3,0))","v":0},{"$f":"IF(ISNA(S147*VLOOKUP($C147,Hypothèses!$D$6:$F$13,3,0)),0,S147*VLOOKUP($C147,Hypothèses!$D$6:$F$13,3,0))","v":0},{"$f":"IF(ISNA(#REF!*VLOOKUP($C147,Hypothèses!$D$6:$F$13,3,0)),0,#REF!*VLOOKUP($C147,Hypothèses!$D$6:$F$13,3,0))","v":{"$error":"#REF!"}},{"$f":"IF(ISNA(#REF!*VLOOKUP($C147,Hypothèses!$D$6:$F$13,3,0)),0,#REF!*VLOOKUP($C147,Hypothèses!$D$6:$F$13,3,0))","v":{"$error":"#REF!"}},{"$f":"IF(ISNA(#REF!*VLOOKUP($C147,Hypothèses!$D$6:$F$13,3,0)),0,#REF!*VLOOKUP($C147,Hypothèses!$D$6:$F$13,3,0))","v":{"$error":"#REF!"}},{"$f":"IF(ISNA(#REF!*VLOOKUP($C147,Hypothèses!$D$6:$F$13,3,0)),0,#REF!*VLOOKUP($C147,Hypothèses!$D$6:$F$13,3,0))","v":{"$error":"#REF!"}},{"$f":"IF(ISNA(#REF!*VLOOKUP($C147,Hypothèses!$D$6:$F$13,3,0)),0,#REF!*VLOOKUP($C147,Hypothèses!$D$6:$F$13,3,0))","v":{"$error":"#REF!"}},{"$f":"IF(ISNA(#REF!*VLOOKUP($C147,Hypothèses!$D$6:$F$13,3,0)),0,#REF!*VLOOKUP($C147,Hypothèses!$D$6:$F$13,3,0))","v":{"$error":"#REF!"}},{"$f":"IF(ISNA(#REF!*VLOOKUP($C147,Hypothèses!$D$6:$F$13,3,0)),0,#REF!*VLOOKUP($C147,Hypothèses!$D$6:$F$13,3,0))","v":{"$error":"#REF!"}}]
[141,null,null,{"$f":"IF(ISNA(VLOOKUP(C148,Hypothèses!$D$6:$G$14,4,0)),\"\",VLOOKUP(C148,Hypothèses!$D$6:$G$14,4,0))","v":""},null,null,null,null,null,null,null,null,null,null,null,null,null,null,null,null,null,null,null,null,null,{"$f":"IF(ISNA(E148*VLOOKUP($C148,Hypothèses!$D$6:$F$13,3,0)),0,E148*VLOOKUP($C148,Hypothèses!$D$6:$F$13,3,0))","v":0},{"$f":"IF(ISNA(F148*VLOOKUP($C148,Hypothèses!$D$6:$F$13,3,0)),0,F148*VLOOKUP($C148,Hypothèses!$D$6:$F$13,3,0))","v":0},{"$f":"IF(ISNA(G148*VLOOKUP($C148,Hypothèses!$D$6:$F$13,3,0)),0,G148*VLOOKUP($C148,Hypothèses!$D$6:$F$13,3,0))","v":0},{"$f":"IF(ISNA(H148*VLOOKUP($C148,Hypothèses!$D$6:$F$13,3,0)),0,H148*VLOOKUP($C148,Hypothèses!$D$6:$F$13,3,0))","v":0},{"$f":"IF(ISNA(I148*VLOOKUP($C148,Hypothèses!$D$6:$F$13,3,0)),0,I148*VLOOKUP($C148,Hypothèses!$D$6:$F$13,3,0))","v":0},{"$f":"IF(ISNA(J148*VLOOKUP($C148,Hypothèses!$D$6:$F$13,3,0)),0,J148*VLOOKUP($C148,Hypothèses!$D$6:$F$13,3,0))","v":0},{"$f":"IF(ISNA(K148*VLOOKUP($C148,Hypothèses!$D$6:$F$13,3,0)),0,K148*VLOOKUP($C148,Hypothèses!$D$6:$F$13,3,0))","v":0},{"$f":"IF(ISNA(L148*VLOOKUP($C148,Hypothèses!$D$6:$F$13,3,0)),0,L148*VLOOKUP($C148,Hypothèses!$D$6:$F$13,3,0))","v":0},{"$f":"IF(ISNA(M148*VLOOKUP($C148,Hypothèses!$D$6:$F$13,3,0)),0,M148*VLOOKUP($C148,Hypothèses!$D$6:$F$13,3,0))","v":0},{"$f":"IF(ISNA(N148*VLOOKUP($C148,Hypothèses!$D$6:$F$13,3,0)),0,N148*VLOOKUP($C148,Hypothèses!$D$6:$F$13,3,0))","v":0},{"$f":"IF(ISNA(O148*VLOOKUP($C148,Hypothèses!$D$6:$F$13,3,0)),0,O148*VLOOKUP($C148,Hypothèses!$D$6:$F$13,3,0))","v":0},{"$f":"IF(ISNA(P148*VLOOKUP($C148,Hypothèses!$D$6:$F$13,3,0)),0,P148*VLOOKUP($C148,Hypothèses!$D$6:$F$13,3,0))","v":0},{"$f":"IF(ISNA(Q148*VLOOKUP($C148,Hypothèses!$D$6:$F$13,3,0)),0,Q148*VLOOKUP($C148,Hypothèses!$D$6:$F$13,3,0))","v":0},{"$f":"IF(ISNA(R148*VLOOKUP($C148,Hypothèses!$D$6:$F$13,3,0)),0,R148*VLOOKUP($C148,Hypothèses!$D$6:$F$13,3,0))","v":0},{"$f":"IF(ISNA(S148*VLOOKUP($C148,Hypothèses!$D$6:$F$13,3,0)),0,S148*VLOOKUP($C148,Hypothèses!$D$6:$F$13,3,0))","v":0},{"$f":"IF(ISNA(#REF!*VLOOKUP($C148,Hypothèses!$D$6:$F$13,3,0)),0,#REF!*VLOOKUP($C148,Hypothèses!$D$6:$F$13,3,0))","v":{"$error":"#REF!"}},{"$f":"IF(ISNA(#REF!*VLOOKUP($C148,Hypothèses!$D$6:$F$13,3,0)),0,#REF!*VLOOKUP($C148,Hypothèses!$D$6:$F$13,3,0))","v":{"$error":"#REF!"}},{"$f":"IF(ISNA(#REF!*VLOOKUP($C148,Hypothèses!$D$6:$F$13,3,0)),0,#REF!*VLOOKUP($C148,Hypothèses!$D$6:$F$13,3,0))","v":{"$error":"#REF!"}},{"$f":"IF(ISNA(#REF!*VLOOKUP($C148,Hypothèses!$D$6:$F$13,3,0)),0,#REF!*VLOOKUP($C148,Hypothèses!$D$6:$F$13,3,0))","v":{"$error":"#REF!"}},{"$f":"IF(ISNA(#REF!*VLOOKUP($C148,Hypothèses!$D$6:$F$13,3,0)),0,#REF!*VLOOKUP($C148,Hypothèses!$D$6:$F$13,3,0))","v":{"$error":"#REF!"}},{"$f":"IF(ISNA(#REF!*VLOOKUP($C148,Hypothèses!$D$6:$F$13,3,0)),0,#REF!*VLOOKUP($C148,Hypothèses!$D$6:$F$13,3,0))","v":{"$error":"#REF!"}},{"$f":"IF(ISNA(#REF!*VLOOKUP($C148,Hypothèses!$D$6:$F$13,3,0)),0,#REF!*VLOOKUP($C148,Hypothèses!$D$6:$F$13,3,0))","v":{"$error":"#REF!"}}]
[142,null,null,{"$f":"IF(ISNA(VLOOKUP(C149,Hypothèses!$D$6:$G$14,4,0)),\"\",VLOOKUP(C149,Hypothèses!$D$6:$G$14,4,0))","v":""},null,null,null,null,null,null,null,null,null,null,null,null,null,null,null,null,null,null,null,null,null,{"$f":"IF(ISNA(E149*VLOOKUP($C149,Hypothèses!$D$6:$F$13,3,0)),0,E149*VLOOKUP($C149,Hypothèses!$D$6:$F$13,3,0))","v":0},{"$f":"IF(ISNA(F149*VLOOKUP($C149,Hypothèses!$D$6:$F$13,3,0)),0,F149*VLOOKUP($C149,Hypothèses!$D$6:$F$13,3,0))","v":0},{"$f":"IF(ISNA(G149*VLOOKUP($C149,Hypothèses!$D$6:$F$13,3,0)),0,G149*VLOOKUP($C149,Hypothèses!$D$6:$F$13,3,0))","v":0},{"$f":"IF(ISNA(H149*VLOOKUP($C149,Hypothèses!$D$6:$F$13,3,0)),0,H149*VLOOKUP($C149,Hypothèses!$D$6:$F$13,3,0))","v":0},{"$f":"IF(ISNA(I149*VLOOKUP($C149,Hypothèses!$D$6:$F$13,3,0)),0,I149*VLOOKUP($C149,Hypothèses!$D$6:$F$13,3,0))","v":0},{"$f":"IF(ISNA(J149*VLOOKUP($C149,Hypothèses!$D$6:$F$13,3,0)),0,J149*VLOOKUP($C149,Hypothèses!$D$6:$F$13,3,0))","v":0},{"$f":"IF(ISNA(K149*VLOOKUP($C149,Hypothèses!$D$6:$F$13,3,0)),0,K149*VLOOKUP($C149,Hypothèses!$D$6:$F$13,3,0))","v":0},{"$f":"IF(ISNA(L149*VLOOKUP($C149,Hypothèses!$D$6:$F$13,3,0)),0,L149*VLOOKUP($C149,Hypothèses!$D$6:$F$13,3,0))","v":0},{"$f":"IF(ISNA(M149*VLOOKUP($C149,Hypothèses!$D$6:$F$13,3,0)),0,M149*VLOOKUP($C149,Hypothèses!$D$6:$F$13,3,0))","v":0},{"$f":"IF(ISNA(N149*VLOOKUP($C149,Hypothèses!$D$6:$F$13,3,0)),0,N149*VLOOKUP($C149,Hypothèses!$D$6:$F$13,3,0))","v":0},{"$f":"IF(ISNA(O149*VLOOKUP($C149,Hypothèses!$D$6:$F$13,3,0)),0,O149*VLOOKUP($C149,Hypothèses!$D$6:$F$13,3,0))","v":0},{"$f":"IF(ISNA(P149*VLOOKUP($C149,Hypothèses!$D$6:$F$13,3,0)),0,P149*VLOOKUP($C149,Hypothèses!$D$6:$F$13,3,0))","v":0},{"$f":"IF(ISNA(Q149*VLOOKUP($C149,Hypothèses!$D$6:$F$13,3,0)),0,Q149*VLOOKUP($C149,Hypothèses!$D$6:$F$13,3,0))","v":0},{"$f":"IF(ISNA(R149*VLOOKUP($C149,Hypothèses!$D$6:$F$13,3,0)),0,R149*VLOOKUP($C149,Hypothèses!$D$6:$F$13,3,0))","v":0},{"$f":"IF(ISNA(S149*VLOOKUP($C149,Hypothèses!$D$6:$F$13,3,0)),0,S149*VLOOKUP($C149,Hypothèses!$D$6:$F$13,3,0))","v":0},{"$f":"IF(ISNA(#REF!*VLOOKUP($C149,Hypothèses!$D$6:$F$13,3,0)),0,#REF!*VLOOKUP($C149,Hypothèses!$D$6:$F$13,3,0))","v":{"$error":"#REF!"}},{"$f":"IF(ISNA(#REF!*VLOOKUP($C149,Hypothèses!$D$6:$F$13,3,0)),0,#REF!*VLOOKUP($C149,Hypothèses!$D$6:$F$13,3,0))","v":{"$error":"#REF!"}},{"$f":"IF(ISNA(#REF!*VLOOKUP($C149,Hypothèses!$D$6:$F$13,3,0)),0,#REF!*VLOOKUP($C149,Hypothèses!$D$6:$F$13,3,0))","v":{"$error":"#REF!"}},{"$f":"IF(ISNA(#REF!*VLOOKUP($C149,Hypothèses!$D$6:$F$13,3,0)),0,#REF!*VLOOKUP($C149,Hypothèses!$D$6:$F$13,3,0))","v":{"$error":"#REF!"}},{"$f":"IF(ISNA(#REF!*VLOOKUP($C149,Hypothèses!$D$6:$F$13,3,0)),0,#REF!*VLOOKUP($C149,Hypothèses!$D$6:$F$13,3,0))","v":{"$error":"#REF!"}},{"$f":"IF(ISNA(#REF!*VLOOKUP($C149,Hypothèses!$D$6:$F$13,3,0)),0,#REF!*VLOOKUP($C149,Hypothèses!$D$6:$F$13,3,0))","v":{"$error":"#REF!"}},{"$f":"IF(ISNA(#REF!*VLOOKUP($C149,Hypothèses!$D$6:$F$13,3,0)),0,#REF!*VLOOKUP($C149,Hypothèses!$D$6:$F$13,3,0))","v":{"$error":"#REF!"}}]
[143,null,null,{"$f":"IF(ISNA(VLOOKUP(C150,Hypothèses!$D$6:$G$14,4,0)),\"\",VLOOKUP(C150,Hypothèses!$D$6:$G$14,4,0))","v":""},null,null,null,null,null,null,null,null,null,null,null,null,null,null,null,null,null,null,null,null,null,{"$f":"IF(ISNA(E150*VLOOKUP($C150,Hypothèses!$D$6:$F$13,3,0)),0,E150*VLOOKUP($C150,Hypothèses!$D$6:$F$13,3,0))","v":0},{"$f":"IF(ISNA(F150*VLOOKUP($C150,Hypothèses!$D$6:$F$13,3,0)),0,F150*VLOOKUP($C150,Hypothèses!$D$6:$F$13,3,0))","v":0},{"$f":"IF(ISNA(G150*VLOOKUP($C150,Hypothèses!$D$6:$F$13,3,0)),0,G150*VLOOKUP($C150,Hypothèses!$D$6:$F$13,3,0))","v":0},{"$f":"IF(ISNA(H150*VLOOKUP($C150,Hypothèses!$D$6:$F$13,3,0)),0,H150*VLOOKUP($C150,Hypothèses!$D$6:$F$13,3,0))","v":0},{"$f":"IF(ISNA(I150*VLOOKUP($C150,Hypothèses!$D$6:$F$13,3,0)),0,I150*VLOOKUP($C150,Hypothèses!$D$6:$F$13,3,0))","v":0},{"$f":"IF(ISNA(J150*VLOOKUP($C150,Hypothèses!$D$6:$F$13,3,0)),0,J150*VLOOKUP($C150,Hypothèses!$D$6:$F$13,3,0))","v":0},{"$f":"IF(ISNA(K150*VLOOKUP($C150,Hypothèses!$D$6:$F$13,3,0)),0,K150*VLOOKUP($C150,Hypothèses!$D$6:$F$13,3,0))","v":0},{"$f":"IF(ISNA(L150*VLOOKUP($C150,Hypothèses!$D$6:$F$13,3,0)),0,L150*VLOOKUP($C150,Hypothèses!$D$6:$F$13,3,0))","v":0},{"$f":"IF(ISNA(M150*VLOOKUP($C150,Hypothèses!$D$6:$F$13,3,0)),0,M150*VLOOKUP($C150,Hypothèses!$D$6:$F$13,3,0))","v":0},{"$f":"IF(ISNA(N150*VLOOKUP($C150,Hypothèses!$D$6:$F$13,3,0)),0,N150*VLOOKUP($C150,Hypothèses!$D$6:$F$13,3,0))","v":0},{"$f":"IF(ISNA(O150*VLOOKUP($C150,Hypothèses!$D$6:$F$13,3,0)),0,O150*VLOOKUP($C150,Hypothèses!$D$6:$F$13,3,0))","v":0},{"$f":"IF(ISNA(P150*VLOOKUP($C150,Hypothèses!$D$6:$F$13,3,0)),0,P150*VLOOKUP($C150,Hypothèses!$D$6:$F$13,3,0))","v":0},{"$f":"IF(ISNA(Q150*VLOOKUP($C150,Hypothèses!$D$6:$F$13,3,0)),0,Q150*VLOOKUP($C150,Hypothèses!$D$6:$F$13,3,0))","v":0},{"$f":"IF(ISNA(R150*VLOOKUP($C150,Hypothèses!$D$6:$F$13,3,0)),0,R150*VLOOKUP($C150,Hypothèses!$D$6:$F$13,3,0))","v":0},{"$f":"IF(ISNA(S150*VLOOKUP($C150,Hypothèses!$D$6:$F$13,3,0)),0,S150*VLOOKUP($C150,Hypothèses!$D$6:$F$13,3,0))","v":0},{"$f":"IF(ISNA(#REF!*VLOOKUP($C150,Hypothèses!$D$6:$F$13,3,0)),0,#REF!*VLOOKUP($C150,Hypothèses!$D$6:$F$13,3,0))","v":{"$error":"#REF!"}},{"$f":"IF(ISNA(#REF!*VLOOKUP($C150,Hypothèses!$D$6:$F$13,3,0)),0,#REF!*VLOOKUP($C150,Hypothèses!$D$6:$F$13,3,0))","v":{"$error":"#REF!"}},{"$f":"IF(ISNA(#REF!*VLOOKUP($C150,Hypothèses!$D$6:$F$13,3,0)),0,#REF!*VLOOKUP($C150,Hypothèses!$D$6:$F$13,3,0))","v":{"$error":"#REF!"}},{"$f":"IF(ISNA(#REF!*VLOOKUP($C150,Hypothèses!$D$6:$F$13,3,0)),0,#REF!*VLOOKUP($C150,Hypothèses!$D$6:$F$13,3,0))","v":{"$error":"#REF!"}},{"$f":"IF(ISNA(#REF!*VLOOKUP($C150,Hypothèses!$D$6:$F$13,3,0)),0,#REF!*VLOOKUP($C150,Hypothèses!$D$6:$F$13,3,0))","v":{"$error":"#REF!"}},{"$f":"IF(ISNA(#REF!*VLOOKUP($C150,Hypothèses!$D$6:$F$13,3,0)),0,#REF!*VLOOKUP($C150,Hypothèses!$D$6:$F$13,3,0))","v":{"$error":"#REF!"}},{"$f":"IF(ISNA(#REF!*VLOOKUP($C150,Hypothèses!$D$6:$F$13,3,0)),0,#REF!*VLOOKUP($C150,Hypothèses!$D$6:$F$13,3,0))","v":{"$error":"#REF!"}}]
[144,null,null,{"$f":"IF(ISNA(VLOOKUP(C151,Hypothèses!$D$6:$G$14,4,0)),\"\",VLOOKUP(C151,Hypothèses!$D$6:$G$14,4,0))","v":""},null,null,null,null,null,null,null,null,null,null,null,null,null,null,null,null,null,null,null,null,null,{"$f":"IF(ISNA(E151*VLOOKUP($C151,Hypothèses!$D$6:$F$13,3,0)),0,E151*VLOOKUP($C151,Hypothèses!$D$6:$F$13,3,0))","v":0},{"$f":"IF(ISNA(F151*VLOOKUP($C151,Hypothèses!$D$6:$F$13,3,0)),0,F151*VLOOKUP($C151,Hypothèses!$D$6:$F$13,3,0))","v":0},{"$f":"IF(ISNA(G151*VLOOKUP($C151,Hypothèses!$D$6:$F$13,3,0)),0,G151*VLOOKUP($C151,Hypothèses!$D$6:$F$13,3,0))","v":0},{"$f":"IF(ISNA(H151*VLOOKUP($C151,Hypothèses!$D$6:$F$13,3,0)),0,H151*VLOOKUP($C151,Hypothèses!$D$6:$F$13,3,0))","v":0},{"$f":"IF(ISNA(I151*VLOOKUP($C151,Hypothèses!$D$6:$F$13,3,0)),0,I151*VLOOKUP($C151,Hypothèses!$D$6:$F$13,3,0))","v":0},{"$f":"IF(ISNA(J151*VLOOKUP($C151,Hypothèses!$D$6:$F$13,3,0)),0,J151*VLOOKUP($C151,Hypothèses!$D$6:$F$13,3,0))","v":0},{"$f":"IF(ISNA(K151*VLOOKUP($C151,Hypothèses!$D$6:$F$13,3,0)),0,K151*VLOOKUP($C151,Hypothèses!$D$6:$F$13,3,0))","v":0},{"$f":"IF(ISNA(L151*VLOOKUP($C151,Hypothèses!$D$6:$F$13,3,0)),0,L151*VLOOKUP($C151,Hypothèses!$D$6:$F$13,3,0))","v":0},{"$f":"IF(ISNA(M151*VLOOKUP($C151,Hypothèses!$D$6:$F$13,3,0)),0,M151*VLOOKUP($C151,Hypothèses!$D$6:$F$13,3,0))","v":0},{"$f":"IF(ISNA(N151*VLOOKUP($C151,Hypothèses!$D$6:$F$13,3,0)),0,N151*VLOOKUP($C151,Hypothèses!$D$6:$F$13,3,0))","v":0},{"$f":"IF(ISNA(O151*VLOOKUP($C151,Hypothèses!$D$6:$F$13,3,0)),0,O151*VLOOKUP($C151,Hypothèses!$D$6:$F$13,3,0))","v":0},{"$f":"IF(ISNA(P151*VLOOKUP($C151,Hypothèses!$D$6:$F$13,3,0)),0,P151*VLOOKUP($C151,Hypothèses!$D$6:$F$13,3,0))","v":0},{"$f":"IF(ISNA(Q151*VLOOKUP($C151,Hypothèses!$D$6:$F$13,3,0)),0,Q151*VLOOKUP($C151,Hypothèses!$D$6:$F$13,3,0))","v":0},{"$f":"IF(ISNA(R151*VLOOKUP($C151,Hypothèses!$D$6:$F$13,3,0)),0,R151*VLOOKUP($C151,Hypothèses!$D$6:$F$13,3,0))","v":0},{"$f":"IF(ISNA(S151*VLOOKUP($C151,Hypothèses!$D$6:$F$13,3,0)),0,S151*VLOOKUP($C151,Hypothèses!$D$6:$F$13,3,0))","v":0},{"$f":"IF(ISNA(#REF!*VLOOKUP($C151,Hypothèses!$D$6:$F$13,3,0)),0,#REF!*VLOOKUP($C151,Hypothèses!$D$6:$F$13,3,0))","v":{"$error":"#REF!"}},{"$f":"IF(ISNA(#REF!*VLOOKUP($C151,Hypothèses!$D$6:$F$13,3,0)),0,#REF!*VLOOKUP($C151,Hypothèses!$D$6:$F$13,3,0))","v":{"$error":"#REF!"}},{"$f":"IF(ISNA(#REF!*VLOOKUP($C151,Hypothèses!$D$6:$F$13,3,0)),0,#REF!*VLOOKUP($C151,Hypothèses!$D$6:$F$13,3,0))","v":{"$error":"#REF!"}},{"$f":"IF(ISNA(#REF!*VLOOKUP($C151,Hypothèses!$D$6:$F$13,3,0)),0,#REF!*VLOOKUP($C151,Hypothèses!$D$6:$F$13,3,0))","v":{"$error":"#REF!"}},{"$f":"IF(ISNA(#REF!*VLOOKUP($C151,Hypothèses!$D$6:$F$13,3,0)),0,#REF!*VLOOKUP($C151,Hypothèses!$D$6:$F$13,3,0))","v":{"$error":"#REF!"}},{"$f":"IF(ISNA(#REF!*VLOOKUP($C151,Hypothèses!$D$6:$F$13,3,0)),0,#REF!*VLOOKUP($C151,Hypothèses!$D$6:$F$13,3,0))","v":{"$error":"#REF!"}},{"$f":"IF(ISNA(#REF!*VLOOKUP($C151,Hypothèses!$D$6:$F$13,3,0)),0,#REF!*VLOOKUP($C151,Hypothèses!$D$6:$F$13,3,0))","v":{"$error":"#REF!"}}]
[145,null,null,{"$f":"IF(ISNA(VLOOKUP(C152,Hypothèses!$D$6:$G$14,4,0)),\"\",VLOOKUP(C152,Hypothèses!$D$6:$G$14,4,0))","v":""},null,null,null,null,null,null,null,null,null,null,null,null,null,null,null,null,null,null,null,null,null,{"$f":"IF(ISNA(E152*VLOOKUP($C152,Hypothèses!$D$6:$F$13,3,0)),0,E152*VLOOKUP($C152,Hypothèses!$D$6:$F$13,3,0))","v":0},{"$f":"IF(ISNA(F152*VLOOKUP($C152,Hypothèses!$D$6:$F$13,3,0)),0,F152*VLOOKUP($C152,Hypothèses!$D$6:$F$13,3,0))","v":0},{"$f":"IF(ISNA(G152*VLOOKUP($C152,Hypothèses!$D$6:$F$13,3,0)),0,G152*VLOOKUP($C152,Hypothèses!$D$6:$F$13,3,0))","v":0},{"$f":"IF(ISNA(H152*VLOOKUP($C152,Hypothèses!$D$6:$F$13,3,0)),0,H152*VLOOKUP($C152,Hypothèses!$D$6:$F$13,3,0))","v":0},{"$f":"IF(ISNA(I152*VLOOKUP($C152,Hypothèses!$D$6:$F$13,3,0)),0,I152*VLOOKUP($C152,Hypothèses!$D$6:$F$13,3,0))","v":0},{"$f":"IF(ISNA(J152*VLOOKUP($C152,Hypothèses!$D$6:$F$13,3,0)),0,J152*VLOOKUP($C152,Hypothèses!$D$6:$F$13,3,0))","v":0},{"$f":"IF(ISNA(K152*VLOOKUP($C152,Hypothèses!$D$6:$F$13,3,0)),0,K152*VLOOKUP($C152,Hypothèses!$D$6:$F$13,3,0))","v":0},{"$f":"IF(ISNA(L152*VLOOKUP($C152,Hypothèses!$D$6:$F$13,3,0)),0,L152*VLOOKUP($C152,Hypothèses!$D$6:$F$13,3,0))","v":0},{"$f":"IF(ISNA(M152*VLOOKUP($C152,Hypothèses!$D$6:$F$13,3,0)),0,M152*VLOOKUP($C152,Hypothèses!$D$6:$F$13,3,0))","v":0},{"$f":"IF(ISNA(N152*VLOOKUP($C152,Hypothèses!$D$6:$F$13,3,0)),0,N152*VLOOKUP($C152,Hypothèses!$D$6:$F$13,3,0))","v":0},{"$f":"IF(ISNA(O152*VLOOKUP($C152,Hypothèses!$D$6:$F$13,3,0)),0,O152*VLOOKUP($C152,Hypothèses!$D$6:$F$13,3,0))","v":0},{"$f":"IF(ISNA(P152*VLOOKUP($C152,Hypothèses!$D$6:$F$13,3,0)),0,P152*VLOOKUP($C152,Hypothèses!$D$6:$F$13,3,0))","v":0},{"$f":"IF(ISNA(Q152*VLOOKUP($C152,Hypothèses!$D$6:$F$13,3,0)),0,Q152*VLOOKUP($C152,Hypothèses!$D$6:$F$13,3,0))","v":0},{"$f":"IF(ISNA(R152*VLOOKUP($C152,Hypothèses!$D$6:$F$13,3,0)),0,R152*VLOOKUP($C152,Hypothèses!$D$6:$F$13,3,0))","v":0},{"$f":"IF(ISNA(S152*VLOOKUP($C152,Hypothèses!$D$6:$F$13,3,0)),0,S152*VLOOKUP($C152,Hypothèses!$D$6:$F$13,3,0))","v":0},{"$f":"IF(ISNA(#REF!*VLOOKUP($C152,Hypothèses!$D$6:$F$13,3,0)),0,#REF!*VLOOKUP($C152,Hypothèses!$D$6:$F$13,3,0))","v":{"$error":"#REF!"}},{"$f":"IF(ISNA(#REF!*VLOOKUP($C152,Hypothèses!$D$6:$F$13,3,0)),0,#REF!*VLOOKUP($C152,Hypothèses!$D$6:$F$13,3,0))","v":{"$error":"#REF!"}},{"$f":"IF(ISNA(#REF!*VLOOKUP($C152,Hypothèses!$D$6:$F$13,3,0)),0,#REF!*VLOOKUP($C152,Hypothèses!$D$6:$F$13,3,0))","v":{"$error":"#REF!"}},{"$f":"IF(ISNA(#REF!*VLOOKUP($C152,Hypothèses!$D$6:$F$13,3,0)),0,#REF!*VLOOKUP($C152,Hypothèses!$D$6:$F$13,3,0))","v":{"$error":"#REF!"}},{"$f":"IF(ISNA(#REF!*VLOOKUP($C152,Hypothèses!$D$6:$F$13,3,0)),0,#REF!*VLOOKUP($C152,Hypothèses!$D$6:$F$13,3,0))","v":{"$error":"#REF!"}},{"$f":"IF(ISNA(#REF!*VLOOKUP($C152,Hypothèses!$D$6:$F$13,3,0)),0,#REF!*VLOOKUP($C152,Hypothèses!$D$6:$F$13,3,0))","v":{"$error":"#REF!"}},{"$f":"IF(ISNA(#REF!*VLOOKUP($C152,Hypothèses!$D$6:$F$13,3,0)),0,#REF!*VLOOKUP($C152,Hypothèses!$D$6:$F$13,3,0))","v":{"$error":"#REF!"}}]
[146,null,null,{"$f":"IF(ISNA(VLOOKUP(C153,Hypothèses!$D$6:$G$14,4,0)),\"\",VLOOKUP(C153,Hypothèses!$D$6:$G$14,4,0))","v":""},null,null,null,null,null,null,null,null,null,null,null,null,null,null,null,null,null,null,null,null,null,{"$f":"IF(ISNA(E153*VLOOKUP($C153,Hypothèses!$D$6:$F$13,3,0)),0,E153*VLOOKUP($C153,Hypothèses!$D$6:$F$13,3,0))","v":0},{"$f":"IF(ISNA(F153*VLOOKUP($C153,Hypothèses!$D$6:$F$13,3,0)),0,F153*VLOOKUP($C153,Hypothèses!$D$6:$F$13,3,0))","v":0},{"$f":"IF(ISNA(G153*VLOOKUP($C153,Hypothèses!$D$6:$F$13,3,0)),0,G153*VLOOKUP($C153,Hypothèses!$D$6:$F$13,3,0))","v":0},{"$f":"IF(ISNA(H153*VLOOKUP($C153,Hypothèses!$D$6:$F$13,3,0)),0,H153*VLOOKUP($C153,Hypothèses!$D$6:$F$13,3,0))","v":0},{"$f":"IF(ISNA(I153*VLOOKUP($C153,Hypothèses!$D$6:$F$13,3,0)),0,I153*VLOOKUP($C153,Hypothèses!$D$6:$F$13,3,0))","v":0},{"$f":"IF(ISNA(J153*VLOOKUP($C153,Hypothèses!$D$6:$F$13,3,0)),0,J153*VLOOKUP($C153,Hypothèses!$D$6:$F$13,3,0))","v":0},{"$f":"IF(ISNA(K153*VLOOKUP($C153,Hypothèses!$D$6:$F$13,3,0)),0,K153*VLOOKUP($C153,Hypothèses!$D$6:$F$13,3,0))","v":0},{"$f":"IF(ISNA(L153*VLOOKUP($C153,Hypothèses!$D$6:$F$13,3,0)),0,L153*VLOOKUP($C153,Hypothèses!$D$6:$F$13,3,0))","v":0},{"$f":"IF(ISNA(M153*VLOOKUP($C153,Hypothèses!$D$6:$F$13,3,0)),0,M153*VLOOKUP($C153,Hypothèses!$D$6:$F$13,3,0))","v":0},{"$f":"IF(ISNA(N153*VLOOKUP($C153,Hypothèses!$D$6:$F$13,3,0)),0,N153*VLOOKUP($C153,Hypothèses!$D$6:$F$13,3,0))","v":0},{"$f":"IF(ISNA(O153*VLOOKUP($C153,Hypothèses!$D$6:$F$13,3,0)),0,O153*VLOOKUP($C153,Hypothèses!$D$6:$F$13,3,0))","v":0},{"$f":"IF(ISNA(P153*VLOOKUP($C153,Hypothèses!$D$6:$F$13,3,0)),0,P153*VLOOKUP($C153,Hypothèses!$D$6:$F$13,3,0))","v":0},{"$f":"IF(ISNA(Q153*VLOOKUP($C153,Hypothèses!$D$6:$F$13,3,0)),0,Q153*VLOOKUP($C153,Hypothèses!$D$6:$F$13,3,0))","v":0},{"$f":"IF(ISNA(R153*VLOOKUP($C153,Hypothèses!$D$6:$F$13,3,0)),0,R153*VLOOKUP($C153,Hypothèses!$D$6:$F$13,3,0))","v":0},{"$f":"IF(ISNA(S153*VLOOKUP($C153,Hypothèses!$D$6:$F$13,3,0)),0,S153*VLOOKUP($C153,Hypothèses!$D$6:$F$13,3,0))","v":0},{"$f":"IF(ISNA(#REF!*VLOOKUP($C153,Hypothèses!$D$6:$F$13,3,0)),0,#REF!*VLOOKUP($C153,Hypothèses!$D$6:$F$13,3,0))","v":{"$error":"#REF!"}},{"$f":"IF(ISNA(#REF!*VLOOKUP($C153,Hypothèses!$D$6:$F$13,3,0)),0,#REF!*VLOOKUP($C153,Hypothèses!$D$6:$F$13,3,0))","v":{"$error":"#REF!"}},{"$f":"IF(ISNA(#REF!*VLOOKUP($C153,Hypothèses!$D$6:$F$13,3,0)),0,#REF!*VLOOKUP($C153,Hypothèses!$D$6:$F$13,3,0))","v":{"$error":"#REF!"}},{"$f":"IF(ISNA(#REF!*VLOOKUP($C153,Hypothèses!$D$6:$F$13,3,0)),0,#REF!*VLOOKUP($C153,Hypothèses!$D$6:$F$13,3,0))","v":{"$error":"#REF!"}},{"$f":"IF(ISNA(#REF!*VLOOKUP($C153,Hypothèses!$D$6:$F$13,3,0)),0,#REF!*VLOOKUP($C153,Hypothèses!$D$6:$F$13,3,0))","v":{"$error":"#REF!"}},{"$f":"IF(ISNA(#REF!*VLOOKUP($C153,Hypothèses!$D$6:$F$13,3,0)),0,#REF!*VLOOKUP($C153,Hypothèses!$D$6:$F$13,3,0))","v":{"$error":"#REF!"}},{"$f":"IF(ISNA(#REF!*VLOOKUP($C153,Hypothèses!$D$6:$F$13,3,0)),0,#REF!*VLOOKUP($C153,Hypothèses!$D$6:$F$13,3,0))","v":{"$error":"#REF!"}}]
[147,null,null,{"$f":"IF(ISNA(VLOOKUP(C154,Hypothèses!$D$6:$G$14,4,0)),\"\",VLOOKUP(C154,Hypothèses!$D$6:$G$14,4,0))","v":""},null,null,null,null,null,null,null,null,null,null,null,null,null,null,null,null,null,null,null,null,null,{"$f":"IF(ISNA(E154*VLOOKUP($C154,Hypothèses!$D$6:$F$13,3,0)),0,E154*VLOOKUP($C154,Hypothèses!$D$6:$F$13,3,0))","v":0},{"$f":"IF(ISNA(F154*VLOOKUP($C154,Hypothèses!$D$6:$F$13,3,0)),0,F154*VLOOKUP($C154,Hypothèses!$D$6:$F$13,3,0))","v":0},{"$f":"IF(ISNA(G154*VLOOKUP($C154,Hypothèses!$D$6:$F$13,3,0)),0,G154*VLOOKUP($C154,Hypothèses!$D$6:$F$13,3,0))","v":0},{"$f":"IF(ISNA(H154*VLOOKUP($C154,Hypothèses!$D$6:$F$13,3,0)),0,H154*VLOOKUP($C154,Hypothèses!$D$6:$F$13,3,0))","v":0},{"$f":"IF(ISNA(I154*VLOOKUP($C154,Hypothèses!$D$6:$F$13,3,0)),0,I154*VLOOKUP($C154,Hypothèses!$D$6:$F$13,3,0))","v":0},{"$f":"IF(ISNA(J154*VLOOKUP($C154,Hypothèses!$D$6:$F$13,3,0)),0,J154*VLOOKUP($C154,Hypothèses!$D$6:$F$13,3,0))","v":0},{"$f":"IF(ISNA(K154*VLOOKUP($C154,Hypothèses!$D$6:$F$13,3,0)),0,K154*VLOOKUP($C154,Hypothèses!$D$6:$F$13,3,0))","v":0},{"$f":"IF(ISNA(L154*VLOOKUP($C154,Hypothèses!$D$6:$F$13,3,0)),0,L154*VLOOKUP($C154,Hypothèses!$D$6:$F$13,3,0))","v":0},{"$f":"IF(ISNA(M154*VLOOKUP($C154,Hypothèses!$D$6:$F$13,3,0)),0,M154*VLOOKUP($C154,Hypothèses!$D$6:$F$13,3,0))","v":0},{"$f":"IF(ISNA(N154*VLOOKUP($C154,Hypothèses!$D$6:$F$13,3,0)),0,N154*VLOOKUP($C154,Hypothèses!$D$6:$F$13,3,0))","v":0},{"$f":"IF(ISNA(O154*VLOOKUP($C154,Hypothèses!$D$6:$F$13,3,0)),0,O154*VLOOKUP($C154,Hypothèses!$D$6:$F$13,3,0))","v":0},{"$f":"IF(ISNA(P154*VLOOKUP($C154,Hypothèses!$D$6:$F$13,3,0)),0,P154*VLOOKUP($C154,Hypothèses!$D$6:$F$13,3,0))","v":0},{"$f":"IF(ISNA(Q154*VLOOKUP($C154,Hypothèses!$D$6:$F$13,3,0)),0,Q154*VLOOKUP($C154,Hypothèses!$D$6:$F$13,3,0))","v":0},{"$f":"IF(ISNA(R154*VLOOKUP($C154,Hypothèses!$D$6:$F$13,3,0)),0,R154*VLOOKUP($C154,Hypothèses!$D$6:$F$13,3,0))","v":0},{"$f":"IF(ISNA(S154*VLOOKUP($C154,Hypothèses!$D$6:$F$13,3,0)),0,S154*VLOOKUP($C154,Hypothèses!$D$6:$F$13,3,0))","v":0},{"$f":"IF(ISNA(#REF!*VLOOKUP($C154,Hypothèses!$D$6:$F$13,3,0)),0,#REF!*VLOOKUP($C154,Hypothèses!$D$6:$F$13,3,0))","v":{"$error":"#REF!"}},{"$f":"IF(ISNA(#REF!*VLOOKUP($C154,Hypothèses!$D$6:$F$13,3,0)),0,#REF!*VLOOKUP($C154,Hypothèses!$D$6:$F$13,3,0))","v":{"$error":"#REF!"}},{"$f":"IF(ISNA(#REF!*VLOOKUP($C154,Hypothèses!$D$6:$F$13,3,0)),0,#REF!*VLOOKUP($C154,Hypothèses!$D$6:$F$13,3,0))","v":{"$error":"#REF!"}},{"$f":"IF(ISNA(#REF!*VLOOKUP($C154,Hypothèses!$D$6:$F$13,3,0)),0,#REF!*VLOOKUP($C154,Hypothèses!$D$6:$F$13,3,0))","v":{"$error":"#REF!"}},{"$f":"IF(ISNA(#REF!*VLOOKUP($C154,Hypothèses!$D$6:$F$13,3,0)),0,#REF!*VLOOKUP($C154,Hypothèses!$D$6:$F$13,3,0))","v":{"$error":"#REF!"}},{"$f":"IF(ISNA(#REF!*VLOOKUP($C154,Hypothèses!$D$6:$F$13,3,0)),0,#REF!*VLOOKUP($C154,Hypothèses!$D$6:$F$13,3,0))","v":{"$error":"#REF!"}},{"$f":"IF(ISNA(#REF!*VLOOKUP($C154,Hypothèses!$D$6:$F$13,3,0)),0,#REF!*VLOOKUP($C154,Hypothèses!$D$6:$F$13,3,0))","v":{"$error":"#REF!"}}]
[148,null,null,null,null,null,null,null,null,null,null,null,null,null,null,null,null,null,null,null,null,null,null,null,null,{"$f":"IF(ISNA(E155*VLOOKUP($C155,Hypothèses!$D$6:$F$13,3,0)),0,E155*VLOOKUP($C155,Hypothèses!$D$6:$F$13,3,0))","v":0},{"$f":"IF(ISNA(F155*VLOOKUP($C155,Hypothèses!$D$6:$F$13,3,0)),0,F155*VLOOKUP($C155,Hypothèses!$D$6:$F$13,3,0))","v":0},{"$f":"IF(ISNA(G155*VLOOKUP($C155,Hypothèses!$D$6:$F$13,3,0)),0,G155*VLOOKUP($C155,Hypothèses!$D$6:$F$13,3,0))","v":0},{"$f":"IF(ISNA(H155*VLOOKUP($C155,Hypothèses!$D$6:$F$13,3,0)),0,H155*VLOOKUP($C155,Hypothèses!$D$6:$F$13,3,0))","v":0},{"$f":"IF(ISNA(I155*VLOOKUP($C155,Hypothèses!$D$6:$F$13,3,0)),0,I155*VLOOKUP($C155,Hypothèses!$D$6:$F$13,3,0))","v":0},{"$f":"IF(ISNA(J155*VLOOKUP($C155,Hypothèses!$D$6:$F$13,3,0)),0,J155*VLOOKUP($C155,Hypothèses!$D$6:$F$13,3,0))","v":0},{"$f":"IF(ISNA(K155*VLOOKUP($C155,Hypothèses!$D$6:$F$13,3,0)),0,K155*VLOOKUP($C155,Hypothèses!$D$6:$F$13,3,0))","v":0},{"$f":"IF(ISNA(L155*VLOOKUP($C155,Hypothèses!$D$6:$F$13,3,0)),0,L155*VLOOKUP($C155,Hypothèses!$D$6:$F$13,3,0))","v":0},{"$f":"IF(ISNA(M155*VLOOKUP($C155,Hypothèses!$D$6:$F$13,3,0)),0,M155*VLOOKUP($C155,Hypothèses!$D$6:$F$13,3,0))","v":0},{"$f":"IF(ISNA(N155*VLOOKUP($C155,Hypothèses!$D$6:$F$13,3,0)),0,N155*VLOOKUP($C155,Hypothèses!$D$6:$F$13,3,0))","v":0},{"$f":"IF(ISNA(O155*VLOOKUP($C155,Hypothèses!$D$6:$F$13,3,0)),0,O155*VLOOKUP($C155,Hypothèses!$D$6:$F$13,3,0))","v":0},{"$f":"IF(ISNA(P155*VLOOKUP($C155,Hypothèses!$D$6:$F$13,3,0)),0,P155*VLOOKUP($C155,Hypothèses!$D$6:$F$13,3,0))","v":0},{"$f":"IF(ISNA(Q155*VLOOKUP($C155,Hypothèses!$D$6:$F$13,3,0)),0,Q155*VLOOKUP($C155,Hypothèses!$D$6:$F$13,3,0))","v":0},{"$f":"IF(ISNA(R155*VLOOKUP($C155,Hypothèses!$D$6:$F$13,3,0)),0,R155*VLOOKUP($C155,Hypothèses!$D$6:$F$13,3,0))","v":0},{"$f":"IF(ISNA(S155*VLOOKUP($C155,Hypothèses!$D$6:$F$13,3,0)),0,S155*VLOOKUP($C155,Hypothèses!$D$6:$F$13,3,0))","v":0},{"$f":"IF(ISNA(#REF!*VLOOKUP($C155,Hypothèses!$D$6:$F$13,3,0)),0,#REF!*VLOOKUP($C155,Hypothèses!$D$6:$F$13,3,0))","v":{"$error":"#REF!"}},{"$f":"IF(ISNA(#REF!*VLOOKUP($C155,Hypothèses!$D$6:$F$13,3,0)),0,#REF!*VLOOKUP($C155,Hypothèses!$D$6:$F$13,3,0))","v":{"$error":"#REF!"}},{"$f":"IF(ISNA(#REF!*VLOOKUP($C155,Hypothèses!$D$6:$F$13,3,0)),0,#REF!*VLOOKUP($C155,Hypothèses!$D$6:$F$13,3,0))","v":{"$error":"#REF!"}},{"$f":"IF(ISNA(#REF!*VLOOKUP($C155,Hypothèses!$D$6:$F$13,3,0)),0,#REF!*VLOOKUP($C155,Hypothèses!$D$6:$F$13,3,0))","v":{"$error":"#REF!"}},{"$f":"IF(ISNA(#REF!*VLOOKUP($C155,Hypothèses!$D$6:$F$13,3,0)),0,#REF!*VLOOKUP($C155,Hypothèses!$D$6:$F$13,3,0))","v":{"$error":"#REF!"}},{"$f":"IF(ISNA(#REF!*VLOOKUP($C155,Hypothèses!$D$6:$F$13,3,0)),0,#REF!*VLOOKUP($C155,Hypothèses!$D$6:$F$13,3,0))","v":{"$error":"#REF!"}},{"$f":"IF(ISNA(#REF!*VLOOKUP($C155,Hypothèses!$D$6:$F$13,3,0)),0,#REF!*VLOOKUP($C155,Hypothèses!$D$6:$F$13,3,0))","v":{"$error":"#REF!"}}]
[149,null,null,null,null,null,null,null,null,null,null,null,null,null,null,null,null,null,null,null,null,null,null,null,null,{"$f":"IF(ISNA(E156*VLOOKUP($C156,Hypothèses!$D$6:$F$13,3,0)),0,E156*VLOOKUP($C156,Hypothèses!$D$6:$F$13,3,0))","v":0},{"$f":"IF(ISNA(F156*VLOOKUP($C156,Hypothèses!$D$6:$F$13,3,0)),0,F156*VLOOKUP($C156,Hypothèses!$D$6:$F$13,3,0))","v":0},{"$f":"IF(ISNA(G156*VLOOKUP($C156,Hypothèses!$D$6:$F$13,3,0)),0,G156*VLOOKUP($C156,Hypothèses!$D$6:$F$13,3,0))","v":0},{"$f":"IF(ISNA(H156*VLOOKUP($C156,Hypothèses!$D$6:$F$13,3,0)),0,H156*VLOOKUP($C156,Hypothèses!$D$6:$F$13,3,0))","v":0},{"$f":"IF(ISNA(I156*VLOOKUP($C156,Hypothèses!$D$6:$F$13,3,0)),0,I156*VLOOKUP($C156,Hypothèses!$D$6:$F$13,3,0))","v":0},{"$f":"IF(ISNA(J156*VLOOKUP($C156,Hypothèses!$D$6:$F$13,3,0)),0,J156*VLOOKUP($C156,Hypothèses!$D$6:$F$13,3,0))","v":0},{"$f":"IF(ISNA(K156*VLOOKUP($C156,Hypothèses!$D$6:$F$13,3,0)),0,K156*VLOOKUP($C156,Hypothèses!$D$6:$F$13,3,0))","v":0},{"$f":"IF(ISNA(L156*VLOOKUP($C156,Hypothèses!$D$6:$F$13,3,0)),0,L156*VLOOKUP($C156,Hypothèses!$D$6:$F$13,3,0))","v":0},{"$f":"IF(ISNA(M156*VLOOKUP($C156,Hypothèses!$D$6:$F$13,3,0)),0,M156*VLOOKUP($C156,Hypothèses!$D$6:$F$13,3,0))","v":0},{"$f":"IF(ISNA(N156*VLOOKUP($C156,Hypothèses!$D$6:$F$13,3,0)),0,N156*VLOOKUP($C156,Hypothèses!$D$6:$F$13,3,0))","v":0},{"$f":"IF(ISNA(O156*VLOOKUP($C156,Hypothèses!$D$6:$F$13,3,0)),0,O156*VLOOKUP($C156,Hypothèses!$D$6:$F$13,3,0))","v":0},{"$f":"IF(ISNA(P156*VLOOKUP($C156,Hypothèses!$D$6:$F$13,3,0)),0,P156*VLOOKUP($C156,Hypothèses!$D$6:$F$13,3,0))","v":0},{"$f":"IF(ISNA(Q156*VLOOKUP($C156,Hypothèses!$D$6:$F$13,3,0)),0,Q156*VLOOKUP($C156,Hypothèses!$D$6:$F$13,3,0))","v":0},{"$f":"IF(ISNA(R156*VLOOKUP($C156,Hypothèses!$D$6:$F$13,3,0)),0,R156*VLOOKUP($C156,Hypothèses!$D$6:$F$13,3,0))","v":0},{"$f":"IF(ISNA(S156*VLOOKUP($C156,Hypothèses!$D$6:$F$13,3,0)),0,S156*VLOOKUP($C156,Hypothèses!$D$6:$F$13,3,0))","v":0},{"$f":"IF(ISNA(#REF!*VLOOKUP($C156,Hypothèses!$D$6:$F$13,3,0)),0,#REF!*VLOOKUP($C156,Hypothèses!$D$6:$F$13,3,0))","v":{"$error":"#REF!"}},{"$f":"IF(ISNA(#REF!*VLOOKUP($C156,Hypothèses!$D$6:$F$13,3,0)),0,#REF!*VLOOKUP($C156,Hypothèses!$D$6:$F$13,3,0))","v":{"$error":"#REF!"}},{"$f":"IF(ISNA(#REF!*VLOOKUP($C156,Hypothèses!$D$6:$F$13,3,0)),0,#REF!*VLOOKUP($C156,Hypothèses!$D$6:$F$13,3,0))","v":{"$error":"#REF!"}},{"$f":"IF(ISNA(#REF!*VLOOKUP($C156,Hypothèses!$D$6:$F$13,3,0)),0,#REF!*VLOOKUP($C156,Hypothèses!$D$6:$F$13,3,0))","v":{"$error":"#REF!"}},{"$f":"IF(ISNA(#REF!*VLOOKUP($C156,Hypothèses!$D$6:$F$13,3,0)),0,#REF!*VLOOKUP($C156,Hypothèses!$D$6:$F$13,3,0))","v":{"$error":"#REF!"}},{"$f":"IF(ISNA(#REF!*VLOOKUP($C156,Hypothèses!$D$6:$F$13,3,0)),0,#REF!*VLOOKUP($C156,Hypothèses!$D$6:$F$13,3,0))","v":{"$error":"#REF!"}},{"$f":"IF(ISNA(#REF!*VLOOKUP($C156,Hypothèses!$D$6:$F$13,3,0)),0,#REF!*VLOOKUP($C156,Hypothèses!$D$6:$F$13,3,0))","v":{"$error":"#REF!"}}]
[150,null,null,null,null,null,null,null,null,null,null,null,null,null,null,null,null,null,null,null,null,null,null,null,null,{"$f":"IF(ISNA(E157*VLOOKUP($C157,Hypothèses!$D$6:$F$13,3,0)),0,E157*VLOOKUP($C157,Hypothèses!$D$6:$F$13,3,0))","v":0},{"$f":"IF(ISNA(F157*VLOOKUP($C157,Hypothèses!$D$6:$F$13,3,0)),0,F157*VLOOKUP($C157,Hypothèses!$D$6:$F$13,3,0))","v":0},{"$f":"IF(ISNA(G157*VLOOKUP($C157,Hypothèses!$D$6:$F$13,3,0)),0,G157*VLOOKUP($C157,Hypothèses!$D$6:$F$13,3,0))","v":0},{"$f":"IF(ISNA(H157*VLOOKUP($C157,Hypothèses!$D$6:$F$13,3,0)),0,H157*VLOOKUP($C157,Hypothèses!$D$6:$F$13,3,0))","v":0},{"$f":"IF(ISNA(I157*VLOOKUP($C157,Hypothèses!$D$6:$F$13,3,0)),0,I157*VLOOKUP($C157,Hypothèses!$D$6:$F$13,3,0))","v":0},{"$f":"IF(ISNA(J157*VLOOKUP($C157,Hypothèses!$D$6:$F$13,3,0)),0,J157*VLOOKUP($C157,Hypothèses!$D$6:$F$13,3,0))","v":0},{"$f":"IF(ISNA(K157*VLOOKUP($C157,Hypothèses!$D$6:$F$13,3,0)),0,K157*VLOOKUP($C157,Hypothèses!$D$6:$F$13,3,0))","v":0},{"$f":"IF(ISNA(L157*VLOOKUP($C157,Hypothèses!$D$6:$F$13,3,0)),0,L157*VLOOKUP($C157,Hypothèses!$D$6:$F$13,3,0))","v":0},{"$f":"IF(ISNA(M157*VLOOKUP($C157,Hypothèses!$D$6:$F$13,3,0)),0,M157*VLOOKUP($C157,Hypothèses!$D$6:$F$13,3,0))","v":0},{"$f":"IF(ISNA(N157*VLOOKUP($C157,Hypothèses!$D$6:$F$13,3,0)),0,N157*VLOOKUP($C157,Hypothèses!$D$6:$F$13,3,0))","v":0},{"$f":"IF(ISNA(O157*VLOOKUP($C157,Hypothèses!$D$6:$F$13,3,0)),0,O157*VLOOKUP($C157,Hypothèses!$D$6:$F$13,3,0))","v":0},{"$f":"IF(ISNA(P157*VLOOKUP($C157,Hypothèses!$D$6:$F$13,3,0)),0,P157*VLOOKUP($C157,Hypothèses!$D$6:$F$13,3,0))","v":0},{"$f":"IF(ISNA(Q157*VLOOKUP($C157,Hypothèses!$D$6:$F$13,3,0)),0,Q157*VLOOKUP($C157,Hypothèses!$D$6:$F$13,3,0))","v":0},{"$f":"IF(ISNA(R157*VLOOKUP($C157,Hypothèses!$D$6:$F$13,3,0)),0,R157*VLOOKUP($C157,Hypothèses!$D$6:$F$13,3,0))","v":0},{"$f":"IF(ISNA(S157*VLOOKUP($C157,Hypothèses!$D$6:$F$13,3,0)),0,S157*VLOOKUP($C157,Hypothèses!$D$6:$F$13,3,0))","v":0},{"$f":"IF(ISNA(#REF!*VLOOKUP($C157,Hypothèses!$D$6:$F$13,3,0)),0,#REF!*VLOOKUP($C157,Hypothèses!$D$6:$F$13,3,0))","v":{"$error":"#REF!"}},{"$f":"IF(ISNA(#REF!*VLOOKUP($C157,Hypothèses!$D$6:$F$13,3,0)),0,#REF!*VLOOKUP($C157,Hypothèses!$D$6:$F$13,3,0))","v":{"$error":"#REF!"}},{"$f":"IF(ISNA(#REF!*VLOOKUP($C157,Hypothèses!$D$6:$F$13,3,0)),0,#REF!*VLOOKUP($C157,Hypothèses!$D$6:$F$13,3,0))","v":{"$error":"#REF!"}},{"$f":"IF(ISNA(#REF!*VLOOKUP($C157,Hypothèses!$D$6:$F$13,3,0)),0,#REF!*VLOOKUP($C157,Hypothèses!$D$6:$F$13,3,0))","v":{"$error":"#REF!"}},{"$f":"IF(ISNA(#REF!*VLOOKUP($C157,Hypothèses!$D$6:$F$13,3,0)),0,#REF!*VLOOKUP($C157,Hypothèses!$D$6:$F$13,3,0))","v":{"$error":"#REF!"}},{"$f":"IF(ISNA(#REF!*VLOOKUP($C157,Hypothèses!$D$6:$F$13,3,0)),0,#REF!*VLOOKUP($C157,Hypothèses!$D$6:$F$13,3,0))","v":{"$error":"#REF!"}},{"$f":"IF(ISNA(#REF!*VLOOKUP($C157,Hypothèses!$D$6:$F$13,3,0)),0,#REF!*VLOOKUP($C157,Hypothèses!$D$6:$F$13,3,0))","v":{"$error":"#REF!"}}]
[]
[]
["Electricité bâtiments (hors chauffage) - kWh"]
["N°","Nom du bâtiment",null,null,2006,2010,2011,2012,2013,2014,2015,2016,2017,2018,2019,2020,2021,2022,2023,"Branche d'activité (choisir dans la liste déroulante)","Superficie chauffée (m²)","Nombre d'emploi (ETP)","Nombre d'élèves (enseignement)","Nombre de lits (soins de santé, internat)","Code EAN"]
[1]
[2]
[3]
[4]
[5]
[6]
[7]
[8]
[9]
[10]
[11]
[12]
[13]
[14]
[15]
[16]
[17]
[18]
[19]
[20]
[21]
[22]
[23]
[24]
[25]
[26]
[27]
[28]
[29]
[30]
[31]
[32]
[33]
[34]
[35]
[36]
[37]
[38]
[39]
[40]
[41]
[42]
[43]
[44]
[45]
[46]
[47]
[48]
[49]
[50]
[51]
[52]
[53]
[54]
[55]
[56]
[57]
[58]
[59]
[60]
[61]
[62]
[63]
[64]
[65]
[66]
[67]
[68]
[69]
[70]
[71]
[72]
[73]
[74]
[75]
[76]
[77]
[78]
[79]
[80]
[81]
[82]
[83]
[84]
[85]
[86]
[87]
[88]
[89]
[90]
[91]
[92]
[93]
[94]
[95]
[96]
[97]
[98]
[99]
[100]
[101]
[102]
[103]
[104]
[105]
[106]
[107]
[108]
[109]
[110]
[111]
[112]
[113]
[114]
[115]
[116]
[117]
[118]
[119]
[120]
[121]
[122]
[123]
[124]
[125]
[126]
[127]
[128]
[129]
[130]
[131]
[132]
[133]
[134]
[135]
[136]
[137]
[138]
[139]
[140]
[141]
[142]
[143]
[144]
[145]
[146]
[147]
[148]
[149]
[150]
[]
[]
["Electricité autres équipements - kWh"]
["N°","Nom du site",null,null,2006,2010,2011,2012,2013,2014,2015,2016,2017,2018,2019,2020,2021,2022,2023,"Code EAN"]
[1]
[2]
[3]
[4]
[5]
[6]
[7]
[8]
[9]
[10]
[11]
[12]
[13]
[14]
[15]
[16]
[17]
[18]
[19]
[20]
[21]
[22]
[23]
[24]
[25]
[26]
[27]
[28]
[29]
[30]
[]
[]
["Eclairage public - kWh"]
[null,"Commentaire",null,null,2006,2010,2011,2012,2013,2014,2015,2016,2017,2018,2019,2020,2021,2022,2023]
[]
[]
[]
["Matériel roulant",null,null,null,null,null,null,null,null,null,null,null,null,null,null,null,null,null,null,null,null,null,null,null,null,"kWh"]
["Vecteur","Unité","Commentaire",null,2006,2010,2011,2012,2013,2014,2015,2016,2017,2018,2019,2020,2021,2022,2023,null,null,null,null,null,null,2006,2010,2011,2012,2013,2014,2015,2016,2017,2018,2019,2020,2021,2022,2023,2024,2025,2026,2027,2028,2029,2030]
["Electricité","kWh",null,null,null,null,null,null,null,null,null,null,null,null,null,null,null,null,null,null,null,null,null,null,null,{"$f":"IF(ISNA(E355*VLOOKUP($A355,Hypothèses!$D$6:$F$13,3,0)),0,E355*VLOOKUP($A355,Hypothèses!$D$6:$F$13,3,0))","v":0},{"$f":"IF(ISNA(F355*VLOOKUP($A355,Hypothèses!$D$6:$F$13,3,0)),0,F355*VLOOKUP($A355,Hypothèses!$D$6:$F$13,3,0))","v":0},{"$f":"IF(ISNA(G355*VLOOKUP($A355,Hypothèses!$D$6:$F$13,3,0)),0,G355*VLOOKUP($A355,Hypothèses!$D$6:$F$13,3,0))","v":0},{"$f":"IF(ISNA(H355*VLOOKUP($A355,Hypothèses!$D$6:$F$13,3,0)),0,H355*VLOOKUP($A355,Hypothèses!$D$6:$F$13,3,0))","v":0},{"$f":"IF(ISNA(I355*VLOOKUP($A355,Hypothèses!$D$6:$F$13,3,0)),0,I355*VLOOKUP($A355,Hypothèses!$D$6:$F$13,3,0))","v":0},{"$f":"IF(ISNA(J355*VLOOKUP($A355,Hypothèses!$D$6:$F$13,3,0)),0,J355*VLOOKUP($A355,Hypothèses!$D$6:$F$13,3,0))","v":0},{"$f":"IF(ISNA(K355*VLOOKUP($A355,Hypothèses!$D$6:$F$13,3,0)),0,K355*VLOOKUP($A355,Hypothèses!$D$6:$F$13,3,0))","v":0},{"$f":"IF(ISNA(L355*VLOOKUP($A355,Hypothèses!$D$6:$F$13,3,0)),0,L355*VLOOKUP($A355,Hypothèses!$D$6:$F$13,3,0))","v":0},{"$f":"IF(ISNA(M355*VLOOKUP($A355,Hypothèses!$D$6:$F$13,3,0)),0,M355*VLOOKUP($A355,Hypothèses!$D$6:$F$13,3,0))","v":0},{"$f":"IF(ISNA(N355*VLOOKUP($A355,Hypothèses!$D$6:$F$13,3,0)),0,N355*VLOOKUP($A355,Hypothèses!$D$6:$F$13,3,0))","v":0},{"$f":"IF(ISNA(O355*VLOOKUP($A355,Hypothèses!$D$6:$F$13,3,0)),0,O355*VLOOKUP($A355,Hypothèses!$D$6:$F$13,3,0))","v":0},{"$f":"IF(ISNA(P355*VLOOKUP($A355,Hypothèses!$D$6:$F$13,3,0)),0,P355*VLOOKUP($A355,Hypothèses!$D$6:$F$13,3,0))","v":0},{"$f":"IF(ISNA(Q355*VLOOKUP($A355,Hypothèses!$D$6:$F$13,3,0)),0,Q355*VLOOKUP($A355,Hypothèses!$D$6:$F$13,3,0))","v":0},{"$f":"IF(ISNA(R355*VLOOKUP($A355,Hypothèses!$D$6:$F$13,3,0)),0,R355*VLOOKUP($A355,Hypothèses!$D$6:$F$13,3,0))","v":0},{"$f":"IF(ISNA(S355*VLOOKUP($A355,Hypothèses!$D$6:$F$13,3,0)),0,S355*VLOOKUP($A355,Hypothèses!$D$6:$F$13,3,0))","v":0},{"$f":"IF(ISNA(#REF!*VLOOKUP($A355,Hypothèses!$D$6:$F$13,3,0)),0,#REF!*VLOOKUP($A355,Hypothèses!$D$6:$F$13,3,0))","v":{"$error":"#REF!"}},{"$f":"IF(ISNA(#REF!*VLOOKUP($A355,Hypothèses!$D$6:$F$13,3,0)),0,#REF!*VLOOKUP($A355,Hypothèses!$D$6:$F$13,3,0))","v":{"$error":"#REF!"}},{"$f":"IF(ISNA(#REF!*VLOOKUP($A355,Hypothèses!$D$6:$F$13,3,0)),0,#REF!*VLOOKUP($A355,Hypothèses!$D$6:$F$13,3,0))","v":{"$error":"#REF!"}},{"$f":"IF(ISNA(#REF!*VLOOKUP($A355,Hypothèses!$D$6:$F$13,3,0)),0,#REF!*VLOOKUP($A355,Hypothèses!$D$6:$F$13,3,0))","v":{"$error":"#REF!"}},{"$f":"IF(ISNA(#REF!*VLOOKUP($A355,Hypothèses!$D$6:$F$13,3,0)),0,#REF!*VLOOKUP($A355,Hypothèses!$D$6:$F$13,3,0))","v":{"$error":"#REF!"}},{"$f":"IF(ISNA(#REF!*VLOOKUP($A355,Hypothèses!$D$6:$F$13,3,0)),0,#REF!*VLOOKUP($A355,Hypothèses!$D$6:$F$13,3,0))","v":{"$error":"#REF!"}},{"$f":"IF(ISNA(#REF!*VLOOKUP($A355,Hypothèses!$D$6:$F$13,3,0)),0,#REF!*VLOOKUP($A355,Hypothèses!$D$6:$F$13,3,0))","v":{"$error":"#REF!"}}]
["Essence","Litres",null,null,null,null,null,null,null,null,null,null,null,null,null,null,null,null,null,null,null,null,null,null,null,{"$f":"IF(ISNA(E356*VLOOKUP($A356,Hypothèses!$D$6:$F$13,3,0)),0,E356*VLOOKUP($A356,Hypothèses!$D$6:$F$13,3,0))","v":0},{"$f":"IF(ISNA(F356*VLOOKUP($A356,Hypothèses!$D$6:$F$13,3,0)),0,F356*VLOOKUP($A356,Hypothèses!$D$6:$F$13,3,0))","v":0},{"$f":"IF(ISNA(G356*VLOOKUP($A356,Hypothèses!$D$6:$F$13,3,0)),0,G356*VLOOKUP($A356,Hypothèses!$D$6:$F$13,3,0))","v":0},{"$f":"IF(ISNA(H356*VLOOKUP($A356,Hypothèses!$D$6:$F$13,3,0)),0,H356*VLOOKUP($A356,Hypothèses!$D$6:$F$13,3,0))","v":0},{"$f":"IF(ISNA(I356*VLOOKUP($A356,Hypothèses!$D$6:$F$13,3,0)),0,I356*VLOOKUP($A356,Hypothèses!$D$6:$F$13,3,0))","v":0},{"$f":"IF(ISNA(J356*VLOOKUP($A356,Hypothèses!$D$6:$F$13,3,0)),0,J356*VLOOKUP($A356,Hypothèses!$D$6:$F$13,3,0))","v":0},{"$f":"IF(ISNA(K356*VLOOKUP($A356,Hypothèses!$D$6:$F$13,3,0)),0,K356*VLOOKUP($A356,Hypothèses!$D$6:$F$13,3,0))","v":0},{"$f":"IF(ISNA(L356*VLOOKUP($A356,Hypothèses!$D$6:$F$13,3,0)),0,L356*VLOOKUP($A356,Hypothèses!$D$6:$F$13,3,0))","v":0},{"$f":"IF(ISNA(M356*VLOOKUP($A356,Hypothèses!$D$6:$F$13,3,0)),0,M356*VLOOKUP($A356,Hypothèses!$D$6:$F$13,3,0))","v":0},{"$f":"IF(ISNA(N356*VLOOKUP($A356,Hypothèses!$D$6:$F$13,3,0)),0,N356*VLOOKUP($A356,Hypothèses!$D$6:$F$13,3,0))","v":0},{"$f":"IF(ISNA(O356*VLOOKUP($A356,Hypothèses!$D$6:$F$13,3,0)),0,O356*VLOOKUP($A356,Hypothèses!$D$6:$F$13,3,0))","v":0},{"$f":"IF(ISNA(P356*VLOOKUP($A356,Hypothèses!$D$6:$F$13,3,0)),0,P356*VLOOKUP($A356,Hypothèses!$D$6:$F$13,3,0))","v":0},{"$f":"IF(ISNA(Q356*VLOOKUP($A356,Hypothèses!$D$6:$F$13,3,0)),0,Q356*VLOOKUP($A356,Hypothèses!$D$6:$F$13,3,0))","v":0},{"$f":"IF(ISNA(R356*VLOOKUP($A356,Hypothèses!$D$6:$F$13,3,0)),0,R356*VLOOKUP($A356,Hypothèses!$D$6:$F$13,3,0))","v":0},{"$f":"IF(ISNA(S356*VLOOKUP($A356,Hypothèses!$D$6:$F$13,3,0)),0,S356*VLOOKUP($A356,Hypothèses!$D$6:$F$13,3,0))","v":0},{"$f":"IF(ISNA(#REF!*VLOOKUP($A356,Hypothèses!$D$6:$F$13,3,0)),0,#REF!*VLOOKUP($A356,Hypothèses!$D$6:$F$13,3,0))","v":{"$error":"#REF!"}},{"$f":"IF(ISNA(#REF!*VLOOKUP($A356,Hypothèses!$D$6:$F$13,3,0)),0,#REF!*VLOOKUP($A356,Hypothèses!$D$6:$F$13,3,0))","v":{"$error":"#REF!"}},{"$f":"IF(ISNA(#REF!*VLOOKUP($A356,Hypothèses!$D$6:$F$13,3,0)),0,#REF!*VLOOKUP($A356,Hypothèses!$D$6:$F$13,3,0))","v":{"$error":"#REF!"}},{"$f":"IF(ISNA(#REF!*VLOOKUP($A356,Hypothèses!$D$6:$F$13,3,0)),0,#REF!*VLOOKUP($A356,Hypothèses!$D$6:$F$13,3,0))","v":{"$error":"#REF!"}},{"$f":"IF(ISNA(#REF!*VLOOKUP($A356,Hypothèses!$D$6:$F$13,3,0)),0,#REF!*VLOOKUP($A356,Hypothèses!$D$6:$F$13,3,0))","v":{"$error":"#REF!"}},{"$f":"IF(ISNA(#REF!*VLOOKUP($A356,Hypothèses!$D$6:$F$13,3,0)),0,#REF!*VLOOKUP($A356,Hypothèses!$D$6:$F$13,3,0))","v":{"$error":"#REF!"}},{"$f":"IF(ISNA(#REF!*VLOOKUP($A356,Hypothèses!$D$6:$F$13,3,0)),0,#REF!*VLOOKUP($A356,Hypothèses!$D$6:$F$13,3,0))","v":{"$error":"#REF!"}}]
["Diesel, Mazout","Litres",null,null,null,null,null,null,null,null,null,null,null,null,null,null,null,null,null,null,null,null,null,null,null,{"$f":"IF(ISNA(E357*VLOOKUP($A357,Hypothèses!$D$6:$F$13,3,0)),0,E357*VLOOKUP($A357,Hypothèses!$D$6:$F$13,3,0))","v":0},{"$f":"IF(ISNA(F357*VLOOKUP($A357,Hypothèses!$D$6:$F$13,3,0)),0,F357*VLOOKUP($A357,Hypothèses!$D$6:$F$13,3,0))","v":0},{"$f":"IF(ISNA(G357*VLOOKUP($A357,Hypothèses!$D$6:$F$13,3,0)),0,G357*VLOOKUP($A357,Hypothèses!$D$6:$F$13,3,0))","v":0},{"$f":"IF(ISNA(H357*VLOOKUP($A357,Hypothèses!$D$6:$F$13,3,0)),0,H357*VLOOKUP($A357,Hypothèses!$D$6:$F$13,3,0))","v":0},{"$f":"IF(ISNA(I357*VLOOKUP($A357,Hypothèses!$D$6:$F$13,3,0)),0,I357*VLOOKUP($A357,Hypothèses!$D$6:$F$13,3,0))","v":0},{"$f":"IF(ISNA(J357*VLOOKUP($A357,Hypothèses!$D$6:$F$13,3,0)),0,J357*VLOOKUP($A357,Hypothèses!$D$6:$F$13,3,0))","v":0},{"$f":"IF(ISNA(K357*VLOOKUP($A357,Hypothèses!$D$6:$F$13,3,0)),0,K357*VLOOKUP($A357,Hypothèses!$D$6:$F$13,3,0))","v":0},{"$f":"IF(ISNA(L357*VLOOKUP($A357,Hypothèses!$D$6:$F$13,3,0)),0,L357*VLOOKUP($A357,Hypothèses!$D$6:$F$13,3,0))","v":0},{"$f":"IF(ISNA(M357*VLOOKUP($A357,Hypothèses!$D$6:$F$13,3,0)),0,M357*VLOOKUP($A357,Hypothèses!$D$6:$F$13,3,0))","v":0},{"$f":"IF(ISNA(N357*VLOOKUP($A357,Hypothèses!$D$6:$F$13,3,0)),0,N357*VLOOKUP($A357,Hypothèses!$D$6:$F$13,3,0))","v":0},{"$f":"IF(ISNA(O357*VLOOKUP($A357,Hypothèses!$D$6:$F$13,3,0)),0,O357*VLOOKUP($A357,Hypothèses!$D$6:$F$13,3,0))","v":0},{"$f":"IF(ISNA(P357*VLOOKUP($A357,Hypothèses!$D$6:$F$13,3,0)),0,P357*VLOOKUP($A357,Hypothèses!$D$6:$F$13,3,0))","v":0},{"$f":"IF(ISNA(Q357*VLOOKUP($A357,Hypothèses!$D$6:$F$13,3,0)),0,Q357*VLOOKUP($A357,Hypothèses!$D$6:$F$13,3,0))","v":0},{"$f":"IF(ISNA(R357*VLOOKUP($A357,Hypothèses!$D$6:$F$13,3,0)),0,R357*VLOOKUP($A357,Hypothèses!$D$6:$F$13,3,0))","v":0},{"$f":"IF(ISNA(S357*VLOOKUP($A357,Hypothèses!$D$6:$F$13,3,0)),0,S357*VLOOKUP($A357,Hypothèses!$D$6:$F$13,3,0))","v":0},{"$f":"IF(ISNA(#REF!*VLOOKUP($A357,Hypothèses!$D$6:$F$13,3,0)),0,#REF!*VLOOKUP($A357,Hypothèses!$D$6:$F$13,3,0))","v":{"$error":"#REF!"}},{"$f":"IF(ISNA(#REF!*VLOOKUP($A357,Hypothèses!$D$6:$F$13,3,0)),0,#REF!*VLOOKUP($A357,Hypothèses!$D$6:$F$13,3,0))","v":{"$error":"#REF!"}},{"$f":"IF(ISNA(#REF!*VLOOKUP($A357,Hypothèses!$D$6:$F$13,3,0)),0,#REF!*VLOOKUP($A357,Hypothèses!$D$6:$F$13,3,0))","v":{"$error":"#REF!"}},{"$f":"IF(ISNA(#REF!*VLOOKUP($A357,Hypothèses!$D$6:$F$13,3,0)),0,#REF!*VLOOKUP($A357,Hypothèses!$D$6:$F$13,3,0))","v":{"$error":"#REF!"}},{"$f":"IF(ISNA(#REF!*VLOOKUP($A357,Hypothèses!$D$6:$F$13,3,0)),0,#REF!*VLOOKUP($A357,Hypothèses!$D$6:$F$13,3,0))","v":{"$error":"#REF!"}},{"$f":"IF(ISNA(#REF!*VLOOKUP($A357,Hypothèses!$D$6:$F$13,3,0)),0,#REF!*VLOOKUP($A357,Hypothèses!$D$6:$F$13,3,0))","v":{"$error":"#REF!"}},{"$f":"IF(ISNA(#REF!*VLOOKUP($A357,Hypothèses!$D$6:$F$13,3,0)),0,#REF!*VLOOKUP($A357,Hypothèses!$D$6:$F$13,3,0))","v":{"$error":"#REF!"}}]
["LPG","Litres",null,null,null,null,null,null,null,null,null,null,null,null,null,null,null,null,null,null,null,null,null,null,null,{"$f":"IF(ISNA(E358*VLOOKUP(\"Propane, butane, LPG\",Hypothèses!$D$6:$F$13,3,0)),0,E358*VLOOKUP(\"Propane, butane, LPG\",Hypothèses!$D$6:$F$13,3,0))","v":0},{"$f":"IF(ISNA(F358*VLOOKUP(\"Propane, butane, LPG\",Hypothèses!$D$6:$F$13,3,0)),0,F358*VLOOKUP(\"Propane, butane, LPG\",Hypothèses!$D$6:$F$13,3,0))","v":0},{"$f":"IF(ISNA(G358*VLOOKUP(\"Propane, butane, LPG\",Hypothèses!$D$6:$F$13,3,0)),0,G358*VLOOKUP(\"Propane, butane, LPG\",Hypothèses!$D$6:$F$13,3,0))","v":0},{"$f":"IF(ISNA(H358*VLOOKUP(\"Propane, butane, LPG\",Hypothèses!$D$6:$F$13,3,0)),0,H358*VLOOKUP(\"Propane, butane, LPG\",Hypothèses!$D$6:$F$13,3,0))","v":0},{"$f":"IF(ISNA(I358*VLOOKUP(\"Propane, butane, LPG\",Hypothèses!$D$6:$F$13,3,0)),0,I358*VLOOKUP(\"Propane, butane, LPG\",Hypothèses!$D$6:$F$13,3,0))","v":0},{"$f":"IF(ISNA(J358*VLOOKUP(\"Propane, butane, LPG\",Hypothèses!$D$6:$F$13,3,0)),0,J358*VLOOKUP(\"Propane, butane, LPG\",Hypothèses!$D$6:$F$13,3,0))","v":0},{"$f":"IF(ISNA(K358*VLOOKUP(\"Propane, butane, LPG\",Hypothèses!$D$6:$F$13,3,0)),0,K358*VLOOKUP(\"Propane, butane, LPG\",Hypothèses!$D$6:$F$13,3,0))","v":0},{"$f":"IF(ISNA(L358*VLOOKUP(\"Propane, butane, LPG\",Hypothèses!$D$6:$F$13,3,0)),0,L358*VLOOKUP(\"Propane, butane, LPG\",Hypothèses!$D$6:$F$13,3,0))","v":0},{"$f":"IF(ISNA(M358*VLOOKUP(\"Propane, butane, LPG\",Hypothèses!$D$6:$F$13,3,0)),0,M358*VLOOKUP(\"Propane, butane, LPG\",Hypothèses!$D$6:$F$13,3,0))","v":0},{"$f":"IF(ISNA(N358*VLOOKUP(\"Propane, butane, LPG\",Hypothèses!$D$6:$F$13,3,0)),0,N358*VLOOKUP(\"Propane, butane, LPG\",Hypothèses!$D$6:$F$13,3,0))","v":0},{"$f":"IF(ISNA(O358*VLOOKUP(\"Propane, butane, LPG\",Hypothèses!$D$6:$F$13,3,0)),0,O358*VLOOKUP(\"Propane, butane, LPG\",Hypothèses!$D$6:$F$13,3,0))","v":0},{"$f":"IF(ISNA(P358*VLOOKUP(\"Propane, butane, LPG\",Hypothèses!$D$6:$F$13,3,0)),0,P358*VLOOKUP(\"Propane, butane, LPG\",Hypothèses!$D$6:$F$13,3,0))","v":0},{"$f":"IF(ISNA(Q358*VLOOKUP(\"Propane, butane, LPG\",Hypothèses!$D$6:$F$13,3,0)),0,Q358*VLOOKUP(\"Propane, butane, LPG\",Hypothèses!$D$6:$F$13,3,0))","v":0},{"$f":"IF(ISNA(R358*VLOOKUP(\"Propane, butane, LPG\",Hypothèses!$D$6:$F$13,3,0)),0,R358*VLOOKUP(\"Propane, butane, LPG\",Hypothèses!$D$6:$F$13,3,0))","v":0},{"$f":"IF(ISNA(S358*VLOOKUP(\"Propane, butane, LPG\",Hypothèses!$D$6:$F$13,3,0)),0,S358*VLOOKUP(\"Propane, butane, LPG\",Hypothèses!$D$6:$F$13,3,0))","v":0},{"$f":"IF(ISNA(#REF!*VLOOKUP(\"Propane, butane, LPG\",Hypothèses!$D$6:$F$13,3,0)),0,#REF!*VLOOKUP(\"Propane, butane, LPG\",Hypothèses!$D$6:$F$13,3,0))","v":{"$error":"#REF!"}},{"$f":"IF(ISNA(#REF!*VLOOKUP(\"Propane, butane, LPG\",Hypothèses!$D$6:$F$13,3,0)),0,#REF!*VLOOKUP(\"Propane, butane, LPG\",Hypothèses!$D$6:$F$13,3,0))","v":{"$error":"#REF!"}},{"$f":"IF(ISNA(#REF!*VLOOKUP(\"Propane, butane, LPG\",Hypothèses!$D$6:$F$13,3,0)),0,#REF!*VLOOKUP(\"Propane, butane, LPG\",Hypothèses!$D$6:$F$13,3,0))","v":{"$error":"#REF!"}},{"$f":"IF(ISNA(#REF!*VLOOKUP(\"Propane, butane, LPG\",Hypothèses!$D$6:$F$13,3,0)),0,#REF!*VLOOKUP(\"Propane, butane, LPG\",Hypothèses!$D$6:$F$13,3,0))","v":{"$error":"#REF!"}},{"$f":"IF(ISNA(#REF!*VLOOKUP(\"Propane, butane, LPG\",Hypothèses!$D$6:$F$13,3,0)),0,#REF!*VLOOKUP(\"Propane, butane, LPG\",Hypothèses!$D$6:$F$13,3,0))","v":{"$error":"#REF!"}},{"$f":"IF(ISNA(#REF!*VLOOKUP(\"Propane, butane, LPG\",Hypothèses!$D$6:$F$13,3,0)),0,#REF!*VLOOKUP(\"Propane, butane, LPG\",Hypothèses!$D$6:$F$13,3,0))","v":{"$error":"#REF!"}},{"$f":"IF(ISNA(#REF!*VLOOKUP(\"Propane, butane, LPG\",Hypothèses!$D$6:$F$13,3,0)),0,#REF!*VLOOKUP(\"Propane, butane, LPG\",Hypothèses!$D$6:$F$13,3,0))","v":{"$error":"#REF!"}}]
["Gaz naturel","m³",null,null,null,null,null,null,null,null,null,null,null,null,null,null,null,null,null,null,null,null,null,null,null,{"$f":"IF(ISNA(E359*VLOOKUP(\"Gaz naturel (m³)\",Hypothèses!$D$6:$F$13,3,0)),0,E359*VLOOKUP(\"Gaz naturel (m³)\",Hypothèses!$D$6:$F$13,3,0))","v":0},{"$f":"IF(ISNA(F359*VLOOKUP(\"Gaz naturel (m³)\",Hypothèses!$D$6:$F$13,3,0)),0,F359*VLOOKUP(\"Gaz naturel (m³)\",Hypothèses!$D$6:$F$13,3,0))","v":0},{"$f":"IF(ISNA(G359*VLOOKUP(\"Gaz naturel (m³)\",Hypothèses!$D$6:$F$13,3,0)),0,G359*VLOOKUP(\"Gaz naturel (m³)\",Hypothèses!$D$6:$F$13,3,0))","v":0},{"$f":"IF(ISNA(H359*VLOOKUP(\"Gaz naturel (m³)\",Hypothèses!$D$6:$F$13,3,0)),0,H359*VLOOKUP(\"Gaz naturel (m³)\",Hypothèses!$D$6:$F$13,3,0))","v":0},{"$f":"IF(ISNA(I359*VLOOKUP(\"Gaz naturel (m³)\",Hypothèses!$D$6:$F$13,3,0)),0,I359*VLOOKUP(\"Gaz naturel (m³)\",Hypothèses!$D$6:$F$13,3,0))","v":0},{"$f":"IF(ISNA(J359*VLOOKUP(\"Gaz naturel (m³)\",Hypothèses!$D$6:$F$13,3,0)),0,J359*VLOOKUP(\"Gaz naturel (m³)\",Hypothèses!$D$6:$F$13,3,0))","v":0},{"$f":"IF(ISNA(K359*VLOOKUP(\"Gaz naturel (m³)\",Hypothèses!$D$6:$F$13,3,0)),0,K359*VLOOKUP(\"Gaz naturel (m³)\",Hypothèses!$D$6:$F$13,3,0))","v":0},{"$f":"IF(ISNA(L359*VLOOKUP(\"Gaz naturel (m³)\",Hypothèses!$D$6:$F$13,3,0)),0,L359*VLOOKUP(\"Gaz naturel (m³)\",Hypothèses!$D$6:$F$13,3,0))","v":0},{"$f":"IF(ISNA(M359*VLOOKUP(\"Gaz naturel (m³)\",Hypothèses!$D$6:$F$13,3,0)),0,M359*VLOOKUP(\"Gaz naturel (m³)\",Hypothèses!$D$6:$F$13,3,0))","v":0},{"$f":"IF(ISNA(N359*VLOOKUP(\"Gaz naturel (m³)\",Hypothèses!$D$6:$F$13,3,0)),0,N359*VLOOKUP(\"Gaz naturel (m³)\",Hypothèses!$D$6:$F$13,3,0))","v":0},{"$f":"IF(ISNA(O359*VLOOKUP(\"Gaz naturel (m³)\",Hypothèses!$D$6:$F$13,3,0)),0,O359*VLOOKUP(\"Gaz naturel (m³)\",Hypothèses!$D$6:$F$13,3,0))","v":0},{"$f":"IF(ISNA(P359*VLOOKUP(\"Gaz naturel (m³)\",Hypothèses!$D$6:$F$13,3,0)),0,P359*VLOOKUP(\"Gaz naturel (m³)\",Hypothèses!$D$6:$F$13,3,0))","v":0},{"$f":"IF(ISNA(Q359*VLOOKUP(\"Gaz naturel (m³)\",Hypothèses!$D$6:$F$13,3,0)),0,Q359*VLOOKUP(\"Gaz naturel (m³)\",Hypothèses!$D$6:$F$13,3,0))","v":0},{"$f":"IF(ISNA(R359*VLOOKUP(\"Gaz naturel (m³)\",Hypothèses!$D$6:$F$13,3,0)),0,R359*VLOOKUP(\"Gaz naturel (m³)\",Hypothèses!$D$6:$F$13,3,0))","v":0},{"$f":"IF(ISNA(S359*VLOOKUP(\"Gaz naturel (m³)\",Hypothèses!$D$6:$F$13,3,0)),0,S359*VLOOKUP(\"Gaz naturel (m³)\",Hypothèses!$D$6:$F$13,3,0))","v":0},{"$f":"IF(ISNA(#REF!*VLOOKUP(\"Gaz naturel (m³)\",Hypothèses!$D$6:$F$13,3,0)),0,#REF!*VLOOKUP(\"Gaz naturel (m³)\",Hypothèses!$D$6:$F$13,3,0))","v":{"$error":"#REF!"}},{"$f":"IF(ISNA(#REF!*VLOOKUP(\"Gaz naturel (m³)\",Hypothèses!$D$6:$F$13,3,0)),0,#REF!*VLOOKUP(\"Gaz naturel (m³)\",Hypothèses!$D$6:$F$13,3,0))","v":{"$error":"#REF!"}},{"$f":"IF(ISNA(#REF!*VLOOKUP(\"Gaz naturel (m³)\",Hypothèses!$D$6:$F$13,3,0)),0,#REF!*VLOOKUP(\"Gaz naturel (m³)\",Hypothèses!$D$6:$F$13,3,0))","v":{"$error":"#REF!"}},{"$f":"IF(ISNA(#REF!*VLOOKUP(\"Gaz naturel (m³)\",Hypothèses!$D$6:$F$13,3,0)),0,#REF!*VLOOKUP(\"Gaz naturel (m³)\",Hypothèses!$D$6:$F$13,3,0))","v":{"$error":"#REF!"}},{"$f":"IF(ISNA(#REF!*VLOOKUP(\"Gaz naturel (m³)\",Hypothèses!$D$6:$F$13,3,0)),0,#REF!*VLOOKUP(\"Gaz naturel (m³)\",Hypothèses!$D$6:$F$13,3,0))","v":{"$error":"#REF!"}},{"$f":"IF(ISNA(#REF!*VLOOKUP(\"Gaz naturel (m³)\",Hypothèses!$D$6:$F$13,3,0)),0,#REF!*VLOOKUP(\"Gaz naturel (m³)\",Hypothèses!$D$6:$F$13,3,0))","v":{"$error":"#REF!"}},{"$f":"IF(ISNA(#REF!*VLOOKUP(\"Gaz naturel (m³)\",Hypothèses!$D$6:$F$13,3,0)),0,#REF!*VLOOKUP(\"Gaz naturel (m³)\",Hypothèses!$D$6:$F$13,3,0))","v":{"$error":"#REF!"}}]

{"sheet":"Inventaire Référence","index":2,"n_rows":103,"n_cols":19,"rows_kept":103,"cut":false,"hidden":false,"merged":[[75,1,75,2],[81,1,83,2],[65,5,65,12],[65,13,65,17],[72,1,72,2],[73,1,73,2],[74,1,74,2],[65,4,66,4],[91,1,91,2],[91,3,91,18],[84,1,84,2],[84,3,84,18],[81,3,81,18],[85,1,85,2],[82,18,83,18],[82,3,83,3],[82,4,83,4],[82,5,82,12],[82,13,82,17],[90,1,90,2],[102,1,102,2],[54,1,54,2],[55,1,55,2],[56,1,56,2],[65,2,65,3],[86,1,86,2],[87,1,87,2],[88,1,88,2],[94,1,94,2],[95,1,95,2],[98,1,98,2],[98,3,98,18],[92,1,92,2],[93,1,93,2],[99,1,99,2],[99,3,101,17],[100,1,100,2],[101,1,101,2],[96,3,96,18],[97,1,97,2],[47,1,47,2],[51,1,53,2],[51,3,52,4],[51,5,51,14],[51,15,52,16],[52,5,52,9],[52,10,53,10],[52,11,53,11],[52,12,53,12],[52,13,53,13],[52,14,53,14],[96,1,96,2],[44,15,45,16],[45,5,45,9],[45,10,46,10],[45,11,46,11],[45,12,46,12],[45,13,46,13],[45,14,46,14],[44,5,44,14],[40,1,40,2],[44,1,46,2],[44,3,45,4],[29,1,29,2],[35,1,35,2],[36,1,36,2],[37,1,37,2],[39,1,39,2],[26,1,26,2],[27,1,27,2],[27,3,27,18],[28,1,28,2],[38,1,38,2],[25,1,25,2],[13,4,14,4],[13,5,13,12],[13,13,13,17],[13,18,14,18],[19,1,19,2],[21,1,21,2],[15,1,15,2],[15,3,15,18],[16,1,16,2],[17,1,17,2],[22,1,22,2],[22,3,22,18],[23,1,23,2],[18,1,18,2],[24,1,24,2],[6,1,8,2],[6,3,8,18],[10,1,10,2],[12,1,14,2],[12,3,12,18],[13,3,14,3]]}
["Inventaire de référence des émissions"]
[]
["1)","Année de l'inventaire",null,2006]
[]
["2)","Population"]
[]
["3) ","Notes méthodologique"]
[]
[]
[null,null,null,null,null,null,null,null,null,null,null,null,null,null,null,null,null,null,{"$f":"CONCATENATE(TEXT(1000-LEN(D7), \"#\"),\" charactères restants\")","v":"1000 charactères restants"}]
[null,"A. Consommation finale d'énergie"]
[null,null,null,null,null,null,null,null,null,null,null,null,null,"Huile vég","Biocarburants","Bois/Pellets","Solaire thermique","Géothermie"]
[null,"Secteur",null,"Consommation finale d'énergie (MWh)"]
[null,null,null,"Electricité","Chauffage et refroidissement urbain","Combustibles fossiles",null,null,null,null,null,null,null,"Energies renouvelables",null,null,null,null,"Total"]
[null,null,null,null,null,"Gaz naturel","Gaz liquide","Mazout de chauffage","Diesel","Essence","Lignite","Charbon","Autres combustibles fossiles","Huile végétale","Biocarburants","Autre biomasse","Solaire thermique","Géothermie"]
[null,"BUILDINGS, EQUIPMENT/FACILITIES AND INDUSTRIES",null," "]
[null,"Bâtiments, équipements/installations municipaux",null,{"$f":"VLOOKUP('Cache inventaire'!D17,'Données FPC'!$A$2:$U$410,MATCH($D$3,'Données FPC'!$1:$1),0)","v":0},null,{"$f":"IF(ISNA(VLOOKUP('Cache inventaire'!F17,'Données FPC'!$A$2:$U$410,MATCH($D$3,'Données FPC'!$1:$1),0)),,VLOOKUP('Cache inventaire'!F17,'Données FPC'!$A$2:$U$410,MATCH($D$3,'Données FPC'!$1:$1),0))","v":0},{"$f":"IF(ISNA(VLOOKUP('Cache inventaire'!G17,'Données FPC'!$A$2:$U$410,MATCH($D$3,'Données FPC'!$1:$1),0)),,VLOOKUP('Cache inventaire'!G17,'Données FPC'!$A$2:$U$410,MATCH($D$3,'Données FPC'!$1:$1),0))","v":0},{"$f":"IF(ISNA(VLOOKUP('Cache inventaire'!H17,'Données FPC'!$A$2:$U$410,MATCH($D$3,'Données FPC'!$1:$1),0)),,VLOOKUP('Cache inventaire'!H17,'Données FPC'!$A$2:$U$410,MATCH($D$3,'Données FPC'!$1:$1),0))","v":0},{"$f":"IF(ISNA(VLOOKUP('Cache inventaire'!I17,'Données FPC'!$A$2:$U$410,MATCH($D$3,'Données FPC'!$1:$1),0)),,VLOOKUP('Cache inventaire'!I17,'Données FPC'!$A$2:$U$410,MATCH($D$3,'Données FPC'!$1:$1),0))","v":0},{"$f":"IF(ISNA(VLOOKUP('Cache inventaire'!J17,'Données FPC'!$A$2:$U$410,MATCH($D$3,'Données FPC'!$1:$1),0)),,VLOOKUP('Cache inventaire'!J17,'Données FPC'!$A$2:$U$410,MATCH($D$3,'Données FPC'!$1:$1),0))","v":0},{"$f":"IF(ISNA(VLOOKUP('Cache inventaire'!K17,'Données FPC'!$A$2:$U$410,MATCH($D$3,'Données FPC'!$1:$1),0)),,VLOOKUP('Cache inventaire'!K17,'Données FPC'!$A$2:$U$410,MATCH($D$3,'Données FPC'!$1:$1),0))","v":0},{"$f":"IF(ISNA(VLOOKUP('Cache inventaire'!L17,'Données FPC'!$A$2:$U$410,MATCH($D$3,'Données FPC'!$1:$1),0)),,VLOOKUP('Cache inventaire'!L17,'Données FPC'!$A$2:$U$410,MATCH($D$3,'Données FPC'!$1:$1),0))","v":0},{"$f":"IF(ISNA(VLOOKUP('Cache inventaire'!M17,'Données FPC'!$A$2:$U$410,MATCH($D$3,'Données FPC'!$1:$1),0)),,VLOOKUP('Cache inventaire'!M17,'Données FPC'!$A$2:$U$410,MATCH($D$3,'Données FPC'!$1:$1),0))","v":0},{"$f":"IF(ISNA(VLOOKUP('Cache inventaire'!N17,'Données FPC'!$A$2:$U$410,MATCH($D$3,'Données FPC'!$1:$1),0)),,VLOOKUP('Cache inventaire'!N17,'Données FPC'!$A$2:$U$410,MATCH($D$3,'Données FPC'!$1:$1),0))","v":0},{"$f":"IF(ISNA(VLOOKUP('Cache inventaire'!O17,'Données FPC'!$A$2:$U$410,MATCH($D$3,'Données FPC'!$1:$1),0)),,VLOOKUP('Cache inventaire'!O17,'Données FPC'!$A$2:$U$410,MATCH($D$3,'Données FPC'!$1:$1),0))","v":0},{"$f":"IF(ISNA(VLOOKUP('Cache inventaire'!P17,'Données FPC'!$A$2:$U$410,MATCH($D$3,'Données FPC'!$1:$1),0)),,VLOOKUP('Cache inventaire'!P17,'Données FPC'!$A$2:$U$410,MATCH($D$3,'Données FPC'!$1:$1),0))","v":0},{"$f":"IF(ISNA(VLOOKUP('Cache inventaire'!Q17,'Données FPC'!$A$2:$U$410,$D$3-2000+3,0)),\"\",VLOOKUP('Cache inventaire'!Q17,'Données FPC'!$A$2:$U$410,$D$3-2000+3,0))","v":""},{"$f":"IF(ISNA(VLOOKUP('Cache inventaire'!R17,'Données FPC'!$A$2:$U$410,$D$3-2000+3,0)),\"\",VLOOKUP('Cache inventaire'!R17,'Données FPC'!$A$2:$U$410,$D$3-2000+3,0))","v":""},{"$f":"SUM(D17:R17)","v":0}]
[null,"Bâtiments, équipements/installations tertiaires (non municipaux)",null,{"$f":"VLOOKUP('Cache inventaire'!D18,'Données FPC'!$A$2:$U$410,MATCH($D$3,'Données FPC'!$1:$1),0)","v":0},null,{"$f":"IF(ISNA(VLOOKUP('Cache inventaire'!F18,'Données FPC'!$A$2:$U$410,MATCH($D$3,'Données FPC'!$1:$1),0)),,VLOOKUP('Cache inventaire'!F18,'Données FPC'!$A$2:$U$410,MATCH($D$3,'Données FPC'!$1:$1),0))","v":0},{"$f":"IF(ISNA(VLOOKUP('Cache inventaire'!G18,'Données FPC'!$A$2:$U$410,MATCH($D$3,'Données FPC'!$1:$1),0)),,VLOOKUP('Cache inventaire'!G18,'Données FPC'!$A$2:$U$410,MATCH($D$3,'Données FPC'!$1:$1),0))","v":0},{"$f":"IF(ISNA(VLOOKUP('Cache inventaire'!H18,'Données FPC'!$A$2:$U$410,MATCH($D$3,'Données FPC'!$1:$1),0)),,VLOOKUP('Cache inventaire'!H18,'Données FPC'!$A$2:$U$410,MATCH($D$3,'Données FPC'!$1:$1),0))","v":0},{"$f":"IF(ISNA(VLOOKUP('Cache inventaire'!I18,'Données FPC'!$A$2:$U$410,MATCH($D$3,'Données FPC'!$1:$1),0)),,VLOOKUP('Cache inventaire'!I18,'Données FPC'!$A$2:$U$410,MATCH($D$3,'Données FPC'!$1:$1),0))","v":0},{"$f":"IF(ISNA(VLOOKUP('Cache inventaire'!J18,'Données FPC'!$A$2:$U$410,MATCH($D$3,'Données FPC'!$1:$1),0)),,VLOOKUP('Cache inventaire'!J18,'Données FPC'!$A$2:$U$410,MATCH($D$3,'Données FPC'!$1:$1),0))","v":0},{"$f":"IF(ISNA(VLOOKUP('Cache inventaire'!K18,'Données FPC'!$A$2:$U$410,MATCH($D$3,'Données FPC'!$1:$1),0)),,VLOOKUP('Cache inventaire'!K18,'Données FPC'!$A$2:$U$410,MATCH($D$3,'Données FPC'!$1:$1),0))","v":0},{"$f":"IF(ISNA(VLOOKUP('Cache inventaire'!L18,'Données FPC'!$A$2:$U$410,MATCH($D$3,'Données FPC'!$1:$1),0)),,VLOOKUP('Cache inventaire'!L18,'Données FPC'!$A$2:$U$410,MATCH($D$3,'Données FPC'!$1:$1),0))","v":0},{"$f":"IF(ISNA(VLOOKUP('Cache inventaire'!M18,'Données FPC'!$A$2:$U$410,MATCH($D$3,'Données FPC'!$1:$1),0)),,VLOOKUP('Cache inventaire'!M18,'Données FPC'!$A$2:$U$410,MATCH($D$3,'Données FPC'!$1:$1),0))","v":0},{"$f":"IF(ISNA(VLOOKUP('Cache inventaire'!N18,'Données FPC'!$A$2:$U$410,MATCH($D$3,'Données FPC'!$1:$1),0)),,VLOOKUP('Cache inventaire'!N18,'Données FPC'!$A$2:$U$410,MATCH($D$3,'Données FPC'!$1:$1),0))","v":0},{"$f":"IF(ISNA(VLOOKUP('Cache inventaire'!O18,'Données FPC'!$A$2:$U$410,MATCH($D$3,'Données FPC'!$1:$1),0)),,VLOOKUP('Cache inventaire'!O18,'Données FPC'!$A$2:$U$410,MATCH($D$3,'Données FPC'!$1:$1),0))","v":0},{"$f":"IF(ISNA(VLOOKUP('Cache inventaire'!P18,'Données FPC'!$A$2:$U$410,MATCH($D$3,'Données FPC'!$1:$1),0)),,VLOOKUP('Cache inventaire'!P18,'Données FPC'!$A$2:$U$410,MATCH($D$3,'Données FPC'!$1:$1),0))","v":0},{"$f":"IF(ISNA(VLOOKUP('Cache inventaire'!Q18,'Données FPC'!$A$2:$U$410,$D$3-2000+3,0)),\"\",VLOOKUP('Cache inventaire'!Q18,'Données FPC'!$A$2:$U$410,$D$3-2000+3,0))","v":""},{"$f":"IF(ISNA(VLOOKUP('Cache inventaire'!R18,'Données FPC'!$A$2:$U$410,$D$3-2000+3,0)),\"\",VLOOKUP('Cache inventaire'!R18,'Données FPC'!$A$2:$U$410,$D$3-2000+3,0))","v":""},0]
[null,"Bâtiments résidentiels",null,{"$f":"VLOOKUP('Cache inventaire'!D19,'Données FPC'!$A$2:$U$410,MATCH($D$3,'Données FPC'!$1:$1),0)","v":0},null,{"$f":"IF(ISNA(VLOOKUP('Cache inventaire'!F19,'Données FPC'!$A$2:$U$410,MATCH($D$3,'Données FPC'!$1:$1),0)),,VLOOKUP('Cache inventaire'!F19,'Données FPC'!$A$2:$U$410,MATCH($D$3,'Données FPC'!$1:$1),0))","v":0},{"$f":"IF(ISNA(VLOOKUP('Cache inventaire'!G19,'Données FPC'!$A$2:$U$410,MATCH($D$3,'Données FPC'!$1:$1),0)),,VLOOKUP('Cache inventaire'!G19,'Données FPC'!$A$2:$U$410,MATCH($D$3,'Données FPC'!$1:$1),0))","v":0},{"$f":"IF(ISNA(VLOOKUP('Cache inventaire'!H19,'Données FPC'!$A$2:$U$410,MATCH($D$3,'Données FPC'!$1:$1),0)),,VLOOKUP('Cache inventaire'!H19,'Données FPC'!$A$2:$U$410,MATCH($D$3,'Données FPC'!$1:$1),0))","v":0},{"$f":"IF(ISNA(VLOOKUP('Cache inventaire'!I19,'Données FPC'!$A$2:$U$410,MATCH($D$3,'Données FPC'!$1:$1),0)),,VLOOKUP('Cache inventaire'!I19,'Données FPC'!$A$2:$U$410,MATCH($D$3,'Données FPC'!$1:$1),0))","v":0},{"$f":"IF(ISNA(VLOOKUP('Cache inventaire'!J19,'Données FPC'!$A$2:$U$410,MATCH($D$3,'Données FPC'!$1:$1),0)),,VLOOKUP('Cache inventaire'!J19,'Données FPC'!$A$2:$U$410,MATCH($D$3,'Données FPC'!$1:$1),0))","v":0},{"$f":"IF(ISNA(VLOOKUP('Cache inventaire'!K19,'Données FPC'!$A$2:$U$410,MATCH($D$3,'Données FPC'!$1:$1),0)),,VLOOKUP('Cache inventaire'!K19,'Données FPC'!$A$2:$U$410,MATCH($D$3,'Données FPC'!$1:$1),0))","v":0},{"$f":"IF(ISNA(VLOOKUP('Cache inventaire'!L19,'Données FPC'!$A$2:$U$410,MATCH($D$3,'Données FPC'!$1:$1),0)),,VLOOKUP('Cache inventaire'!L19,'Données FPC'!$A$2:$U$410,MATCH($D$3,'Données FPC'!$1:$1),0))","v":0},{"$f":"IF(ISNA(VLOOKUP('Cache inventaire'!M19,'Données FPC'!$A$2:$U$410,MATCH($D$3,'Données FPC'!$1:$1),0)),,VLOOKUP('Cache inventaire'!M19,'Données FPC'!$A$2:$U$410,MATCH($D$3,'Données FPC'!$1:$1),0))","v":0},{"$f":"IF(ISNA(VLOOKUP('Cache inventaire'!N19,'Données FPC'!$A$2:$U$410,MATCH($D$3,'Données FPC'!$1:$1),0)),,VLOOKUP('Cache inventaire'!N19,'Données FPC'!$A$2:$U$410,MATCH($D$3,'Données FPC'!$1:$1),0))","v":0},{"$f":"IF(ISNA(VLOOKUP('Cache inventaire'!O19,'Données FPC'!$A$2:$U$410,MATCH($D$3,'Données FPC'!$1:$1),0)),,VLOOKUP('Cache inventaire'!O19,'Données FPC'!$A$2:$U$410,MATCH($D$3,'Données FPC'!$1:$1),0))","v":0},{"$f":"IF(ISNA(VLOOKUP('Cache inventaire'!P19,'Données FPC'!$A$2:$U$410,MATCH($D$3,'Données FPC'!$1:$1),0)),,VLOOKUP('Cache inventaire'!P19,'Données FPC'!$A$2:$U$410,MATCH($D$3,'Données FPC'!$1:$1),0))","v":0},{"$f":"IF(ISNA(VLOOKUP('Cache inventaire'!Q19,'Données FPC'!$A$2:$U$410,$D$3-2000+3,0)),\"\",VLOOKUP('Cache inventaire'!Q19,'Données FPC'!$A$2:$U$410,$D$3-2000+3,0))","v":""},{"$f":"IF(ISNA(VLOOKUP('Cache inventaire'!R19,'Données FPC'!$A$2:$U$410,$D$3-2000+3,0)),\"\",VLOOKUP('Cache inventaire'!R19,'Données FPC'!$A$2:$U$410,$D$3-2000+3,0))","v":""},0]
[null,"Eclairage public",null,{"$f":"VLOOKUP('Cache inventaire'!D20,'Données FPC'!$A$2:$U$410,MATCH($D$3,'Données FPC'!$1:$1),0)","v":0},null,{"$f":"IF(ISNA(VLOOKUP('Cache inventaire'!F20,'Données FPC'!$A$2:$U$410,MATCH($D$3,'Données FPC'!$1:$1),0)),,VLOOKUP('Cache inventaire'!F20,'Données FPC'!$A$2:$U$410,MATCH($D$3,'Données FPC'!$1:$1),0))","v":0},{"$f":"IF(ISNA(VLOOKUP('Cache inventaire'!G20,'Données FPC'!$A$2:$U$410,MATCH($D$3,'Données FPC'!$1:$1),0)),,VLOOKUP('Cache inventaire'!G20,'Données FPC'!$A$2:$U$410,MATCH($D$3,'Données FPC'!$1:$1),0))","v":0},{"$f":"IF(ISNA(VLOOKUP('Cache inventaire'!H20,'Données FPC'!$A$2:$U$410,MATCH($D$3,'Données FPC'!$1:$1),0)),,VLOOKUP('Cache inventaire'!H20,'Données FPC'!$A$2:$U$410,MATCH($D$3,'Données FPC'!$1:$1),0))","v":0},{"$f":"IF(ISNA(VLOOKUP('Cache inventaire'!I20,'Données FPC'!$A$2:$U$410,MATCH($D$3,'Données FPC'!$1:$1),0)),,VLOOKUP('Cache inventaire'!I20,'Données FPC'!$A$2:$U$410,MATCH($D$3,'Données FPC'!$1:$1),0))","v":0},{"$f":"IF(ISNA(VLOOKUP('Cache inventaire'!J20,'Données FPC'!$A$2:$U$410,MATCH($D$3,'Données FPC'!$1:$1),0)),,VLOOKUP('Cache inventaire'!J20,'Données FPC'!$A$2:$U$410,MATCH($D$3,'Données FPC'!$1:$1),0))","v":0},{"$f":"IF(ISNA(VLOOKUP('Cache inventaire'!K20,'Données FPC'!$A$2:$U$410,MATCH($D$3,'Données FPC'!$1:$1),0)),,VLOOKUP('Cache inventaire'!K20,'Données FPC'!$A$2:$U$410,MATCH($D$3,'Données FPC'!$1:$1),0))","v":0},{"$f":"IF(ISNA(VLOOKUP('Cache inventaire'!L20,'Données FPC'!$A$2:$U$410,MATCH($D$3,'Données FPC'!$1:$1),0)),,VLOOKUP('Cache inventaire'!L20,'Données FPC'!$A$2:$U$410,MATCH($D$3,'Données FPC'!$1:$1),0))","v":0},{"$f":"IF(ISNA(VLOOKUP('Cache inventaire'!M20,'Données FPC'!$A$2:$U$410,MATCH($D$3,'Données FPC'!$1:$1),0)),,VLOOKUP('Cache inventaire'!M20,'Données FPC'!$A$2:$U$410,MATCH($D$3,'Données FPC'!$1:$1),0))","v":0},{"$f":"IF(ISNA(VLOOKUP('Cache inventaire'!N20,'Données FPC'!$A$2:$U$410,MATCH($D$3,'Données FPC'!$1:$1),0)),,VLOOKUP('Cache inventaire'!N20,'Données FPC'!$A$2:$U$410,MATCH($D$3,'Données FPC'!$1:$1),0))","v":0},{"$f":"IF(ISNA(VLOOKUP('Cache inventaire'!O20,'Données FPC'!$A$2:$U$410,MATCH($D$3,'Données FPC'!$1:$1),0)),,VLOOKUP('Cache inventaire'!O20,'Données FPC'!$A$2:$U$410,MATCH($D$3,'Données FPC'!$1:$1),0))","v":0},{"$f":"IF(ISNA(VLOOKUP('Cache inventaire'!P20,'Données FPC'!$A$2:$U$410,MATCH($D$3,'Données FPC'!$1:$1),0)),,VLOOKUP('Cache inventaire'!P20,'Données FPC'!$A$2:$U$410,MATCH($D$3,'Données FPC'!$1:$1),0))","v":0},{"$f":"IF(ISNA(VLOOKUP('Cache inventaire'!Q20,'Données FPC'!$A$2:$U$410,$D$3-2000+3,0)),\"\",VLOOKUP('Cache inventaire'!Q20,'Données FPC'!$A$2:$U$410,$D$3-2000+3,0))","v":""},{"$f":"IF(ISNA(VLOOKUP('Cache inventaire'!R20,'Données FPC'!$A$2:$U$410,$D$3-2000+3,0)),\"\",VLOOKUP('Cache inventaire'!R20,'Données FPC'!$A$2:$U$410,$D$3-2000+3,0))","v":""},0]
[null,"Industrie","Non-ETS",{"$f":"VLOOKUP('Cache inventaire'!D21,'Données FPC'!$A$2:$U$410,MATCH($D$3,'Données FPC'!$1:$1),0)","v":0},null,{"$f":"IF(ISNA(VLOOKUP('Cache inventaire'!F21,'Données FPC'!$A$2:$U$410,MATCH($D$3,'Données FPC'!$1:$1),0)),,VLOOKUP('Cache inventaire'!F21,'Données FPC'!$A$2:$U$410,MATCH($D$3,'Données FPC'!$1:$1),0))","v":0},{"$f":"IF(ISNA(VLOOKUP('Cache inventaire'!G21,'Données FPC'!$A$2:$U$410,MATCH($D$3,'Données FPC'!$1:$1),0)),,VLOOKUP('Cache inventaire'!G21,'Données FPC'!$A$2:$U$410,MATCH($D$3,'Données FPC'!$1:$1),0))","v":0},{"$f":"IF(ISNA(VLOOKUP('Cache inventaire'!H21,'Données FPC'!$A$2:$U$410,MATCH($D$3,'Données FPC'!$1:$1),0)),,VLOOKUP('Cache inventaire'!H21,'Données FPC'!$A$2:$U$410,MATCH($D$3,'Données FPC'!$1:$1),0))","v":0},{"$f":"IF(ISNA(VLOOKUP('Cache inventaire'!I21,'Données FPC'!$A$2:$U$410,MATCH($D$3,'Données FPC'!$1:$1),0)),,VLOOKUP('Cache inventaire'!I21,'Données FPC'!$A$2:$U$410,MATCH($D$3,'Données FPC'!$1:$1),0))","v":0},{"$f":"IF(ISNA(VLOOKUP('Cache inventaire'!J21,'Données FPC'!$A$2:$U$410,MATCH($D$3,'Données FPC'!$1:$1),0)),,VLOOKUP('Cache inventaire'!J21,'Données FPC'!$A$2:$U$410,MATCH($D$3,'Données FPC'!$1:$1),0))","v":0},{"$f":"IF(ISNA(VLOOKUP('Cache inventaire'!K21,'Données FPC'!$A$2:$U$410,MATCH($D$3,'Données FPC'!$1:$1),0)),,VLOOKUP('Cache inventaire'!K21,'Données FPC'!$A$2:$U$410,MATCH($D$3,'Données FPC'!$1:$1),0))","v":0},{"$f":"IF(ISNA(VLOOKUP('Cache inventaire'!L21,'Données FPC'!$A$2:$U$410,MATCH($D$3,'Données FPC'!$1:$1),0)),,VLOOKUP('Cache inventaire'!L21,'Données FPC'!$A$2:$U$410,MATCH($D$3,'Données FPC'!$1:$1),0))","v":0},{"$f":"IF(ISNA(VLOOKUP('Cache inventaire'!M21,'Données FPC'!$A$2:$U$410,MATCH($D$3,'Données FPC'!$1:$1),0)),,VLOOKUP('Cache inventaire'!M21,'Données FPC'!$A$2:$U$410,MATCH($D$3,'Données FPC'!$1:$1),0))","v":0},{"$f":"IF(ISNA(VLOOKUP('Cache inventaire'!N21,'Données FPC'!$A$2:$U$410,MATCH($D$3,'Données FPC'!$1:$1),0)),,VLOOKUP('Cache inventaire'!N21,'Données FPC'!$A$2:$U$410,MATCH($D$3,'Données FPC'!$1:$1),0))","v":0},{"$f":"IF(ISNA(VLOOKUP('Cache inventaire'!O21,'Données FPC'!$A$2:$U$410,MATCH($D$3,'Données FPC'!$1:$1),0)),,VLOOKUP('Cache inventaire'!O21,'Données FPC'!$A$2:$U$410,MATCH($D$3,'Données FPC'!$1:$1),0))","v":0},{"$f":"IF(ISNA(VLOOKUP('Cache inventaire'!P21,'Données FPC'!$A$2:$U$410,MATCH($D$3,'Données FPC'!$1:$1),0)),,VLOOKUP('Cache inventaire'!P21,'Données FPC'!$A$2:$U$410,MATCH($D$3,'Données FPC'!$1:$1),0))","v":0},{"$f":"IF(ISNA(VLOOKUP('Cache inventaire'!Q21,'Données FPC'!$A$2:$U$410,$D$3-2000+3,0)),\"\",VLOOKUP('Cache inventaire'!Q21,'Données FPC'!$A$2:$U$410,$D$3-2000+3,0))","v":""},{"$f":"IF(ISNA(VLOOKUP('Cache inventaire'!R21,'Données FPC'!$A$2:$U$410,$D$3-2000+3,0)),\"\",VLOOKUP('Cache inventaire'!R21,'Données FPC'!$A$2:$U$410,$D$3-2000+3,0))","v":""},0]
[null,"Subtotal ",null,{"$f":"SUM(D17:D21)","v":0},0,0,0,0,0,0,0,0,0,0,0,0,0,0,0]
[null,"TRANSPORT"]
[null,"Flotte municipale",null,{"$f":"VLOOKUP('Cache inventaire'!D24,'Données FPC'!$A$2:$U$410,MATCH($D$3,'Données FPC'!$1:$1),0)","v":0},null,{"$f":"IF(ISNA(VLOOKUP('Cache inventaire'!F24,'Données FPC'!$A$2:$U$410,MATCH($D$3,'Données FPC'!$1:$1),0)),,VLOOKUP('Cache inventaire'!F24,'Données FPC'!$A$2:$U$410,MATCH($D$3,'Données FPC'!$1:$1),0))","v":0},{"$f":"IF(ISNA(VLOOKUP('Cache inventaire'!G24,'Données FPC'!$A$2:$U$410,MATCH($D$3,'Données FPC'!$1:$1),0)),,VLOOKUP('Cache inventaire'!G24,'Données FPC'!$A$2:$U$410,MATCH($D$3,'Données FPC'!$1:$1),0))","v":0},{"$f":"IF(ISNA(VLOOKUP('Cache inventaire'!H24,'Données FPC'!$A$2:$U$410,MATCH($D$3,'Données FPC'!$1:$1),0)),,VLOOKUP('Cache inventaire'!H24,'Données FPC'!$A$2:$U$410,MATCH($D$3,'Données FPC'!$1:$1),0))","v":0},{"$f":"IF(ISNA(VLOOKUP('Cache inventaire'!I24,'Données FPC'!$A$2:$U$410,MATCH($D$3,'Données FPC'!$1:$1),0)),,VLOOKUP('Cache inventaire'!I24,'Données FPC'!$A$2:$U$410,MATCH($D$3,'Données FPC'!$1:$1),0))","v":0},{"$f":"IF(ISNA(VLOOKUP('Cache inventaire'!J24,'Données FPC'!$A$2:$U$410,MATCH($D$3,'Données FPC'!$1:$1),0)),,VLOOKUP('Cache inventaire'!J24,'Données FPC'!$A$2:$U$410,MATCH($D$3,'Données FPC'!$1:$1),0))","v":0},{"$f":"IF(ISNA(VLOOKUP('Cache inventaire'!K24,'Données FPC'!$A$2:$U$410,MATCH($D$3,'Données FPC'!$1:$1),0)),,VLOOKUP('Cache inventaire'!K24,'Données FPC'!$A$2:$U$410,MATCH($D$3,'Données FPC'!$1:$1),0))","v":0},{"$f":"IF(ISNA(VLOOKUP('Cache inventaire'!L24,'Données FPC'!$A$2:$U$410,MATCH($D$3,'Données FPC'!$1:$1),0)),,VLOOKUP('Cache inventaire'!L24,'Données FPC'!$A$2:$U$410,MATCH($D$3,'Données FPC'!$1:$1),0))","v":0},{"$f":"IF(ISNA(VLOOKUP('Cache inventaire'!M24,'Données FPC'!$A$2:$U$410,MATCH($D$3,'Données FPC'!$1:$1),0)),,VLOOKUP('Cache inventaire'!M24,'Données FPC'!$A$2:$U$410,MATCH($D$3,'Données FPC'!$1:$1),0))","v":0},{"$f":"IF(ISNA(VLOOKUP('Cache inventaire'!N24,'Données FPC'!$A$2:$U$410,MATCH($D$3,'Données FPC'!$1:$1),0)),,VLOOKUP('Cache inventaire'!N24,'Données FPC'!$A$2:$U$410,MATCH($D$3,'Données FPC'!$1:$1),0))","v":0},{"$f":"IF(ISNA(VLOOKUP('Cache inventaire'!O24,'Données FPC'!$A$2:$U$410,MATCH($D$3,'Données FPC'!$1:$1),0)),,VLOOKUP('Cache inventaire'!O24,'Données FPC'!$A$2:$U$410,MATCH($D$3,'Données FPC'!$1:$1),0))","v":0},{"$f":"IF(ISNA(VLOOKUP('Cache inventaire'!P24,'Données FPC'!$A$2:$U$410,MATCH($D$3,'Données FPC'!$1:$1),0)),,VLOOKUP('Cache inventaire'!P24,'Données FPC'!$A$2:$U$410,MATCH($D$3,'Données FPC'!$1:$1),0))","v":0},{"$f":"IF(ISNA(VLOOKUP('Cache inventaire'!Q24,'Données FPC'!$A$2:$U$410,$D$3-2000+3,0)),\"\",VLOOKUP('Cache inventaire'!Q24,'Données FPC'!$A$2:$U$410,$D$3-2000+3,0))","v":""},{"$f":"IF(ISNA(VLOOKUP('Cache inventaire'!R24,'Données FPC'!$A$2:$U$410,$D$3-2000+3,0)),\"\",VLOOKUP('Cache inventaire'!R24,'Données FPC'!$A$2:$U$410,$D$3-2000+3,0))","v":""},{"$f":"SUM(D24:R24)","v":0}]
[null,"Transports publics",null,{"$f":"VLOOKUP('Cache inventaire'!D25,'Données FPC'!$A$2:$U$410,MATCH($D$3,'Données FPC'!$1:$1),0)","v":0},null,{"$f":"IF(ISNA(VLOOKUP('Cache inventaire'!F25,'Données FPC'!$A$2:$U$410,MATCH($D$3,'Données FPC'!$1:$1),0)),,VLOOKUP('Cache inventaire'!F25,'Données FPC'!$A$2:$U$410,MATCH($D$3,'Données FPC'!$1:$1),0))","v":0},{"$f":"IF(ISNA(VLOOKUP('Cache inventaire'!G25,'Données FPC'!$A$2:$U$410,MATCH($D$3,'Données FPC'!$1:$1),0)),,VLOOKUP('Cache inventaire'!G25,'Données FPC'!$A$2:$U$410,MATCH($D$3,'Données FPC'!$1:$1),0))","v":0},{"$f":"IF(ISNA(VLOOKUP('Cache inventaire'!H25,'Données FPC'!$A$2:$U$410,MATCH($D$3,'Données FPC'!$1:$1),0)),,VLOOKUP('Cache inventaire'!H25,'Données FPC'!$A$2:$U$410,MATCH($D$3,'Données FPC'!$1:$1),0))","v":0},{"$f":"IF(ISNA(VLOOKUP('Cache inventaire'!I25,'Données FPC'!$A$2:$U$410,MATCH($D$3,'Données FPC'!$1:$1),0)),,VLOOKUP('Cache inventaire'!I25,'Données FPC'!$A$2:$U$410,MATCH($D$3,'Données FPC'!$1:$1),0))","v":0},{"$f":"IF(ISNA(VLOOKUP('Cache inventaire'!J25,'Données FPC'!$A$2:$U$410,MATCH($D$3,'Données FPC'!$1:$1),0)),,VLOOKUP('Cache inventaire'!J25,'Données FPC'!$A$2:$U$410,MATCH($D$3,'Données FPC'!$1:$1),0))","v":0},{"$f":"IF(ISNA(VLOOKUP('Cache inventaire'!K25,'Données FPC'!$A$2:$U$410,MATCH($D$3,'Données FPC'!$1:$1),0)),,VLOOKUP('Cache inventaire'!K25,'Données FPC'!$A$2:$U$410,MATCH($D$3,'Données FPC'!$1:$1),0))","v":0},{"$f":"IF(ISNA(VLOOKUP('Cache inventaire'!L25,'Données FPC'!$A$2:$U$410,MATCH($D$3,'Données FPC'!$1:$1),0)),,VLOOKUP('Cache inventaire'!L25,'Données FPC'!$A$2:$U$410,MATCH($D$3,'Données FPC'!$1:$1),0))","v":0},{"$f":"IF(ISNA(VLOOKUP('Cache inventaire'!M25,'Données FPC'!$A$2:$U$410,MATCH($D$3,'Données FPC'!$1:$1),0)),,VLOOKUP('Cache inventaire'!M25,'Données FPC'!$A$2:$U$410,MATCH($D$3,'Données FPC'!$1:$1),0))","v":0},{"$f":"IF(ISNA(VLOOKUP('Cache inventaire'!N25,'Données FPC'!$A$2:$U$410,MATCH($D$3,'Données FPC'!$1:$1),0)),,VLOOKUP('Cache inventaire'!N25,'Données FPC'!$A$2:$U$410,MATCH($D$3,'Données FPC'!$1:$1),0))","v":0},{"$f":"IF(ISNA(VLOOKUP('Cache inventaire'!O25,'Données FPC'!$A$2:$U$410,MATCH($D$3,'Données FPC'!$1:$1),0)),,VLOOKUP('Cache inventaire'!O25,'Données FPC'!$A$2:$U$410,MATCH($D$3,'Données FPC'!$1:$1),0))","v":0},{"$f":"IF(ISNA(VLOOKUP('Cache inventaire'!P25,'Données FPC'!$A$2:$U$410,MATCH($D$3,'Données FPC'!$1:$1),0)),,VLOOKUP('Cache inventaire'!P25,'Données FPC'!$A$2:$U$410,MATCH($D$3,'Données FPC'!$1:$1),0))","v":0},{"$f":"IF(ISNA(VLOOKUP('Cache inventaire'!Q25,'Données FPC'!$A$2:$U$410,$D$3-2000+3,0)),\"\",VLOOKUP('Cache inventaire'!Q25,'Données FPC'!$A$2:$U$410,$D$3-2000+3,0))","v":""},{"$f":"IF(ISNA(VLOOKUP('Cache inventaire'!R25,'Données FPC'!$A$2:$U$410,$D$3-2000+3,0)),\"\",VLOOKUP('Cache inventaire'!R25,'Données FPC'!$A$2:$U$410,$D$3-2000+3,0))","v":""},{"$f":"SUM(D25:R25)","v":0}]
[null,"Transports privés et commerciaux",null,{"$f":"VLOOKUP('Cache inventaire'!D26,'Données FPC'!$A$2:$U$410,MATCH($D$3,'Données FPC'!$1:$1),0)","v":0},null,{"$f":"IF(ISNA(VLOOKUP('Cache inventaire'!F26,'Données FPC'!$A$2:$U$410,MATCH($D$3,'Données FPC'!$1:$1),0)),,VLOOKUP('Cache inventaire'!F26,'Données FPC'!$A$2:$U$410,MATCH($D$3,'Données FPC'!$1:$1),0))","v":0},{"$f":"IF(ISNA(VLOOKUP('Cache inventaire'!G26,'Données FPC'!$A$2:$U$410,MATCH($D$3,'Données FPC'!$1:$1),0)),,VLOOKUP('Cache inventaire'!G26,'Données FPC'!$A$2:$U$410,MATCH($D$3,'Données FPC'!$1:$1),0))","v":0},{"$f":"IF(ISNA(VLOOKUP('Cache inventaire'!H26,'Données FPC'!$A$2:$U$410,MATCH($D$3,'Données FPC'!$1:$1),0)),,VLOOKUP('Cache inventaire'!H26,'Données FPC'!$A$2:$U$410,MATCH($D$3,'Données FPC'!$1:$1),0))","v":0},{"$f":"IF(ISNA(VLOOKUP('Cache inventaire'!I26,'Données FPC'!$A$2:$U$410,MATCH($D$3,'Données FPC'!$1:$1),0)),,VLOOKUP('Cache inventaire'!I26,'Données FPC'!$A$2:$U$410,MATCH($D$3,'Données FPC'!$1:$1),0))","v":0},{"$f":"IF(ISNA(VLOOKUP('Cache inventaire'!J26,'Données FPC'!$A$2:$U$410,MATCH($D$3,'Données FPC'!$1:$1),0)),,VLOOKUP('Cache inventaire'!J26,'Données FPC'!$A$2:$U$410,MATCH($D$3,'Données FPC'!$1:$1),0))","v":0},{"$f":"IF(ISNA(VLOOKUP('Cache inventaire'!K26,'Données FPC'!$A$2:$U$410,MATCH($D$3,'Données FPC'!$1:$1),0)),,VLOOKUP('Cache inventaire'!K26,'Données FPC'!$A$2:$U$410,MATCH($D$3,'Données FPC'!$1:$1),0))","v":0},{"$f":"IF(ISNA(VLOOKUP('Cache inventaire'!L26,'Données FPC'!$A$2:$U$410,MATCH($D$3,'Données FPC'!$1:$1),0)),,VLOOKUP('Cache inventaire'!L26,'Données FPC'!$A$2:$U$410,MATCH($D$3,'Données FPC'!$1:$1),0))","v":0},{"$f":"IF(ISNA(VLOOKUP('Cache inventaire'!M26,'Données FPC'!$A$2:$U$410,MATCH($D$3,'Données FPC'!$1:$1),0)),,VLOOKUP('Cache inventaire'!M26,'Données FPC'!$A$2:$U$410,MATCH($D$3,'Données FPC'!$1:$1),0))","v":0},{"$f":"IF(ISNA(VLOOKUP('Cache inventaire'!N26,'Données FPC'!$A$2:$U$410,MATCH($D$3,'Données FPC'!$1:$1),0)),,VLOOKUP('Cache inventaire'!N26,'Données FPC'!$A$2:$U$410,MATCH($D$3,'Données FPC'!$1:$1),0))","v":0},{"$f":"IF(ISNA(VLOOKUP('Cache inventaire'!O26,'Données FPC'!$A$2:$U$410,MATCH($D$3,'Données FPC'!$1:$1),0)),,VLOOKUP('Cache inventaire'!O26,'Données FPC'!$A$2:$U$410,MATCH($D$3,'Données FPC'!$1:$1),0))","v":0},{"$f":"IF(ISNA(VLOOKUP('Cache inventaire'!P26,'Données FPC'!$A$2:$U$410,MATCH($D$3,'Données FPC'!$1:$1),0)),,VLOOKUP('Cache inventaire'!P26,'Données FPC'!$A$2:$U$410,MATCH($D$3,'Données FPC'!$1:$1),0))","v":0},{"$f":"IF(ISNA(VLOOKUP('Cache inventaire'!Q26,'Données FPC'!$A$2:$U$410,$D$3-2000+3,0)),\"\",VLOOKUP('Cache inventaire'!Q26,'Données FPC'!$A$2:$U$410,$D$3-2000+3,0))","v":""},{"$f":"IF(ISNA(VLOOKUP('Cache inventaire'!R26,'Données FPC'!$A$2:$U$410,$D$3-2000+3,0)),\"\",VLOOKUP('Cache inventaire'!R26,'Données FPC'!$A$2:$U$410,$D$3-2000+3,0))","v":""},{"$f":"SUM(D26:R26)","v":0}]
[null,"Subtotal ",null,{"$f":"SUM(D24:D26)","v":0},{"$f":"SUM(E24:E26)","v":0},0,0,0,0,0,0,0,0,0,0,0,0,0,{"$f":"SUM(D27:R27)","v":0}]
[null,"OTHER  "]
[null,"Agriculture",null,{"$f":"VLOOKUP('Cache inventaire'!D29,'Données FPC'!$A$2:$U$410,MATCH($D$3,'Données FPC'!$1:$1),0)","v":0},null,{"$f":"IF(ISNA(VLOOKUP('Cache inventaire'!F29,'Données FPC'!$A$2:$U$410,MATCH($D$3,'Données FPC'!$1:$1),0)),,VLOOKUP('Cache inventaire'!F29,'Données FPC'!$A$2:$U$410,MATCH($D$3,'Données FPC'!$1:$1),0))","v":0},{"$f":"IF(ISNA(VLOOKUP('Cache inventaire'!G29,'Données FPC'!$A$2:$U$410,MATCH($D$3,'Données FPC'!$1:$1),0)),,VLOOKUP('Cache inventaire'!G29,'Données FPC'!$A$2:$U$410,MATCH($D$3,'Données FPC'!$1:$1),0))","v":0},{"$f":"IF(ISNA(VLOOKUP('Cache inventaire'!H29,'Données FPC'!$A$2:$U$410,MATCH($D$3,'Données FPC'!$1:$1),0)),,VLOOKUP('Cache inventaire'!H29,'Données FPC'!$A$2:$U$410,MATCH($D$3,'Données FPC'!$1:$1),0))","v":0},{"$f":"IF(ISNA(VLOOKUP('Cache inventaire'!I29,'Données FPC'!$A$2:$U$410,MATCH($D$3,'Données FPC'!$1:$1),0)),,VLOOKUP('Cache inventaire'!I29,'Données FPC'!$A$2:$U$410,MATCH($D$3,'Données FPC'!$1:$1),0))","v":0},{"$f":"IF(ISNA(VLOOKUP('Cache inventaire'!J29,'Données FPC'!$A$2:$U$410,MATCH($D$3,'Données FPC'!$1:$1),0)),,VLOOKUP('Cache inventaire'!J29,'Données FPC'!$A$2:$U$410,MATCH($D$3,'Données FPC'!$1:$1),0))","v":0},{"$f":"IF(ISNA(VLOOKUP('Cache inventaire'!K29,'Données FPC'!$A$2:$U$410,MATCH($D$3,'Données FPC'!$1:$1),0)),,VLOOKUP('Cache inventaire'!K29,'Données FPC'!$A$2:$U$410,MATCH($D$3,'Données FPC'!$1:$1),0))","v":0},{"$f":"IF(ISNA(VLOOKUP('Cache inventaire'!L29,'Données FPC'!$A$2:$U$410,MATCH($D$3,'Données FPC'!$1:$1),0)),,VLOOKUP('Cache inventaire'!L29,'Données FPC'!$A$2:$U$410,MATCH($D$3,'Données FPC'!$1:$1),0))","v":0},{"$f":"IF(ISNA(VLOOKUP('Cache inventaire'!M29,'Données FPC'!$A$2:$U$410,MATCH($D$3,'Données FPC'!$1:$1),0)),,VLOOKUP('Cache inventaire'!M29,'Données FPC'!$A$2:$U$410,MATCH($D$3,'Données FPC'!$1:$1),0))","v":0},{"$f":"IF(ISNA(VLOOKUP('Cache inventaire'!N29,'Données FPC'!$A$2:$U$410,MATCH($D$3,'Données FPC'!$1:$1),0)),,VLOOKUP('Cache inventaire'!N29,'Données FPC'!$A$2:$U$410,MATCH($D$3,'Données FPC'!$1:$1),0))","v":0},{"$f":"IF(ISNA(VLOOKUP('Cache inventaire'!O29,'Données FPC'!$A$2:$U$410,MATCH($D$3,'Données FPC'!$1:$1),0)),,VLOOKUP('Cache inventaire'!O29,'Données FPC'!$A$2:$U$410,MATCH($D$3,'Données FPC'!$1:$1),0))","v":0},{"$f":"IF(ISNA(VLOOKUP('Cache inventaire'!P29,'Données FPC'!$A$2:$U$410,MATCH($D$3,'Données FPC'!$1:$1),0)),,VLOOKUP('Cache inventaire'!P29,'Données FPC'!$A$2:$U$410,MATCH($D$3,'Données FPC'!$1:$1),0))","v":0},{"$f":"IF(ISNA(VLOOKUP('Cache inventaire'!Q29,'Données FPC'!$A$2:$U$410,$D$3-2000+3,0)),\"\",VLOOKUP('Cache inventaire'!Q29,'Données FPC'!$A$2:$U$410,$D$3-2000+3,0))","v":""},{"$f":"IF(ISNA(VLOOKUP('Cache inventaire'!R29,'Données FPC'!$A$2:$U$410,$D$3-2000+3,0)),\"\",VLOOKUP('Cache inventaire'!R29,'Données FPC'!$A$2:$U$410,$D$3-2000+3,0))","v":""},{"$f":"SUM(D29:R29)","v":0}]
[null,"TOTAL",null,{"$f":"SUM(D22,D27,D29)","v":0},{"$f":"SUM(E22,E27,E29)","v":0},0,0,0,0,0,0,0,0,0,0,0,0,0,0]
[]
[null,"B. Production d'énergie"]
[]
[null,"Production d'électricité locale/distribuée (énergies renouvelables uniquement)"]
[]
[null,"Installations locales d'électricité renouvelable",null,"[MWh]","[t/MWh produit]","[t]"]
[null,"Eolien",null,null,null,{"$f":"D37*E37","v":0}]
[null,"Energie hydroélectrique",null,null,null,{"$f":"D38*E38","v":0}]
[null,"Photovoltaïque",null,null,null,{"$f":"D39*E39","v":0}]
[null,"Géothermie",null,null,null,{"$f":"D40*E40","v":0}]
[null,"Total",null,{"$f":"SUM(D37:D40)","v":0},{"$f":"SUM(E37:E40)","v":0},{"$f":"SUM(F37:F40)","v":0}]
[]
[null,"Production d'électricité locale/distribuée"]
[]
[null,"Installations de production locale d'électricité",null,"[MWh]",null,"[MWh]",null,null,null,null,null,null,null,null,null,"[t]"]
[null,null,null,null,null,"Combustibles fossiles",null,null,null,null,"Déchets","Huile végétale","Autre biomasse","Autres énergies renouvelables ","Autres"]
[null,null,null,"Electricité renouvelable","Electricité non renouvelable ","Gaz naturel","Gaz liquide","Mazout de chauffage","Lignite","Charbon",null,null,null,null,null,"Sources d'énergie fossiles","Sources renouvelables"]
[null,"Production combinée de chaleur et d'électricité"]
[]
[null,"Production locale de chaleur/froid"]
[]
[null,"Installations de production locale d'électricité",null,"[MWh]",null,"[MWh]",null,null,null,null,null,null,null,null,null,"[t]"]
[null,null,null,null,null,"Combustibles fossiles",null,null,null,null,"Déchets","Huile végétale","Autre biomasse","Autres énergies renouvelables ","Autres"]
[null,null,null,"Chaleur/froid renouvelables","Chaleur/Froid non renouvelable ","Gaz naturel","Gaz liquide","Mazout de chauffage","Lignite","Charbon",null,null,null,null,null,"Sources d'énergie fossiles","Sources renouvelables"]
[null,"Production combinée de chaleur et d'électricité"]
[null,"Chauffage urbain"]
[null,"Total",null,{"$f":"SUM(D55:D56)","v":0},0,0,0,0,0,0,0,0,0,0,0,0,0]
[]
[]
[]
[null,"C. Emissions"]
[]
[null,"Facteurs d'émissions"]
[]
[]
[null,null,"Electricité",null,"Chauffage et refroidissement urbain","Combustibles fossiles",null,null,null,null,null,null,null,"Energies renouvelables"]
[null,null,"National","Local",null,"Gaz naturel","Gaz liquide","Mazout de chauffage","Diesel","Essence","Lignite","Charbon","Autres combustibles fossiles","Biocarburants","Huile végétale","Autre biomasse","Solaire thermique","Géothermie"]
[null,"FPC",null,{"$f":"VLOOKUP('Cache inventaire'!D68,'Données FPC'!$A$2:$U$410,D3-2000+13,0)","v":0},null,{"$f":"VLOOKUP('Cache inventaire'!F68,'Données FPC'!$A$2:$U$410,2,0)","v":0},{"$f":"VLOOKUP('Cache inventaire'!G68,'Données FPC'!$A$2:$U$410,2,0)","v":0},{"$f":"VLOOKUP('Cache inventaire'!H68,'Données FPC'!$A$2:$U$410,2,0)","v":0},{"$f":"VLOOKUP('Cache inventaire'!I68,'Données FPC'!$A$2:$U$410,2,0)","v":0},{"$f":"VLOOKUP('Cache inventaire'!J68,'Données FPC'!$A$2:$U$410,2,0)","v":0},{"$f":"VLOOKUP('Cache inventaire'!K68,'Données FPC'!$A$2:$U$410,2,0)","v":0},{"$f":"VLOOKUP('Cache inventaire'!L68,'Données FPC'!$A$2:$U$410,2,0)","v":0},{"$f":"VLOOKUP('Cache inventaire'!M68,'Données FPC'!$A$2:$U$410,2,0)","v":0},{"$f":"VLOOKUP('Cache inventaire'!N68,'Données FPC'!$A$2:$U$410,2,0)","v":0}]
[null,"AwAC",0.27900000000000003,null,0,0.2026798378561297,0.23723981020815182,0.26819978544017159,0.26819978544017159,0.26135979091216727,0.36610920000000002,0.34307972553621952,0.26542368,1.5436799999999997E-3,0,3.1319974944020043E-2,0,0]
[]
[null,"Complétez dans le cas où des secteurs non énergétiques sont inclus:"]
[]
[null,"Non-energy related sectors",null,"[t]"]
[null,"Traitement des décets "]
[null,"Traitement des eaux usées"]
[null,"Autres non énergétiques"]
[]
[]
[]
[null,"Inventaire des émissions"]
[]
[null,"Secteur ",null,"Emissions de CO2éq [t]"]
[null,null,null,"Electricité","Chauffage et refroidissement urbain","Combustibles fossiles",null,null,null,null,null,null,null,"Energies renouvelables",null,null,null,null,"Total"]
[null,null,null,null,null,"Gaz naturel","Gaz liquide","Mazout de chauffage","Diesel","Essence","Lignite","Charbon","Autres combustibles fossiles","Biocarburants","Huile végétale","Autre biomasse","Solaire thermique","Géothermie"]
[null,"BUILDINGS, EQUIPMENT/FACILITIES AND INDUSTRIES",null," "]
[null,"Bâtiments, équipements/installations municipaux",null,{"$f":"D17*D$68","v":0},0,0,0,0,0,0,0,0,0,0,0,0,null,null,{"$f":"SUM(D86:R86)","v":0}]
[null,"Bâtiments, équipements/installations tertiaires (non municipaux)",null,{"$f":"D18*D$68","v":0},0,0,0,0,0,0,0,0,0,0,0,0,null,null,0]
[null,"Bâtiments résidentiels",null,{"$f":"D19*D$68","v":0},0,0,0,0,0,0,0,0,0,0,0,{"$f":"P19*P$68","v":0},null,null,0]
[null,"Eclairage public",null,{"$f":"D20*D$68","v":0},0,0,0,0,0,0,0,0,0,0,0,{"$f":"P20*P$68","v":0},null,null,0]
[null,"Industrie","Non-ETS",{"$f":"D21*D$68","v":0},0,0,0,0,0,0,0,0,0,0,0,{"$f":"P21*P$68","v":0},null,null,0]
[null,"Subtotal",null,{"$f":"SUM(D86:D90)","v":0},0,0,0,0,0,0,0,0,0,0,0,0,null,null,0]
[null,"TRANSPORT"]
[null,"Flotte municipale",null,{"$f":"D24*D$68","v":0},0,0,0,0,0,0,0,0,0,0,0,0,null,null,{"$f":"SUM(D93:R93)","v":0}]
[null,"Trasnports publics",null,{"$f":"D25*D$68","v":0},0,0,0,0,0,0,0,0,0,0,0,0,null,null,{"$f":"SUM(D94:R94)","v":0}]
[null,"Transports privés et commerciaux",null,{"$f":"D26*D$68","v":0},0,0,0,0,0,0,0,0,0,0,0,0,null,null,{"$f":"SUM(D95:R95)","v":0}]
[null,"Subtotal",null,{"$f":"SUM(D93:D95)","v":0},{"$f":"SUM(E93:E95)","v":0},0,0,0,0,0,0,0,0,0,0,0,null,null,{"$f":"SUM(D96:R96)","v":0}]
[null,"OTHER "]
[null,"Agriculture",null,{"$f":"D29*D$68","v":0},0,0,0,0,0,0,0,0,0,0,0,0,null,null,{"$f":"SUM(D98:R98)","v":0}]
[null,"OTHER NON-ENERGY RELATED"]
[null,"Traitement des décets ",null,null,null,null,null,null,null,null,null,null,null,null,null,null,null,null,{"$f":"D74","v":0}]
[null,"Traitement des eaux usées",null,null,null,null,null,null,null,null,null,null,null,null,null,null,null,null,{"$f":"D75","v":0}]
[null,"Autres non énergétiques",null,null,null,null,null,null,null,null,null,null,null,null,null,null,null,null,{"$f":"D76","v":0}]
[null,"TOTAL",null,{"$f":"SUM(D91,D96,D98)","v":0},{"$f":"SUM(E91,E96,E98)","v":0},0,0,0,0,0,0,0,0,0,0,0,0,0,{"$f":"SUM(S91,S96,S98,S100,S101,S102)","v":0}]

{"sheet":"Cache inventaire","index":3,"n_rows":103,"n_cols":19,"rows_kept":103,"cut":false,"hidden":true,"merged":[[6,1,8,2],[6,3,8,18],[10,1,10,2],[12,1,14,2],[12,3,12,18],[13,3,14,3],[13,4,14,4],[13,5,13,12],[13,13,13,17],[13,18,14,18],[25,1,25,2],[15,1,15,2],[15,3,15,18],[16,1,16,2],[17,1,17,2],[18,1,18,2],[19,1,19,2],[21,1,21,2],[22,1,22,2],[22,3,22,18],[23,1,23,2],[24,1,24,2],[44,1,46,2],[26,1,26,2],[27,1,27,2],[27,3,27,18],[28,1,28,2],[29,1,29,2],[35,1,35,2],[36,1,36,2],[37,1,37,2],[38,1,38,2],[39,1,39,2],[40,1,40,2],[44,3,45,4],[44,5,44,14],[44,15,45,16],[45,5,45,9],[45,10,46,10],[45,11,46,11],[45,12,46,12],[45,13,46,13],[45,14,46,14],[47,1,47,2],[51,1,53,2],[51,3,52,4],[51,5,51,14],[51,15,52,16],[52,5,52,9],[52,10,53,10],[52,11,53,11],[52,12,53,12],[52,13,53,13],[52,14,53,14],[54,1,54,2],[55,1,55,2],[56,1,56,2],[65,2,65,3],[65,4,66,4],[65,5,65,12],[65,13,65,17],[81,3,81,18],[82,3,83,3],[82,4,83,4],[82,5,82,12],[82,13,82,17],[82,18,83,18],[87,1,87,2],[72,1,72,2],[73,1,73,2],[74,1,74,2],[75,1,75,2],[81,1,83,2],[84,1,84,2],[84,3,84,18],[85,1,85,2],[86,1,86,2],[98,1,98,2],[98,3,98,18],[88,1,88,2],[90,1,90,2],[91,1,91,2],[91,3,91,18],[92,1,92,2],[93,1,93,2],[94,1,94,2],[95,1,95,2],[96,1,96,2],[96,3,96,18],[97,1,97,2],[99,1,99,2],[99,3,101,17],[100,1,100,2],[101,1,101,2],[102,1,102,2]]}
["Inventaire de référence des émissions"]
[]
["1)","Année de l'inventaire",null,2006]
[]
["2)","Population"]
[]
["3) ","Notes méthodologique"]
[]
[]
[null,null,null,null,null,null,null,null,null,null,null,null,null,null,null,null,null,null,{"$f":"CONCATENATE(TEXT(1000-LEN(D7), \"#\"),\" charactères restants\")","v":"1000 charactères restants"}]
[null,"A. Consommation finale d'énergie"]
[null,null,null,null,null,null,null,null,null,null,null,null,null,"Huile vég","Biocarburants","Bois/Pellets","Solaire thermique","Géothermie"]
[null,"Secteur",null,"Consommation finale d'énergie (MWh)"]
[null,null,null,"électricité",null,"Combustibles fossiles",null,null,null,null,null,null,null,"Energies renouvelables",null,null,null,null,"Total"]
[null,null,null,null,null,"gaz naturel","gaz liquide","fioul","diesel","essence","lignite","charbon","Autres combustibles fossiles consommés","huile végétale","biocarburants","Autres consommations de la biomasse ","Solaire thermique","Géothermie"]
[null,"BUILDINGS, EQUIPMENT/FACILITIES AND INDUSTRIES",null," "]
[null,"bâtiments communaux",null,{"$f":"\"Consommation d'électricité des \"&B17&\" (MWh)\"","v":"Consommation d'électricité des bâtiments communaux (MWh)"},{"$f":"\"Consommation de \"&C17&\" (MWh)\"","v":"Consommation de  (MWh)"},{"$f":"\"Consommation de \"&F$15&\" par les \"&$B17&\" (MWh)\"","v":"Consommation de gaz naturel par les bâtiments communaux (MWh)"},{"$f":"\"Consommation de \"&G$15&\" par les \"&$B17&\" (MWh)\"","v":"Consommation de gaz liquide par les bâtiments communaux (MWh)"},"Consommation de fioul par les bâtiments communaux (MWh)","Consommation de diesel par les bâtiments communaux (MWh)",{"$f":"\"Consommation d'\"&J$15&\" par les \"&$B17&\" (MWh)\"","v":"Consommation d'essence par les bâtiments communaux (MWh)"},"Consommation de lignite par les bâtiments communaux (MWh)","Consommation de charbon par les bâtiments communaux (MWh)",{"$f":"M$15&\" par les \"&$B17&\" (MWh)\"","v":"Autres combustibles fossiles consommés par les bâtiments communaux (MWh)"},{"$f":"\"Consommation d'\"&N$15&\" par les \"&$B17&\" (MWh)\"","v":"Consommation d'huile végétale par les bâtiments communaux (MWh)"},"Consommation de biocarburants par les bâtiments communaux (MWh)",{"$f":"\" par les \"&$B17&\" (MWh)\"","v":" par les bâtiments communaux (MWh)"},"Consommation de Solaire thermique par les bâtiments communaux (MWh)","Consommation de Géothermie par les bâtiments communaux (MWh)",{"$f":"SUM(D17:R17)","v":0}]
[null,"par les entreprises",null,{"$f":"\"Consommation d'électricité \"&B18&\" (MWh)\"","v":"Consommation d'électricité par les entreprises (MWh)"},null,{"$f":"\"Consommation de \"&F$15&\" \"&$B18&\" (MWh)\"","v":"Consommation de gaz naturel par les entreprises (MWh)"},"Consommation de gaz liquide par les entreprises (MWh)","Consommation de fioul par les entreprises (MWh)","Consommation de diesel par les entreprises (MWh)",{"$f":"\"Consommation d'\"&J$15&\" \"&$B18&\" (MWh)\"","v":"Consommation d'essence par les entreprises (MWh)"},"Consommation de lignite par les entreprises (MWh)","Consommation de charbon par les entreprises (MWh)",{"$f":"M$15&\" \"&$B18&\" (MWh)\"","v":"Autres combustibles fossiles consommés par les entreprises (MWh)"},{"$f":"\"Consommation d'\"&N$15&\" \"&$B18&\" (MWh)\"","v":"Consommation d'huile végétale par les entreprises (MWh)"},"Consommation de biocarburants par les entreprises (MWh)",{"$f":"P$15&$B18&\" (MWh)\"","v":"Autres consommations de la biomasse par les entreprises (MWh)"},"Consommation de Solaire thermique par les entreprises (MWh)","Consommation de Géothermie par les entreprises (MWh)",0]
[null,"par les logements",null,"Consommation d'électricité par les logements (MWh)",null,"Consommation de gaz naturel par les logements (MWh)","Consommation de gaz liquide par les logements (MWh)","Consommation de fioul par les logements (MWh)","Consommation de diesel par les logements (MWh)",{"$f":"\"Consommation d'\"&J$15&\" \"&$B19&\" (MWh)\"","v":"Consommation d'essence par les logements (MWh)"},"Consommation de lignite par les logements (MWh)","Consommation de charbon par les logements (MWh)",{"$f":"M$15&\" \"&$B19&\" (MWh)\"","v":"Autres combustibles fossiles consommés par les logements (MWh)"},{"$f":"\"Consommation d'\"&N$15&\" \"&$B19&\" (MWh)\"","v":"Consommation d'huile végétale par les logements (MWh)"},"Consommation de biocarburants par les logements (MWh)",{"$f":"P$15&$B19&\" (MWh)\"","v":"Autres consommations de la biomasse par les logements (MWh)"},"Consommation de Solaire thermique par les logements (MWh)","Consommation de Géothermie par les logements (MWh)",0]
[null,"par l'éclairage public",null,"Consommation d'électricité par l'éclairage public (MWh)",null,"Consommation de gaz naturel par l'éclairage public (MWh)","Consommation de gaz liquide par l'éclairage public (MWh)","Consommation de fioul par l'éclairage public (MWh)","Consommation de diesel par l'éclairage public (MWh)","Consommation d'essence par l'éclairage public (MWh)","Consommation de lignite par l'éclairage public (MWh)","Consommation de charbon par l'éclairage public (MWh)","Autres combustibles fossiles consommés par l'éclairage public (MWh)","Consommation d'huile végétale par l'éclairage public (MWh)","Consommation de biocarburants par l'éclairage public (MWh)","Autres consommations de la biomasse par l'éclairage public (MWh)","Consommation de Solaire thermique par l'éclairage public (MWh)","Consommation de Géothermie par l'éclairage public (MWh)",0]
[null,"par l'industrie","Non-ETS","Consommation d'électricité par l'industrie (MWh)",null,"Consommation de gaz naturel par l'industrie (MWh)","Consommation de gaz liquide par l'industrie (MWh)","Consommation de fioul par l'industrie (MWh)","Consommation de diesel par l'industrie (MWh)","Consommation d'essence par l'industrie (MWh)","Consommation de lignite par l'industrie (MWh)","Consommation de charbon par l'industrie (MWh)","Autres combustibles fossiles consommés par l'industrie (MWh)","Consommation d'huile végétale par l'industrie (MWh)","Consommation de biocarburants par l'industrie (MWh)","Autres consommations de la biomasse par l'industrie (MWh)","Consommation de Solaire thermique par l'industrie (MWh)","Consommation de Géothermie par l'industrie (MWh)",0]
[null,"Subtotal ",null,{"$f":"SUM(D17:D21)","v":0},0,0,0,0,0,0,0,0,0,0,0,0,0,0,0]
[null,"TRANSPORT"]
[null,"par la flotte communale",null,{"$f":"\"Consommation d'électricité \"&B24&\" (MWh)\"","v":"Consommation d'électricité par la flotte communale (MWh)"},null,{"$f":"\"Consommation de \"&F$15&\" \"&$B24&\" (MWh)\"","v":"Consommation de gaz naturel par la flotte communale (MWh)"},"Consommation de gaz liquide par la flotte communale (MWh)","Consommation de fioul par la flotte communale (MWh)","Consommation de diesel par la flotte communale (MWh)",{"$f":"\"Consommation d'\"&J$15&\" \"&$B24&\" (MWh)\"","v":"Consommation d'essence par la flotte communale (MWh)"},"Consommation de lignite par la flotte communale (MWh)","Consommation de charbon par la flotte communale (MWh)",{"$f":"M$15&\" \"&$B24&\" (MWh)\"","v":"Autres combustibles fossiles consommés par la flotte communale (MWh)"},{"$f":"\"Consommation d'\"&N$15&\" \"&$B24&\" (MWh)\"","v":"Consommation d'huile végétale par la flotte communale (MWh)"},"Consommation de biocarburants par la flotte communale (MWh)",{"$f":"P$15&$B24&\" (MWh)\"","v":"Autres consommations de la biomasse par la flotte communale (MWh)"},"Consommation de Solaire thermique par la flotte communale (MWh)","Consommation de Géothermie par la flotte communale (MWh)",{"$f":"SUM(D24:R24)","v":0}]
[null,"par les transports publics",null,"Consommation d'électricité par les transports publics (MWh)",null,"Consommation de gaz naturel par les transports publics (MWh)","Consommation de gaz liquide par les transports publics (MWh)","Consommation de fioul par les transports publics (MWh)","Consommation de diesel par les transports publics (MWh)","Consommation d'essence par les transports publics (MWh)","Consommation de lignite par les transports publics (MWh)","Consommation de charbon par les transports publics (MWh)","Autres combustibles fossiles consommés par les transports publics (MWh)","Consommation d'huile végétale par les transports publics (MWh)","Consommation de biocarburants par les transports publics (MWh)","Autres consommations de la biomasse par les transports publics (MWh)","Consommation de Solaire thermique par les transports publics (MWh)","Consommation de Géothermie par les transports publics (MWh)",{"$f":"SUM(D25:R25)","v":0}]
[null,"par les transports privés et commerciaux",null,{"$f":"\"Consommation de l'électricité \"&B26&\" (MWh)\"","v":"Consommation de l'électricité par les transports privés et commerciaux (MWh)"},null,"Consommation de gaz naturel par les transports privés et commerciaux (MWh)","Consommation de gaz liquide par les transports privés et commerciaux (MWh)","Consommation de fioul par les transports privés et commerciaux (MWh)","Consommation de diesel par les transports privés et commerciaux (MWh)","Consommation d'essence par les transports privés et commerciaux (MWh)","Consommation de lignite par les transports privés et commerciaux (MWh)","Consommation de charbon par les transports privés et commerciaux (MWh)","Autres combustibles fossiles consommés par les transports privés et commerciaux (MWh)","Consommation d'huile végétale par les transports privés et commerciaux (MWh)","Consommation de biocarburants par les transports privés et commerciaux (MWh)","Autres consommations de la biomasse par les transports privés et commerciaux (MWh)","Consommation de Solaire thermique par les transports privés et commerciaux (MWh)","Consommation de Géothermie par les transports privés et commerciaux (MWh)",{"$f":"SUM(D26:R26)","v":0}]
[null,"Subtotal ",null,{"$f":"SUM(D24:D26)","v":0},{"$f":"SUM(E24:E26)","v":0},0,0,0,0,0,0,0,0,0,0,0,0,0,{"$f":"SUM(D27:R27)","v":0}]
[null,"OTHER  "]
[null,"par le secteur agricole",null,{"$f":"\"Consommation d'électricité \"&B29&\" (MWh)\"","v":"Consommation d'électricité par le secteur agricole (MWh)"},null,{"$f":"\"Consommation de \"&F$15&\" \"&$B29&\" (MWh)\"","v":"Consommation de gaz naturel par le secteur agricole (MWh)"},"Consommation de gaz liquide par le secteur agricole (MWh)","Consommation de fioul par le secteur agricole (MWh)","Consommation de diesel par le secteur agricole (MWh)",{"$f":"\"Consommation d'\"&J$15&\" \"&$B29&\" (MWh)\"","v":"Consommation d'essence par le secteur agricole (MWh)"},"Consommation de lignite par le secteur agricole (MWh)","Consommation de charbon par le secteur agricole (MWh)",{"$f":"M$15&\" \"&$B29&\" (MWh)\"","v":"Autres combustibles fossiles consommés par le secteur agricole (MWh)"},{"$f":"\"Consommation d'\"&N$15&\" \"&$B29&\" (MWh)\"","v":"Consommation d'huile végétale par le secteur agricole (MWh)"},"Consommation de biocarburants par le secteur agricole (MWh)",{"$f":"P$15&$B29&\" (MWh)\"","v":"Autres consommations de la biomasse par le secteur agricole (MWh)"},"Consommation de Solaire thermique par le secteur agricole (MWh)",{"$f":"\"Consommation de \"&R$15&\" \"&$B29&\" (MWh)\"","v":"Consommation de Géothermie par le secteur agricole (MWh)"},{"$f":"SUM(D29:R29)","v":0}]
[null,"TOTAL",null,{"$f":"SUM(D22,D27,D29)","v":0},{"$f":"SUM(E22,E27,E29)","v":0},0,0,0,0,0,0,0,0,0,0,0,0,0,0]
[]
[null,"B. Production d'énergie"]
[]
[null,"Production d'électricité locale/distribuée (énergies renouvelables uniquement)"]
[]
[null,"Installations locales d'électricité renouvelable",null,"[MWh]","[t/MWh produit]","[t]"]
[null,"Eolien",null,null,null,{"$f":"D37*E37","v":0}]
[null,"Energie hydroélectrique",null,null,null,{"$f":"D38*E38","v":0}]
[null,"Photovoltaïque",null,null,null,{"$f":"D39*E39","v":0}]
[null,"Géothermie",null,null,null,{"$f":"D40*E40","v":0}]
[null,"Total",null,{"$f":"SUM(D37:D40)","v":0},{"$f":"SUM(E37:E40)","v":0},{"$f":"SUM(F37:F40)","v":0}]
[]
[null,"Production d'électricité locale/distribuée"]
[]
[null,"Installations de production locale d'électricité",null,"[MWh]",null,"[MWh]",null,null,null,null,null,null,null,null,null,"[t]"]
[null,null,null,null,null,"Combustibles fossiles",null,null,null,null,"Déchets","Huile végétale","Autre biomasse","Autres énergies renouvelables ","Autres"]
[null,null,null,"Electricité renouvelable","Electricité non renouvelable ","Gaz naturel","Gaz liquide","Mazout de chauffage","Lignite","Charbon",null,null,null,null,null,"Sources d'énergie fossiles","Sources renouvelables"]
[null,"Production combinée de chaleur et d'électricité"]
[]
[null,"Production locale de chaleur/froid"]
[]
[null,"Installations de production locale d'électricité",null,"[MWh]",null,"[MWh]",null,null,null,null,null,null,null,null,null,"[t]"]
[null,null,null,null,null,"Combustibles fossiles",null,null,null,null,"Déchets","Huile végétale","Autre biomasse","Autres énergies renouvelables ","Autres"]
[null,null,null,"Chaleur/froid renouvelables","Chaleur/Froid non renouvelable ","Gaz naturel","Gaz liquide","Mazout de chauffage","Lignite","Charbon",null,null,null,null,null,"Sources d'énergie fossiles","Sources renouvelables"]
[null,"Production combinée de chaleur et d'électricité"]
[null,"Chauffage urbain"]
[null,"Total",null,{"$f":"SUM(D55:D56)","v":0},0,0,0,0,0,0,0,0,0,0,0,0,0]
[]
[]
[]
[null,"C. Emissions"]
[]
[null,"Facteurs d'émissions"]
[]
[]
[null,null,"Electricité",null,"Chauffage et refroidissement urbain","Combustibles fossiles",null,null,null,null,null,null,null,"Energies renouvelables"]
[null,null,"National","Local",null,"Gaz naturel","Gaz liquide","Mazout de chauffage","Diesel","Essence","Lignite","Charbon","Autres combustibles fossiles","Biocarburants","Huile végétale","Autre biomasse","Solaire thermique","Géothermie"]
[null,null,0.27900000000000003,"Facteur d'émission de l'électricité (ton CO₂/MWh)",0,{"$f":"\"Facteur d'émission du \"&F15&\" (ton CO₂/MWh)\"","v":"Facteur d'émission du gaz naturel (ton CO₂/MWh)"},"Facteur d'émission gaz liquide (ton CO₂/MWh)","Facteur d'émission fioul (ton CO₂/MWh)",{"$f":"\"Facteur d'émission du \"&I15&\" (ton CO₂/MWh)\"","v":"Facteur d'émission du diesel (ton CO₂/MWh)"},"Facteur d'émission de l'essence (ton CO₂/MWh)",{"$f":"\"Facteur d'émission \"&K15&\" (ton CO₂/MWh)\"","v":"Facteur d'émission lignite (ton CO₂/MWh)"},"Facteur d'émission du charbon (ton CO₂/MWh)",{"$f":"\"Facteur d'émission des autres combustibles fossiles (ton CO₂/MWh)\"","v":"Facteur d'émission des autres combustibles fossiles (ton CO₂/MWh)"},"Facteur d'émission des biocarburants (ton CO₂/MWh)","Facteur d'émission huile végétale (ton CO₂/MWh)","Facteur d'émission du Autres consommations de la biomasse  (ton CO₂/MWh)","Facteur d'émission du Solaire thermique (ton CO₂/MWh)","Facteur d'émission du Géothermie (ton CO₂/MWh)"]
[]
[]
[null,"Complétez dans le cas où des secteurs non énergétiques sont inclus:"]
[]
[null,"Non-energy related sectors",null,"[t]"]
[null,"Traitement des décets "]
[null,"Traitement des eaux usées"]
[null,"Autres non énergétiques"]
[]
[]
[]
[null,"Inventaire des émissions"]
[]
[null,"Secteur ",null,"Emissions de CO2éq [t]"]
[null,null,null,"Electricité","Chauffage et refroidissement urbain","Combustibles fossiles",null,null,null,null,null,null,null,"Energies renouvelables",null,null,null,null,"Total"]
[null,null,null,null,null,"Gaz naturel","Gaz liquide","Mazout de chauffage","Diesel","Essence","Lignite","Charbon","Autres combustibles fossiles","Biocarburants","Huile végétale","Autre biomasse","Solaire thermique","Géothermie"]
[null,"BUILDINGS, EQUIPMENT/FACILITIES AND INDUSTRIES",null," "]
[null,"Bâtiments, équipements/installations municipaux",null,{"$f":"D17*D$68","v":{"$error":"#VALUE!"}},{"$error":"#VALUE!"},{"$error":"#VALUE!"},{"$error":"#VALUE!"},{"$error":"#VALUE!"},{"$error":"#VALUE!"},{"$error":"#VALUE!"},{"$error":"#VALUE!"},{"$error":"#VALUE!"},{"$error":"#VALUE!"},{"$error":"#VALUE!"},{"$error":"#VALUE!"},{"$error":"#VALUE!"},{"$error":"#VALUE!"},{"$error":"#VALUE!"},{"$f":"SUM(D86:R86)","v":{"$error":"#VALUE!"}}]
[null,"Bâtiments, équipements/installations tertiaires (non municipaux)",null,{"$error":"#VALUE!"},0,{"$error":"#VALUE!"},{"$error":"#VALUE!"},{"$error":"#VALUE!"},{"$error":"#VALUE!"},{"$error":"#VALUE!"},{"$error":"#VALUE!"},{"$error":"#VALUE!"},{"$error":"#VALUE!"},{"$error":"#VALUE!"},{"$error":"#VALUE!"},0,{"$error":"#VALUE!"},{"$error":"#VALUE!"},{"$error":"#VALUE!"}]
[null,"Bâtiments résidentiels",null,{"$error":"#VALUE!"},0,{"$error":"#VALUE!"},{"$error":"#VALUE!"},{"$error":"#VALUE!"},{"$error":"#VALUE!"},{"$error":"#VALUE!"},{"$error":"#VALUE!"},{"$error":"#VALUE!"},{"$error":"#VALUE!"},{"$error":"#VALUE!"},{"$error":"#VALUE!"},{"$f":"P19*P$68","v":{"$error":"#VALUE!"}},{"$error":"#VALUE!"},{"$error":"#VALUE!"},{"$error":"#VALUE!"}]
[null,"Eclairage public",null,{"$error":"#VALUE!"},0,{"$error":"#VALUE!"},{"$error":"#VALUE!"},{"$error":"#VALUE!"},{"$error":"#VALUE!"},{"$error":"#VALUE!"},{"$error":"#VALUE!"},{"$error":"#VALUE!"},{"$error":"#VALUE!"},{"$error":"#VALUE!"},{"$error":"#VALUE!"},{"$f":"P20*P$68","v":{"$error":"#VALUE!"}},{"$error":"#VALUE!"},{"$error":"#VALUE!"},{"$error":"#VALUE!"}]
[null,"Industrie","Non-ETS",{"$error":"#VALUE!"},0,{"$error":"#VALUE!"},{"$error":"#VALUE!"},{"$error":"#VALUE!"},{"$error":"#VALUE!"},{"$error":"#VALUE!"},{"$error":"#VALUE!"},{"$error":"#VALUE!"},{"$error":"#VALUE!"},{"$error":"#VALUE!"},{"$error":"#VALUE!"},{"$f":"P21*P$68","v":{"$error":"#VALUE!"}},{"$error":"#VALUE!"},{"$error":"#VALUE!"},{"$error":"#VALUE!"}]
[null,"Subtotal",null,{"$f":"SUM(D86:D90)","v":{"$error":"#VALUE!"}},{"$error":"#VALUE!"},{"$error":"#VALUE!"},{"$error":"#VALUE!"},{"$error":"#VALUE!"},{"$error":"#VALUE!"},{"$error":"#VALUE!"},{"$error":"#VALUE!"},{"$error":"#VALUE!"},{"$error":"#VALUE!"},{"$error":"#VALUE!"},{"$error":"#VALUE!"},{"$error":"#VALUE!"},{"$error":"#VALUE!"},{"$error":"#VALUE!"},{"$error":"#VALUE!"}]
[null,"TRANSPORT"]
[null,"Flotte municipale",null,{"$f":"D24*D$68","v":{"$error":"#VALUE!"}},0,{"$error":"#VALUE!"},{"$error":"#VALUE!"},{"$error":"#VALUE!"},{"$error":"#VALUE!"},{"$error":"#VALUE!"},{"$error":"#VALUE!"},{"$error":"#VALUE!"},{"$error":"#VALUE!"},{"$error":"#VALUE!"},{"$error":"#VALUE!"},{"$error":"#VALUE!"},{"$error":"#VALUE!"},{"$error":"#VALUE!"},{"$f":"SUM(D93:R93)","v":{"$error":"#VALUE!"}}]
[null,"Trasnports publics",null,{"$error":"#VALUE!"},0,{"$error":"#VALUE!"},{"$error":"#VALUE!"},{"$error":"#VALUE!"},{"$error":"#VALUE!"},{"$error":"#VALUE!"},{"$error":"#VALUE!"},{"$error":"#VALUE!"},{"$error":"#VALUE!"},{"$error":"#VALUE!"},{"$error":"#VALUE!"},{"$error":"#VALUE!"},{"$error":"#VALUE!"},{"$error":"#VALUE!"},{"$f":"SUM(D94:R94)","v":{"$error":"#VALUE!"}}]
[null,"Transports privés et commerciaux",null,{"$error":"#VALUE!"},0,{"$error":"#VALUE!"},{"$error":"#VALUE!"},{"$error":"#VALUE!"},{"$error":"#VALUE!"},{"$error":"#VALUE!"},{"$error":"#VALUE!"},{"$error":"#VALUE!"},{"$error":"#VALUE!"},{"$error":"#VALUE!"},{"$error":"#VALUE!"},{"$error":"#VALUE!"},{"$error":"#VALUE!"},{"$error":"#VALUE!"},{"$f":"SUM(D95:R95)","v":{"$error":"#VALUE!"}}]
[null,"Subtotal",null,{"$f":"SUM(D93:D95)","v":{"$error":"#VALUE!"}},{"$f":"SUM(E93:E95)","v":0},{"$error":"#VALUE!"},{"$error":"#VALUE!"},{"$error":"#VALUE!"},{"$error":"#VALUE!"},{"$error":"#VALUE!"},{"$error":"#VALUE!"},{"$error":"#VALUE!"},{"$error":"#VALUE!"},{"$error":"#VALUE!"},{"$error":"#VALUE!"},{"$error":"#VALUE!"},{"$error":"#VALUE!"},{"$error":"#VALUE!"},{"$f":"SUM(D96:R96)","v":{"$error":"#VALUE!"}}]
[null,"OTHER "]
[null,"Agriculture",null,{"$f":"D29*D$68","v":{"$error":"#VALUE!"}},0,{"$error":"#VALUE!"},{"$error":"#VALUE!"},{"$error":"#VALUE!"},{"$error":"#VALUE!"},{"$error":"#VALUE!"},{"$error":"#VALUE!"},{"$error":"#VALUE!"},{"$error":"#VALUE!"},{"$error":"#VALUE!"},{"$error":"#VALUE!"},{"$error":"#VALUE!"},{"$error":"#VALUE!"},{"$error":"#VALUE!"},{"$f":"SUM(D98:R98)","v":{"$error":"#VALUE!"}}]
[null,"OTHER NON-ENERGY RELATED"]
[null,"Traitement des décets ",null,null,null,null,null,null,null,null,null,null,null,null,null,null,null,null,{"$f":"D74","v":0}]
[null,"Traitement des eaux usées",null,null,null,null,null,null,null,null,null,null,null,null,null,null,null,null,{"$f":"D75","v":0}]
[null,"Autres non énergétiques",null,null,null,null,null,null,null,null,null,null,null,null,null,null,null,null,{"$f":"D76","v":0}]
[null,"TOTAL",null,{"$f":"SUM(D91,D96,D98)","v":{"$error":"#VALUE!"}},{"$f":"SUM(E91,E96,E98)","v":{"$error":"#VALUE!"}},{"$error":"#VALUE!"},{"$error":"#VALUE!"},{"$error":"#VALUE!"},{"$error":"#VALUE!"},{"$error":"#VALUE!"},{"$error":"#VALUE!"},{"$error":"#VALUE!"},{"$error":"#VALUE!"},{"$error":"#VALUE!"},{"$error":"#VALUE!"},{"$error":"#VALUE!"},{"$error":"#VALUE!"},{"$error":"#VALUE!"},{"$f":"SUM(S91,S96,S98,S100,S101,S102)","v":{"$error":"#VALUE!"}}]

{"sheet":"Données FPC","index":4,"n_rows":416,"n_cols":34,"rows_kept":416,"cut":false,"hidden":true,"merged":[]}
[1,"Constant",1990,1991,1992,1993,1994,1995,1996,1997,1998,1999,2000,2001,2002,2003,2004,2005,2006,2007,2008,2009,2010,2011,2012,2013,2014,2015,2016,2017,2018,2019,2020,2021]
["Coût d'investissement supplémentaire EV  (€)"]
["Efficacité - fioul (logements) (input/output)"]
["Efficacité - gaz liquide (logements) (input/output)"]
["Efficacité - gaz naturel (logements) (input/output)"]
["Efficacité - fioul (entreprises) (input/output)"]
["Efficacité - gaz liquide (entreprises) (input/output)"]
["Efficacité - gaz naturel (entreprises) (input/output)"]
["Rendement moyen boiler pompe à chaleur. (input/output)"]
["Coût total supplémentaire de la propriété (€/year)"]
["Production de chaleur - chauffe-eau solaire (kWh)"]
["Coût de l'isolation du sol (€/m²)"]
["Amélioration du coût du vitrage (€/m²)"]
["Coût de l'isolation de la toiture (€/m²)"]
["Coût de l'isolation des murs (€/m²)"]
["Kilomètres parcourus par an et par personne (km/year)"]
["Kilomètres parcourus annuellement par véhicule (km)"]
["Temps de retour (ans)"]
["Délai de récupération dans l'industrie des machines électriques (ans)"]
["Délai d'amortissement des écrans énergétiques (ans)"]
["Heures d'ensoleillement (h/yr)"]
["Distance parcourue par an - vélo électrique (km/year)"]
["Demande annuelle d'énergie pour ECS (kWh/HH/year)"]
["Facteur d'émission des biocarburants (ton CO₂/MWh)"]
["Consommation de biocarburants par le secteur agricole (MWh)"]
["Consommation des biocarburants par les entreprises (MWh)"]
["Consommation de biocarburants par les logements (MWh)"]
["Consommation de biocarburants par l'industrie (MWh)"]
["Consommation de biocarburants par les bâtiments communaux (MWh)"]
["Consommation de biocarburants par la flotte communale (MWh)"]
["Consommation de biocarburants par le secteur 'autres' (MWh)"]
["Consommation de biocarburants par les transports privés et commerciaux (MWh)"]
["Consommation de biocarburants par l'éclairage public (MWh)"]
["Consommation de biocarburants dans les transports publics (MWh)"]
["Efficacité thermique - boiler biomasse (input/output)"]
["Facteur d'émission lignite (ton CO₂/MWh)"]
["Consommation de lignite par le secteur agricole (MWh)"]
["Consommation de lignite par les entreprises (MWh)"]
[" Consommation de lignite par les logements (MWh)"]
["Consommation de lignite par l'industrie (MWh)"]
["Consommation de lignite par les bâtiments communaux (MWh)"]
["Consommation de lignite par la flotte communale (MWh)"]
["Consommation de lignite par le secteur 'autres' (MWh)"]
["Consommation de lignite dans les transports privés et commerciaux (MWh)"]
["Consommation de lignite par l'éclairage public (MWh)"]
["Consommation de lignite dans les transports publics (MWh)"]
["Bâtiments du secteur tertiaire (Bâtiments)"]
["Coût d'investissement - boiler biomasse (€/kWe)"]
["Coût de l'investissement - vélo électrique (€)"]
["Coût d'investissement de la pompe à chaleur air/air (logements) (€/kW)"]
["Coût d'investissement pompe à chaleur air-air (entreprises) (€/kW)"]
["Coût d'investissement pompe à chaleur air/eau (logements) (€/kW)"]
["Coût d'investissement pompe à chaleur air/eau (entreprises) (€/kW)"]
["Coût d'investissement boiler pompe à chaleur (€/kW)"]
["Coût d'investissement boiler pompe à chaleur (€/kW)"]
["Coût d'investissement de la pompe à chaleur sol/eau (logements) (€/kW)"]
["Coût d'investissement pompe à chaleur sol/eau (entreprises) (€/kW)"]
["Coût d'investissement - fioul (€/HH)"]
["Coût d'investissement - fioul (€/kW)"]
["Coût d'investissement - gaz liquide (€/HH)"]
["Coût d'investissement - gaz liquide (€/kW)"]
["Coût de l'investissement - gaz naturel (€/HH)"]
["Coût de l'investissement - gaz naturel (€/kW)"]
["Coût d'investissement - fermentation à petite échelle (€/kWe)"]
["Coût d'investissement du chauffe-eau solaire (logements) (€/kW)"]
["Coût d'investissement du chauffe-eau solaire (industrie) (€/kW)"]
["Coût d'investissement d'un chauffe-eau solaire (€/kW)"]
["Coût d'investissement - fioul (entreprises) (€/kW)"]
["Coût d'investissement - gaz liquide (entreprises) (€/kW)"]
["Coût de l'investissement - gaz naturel (€/kW)"]
["Facteur d'émission projeté pour les voitures en 2030 (gCO₂/km)"]
["Facteur d'émission du charbon (ton CO₂/MWh)"]
["Consommation de charbon par le secteur agricole (MWh)"]
["Consommation de charbon par les entreprises (MWh)"]
["Consommation du charbon par les logements (MWh)"]
["Consommation de charbon par l'industrie (MWh)"]
["Consommation de charbon par les bâtiments communaux (MWh)"]
["Consommation de charbon par la flotte communale (MWh)"]
["Consommation de charbon par le secteur 'autres' (MWh)"]
["Consommation de charbon par les transports privés et commerciaux (MWh)"]
["Consommation de charbon par l'éclairage public (MWh)"]
["Consommation de charbon par les transports publics (MWh)"]
["Voitures de société (Voitures)"]
["Facteur de conversion de l'énergie - GNC (MWh/kg)"]
["Facteur de conversion de l'énergie - GNC (MWh/l)"]
["Facteur de conversion énergétique - diesel (MWh/kg)"]
["Facteur de conversion énergétique - diesel (MWh/l)"]
["Facteur de conversion énergétique - essence (MWh/kg)"]
["Facteur de conversion énergétique - essence (MWh/l)"]
["Facteur de conversion énergétique - GPL (MWh/kg)"]
["Facteur de conversion énergétique - GPL (MWh/l)"]
["Coût d'investissement pour la démolition et la reconstruction (€/m²)"]
["Coût du carburant/de l'entretien (€/km)"]
["Transports publics - coût pour la commune (€/km)"]
["Transports publics - coût pour l'utilisateur (€/km)"]
["Degrés-jours (degree days)"]
["Facteur d'émission du diesel (ton CO₂/MWh)"]
["Consommation de diesel par l'agriculture (MWh)"]
["Consommation de diesel par les entreprises (MWh)"]
["Consommation de diesel par les logements (MWh)"]
["Consommation de diesel par l'industrie (MWh)"]
["Consommation de diesel par les bâtiments communaux (MWh)"]
["Consommation de diesel par la flotte communale (MWh)"]
["Consommation de diesel par le secteur 'autres' (MWh)"]
["Consommation de diesel par les transports privés et commerciaux (MWh)"]
["Consommation de diesel par l'éclairage public (MWh)"]
["Consommation de diesel dans les transports publics (MWh)"]
["Nombre de véhicules-kilomètres parcourus par des véhicules diesel. (km)"]
["Taux d'actualisation (%)"]
["Facteur de consommation d'énergie électricité (PJ/km)"]
["Facteur de consommation énergie hydrogène (PJ/km)"]
["Facteur de consommation d'énergie diesel - autoroutes (PJ/km)"]
["Facteur de consommation d'énergie essence - autoroutes (PJ/km)"]
["Facteur de consommation d'énergie diesel - routes numérotées (PJ/km)"]
["Facteur de consommation d'énergie essence - routes numérotées (PJ/km)"]
["Facteur de consommation d'énergie diesel - routes locales (PJ/km)"]
["Facteur de consommation d'énergie essence - routes locales (PJ/km)"]
["Facteur d'émission de l'électricité (ton CO₂/MWh)"]
["Consommation d'électricité par le secteur agricole (MWh)"]
["Consommation d'électricité par les entreprises (MWh)"]
["Consommation d'électricité par les logements (MWh)"]
["Consommation d'électricité par l'industrie (MWh)"]
["Consommation d'électricité des bâtiments communaux (MWh)"]
["Consommation d'électricité par la flotte communale (MWh)"]
["Consommation d'électricité par le secteur 'autres' (MWh)"]
["Consommation de l'électricité par les transports privés et commerciaux (MWh)"]
["Consommation d'électricité par l'éclairage public (MWh)"]
["Consommation d'électricité par les transports publics (MWh)"]
["Nombre de véhicules-kilomètres parcourus par des véhicules électriques. (km)"]
["Objectif 2030 (ton CO2e/person)"]
["Consommation moyenne d'énergie (kWh/m²/year)"]
["Consommation d'énergie après rénovation (kWh/m²)"]
["Consommation d'énergie avant rénovation (kWh/m²)"]
["Frais d'entretien - fioul (€/kW/year)"]
["Coût d'entretien - gaz liquide (€/kW/year)"]
["Coût d'entretien - gaz naturel (€/kW/year)"]
["Frais d'entretien - fioul (€/kW/year)"]
["Coût d'entretien - gaz liquide (€/kW/year)"]
["Coût d'entretien - gaz naturel (€/kW/year)"]
["Facteur d'émission de l'essence (ton CO₂/MWh)"]
["Nombre de véhicules-kilomètres parcourus par les véhicules hybrides CS. (km)"]
["Nombre de véhicules-kilomètres parcourus par les véhicules hybrides PHEV. (km)"]
["Consommation d'essence par le secteur agricole (MWh)"]
["Consommation d'essence par les entreprises (MWh)"]
["Consommation d'essence par les logements (MWh)"]
["Consommation d'essence par l'industrie (MWh)"]
["Consommation d'essence par les bâtiments communaux (MWh)"]
["Consommation d'essence par la flotte communale (MWh)"]
["Consommation d'essence par le secteur 'autres' (MWh)"]
["Consommation d'essence par les transports privés et commerciaux (MWh)"]
["Consommation d'essence par l'éclairage public (MWh)"]
["Consommation d'essence dans les transports publics (MWh)"]
["Nombre de véhicules-kilomètres parcourus par les véhicules à essence. (km)"]
["Geothermal emission factor (ton CO₂/MWh)"]
["Utilisation de la géothermie par le secteur agricole (MWh)"]
["Utilisation de la géothermie par les entreprises (MWh)"]
["Utilisation de la géothermie par les logements (MWh)"]
["Utilisation de la géothermie par l'industrie (MWh)"]
["Utilisation de la géothermie par les bâtiments communaux (MWh)"]
["Utilisation de la géothermie par la flotte communale (MWh)"]
["Utilisation de la géothermie par le secteur 'autres' (MWh)"]
["Utilisation de la géothermie pour les transports privés et commerciaux (MWh)"]
["Utilisation de la géothermie par l'éclairage public (MWh)"]
["Utilisation de la géothermie dans les transports publics (MWh)"]
["Indice de développement humain (IDH) ()"]
["Facteur d'émission fioul (ton CO₂/MWh)"]
["Consommation de fioul par le secteur agricole (MWh)"]
["Consommation de fioul par les entreprises (MWh)"]
["Consommation de fioul par les logements (MWh)"]
["Consommation de fioul par l'industrie (MWh)"]
["Consommation de fioul par les bâtiments communaux (MWh)"]
["Consommation de fioul par la flotte communale (MWh)"]
["Consommation de fioul par le secteur 'autres' (MWh)"]
["Consommation de fioul par les transports privés et commerciaux (MWh)"]
["Consommation de fioul par l'éclairage public (MWh)"]
["Consommation de fioul dans les transports publics (MWh)"]
["Heures boiler pompe à chaleur (logements) (h)"]
["Heures boiler pompe à chaleur (entreprises) (h)"]
["Efficacité de la pompe à chaleur air/air (output/input)"]
["Efficacité de la pompe à chaleur air/eau (output/input)"]
["Efficacité de la pompe à chaleur sol/eau (output/input)"]
["Heures de pompe à chaleur (H_hp) air/air (h)"]
["Heures de fonctionnement de la pompe à chaleur (H_hp) air/eau (h)"]
["Heures de fonctionnement de la pompe à chaleur (H_hp) sol/eau (h)"]
["Pompe à chaleur air-air (logements) (kW)"]
["Pompe à chaleur air-eau (logements) (kW)"]
["Pompe à chaleur géothermique/eau (logemens) (kW)"]
["Logements (Logements)"]
["Coût de rénovation (€/m²)"]
["Facteur d'émission hydrogène (ton CO₂/MWh)"]
["Indicateur de niveau de prix (Mondiale = 100) ()"]
["Durée de vie de l'isolation (ans)"]
["Potentiel d'isolation (%)"]
["Coût de l'investissement - isolation (€/MWh saved)"]
["Potentiel de réduction par covoitureur (%)"]
["Durée de vie (ans)"]
["Facteur d'émission gaz liquide (ton CO₂/MWh)"]
["Consommation de gaz liquide par le secteur agricole (MWh)"]
["Consommation du gaz liquide par les entreprises (MWh)"]
["Consommation de gaz liquide par les logements (MWh)"]
["Consommation de gaz liquide par l'industrie (MWh)"]
["Consommation de gaz liquide par les bâtiments communaux (MWh)"]
["Consommation de gaz liquide par la flotte communale (MWh)"]
["Consommation de gaz liquide par le secteur 'autres' (MWh)"]
["Consommation de gaz liquide par les transports privés et commerciaux (MWh)"]
["Consommation de gaz liquide par l'éclairage public (MWh)"]
["Consommation de gaz liquide par les transports publics (MWh)"]
["Surface habitable moyenne (m²)"]
["Coût d'investissement - centre à faible trafic (€)"]
["Réduction du trafic (%)"]
["Durée de vie - centre à faible trafic (ans)"]
["Coût de maintenance - centre à faible trafic (%)"]
["Coût d'entretien - vélo électrique (€/year)"]
["Coût d'entretien boiler pompe à chaleur (logements) (€/kW/year)"]
["Coût d'entretien boiler pompe à chaleur (entreprises) (€/kW/year)"]
["Coût d'entretien de la pompe à chaleur (logements) (€/kW/year)"]
["Coût d'entretien - éclairage public (€/MWh)"]
["Coût d'entretien - chauffe-eau solaire (logements) (€/kW)"]
["Coût d'entretien du chauffe-eau solaire (€/kW)"]
["Coût d'entretien - chauffe-eau solaire (entreprises) (€/kW)"]
["Consommation annuelle d'électricité - industrie de transformation des métaux (kWh)"]
["Réduction de la consommation d'énergie (%)"]
["Consommation annuelle de gaz (kWh)"]
["Coût d'investissement - optimisation dans l'industrie de transformation des métaux (€/GJ)"]
["Coût opérationnel - optimisation dans l'industrie de transformation des métaux (€/GJ)"]
["Facteur d'émission du gaz naturel (ton CO₂/MWh)"]
["Consommation de gaz naturel par le secteur agricole (MWh)"]
["Consommation de gaz naturel par les entreprises (MWh)"]
["Consommation de gaz naturel par les logements (MWh)"]
["Consommation de gaz naturel par l'industrie (MWh)"]
["Consommation de gaz naturel par les bâtiments communaux (MWh)"]
["Consommation de gaz naturel par la flotte communale (MWh)"]
["Utilisation du gaz naturel par le secteur 'autres' (MWh)"]
["Consommation de gaz naturel par les transports privés et commerciaux (MWh)"]
["Consommation de gaz naturel par l'éclairage public (MWh)"]
["Consommation de gaz naturel par les transports publics (MWh)"]
["Nouveaux véhicules immatriculés (Nouvelles voitures)"]
["Coût d'entretien - boiler biomasse (€/kW/yr)"]
["Coût d'entretien de la pompe à chaleur air/air (entreprises) (€/kW/year)"]
["Coût de maintenance des pompes à chaleur air/eau (entreprises) (€/kW/year)"]
["Coût d'entretien pompe à chaleur sol/eau (€/kW/year)"]
["Coût d'entretien - fermentation à petite échelle (€/kWe/year)"]
["Autre facteur d'émission de la biomasse (ton CO₂/MWh)"]
["Autres utilisations de la biomasse par le secteur agricole (MWh)"]
["Autres consommations de la biomasse par les entreprises (MWh)"]
["Autres consommations de la biomasse par les logements (MWh)"]
["Autres consommations de la biomasse par l'industrie (MWh)"]
["Autres utilisations de la biomasse par les bâtiments communaux (MWh)"]
["Autres utilisations de la biomasse par la flotte communale (MWh)"]
["Autres utilisations de la biomasse par le secteur 'autres' (MWh)"]
["Autres utilisations de la biomasse par les transports privés et commerciaux (MWh)"]
["Autres consommations de biomasse par l'éclairage public (MWh)"]
["Autres consommations de biomasse par les transports publics (MWh)"]
["Facteur d'émission des autres combustibles fossiles (ton CO₂/MWh)"]
["Autres combustibles fossiles consommés par le secteur agricole (MWh)"]
["Autres combustibles fossiles consommés par les entreprises (MWh)"]
["Autres consommations de combustibles fossiles par les logements (MWh)"]
["Autres combustibles fossiles consommés par l'industrie (MWh)"]
["Autres combustibles fossiles consommés par les bâtiments communaux (MWh)"]
["Autres combustibles fossiles consommés par la flotte communale (MWh)"]
["Consommation d'autres combustibles fossiles par le secteur 'autres' (MWh)"]
["Autres combustibles fossiles utilisés par les transports privés et commerciaux (MWh)"]
["Autres combustibles fossiles consommés par l'éclairage public (MWh)"]
["Autres combustibles fossiles utilisés par les transports publics (MWh)"]
["Km véhicules individuels (km)"]
["Taux de captage du carbone (kg CO₂/year)"]
["Coût de l'investissement - plantation d'arbres (€)"]
["Coût d'entretien - plantation d'arbres (€/year)"]
["Rendement électrique - fermentation à petite échelle (output/input)"]
["Efficacité thermique - fermentation à petite échelle (output/input)"]
["Population (people)"]
["Taux annuel moyen de variation de la population (2020 - 2030) (%)"]
["Prix du diesel (€/l)"]
["Coût de l'électricité (logements) (€/kWh)"]
["Coût de l'électricité (industrie) (€/MWh)"]
["Coût de l'électricité (€/kWh)"]
["Coût de l'énergie (€/kWh)"]
["prix de l'essence (€/l)"]
["Prix de l'essence (€/l)"]
["Coût du fioul (logements) (€/kWh)"]
["Coût du fioul (industrie) (€/MWh)"]
["Coût du fioul (entreprises) (€/kWh)"]
["Coût du gaz liquide (€/kWh)"]
["coût du gaz liquide (€/MWh)"]
["Coût du gaz liquide (entreprises) (€/kWh)"]
["Coût du gaz naturel (logements) (€/kWh)"]
["Coût du gaz naturel (industrie) (€/MWh)"]
["Coût du gaz naturel (entreprises) (€/kWh)"]
["Réduction des coûts - éclairage public (%)"]
["Coût de l'investissement (€/kWp)"]
["Rendement énergétique par m2 PV (kWh/m²)"]
["Coût de maintenance PV (€/kWp)"]
["Rendement spécifique (kWh/kWp)"]
["Surface utilisable du toit (%)"]
["Réduction sur le prix de l'électricité (%)"]
["Véhicules immatriculés (Voitures)"]
["Surface du toit (m²)"]
["Heures de fonctionnement - boiler biomasse (hours)"]
["Heures de fonctionnement - fermentation à petite échelle (hours)"]
["Émissions scope 1 par AFAUT > Utilisation des terres (ton CO₂)"]
["Émissions scope 1 par AFAUT > Élevage (ton CO₂)"]
["Émissions scope 1 par IPPU > Processus industriels (ton CO₂)"]
["Émissions scope 1 par IPPU > Utilisation du produit (ton CO₂)"]
["Émissions scope 1 par énergie stationnaire > Agriculture (ton CO₂)"]
["Émissions scope 1 par énergie stationnaire > Bâtiments et établissements commerciaux (ton CO₂)"]
["Émissions scope 1 par énergie stationnaire > Émissions fugitives (ton CO₂)"]
["Émissions scope 1 par énergie stationnaire > Bâtiments et établissements industriels (ton CO₂)"]
["Émissions scope 1 par énergie stationnaire > Bâtiments et établissements institutionnels (ton CO₂)"]
["Émissions scope 1 par énergie stationnaire > Bâtiments résidentiels (ton CO₂)"]
["Émissions scope 1 par transport > Aviation (ton CO₂)"]
["Émissions scope 1 par transport > Off-road (ton CO₂)"]
["Émissions scope 1 par transport > Routier (ton CO₂)"]
["Émissions scope 1 par transport > Voies ferrées (ton CO₂)"]
["Émissions scope 1 par transport > Navigation par voie d'eau (ton CO₂)"]
["Émissions scope 1 par déchet > Traitement biologique (ton CO₂)"]
["Émissions scope 1 par déchet > Incinération et combustion à l'air ouvert (ton CO₂)"]
["Émissions scope 1 par déchets > Élimination des déchets solides (ton CO₂)"]
["Émissions scope 1 par Déchets > Eaux usées (ton CO₂)"]
["Émissions scope 2 par AFAUT  > Utilisation des terres (ton CO₂)"]
["Émissions scope 2 par AFAUT > Élevage (ton CO₂)"]
["Émissions scope 2 par IPPU > Processus industriels (ton CO₂)"]
["Émissions scope 2 par IPPU > Utilisation de produit (ton CO₂)"]
["Émissions scope 2 par énergie stationnaire > Agriculture (ton CO₂)"]
["Émissions scope 2 par énergie stationnaire > Bâtiments et établissements commerciaux (ton CO₂)"]
["Émissions scope 2 par énergie stationnaire > Émissions fugitives (ton CO₂)"]
["Émissions scope 2 par énergie stationnaire > Bâtiments et établissements industriels (ton CO₂)"]
["Émissions de portée 2 par énergie stationnaire > Bâtiments et établissements institutionnels (ton CO₂)"]
["Émissions scope 2 par énergie stationnaire > Bâtiments résidentiels (ton CO₂)"]
["Émissions scope 2 par transport > Aviation (ton CO₂)"]
["Émissions scope 2 par transport > Off-road (ton CO₂)"]
["Émissions scope 2 par transport > Routier (ton CO₂)"]
["Émissions scope 2 par le transport > Voies ferrées (ton CO₂)"]
["Émissions scope 2 par transport > Navigation par voie d'eau (ton CO₂)"]
["Émissions scope 2 par déchet > Traitement biologique (ton CO₂)"]
["Émissions scope 2 par déchet > Incinération et combustion à l'air libre (ton CO₂)"]
["Émissions scope 2 par déchets > Élimination des déchets solides (ton CO₂)"]
["Émissions scope 2 par Déchets > Eaux usées (ton CO₂)"]
["Émissions scope 3 par AFAUT > Utilisation des terres (ton CO₂)"]
["Émissions scope 3 par AFAUT > Élevage (ton CO₂)"]
["Émissions scope 3 par IPPU > Processus industriels (ton CO₂)"]
["Émissions scope 3 par IPPU > Utilisation du produit (ton CO₂)"]
["Émissions scope 3 par énergie stationnaire > Agriculture (ton CO₂)"]
["Émissions scope 3 par énergie stationnaire > Bâtiments et établissements commerciaux  (ton CO₂)"]
["Émissions scope 3 par énergie stationnaire > Émissions fugitives (ton CO₂)"]
["Émissions scope 3 par énergie stationnaire > Bâtiments et établissements industriels (ton CO₂)"]
["Émissions du champ 3 par énergie stationnaire > Bâtiments et établissements institutionnels (ton CO₂)"]
["Émissions scope 3 par énergie stationnaire > Bâtiments résidentiels (ton CO₂)"]
["Émissions scope 3 par transport > Aviation (ton CO₂)"]
["Émissions scope 3 par transport > Off-road (ton CO₂)"]
["Émissions scope 3 par transport > Routier (ton CO₂)"]
["Émissions scope 3 par transport > Voies ferrées (ton CO₂)"]
["Émissions scope 3 par transport > Navigation par voie d'eau (ton CO₂)"]
["Émissions scope 3 par déchet > Traitement biologique (ton CO₂)"]
["Émissions scope 3 par déchet > Incinération et combustion à l'air libre (ton CO₂)"]
["Émissions scope 3 par déchets > Élimination des déchets solides (ton CO₂)"]
["Émissions scope 3 par Déchets > Eaux usées (ton CO₂)"]
["% de pompes à chaleur air-air (logements) (%)"]
["% de pompes à chaleur air-air (entreprises) (%)"]
["% de pompes à chaleur air/eau (logements) (%)"]
["% de pompes à chaleur air/eau (entreprises) (%)"]
["% de pompes à chaleur sol/eau (logements) (%)"]
["% de pompes à chaleur sol/eau (entreprises) (%)"]
["Solar/Thermal emission factor (ton CO₂/MWh)"]
["Consommation solaire/thermique par le secteur agricole (MWh)"]
["Consommation d'énergie solaire/thermique par les entreprises (MWh)"]
["Consommation d'énergie solaire/thermique par les logements (MWh)"]
["Consommation d'énergie solaire/thermique par l'industrie (MWh)"]
["Consommation solaire/thermique des bâtiments communaux (MWh)"]
["Consommation d'énergie solaire/thermique par la flotte communale (MWh)"]
["Consommation solaire/thermique par le secteur 'autres' (MWh)"]
["Consommation d'énergie solaire/thermique par les transports privés et commerciaux (MWh)"]
["Consommation solaire/thermique par l'éclairage public (MWh)"]
["Consommation d'énergie solaire/thermique dans les transports publics (MWh)"]
["Superficie (km²)"]
["Superficie (m²)"]
["Transmission thermique à travers le sol (W/m²K)"]
["Transmission thermique à travers le sol après isolation (W/m²K)"]
["Transmission thermique par le toit (W/m²K)"]
["Transmission thermique à travers le toit après isolation (W/m²K)"]
["Transmission thermique à travers les murs (W/m²K)"]
["Transmission thermique à travers les murs après isolation (W/m²K)"]
["Transmission thermique à travers les fenêtres (W/m²K)"]
["Transmission thermique à travers les fenêtres après amélioration du vitrage (W/m²K)"]
["Émissions totales de carbone (ton CO₂)"]
["Vegetable oil emission factor (ton CO₂/MWh)"]
["Consommation d'huile végétale par le secteur agricole (MWh)"]
["Consommation d'huile végétale par les entreprises (MWh)"]
["Consommation d'huile végétale par les logements (MWh)"]
["Consommation d'huile végétale par l'industrie (MWh)"]
["Consommation d'huile végétale par les bâtiments communaux (MWh)"]
["Consommation d'huile végétale par la flotte communale (MWh)"]
["Consommation d'huile végétale par le secteur 'autres' (MWh)"]
["Consommation d'huile végétale par les transports privés et commerciaux (MWh)"]
["Consommation d'huile végétale par l'éclairage public (MWh)"]
["Consommation d'huile végétale par les transports publics (MWh)"]
["Trafic - autoroutes (km)"]
["Trafic - routes numérotées (km)"]
["Trafic - routes locales (km)"]
["Superficie des murs (m²)"]
["Facteur d'émission chaud/froid (ton CO₂/MWh)"]
["Consommation du chaud/froid par le secteur agricole (MWh)"]
["Consommation de chaud/froid par les entreprises (MWh)"]
["Consommation de chaud/froid par les logements (MWh)"]
["Consommation de chaud/froid par l'industrie (MWh)"]
["Consommation de chaud/froid par les bâtiments communaux (MWh)"]
["Consommation de chaud/froid par la flotte communale (MWh)"]
["Consommation de chaud/froid par le secteur 'autres' (MWh)"]
["Consommation de chaleur/froid par les transports privés et commerciaux (MWh)"]
["Consommation de chaud/froid par l'éclairage public (MWh)"]
["Consommation chaud/froid dans les transports publics (MWh)"]
["Surface des fenêtres (m²)"]
["Coût d'entretien d'une éolienne (%)"]
["Capacité éolienne (MW)"]
["Heures à pleine charge (MWh/MW)"]
["Prix des éoliennes (€/MW)"]
["Demande annuelle de chaleur (MWh)"]

{"sheet":"Mesures_FPC","index":5,"n_rows":43,"n_cols":13,"rows_kept":43,"cut":false,"hidden":true,"merged":[]}
["Nom","Sous-titre","Secteur","Personne responsable","Date de début","Date de fin","Confidentialité","Avancement","Objectif","Progress unit","Baisse d'émissions par unité (t CO₂e/unité)","Economies annuelles finales (EUR)","Baisse finales d'émissions (t CO₂e)"]
[null,{"$f":"A2&\" - \"&J2","v":" - "}]
[null,{"$f":"A3&\" - \"&J3","v":" - "}]
[null," - "]
[null," - "]
[null," - "]
[null," - "]
[null," - "]
[null," - "]
[null," - "]
[null," - "]
[null," - "]
[null," - "]
[null," - "]
[null," - "]
[null," - "]
[null," - "]
[null," - "]
[null," - "]
[null," - "]
[null," - "]
[null," - "]
[null," - "]
[null," - "]
[null," - "]
[null," - "]
[null," - "]
[null," - "]
[null," - "]
[null," - "]
[null," - "]
[null," - "]
[null," - "]
[null," - "]
[null," - "]
[null," - "]
[null," - "]
[null," - "]
[null," - "]
[null," - "]
[null," - "]
[null," - "]
[null," - "]

{"sheet":"Inventaire Contrôle","index":6,"n_rows":103,"n_cols":19,"rows_kept":103,"cut":false,"hidden":false,"merged":[[102,1,102,2],[84,3,84,18],[85,1,85,2],[86,1,86,2],[98,1,98,2],[98,3,98,18],[92,1,92,2],[93,1,93,2],[99,1,99,2],[99,3,101,17],[100,1,100,2],[101,1,101,2],[94,1,94,2],[95,1,95,2],[96,1,96,2],[96,3,96,18],[97,1,97,2],[87,1,87,2],[88,1,88,2],[90,1,90,2],[91,1,91,2],[91,3,91,18],[72,1,72,2],[73,1,73,2],[74,1,74,2],[75,1,75,2],[81,1,83,2],[84,1,84,2],[65,5,65,12],[65,13,65,17],[81,3,81,18],[82,3,83,3],[82,4,83,4],[82,5,82,12],[82,13,82,17],[82,18,83,18],[54,1,54,2],[55,1,55,2],[56,1,56,2],[65,2,65,3],[65,4,66,4],[47,1,47,2],[51,1,53,2],[51,3,52,4],[51,5,51,14],[51,15,52,16],[52,5,52,9],[52,10,53,10],[52,11,53,11],[52,12,53,12],[52,13,53,13],[52,14,53,14],[45,10,46,10],[45,11,46,11],[45,12,46,12],[45,13,46,13],[45,14,46,14],[44,1,46,2],[44,5,44,14],[26,1,26,2],[27,1,27,2],[27,3,27,18],[28,1,28,2],[29,1,29,2],[35,1,35,2],[36,1,36,2],[37,1,37,2],[38,1,38,2],[39,1,39,2],[40,1,40,2],[44,3,45,4],[44,15,45,16],[45,5,45,9],[25,1,25,2],[15,1,15,2],[15,3,15,18],[16,1,16,2],[17,1,17,2],[18,1,18,2],[19,1,19,2],[21,1,21,2],[23,1,23,2],[24,1,24,2],[22,1,22,2],[22,3,22,18],[6,1,8,2],[6,3,8,18],[10,1,10,2],[12,1,14,2],[12,3,12,18],[13,3,14,3],[13,4,14,4],[13,5,13,12],[13,13,13,17],[13,18,14,18]]}
["Inventaire de contrôle des émissions"]
[]
["1)","Année de l'inventaire",null,{"$f":"Accueil!E26","v":0}]
[]
["2)","Population"]
[]
["3) ","Notes méthodologique"]
[]
[]
[null,null,null,null,null,null,null,null,null,null,null,null,null,null,null,null,null,null,{"$f":"CONCATENATE(TEXT(1000-LEN(D7), \"#\"),\" charactères restants\")","v":"1000 charactères restants"}]
[null,"A. Consommation finale d'énergie"]
[null,null,null,null,null,null,null,null,null,null,null,null,null,"Huile vég","Biocarburants","Bois/Pellets","Solaire thermique","Géothermie"]
[null,"Secteur",null,"Consommation finale d'énergie (MWh)"]
[null,null,null,"Electricité","Chauffage et refroidissement urbain","Combustibles fossiles",null,null,null,null,null,null,null,"Energies renouvelables",null,null,null,null,"Total"]
[null,null,null,null,null,"Gaz naturel","Gaz liquide","Mazout de chauffage","Diesel","Essence","Lignite","Charbon","Autres combustibles fossiles","Huile végétale","Biocarburants","Autre biomasse","Solaire thermique","Géothermie"]
[null,"BUILDINGS, EQUIPMENT/FACILITIES AND INDUSTRIES",null," "]
[null,"Bâtiments, équipements/installations municipaux",null,{"$f":"IF(ISNA(VLOOKUP('Cache inventaire'!D17,'Données FPC'!$A$2:$AH$450,MATCH($D$3,'Données FPC'!$1:$1),0)),,VLOOKUP('Cache inventaire'!D17,'Données FPC'!$A$2:$AH$450,MATCH($D$3,'Données FPC'!$1:$1),0))","v":0},null,{"$f":"IF(ISNA(VLOOKUP('Cache inventaire'!F17,'Données FPC'!$A$2:$AH$450,MATCH($D$3,'Données FPC'!$1:$1),0)),,VLOOKUP('Cache inventaire'!F17,'Données FPC'!$A$2:$AH$450,MATCH($D$3,'Données FPC'!$1:$1),0))","v":0},{"$f":"IF(ISNA(VLOOKUP('Cache inventaire'!G17,'Données FPC'!$A$2:$AH$450,MATCH($D$3,'Données FPC'!$1:$1),0)),,VLOOKUP('Cache inventaire'!G17,'Données FPC'!$A$2:$AH$450,MATCH($D$3,'Données FPC'!$1:$1),0))","v":0},{"$f":"IF(ISNA(VLOOKUP('Cache inventaire'!H17,'Données FPC'!$A$2:$AH$450,MATCH($D$3,'Données FPC'!$1:$1),0)),,VLOOKUP('Cache inventaire'!H17,'Données FPC'!$A$2:$AH$450,MATCH($D$3,'Données FPC'!$1:$1),0))","v":0},{"$f":"IF(ISNA(VLOOKUP('Cache inventaire'!I17,'Données FPC'!$A$2:$AH$450,MATCH($D$3,'Données FPC'!$1:$1),0)),,VLOOKUP('Cache inventaire'!I17,'Données FPC'!$A$2:$AH$450,MATCH($D$3,'Données FPC'!$1:$1),0))","v":0},{"$f":"IF(ISNA(VLOOKUP('Cache inventaire'!J17,'Données FPC'!$A$2:$AH$450,MATCH($D$3,'Données FPC'!$1:$1),0)),,VLOOKUP('Cache inventaire'!J17,'Données FPC'!$A$2:$AH$450,MATCH($D$3,'Données FPC'!$1:$1),0))","v":0},{"$f":"IF(ISNA(VLOOKUP('Cache inventaire'!K17,'Données FPC'!$A$2:$AH$450,MATCH($D$3,'Données FPC'!$1:$1),0)),,VLOOKUP('Cache inventaire'!K17,'Données FPC'!$A$2:$AH$450,MATCH($D$3,'Données FPC'!$1:$1),0))","v":0},{"$f":"IF(ISNA(VLOOKUP('Cache inventaire'!L17,'Données FPC'!$A$2:$AH$450,MATCH($D$3,'Données FPC'!$1:$1),0)),,VLOOKUP('Cache inventaire'!L17,'Données FPC'!$A$2:$AH$450,MATCH($D$3,'Données FPC'!$1:$1),0))","v":0},{"$f":"IF(ISNA(VLOOKUP('Cache inventaire'!M17,'Données FPC'!$A$2:$AH$450,MATCH($D$3,'Données FPC'!$1:$1),0)),,VLOOKUP('Cache inventaire'!M17,'Données FPC'!$A$2:$AH$450,MATCH($D$3,'Données FPC'!$1:$1),0))","v":0},{"$f":"IF(ISNA(VLOOKUP('Cache inventaire'!N17,'Données FPC'!$A$2:$AH$450,MATCH($D$3,'Données FPC'!$1:$1),0)),,VLOOKUP('Cache inventaire'!N17,'Données FPC'!$A$2:$AH$450,MATCH($D$3,'Données FPC'!$1:$1),0))","v":0},{"$f":"IF(ISNA(VLOOKUP('Cache inventaire'!O17,'Données FPC'!$A$2:$AH$450,MATCH($D$3,'Données FPC'!$1:$1),0)),,VLOOKUP('Cache inventaire'!O17,'Données FPC'!$A$2:$AH$450,MATCH($D$3,'Données FPC'!$1:$1),0))","v":0},{"$f":"IF(ISNA(VLOOKUP('Cache inventaire'!P17,'Données FPC'!$A$2:$AH$450,MATCH($D$3,'Données FPC'!$1:$1),0)),,VLOOKUP('Cache inventaire'!P17,'Données FPC'!$A$2:$AH$450,MATCH($D$3,'Données FPC'!$1:$1),0))","v":0},null,null,{"$f":"SUM(D17:R17)","v":0}]
[null,"Bâtiments, équipements/installations tertiaires (non municipaux)",null,{"$f":"IF(ISNA(VLOOKUP('Cache inventaire'!D18,'Données FPC'!$A$2:$AH$450,MATCH($D$3,'Données FPC'!$1:$1),0)),,VLOOKUP('Cache inventaire'!D18,'Données FPC'!$A$2:$AH$450,MATCH($D$3,'Données FPC'!$1:$1),0))","v":0},null,{"$f":"IF(ISNA(VLOOKUP('Cache inventaire'!F18,'Données FPC'!$A$2:$AH$450,MATCH($D$3,'Données FPC'!$1:$1),0)),,VLOOKUP('Cache inventaire'!F18,'Données FPC'!$A$2:$AH$450,MATCH($D$3,'Données FPC'!$1:$1),0))","v":0},{"$f":"IF(ISNA(VLOOKUP('Cache inventaire'!G18,'Données FPC'!$A$2:$AH$450,MATCH($D$3,'Données FPC'!$1:$1),0)),,VLOOKUP('Cache inventaire'!G18,'Données FPC'!$A$2:$AH$450,MATCH($D$3,'Données FPC'!$1:$1),0))","v":0},{"$f":"IF(ISNA(VLOOKUP('Cache inventaire'!H18,'Données FPC'!$A$2:$AH$450,MATCH($D$3,'Données FPC'!$1:$1),0)),,VLOOKUP('Cache inventaire'!H18,'Données FPC'!$A$2:$AH$450,MATCH($D$3,'Données FPC'!$1:$1),0))","v":0},{"$f":"IF(ISNA(VLOOKUP('Cache inventaire'!I18,'Données FPC'!$A$2:$AH$450,MATCH($D$3,'Données FPC'!$1:$1),0)),,VLOOKUP('Cache inventaire'!I18,'Données FPC'!$A$2:$AH$450,MATCH($D$3,'Données FPC'!$1:$1),0))","v":0},{"$f":"IF(ISNA(VLOOKUP('Cache inventaire'!J18,'Données FPC'!$A$2:$AH$450,MATCH($D$3,'Données FPC'!$1:$1),0)),,VLOOKUP('Cache inventaire'!J18,'Données FPC'!$A$2:$AH$450,MATCH($D$3,'Données FPC'!$1:$1),0))","v":0},{"$f":"IF(ISNA(VLOOKUP('Cache inventaire'!K18,'Données FPC'!$A$2:$AH$450,MATCH($D$3,'Données FPC'!$1:$1),0)),,VLOOKUP('Cache inventaire'!K18,'Données FPC'!$A$2:$AH$450,MATCH($D$3,'Données FPC'!$1:$1),0))","v":0},{"$f":"IF(ISNA(VLOOKUP('Cache inventaire'!L18,'Données FPC'!$A$2:$AH$450,MATCH($D$3,'Données FPC'!$1:$1),0)),,VLOOKUP('Cache inventaire'!L18,'Données FPC'!$A$2:$AH$450,MATCH($D$3,'Données FPC'!$1:$1),0))","v":0},{"$f":"IF(ISNA(VLOOKUP('Cache inventaire'!M18,'Données FPC'!$A$2:$AH$450,MATCH($D$3,'Données FPC'!$1:$1),0)),,VLOOKUP('Cache inventaire'!M18,'Données FPC'!$A$2:$AH$450,MATCH($D$3,'Données FPC'!$1:$1),0))","v":0},{"$f":"IF(ISNA(VLOOKUP('Cache inventaire'!N18,'Données FPC'!$A$2:$AH$450,MATCH($D$3,'Données FPC'!$1:$1),0)),,VLOOKUP('Cache inventaire'!N18,'Données FPC'!$A$2:$AH$450,MATCH($D$3,'Données FPC'!$1:$1),0))","v":0},{"$f":"IF(ISNA(VLOOKUP('Cache inventaire'!O18,'Données FPC'!$A$2:$AH$450,MATCH($D$3,'Données FPC'!$1:$1),0)),,VLOOKUP('Cache inventaire'!O18,'Données FPC'!$A$2:$AH$450,MATCH($D$3,'Données FPC'!$1:$1),0))","v":0},{"$f":"IF(ISNA(VLOOKUP('Cache inventaire'!P18,'Données FPC'!$A$2:$AH$450,MATCH($D$3,'Données FPC'!$1:$1),0)),,VLOOKUP('Cache inventaire'!P18,'Données FPC'!$A$2:$AH$450,MATCH($D$3,'Données FPC'!$1:$1),0))","v":0},null,null,0]
[null,"Bâtiments résidentiels",null,{"$f":"IF(ISNA(VLOOKUP('Cache inventaire'!D19,'Données FPC'!$A$2:$AH$450,MATCH($D$3,'Données FPC'!$1:$1),0)),,VLOOKUP('Cache inventaire'!D19,'Données FPC'!$A$2:$AH$450,MATCH($D$3,'Données FPC'!$1:$1),0))","v":0},null,{"$f":"IF(ISNA(VLOOKUP('Cache inventaire'!F19,'Données FPC'!$A$2:$AH$450,MATCH($D$3,'Données FPC'!$1:$1),0)),,VLOOKUP('Cache inventaire'!F19,'Données FPC'!$A$2:$AH$450,MATCH($D$3,'Données FPC'!$1:$1),0))","v":0},{"$f":"IF(ISNA(VLOOKUP('Cache inventaire'!G19,'Données FPC'!$A$2:$AH$450,MATCH($D$3,'Données FPC'!$1:$1),0)),,VLOOKUP('Cache inventaire'!G19,'Données FPC'!$A$2:$AH$450,MATCH($D$3,'Données FPC'!$1:$1),0))","v":0},{"$f":"IF(ISNA(VLOOKUP('Cache inventaire'!H19,'Données FPC'!$A$2:$AH$450,MATCH($D$3,'Données FPC'!$1:$1),0)),,VLOOKUP('Cache inventaire'!H19,'Données FPC'!$A$2:$AH$450,MATCH($D$3,'Données FPC'!$1:$1),0))","v":0},{"$f":"IF(ISNA(VLOOKUP('Cache inventaire'!I19,'Données FPC'!$A$2:$AH$450,MATCH($D$3,'Données FPC'!$1:$1),0)),,VLOOKUP('Cache inventaire'!I19,'Données FPC'!$A$2:$AH$450,MATCH($D$3,'Données FPC'!$1:$1),0))","v":0},{"$f":"IF(ISNA(VLOOKUP('Cache inventaire'!J19,'Données FPC'!$A$2:$AH$450,MATCH($D$3,'Données FPC'!$1:$1),0)),,VLOOKUP('Cache inventaire'!J19,'Données FPC'!$A$2:$AH$450,MATCH($D$3,'Données FPC'!$1:$1),0))","v":0},{"$f":"IF(ISNA(VLOOKUP('Cache inventaire'!K19,'Données FPC'!$A$2:$AH$450,MATCH($D$3,'Données FPC'!$1:$1),0)),,VLOOKUP('Cache inventaire'!K19,'Données FPC'!$A$2:$AH$450,MATCH($D$3,'Données FPC'!$1:$1),0))","v":0},{"$f":"IF(ISNA(VLOOKUP('Cache inventaire'!L19,'Données FPC'!$A$2:$AH$450,MATCH($D$3,'Données FPC'!$1:$1),0)),,VLOOKUP('Cache inventaire'!L19,'Données FPC'!$A$2:$AH$450,MATCH($D$3,'Données FPC'!$1:$1),0))","v":0},{"$f":"IF(ISNA(VLOOKUP('Cache inventaire'!M19,'Données FPC'!$A$2:$AH$450,MATCH($D$3,'Données FPC'!$1:$1),0)),,VLOOKUP('Cache inventaire'!M19,'Données FPC'!$A$2:$AH$450,MATCH($D$3,'Données FPC'!$1:$1),0))","v":0},{"$f":"IF(ISNA(VLOOKUP('Cache inventaire'!N19,'Données FPC'!$A$2:$AH$450,MATCH($D$3,'Données FPC'!$1:$1),0)),,VLOOKUP('Cache inventaire'!N19,'Données FPC'!$A$2:$AH$450,MATCH($D$3,'Données FPC'!$1:$1),0))","v":0},{"$f":"IF(ISNA(VLOOKUP('Cache inventaire'!O19,'Données FPC'!$A$2:$AH$450,MATCH($D$3,'Données FPC'!$1:$1),0)),,VLOOKUP('Cache inventaire'!O19,'Données FPC'!$A$2:$AH$450,MATCH($D$3,'Données FPC'!$1:$1),0))","v":0},{"$f":"IF(ISNA(VLOOKUP('Cache inventaire'!P19,'Données FPC'!$A$2:$AH$450,MATCH($D$3,'Données FPC'!$1:$1),0)),,VLOOKUP('Cache inventaire'!P19,'Données FPC'!$A$2:$AH$450,MATCH($D$3,'Données FPC'!$1:$1),0))","v":0},null,null,0]
[null,"Eclairage public",null,{"$f":"IF(ISNA(VLOOKUP('Cache inventaire'!D20,'Données FPC'!$A$2:$AH$450,MATCH($D$3,'Données FPC'!$1:$1),0)),,VLOOKUP('Cache inventaire'!D20,'Données FPC'!$A$2:$AH$450,MATCH($D$3,'Données FPC'!$1:$1),0))","v":0},null,{"$f":"IF(ISNA(VLOOKUP('Cache inventaire'!F20,'Données FPC'!$A$2:$AH$450,MATCH($D$3,'Données FPC'!$1:$1),0)),,VLOOKUP('Cache inventaire'!F20,'Données FPC'!$A$2:$AH$450,MATCH($D$3,'Données FPC'!$1:$1),0))","v":0},{"$f":"IF(ISNA(VLOOKUP('Cache inventaire'!G20,'Données FPC'!$A$2:$AH$450,MATCH($D$3,'Données FPC'!$1:$1),0)),,VLOOKUP('Cache inventaire'!G20,'Données FPC'!$A$2:$AH$450,MATCH($D$3,'Données FPC'!$1:$1),0))","v":0},{"$f":"IF(ISNA(VLOOKUP('Cache inventaire'!H20,'Données FPC'!$A$2:$AH$450,MATCH($D$3,'Données FPC'!$1:$1),0)),,VLOOKUP('Cache inventaire'!H20,'Données FPC'!$A$2:$AH$450,MATCH($D$3,'Données FPC'!$1:$1),0))","v":0},{"$f":"IF(ISNA(VLOOKUP('Cache inventaire'!I20,'Données FPC'!$A$2:$AH$450,MATCH($D$3,'Données FPC'!$1:$1),0)),,VLOOKUP('Cache inventaire'!I20,'Données FPC'!$A$2:$AH$450,MATCH($D$3,'Données FPC'!$1:$1),0))","v":0},{"$f":"IF(ISNA(VLOOKUP('Cache inventaire'!J20,'Données FPC'!$A$2:$AH$450,MATCH($D$3,'Données FPC'!$1:$1),0)),,VLOOKUP('Cache inventaire'!J20,'Données FPC'!$A$2:$AH$450,MATCH($D$3,'Données FPC'!$1:$1),0))","v":0},{"$f":"IF(ISNA(VLOOKUP('Cache inventaire'!K20,'Données FPC'!$A$2:$AH$450,MATCH($D$3,'Données FPC'!$1:$1),0)),,VLOOKUP('Cache inventaire'!K20,'Données FPC'!$A$2:$AH$450,MATCH($D$3,'Données FPC'!$1:$1),0))","v":0},{"$f":"IF(ISNA(VLOOKUP('Cache inventaire'!L20,'Données FPC'!$A$2:$AH$450,MATCH($D$3,'Données FPC'!$1:$1),0)),,VLOOKUP('Cache inventaire'!L20,'Données FPC'!$A$2:$AH$450,MATCH($D$3,'Données FPC'!$1:$1),0))","v":0},{"$f":"IF(ISNA(VLOOKUP('Cache inventaire'!M20,'Données FPC'!$A$2:$AH$450,MATCH($D$3,'Données FPC'!$1:$1),0)),,VLOOKUP('Cache inventaire'!M20,'Données FPC'!$A$2:$AH$450,MATCH($D$3,'Données FPC'!$1:$1),0))","v":0},{"$f":"IF(ISNA(VLOOKUP('Cache inventaire'!N20,'Données FPC'!$A$2:$AH$450,MATCH($D$3,'Données FPC'!$1:$1),0)),,VLOOKUP('Cache inventaire'!N20,'Données FPC'!$A$2:$AH$450,MATCH($D$3,'Données FPC'!$1:$1),0))","v":0},{"$f":"IF(ISNA(VLOOKUP('Cache inventaire'!O20,'Données FPC'!$A$2:$AH$450,MATCH($D$3,'Données FPC'!$1:$1),0)),,VLOOKUP('Cache inventaire'!O20,'Données FPC'!$A$2:$AH$450,MATCH($D$3,'Données FPC'!$1:$1),0))","v":0},{"$f":"IF(ISNA(VLOOKUP('Cache inventaire'!P20,'Données FPC'!$A$2:$AH$450,MATCH($D$3,'Données FPC'!$1:$1),0)),,VLOOKUP('Cache inventaire'!P20,'Données FPC'!$A$2:$AH$450,MATCH($D$3,'Données FPC'!$1:$1),0))","v":0},null,null,0]
[null,"Industrie","Non-ETS",{"$f":"IF(ISNA(VLOOKUP('Cache inventaire'!D21,'Données FPC'!$A$2:$AH$450,MATCH($D$3,'Données FPC'!$1:$1),0)),,VLOOKUP('Cache inventaire'!D21,'Données FPC'!$A$2:$AH$450,MATCH($D$3,'Données FPC'!$1:$1),0))","v":0},null,{"$f":"IF(ISNA(VLOOKUP('Cache inventaire'!F21,'Données FPC'!$A$2:$AH$450,MATCH($D$3,'Données FPC'!$1:$1),0)),,VLOOKUP('Cache inventaire'!F21,'Données FPC'!$A$2:$AH$450,MATCH($D$3,'Données FPC'!$1:$1),0))","v":0},{"$f":"IF(ISNA(VLOOKUP('Cache inventaire'!G21,'Données FPC'!$A$2:$AH$450,MATCH($D$3,'Données FPC'!$1:$1),0)),,VLOOKUP('Cache inventaire'!G21,'Données FPC'!$A$2:$AH$450,MATCH($D$3,'Données FPC'!$1:$1),0))","v":0},{"$f":"IF(ISNA(VLOOKUP('Cache inventaire'!H21,'Données FPC'!$A$2:$AH$450,MATCH($D$3,'Données FPC'!$1:$1),0)),,VLOOKUP('Cache inventaire'!H21,'Données FPC'!$A$2:$AH$450,MATCH($D$3,'Données FPC'!$1:$1),0))","v":0},{"$f":"IF(ISNA(VLOOKUP('Cache inventaire'!I21,'Données FPC'!$A$2:$AH$450,MATCH($D$3,'Données FPC'!$1:$1),0)),,VLOOKUP('Cache inventaire'!I21,'Données FPC'!$A$2:$AH$450,MATCH($D$3,'Données FPC'!$1:$1),0))","v":0},{"$f":"IF(ISNA(VLOOKUP('Cache inventaire'!J21,'Données FPC'!$A$2:$AH$450,MATCH($D$3,'Données FPC'!$1:$1),0)),,VLOOKUP('Cache inventaire'!J21,'Données FPC'!$A$2:$AH$450,MATCH($D$3,'Données FPC'!$1:$1),0))","v":0},{"$f":"IF(ISNA(VLOOKUP('Cache inventaire'!K21,'Données FPC'!$A$2:$AH$450,MATCH($D$3,'Données FPC'!$1:$1),0)),,VLOOKUP('Cache inventaire'!K21,'Données FPC'!$A$2:$AH$450,MATCH($D$3,'Données FPC'!$1:$1),0))","v":0},{"$f":"IF(ISNA(VLOOKUP('Cache inventaire'!L21,'Données FPC'!$A$2:$AH$450,MATCH($D$3,'Données FPC'!$1:$1),0)),,VLOOKUP('Cache inventaire'!L21,'Données FPC'!$A$2:$AH$450,MATCH($D$3,'Données FPC'!$1:$1),0))","v":0},{"$f":"IF(ISNA(VLOOKUP('Cache inventaire'!M21,'Données FPC'!$A$2:$AH$450,MATCH($D$3,'Données FPC'!$1:$1),0)),,VLOOKUP('Cache inventaire'!M21,'Données FPC'!$A$2:$AH$450,MATCH($D$3,'Données FPC'!$1:$1),0))","v":0},{"$f":"IF(ISNA(VLOOKUP('Cache inventaire'!N21,'Données FPC'!$A$2:$AH$450,MATCH($D$3,'Données FPC'!$1:$1),0)),,VLOOKUP('Cache inventaire'!N21,'Données FPC'!$A$2:$AH$450,MATCH($D$3,'Données FPC'!$1:$1),0))","v":0},{"$f":"IF(ISNA(VLOOKUP('Cache inventaire'!O21,'Données FPC'!$A$2:$AH$450,MATCH($D$3,'Données FPC'!$1:$1),0)),,VLOOKUP('Cache inventaire'!O21,'Données FPC'!$A$2:$AH$450,MATCH($D$3,'Données FPC'!$1:$1),0))","v":0},{"$f":"IF(ISNA(VLOOKUP('Cache inventaire'!P21,'Données FPC'!$A$2:$AH$450,MATCH($D$3,'Données FPC'!$1:$1),0)),,VLOOKUP('Cache inventaire'!P21,'Données FPC'!$A$2:$AH$450,MATCH($D$3,'Données FPC'!$1:$1),0))","v":0},null,null,0]
[null,"Subtotal ",null,{"$f":"SUM(D17:D21)","v":0},0,0,0,0,0,0,0,0,0,0,0,0,0,0,0]
[null,"TRANSPORT"]
[null,"Flotte municipale",null,{"$f":"IF(ISNA(VLOOKUP('Cache inventaire'!D24,'Données FPC'!$A$2:$AH$450,MATCH($D$3,'Données FPC'!$1:$1),0)),,VLOOKUP('Cache inventaire'!D24,'Données FPC'!$A$2:$AH$450,MATCH($D$3,'Données FPC'!$1:$1),0))","v":0},null,{"$f":"IF(ISNA(VLOOKUP('Cache inventaire'!F24,'Données FPC'!$A$2:$AH$450,MATCH($D$3,'Données FPC'!$1:$1),0)),,VLOOKUP('Cache inventaire'!F24,'Données FPC'!$A$2:$AH$450,MATCH($D$3,'Données FPC'!$1:$1),0))","v":0},{"$f":"IF(ISNA(VLOOKUP('Cache inventaire'!G24,'Données FPC'!$A$2:$AH$450,MATCH($D$3,'Données FPC'!$1:$1),0)),,VLOOKUP('Cache inventaire'!G24,'Données FPC'!$A$2:$AH$450,MATCH($D$3,'Données FPC'!$1:$1),0))","v":0},{"$f":"IF(ISNA(VLOOKUP('Cache inventaire'!H24,'Données FPC'!$A$2:$AH$450,MATCH($D$3,'Données FPC'!$1:$1),0)),,VLOOKUP('Cache inventaire'!H24,'Données FPC'!$A$2:$AH$450,MATCH($D$3,'Données FPC'!$1:$1),0))","v":0},{"$f":"IF(ISNA(VLOOKUP('Cache inventaire'!I24,'Données FPC'!$A$2:$AH$450,MATCH($D$3,'Données FPC'!$1:$1),0)),,VLOOKUP('Cache inventaire'!I24,'Données FPC'!$A$2:$AH$450,MATCH($D$3,'Données FPC'!$1:$1),0))","v":0},{"$f":"IF(ISNA(VLOOKUP('Cache inventaire'!J24,'Données FPC'!$A$2:$AH$450,MATCH($D$3,'Données FPC'!$1:$1),0)),,VLOOKUP('Cache inventaire'!J24,'Données FPC'!$A$2:$AH$450,MATCH($D$3,'Données FPC'!$1:$1),0))","v":0},{"$f":"IF(ISNA(VLOOKUP('Cache inventaire'!K24,'Données FPC'!$A$2:$AH$450,MATCH($D$3,'Données FPC'!$1:$1),0)),,VLOOKUP('Cache inventaire'!K24,'Données FPC'!$A$2:$AH$450,MATCH($D$3,'Données FPC'!$1:$1),0))","v":0},{"$f":"IF(ISNA(VLOOKUP('Cache inventaire'!L24,'Données FPC'!$A$2:$AH$450,MATCH($D$3,'Données FPC'!$1:$1),0)),,VLOOKUP('Cache inventaire'!L24,'Données FPC'!$A$2:$AH$450,MATCH($D$3,'Données FPC'!$1:$1),0))","v":0},{"$f":"IF(ISNA(VLOOKUP('Cache inventaire'!M24,'Données FPC'!$A$2:$AH$450,MATCH($D$3,'Données FPC'!$1:$1),0)),,VLOOKUP('Cache inventaire'!M24,'Données FPC'!$A$2:$AH$450,MATCH($D$3,'Données FPC'!$1:$1),0))","v":0},{"$f":"IF(ISNA(VLOOKUP('Cache inventaire'!N24,'Données FPC'!$A$2:$AH$450,MATCH($D$3,'Données FPC'!$1:$1),0)),,VLOOKUP('Cache inventaire'!N24,'Données FPC'!$A$2:$AH$450,MATCH($D$3,'Données FPC'!$1:$1),0))","v":0},{"$f":"IF(ISNA(VLOOKUP('Cache inventaire'!O24,'Données FPC'!$A$2:$AH$450,MATCH($D$3,'Données FPC'!$1:$1),0)),,VLOOKUP('Cache inventaire'!O24,'Données FPC'!$A$2:$AH$450,MATCH($D$3,'Données FPC'!$1:$1),0))","v":0},{"$f":"IF(ISNA(VLOOKUP('Cache inventaire'!P24,'Données FPC'!$A$2:$AH$450,MATCH($D$3,'Données FPC'!$1:$1),0)),,VLOOKUP('Cache inventaire'!P24,'Données FPC'!$A$2:$AH$450,MATCH($D$3,'Données FPC'!$1:$1),0))","v":0},null,null,{"$f":"SUM(D24:R24)","v":0}]
[null,"Trasnports publics",null,{"$f":"IF(ISNA(VLOOKUP('Cache inventaire'!D25,'Données FPC'!$A$2:$AH$450,MATCH($D$3,'Données FPC'!$1:$1),0)),,VLOOKUP('Cache inventaire'!D25,'Données FPC'!$A$2:$AH$450,MATCH($D$3,'Données FPC'!$1:$1),0))","v":0},null,{"$f":"IF(ISNA(VLOOKUP('Cache inventaire'!F25,'Données FPC'!$A$2:$AH$450,MATCH($D$3,'Données FPC'!$1:$1),0)),,VLOOKUP('Cache inventaire'!F25,'Données FPC'!$A$2:$AH$450,MATCH($D$3,'Données FPC'!$1:$1),0))","v":0},{"$f":"IF(ISNA(VLOOKUP('Cache inventaire'!G25,'Données FPC'!$A$2:$AH$450,MATCH($D$3,'Données FPC'!$1:$1),0)),,VLOOKUP('Cache inventaire'!G25,'Données FPC'!$A$2:$AH$450,MATCH($D$3,'Données FPC'!$1:$1),0))","v":0},{"$f":"IF(ISNA(VLOOKUP('Cache inventaire'!H25,'Données FPC'!$A$2:$AH$450,MATCH($D$3,'Données FPC'!$1:$1),0)),,VLOOKUP('Cache inventaire'!H25,'Données FPC'!$A$2:$AH$450,MATCH($D$3,'Données FPC'!$1:$1),0))","v":0},{"$f":"IF(ISNA(VLOOKUP('Cache inventaire'!I25,'Données FPC'!$A$2:$AH$450,MATCH($D$3,'Données FPC'!$1:$1),0)),,VLOOKUP('Cache inventaire'!I25,'Données FPC'!$A$2:$AH$450,MATCH($D$3,'Données FPC'!$1:$1),0))","v":0},{"$f":"IF(ISNA(VLOOKUP('Cache inventaire'!J25,'Données FPC'!$A$2:$AH$450,MATCH($D$3,'Données FPC'!$1:$1),0)),,VLOOKUP('Cache inventaire'!J25,'Données FPC'!$A$2:$AH$450,MATCH($D$3,'Données FPC'!$1:$1),0))","v":0},{"$f":"IF(ISNA(VLOOKUP('Cache inventaire'!K25,'Données FPC'!$A$2:$AH$450,MATCH($D$3,'Données FPC'!$1:$1),0)),,VLOOKUP('Cache inventaire'!K25,'Données FPC'!$A$2:$AH$450,MATCH($D$3,'Données FPC'!$1:$1),0))","v":0},{"$f":"IF(ISNA(VLOOKUP('Cache inventaire'!L25,'Données FPC'!$A$2:$AH$450,MATCH($D$3,'Données FPC'!$1:$1),0)),,VLOOKUP('Cache inventaire'!L25,'Données FPC'!$A$2:$AH$450,MATCH($D$3,'Données FPC'!$1:$1),0))","v":0},{"$f":"IF(ISNA(VLOOKUP('Cache inventaire'!M25,'Données FPC'!$A$2:$AH$450,MATCH($D$3,'Données FPC'!$1:$1),0)),,VLOOKUP('Cache inventaire'!M25,'Données FPC'!$A$2:$AH$450,MATCH($D$3,'Données FPC'!$1:$1),0))","v":0},{"$f":"IF(ISNA(VLOOKUP('Cache inventaire'!N25,'Données FPC'!$A$2:$AH$450,MATCH($D$3,'Données FPC'!$1:$1),0)),,VLOOKUP('Cache inventaire'!N25,'Données FPC'!$A$2:$AH$450,MATCH($D$3,'Données FPC'!$1:$1),0))","v":0},{"$f":"IF(ISNA(VLOOKUP('Cache inventaire'!O25,'Données FPC'!$A$2:$AH$450,MATCH($D$3,'Données FPC'!$1:$1),0)),,VLOOKUP('Cache inventaire'!O25,'Données FPC'!$A$2:$AH$450,MATCH($D$3,'Données FPC'!$1:$1),0))","v":0},{"$f":"IF(ISNA(VLOOKUP('Cache inventaire'!P25,'Données FPC'!$A$2:$AH$450,MATCH($D$3,'Données FPC'!$1:$1),0)),,VLOOKUP('Cache inventaire'!P25,'Données FPC'!$A$2:$AH$450,MATCH($D$3,'Données FPC'!$1:$1),0))","v":0},null,null,{"$f":"SUM(D25:R25)","v":0}]
[null,"Transports privés et commerciaux",null,{"$f":"IF(ISNA(VLOOKUP('Cache inventaire'!D26,'Données FPC'!$A$2:$AH$450,MATCH($D$3,'Données FPC'!$1:$1),0)),,VLOOKUP('Cache inventaire'!D26,'Données FPC'!$A$2:$AH$450,MATCH($D$3,'Données FPC'!$1:$1),0))","v":0},null,{"$f":"IF(ISNA(VLOOKUP('Cache inventaire'!F26,'Données FPC'!$A$2:$AH$450,MATCH($D$3,'Données FPC'!$1:$1),0)),,VLOOKUP('Cache inventaire'!F26,'Données FPC'!$A$2:$AH$450,MATCH($D$3,'Données FPC'!$1:$1),0))","v":0},{"$f":"IF(ISNA(VLOOKUP('Cache inventaire'!G26,'Données FPC'!$A$2:$AH$450,MATCH($D$3,'Données FPC'!$1:$1),0)),,VLOOKUP('Cache inventaire'!G26,'Données FPC'!$A$2:$AH$450,MATCH($D$3,'Données FPC'!$1:$1),0))","v":0},{"$f":"IF(ISNA(VLOOKUP('Cache inventaire'!H26,'Données FPC'!$A$2:$AH$450,MATCH($D$3,'Données FPC'!$1:$1),0)),,VLOOKUP('Cache inventaire'!H26,'Données FPC'!$A$2:$AH$450,MATCH($D$3,'Données FPC'!$1:$1),0))","v":0},{"$f":"IF(ISNA(VLOOKUP('Cache inventaire'!I26,'Données FPC'!$A$2:$AH$450,MATCH($D$3,'Données FPC'!$1:$1),0)),,VLOOKUP('Cache inventaire'!I26,'Données FPC'!$A$2:$AH$450,MATCH($D$3,'Données FPC'!$1:$1),0))","v":0},{"$f":"IF(ISNA(VLOOKUP('Cache inventaire'!J26,'Données FPC'!$A$2:$AH$450,MATCH($D$3,'Données FPC'!$1:$1),0)),,VLOOKUP('Cache inventaire'!J26,'Données FPC'!$A$2:$AH$450,MATCH($D$3,'Données FPC'!$1:$1),0))","v":0},{"$f":"IF(ISNA(VLOOKUP('Cache inventaire'!K26,'Données FPC'!$A$2:$AH$450,MATCH($D$3,'Données FPC'!$1:$1),0)),,VLOOKUP('Cache inventaire'!K26,'Données FPC'!$A$2:$AH$450,MATCH($D$3,'Données FPC'!$1:$1),0))","v":0},{"$f":"IF(ISNA(VLOOKUP('Cache inventaire'!L26,'Données FPC'!$A$2:$AH$450,MATCH($D$3,'Données FPC'!$1:$1),0)),,VLOOKUP('Cache inventaire'!L26,'Données FPC'!$A$2:$AH$450,MATCH($D$3,'Données FPC'!$1:$1),0))","v":0},{"$f":"IF(ISNA(VLOOKUP('Cache inventaire'!M26,'Données FPC'!$A$2:$AH$450,MATCH($D$3,'Données FPC'!$1:$1),0)),,VLOOKUP('Cache inventaire'!M26,'Données FPC'!$A$2:$AH$450,MATCH($D$3,'Données FPC'!$1:$1),0))","v":0},{"$f":"IF(ISNA(VLOOKUP('Cache inventaire'!N26,'Données FPC'!$A$2:$AH$450,MATCH($D$3,'Données FPC'!$1:$1),0)),,VLOOKUP('Cache inventaire'!N26,'Données FPC'!$A$2:$AH$450,MATCH($D$3,'Données FPC'!$1:$1),0))","v":0},{"$f":"IF(ISNA(VLOOKUP('Cache inventaire'!O26,'Données FPC'!$A$2:$AH$450,MATCH($D$3,'Données FPC'!$1:$1),0)),,VLOOKUP('Cache inventaire'!O26,'Données FPC'!$A$2:$AH$450,MATCH($D$3,'Données FPC'!$1:$1),0))","v":0},{"$f":"IF(ISNA(VLOOKUP('Cache inventaire'!P26,'Données FPC'!$A$2:$AH$450,MATCH($D$3,'Données FPC'!$1:$1),0)),,VLOOKUP('Cache inventaire'!P26,'Données FPC'!$A$2:$AH$450,MATCH($D$3,'Données FPC'!$1:$1),0))","v":0},null,null,{"$f":"SUM(D26:R26)","v":0}]
[null,"Subtotal ",null,{"$f":"SUM(D24:D26)","v":0},{"$f":"SUM(E24:E26)","v":0},0,0,0,0,0,0,0,0,0,0,0,0,0,{"$f":"SUM(D27:R27)","v":0}]
[null,"OTHER  "]
[null,"Agriculture",null,{"$f":"IF(ISNA(VLOOKUP('Cache inventaire'!D29,'Données FPC'!$A$2:$AH$450,MATCH($D$3,'Données FPC'!$1:$1),0)),,VLOOKUP('Cache inventaire'!D29,'Données FPC'!$A$2:$AH$450,MATCH($D$3,'Données FPC'!$1:$1),0))","v":0},null,{"$f":"IF(ISNA(VLOOKUP('Cache inventaire'!F29,'Données FPC'!$A$2:$AH$450,MATCH($D$3,'Données FPC'!$1:$1),0)),,VLOOKUP('Cache inventaire'!F29,'Données FPC'!$A$2:$AH$450,MATCH($D$3,'Données FPC'!$1:$1),0))","v":0},{"$f":"IF(ISNA(VLOOKUP('Cache inventaire'!G29,'Données FPC'!$A$2:$AH$450,MATCH($D$3,'Données FPC'!$1:$1),0)),,VLOOKUP('Cache inventaire'!G29,'Données FPC'!$A$2:$AH$450,MATCH($D$3,'Données FPC'!$1:$1),0))","v":0},{"$f":"IF(ISNA(VLOOKUP('Cache inventaire'!H29,'Données FPC'!$A$2:$AH$450,MATCH($D$3,'Données FPC'!$1:$1),0)),,VLOOKUP('Cache inventaire'!H29,'Données FPC'!$A$2:$AH$450,MATCH($D$3,'Données FPC'!$1:$1),0))","v":0},{"$f":"IF(ISNA(VLOOKUP('Cache inventaire'!I29,'Données FPC'!$A$2:$AH$450,MATCH($D$3,'Données FPC'!$1:$1),0)),,VLOOKUP('Cache inventaire'!I29,'Données FPC'!$A$2:$AH$450,MATCH($D$3,'Données FPC'!$1:$1),0))","v":0},{"$f":"IF(ISNA(VLOOKUP('Cache inventaire'!J29,'Données FPC'!$A$2:$AH$450,MATCH($D$3,'Données FPC'!$1:$1),0)),,VLOOKUP('Cache inventaire'!J29,'Données FPC'!$A$2:$AH$450,MATCH($D$3,'Données FPC'!$1:$1),0))","v":0},{"$f":"IF(ISNA(VLOOKUP('Cache inventaire'!K29,'Données FPC'!$A$2:$AH$450,MATCH($D$3,'Données FPC'!$1:$1),0)),,VLOOKUP('Cache inventaire'!K29,'Données FPC'!$A$2:$AH$450,MATCH($D$3,'Données FPC'!$1:$1),0))","v":0},{"$f":"IF(ISNA(VLOOKUP('Cache inventaire'!L29,'Données FPC'!$A$2:$AH$450,MATCH($D$3,'Données FPC'!$1:$1),0)),,VLOOKUP('Cache inventaire'!L29,'Données FPC'!$A$2:$AH$450,MATCH($D$3,'Données FPC'!$1:$1),0))","v":0},{"$f":"IF(ISNA(VLOOKUP('Cache inventaire'!M29,'Données FPC'!$A$2:$AH$450,MATCH($D$3,'Données FPC'!$1:$1),0)),,VLOOKUP('Cache inventaire'!M29,'Données FPC'!$A$2:$AH$450,MATCH($D$3,'Données FPC'!$1:$1),0))","v":0},{"$f":"IF(ISNA(VLOOKUP('Cache inventaire'!N29,'Données FPC'!$A$2:$AH$450,MATCH($D$3,'Données FPC'!$1:$1),0)),,VLOOKUP('Cache inventaire'!N29,'Données FPC'!$A$2:$AH$450,MATCH($D$3,'Données FPC'!$1:$1),0))","v":0},{"$f":"IF(ISNA(VLOOKUP('Cache inventaire'!O29,'Données FPC'!$A$2:$AH$450,MATCH($D$3,'Données FPC'!$1:$1),0)),,VLOOKUP('Cache inventaire'!O29,'Données FPC'!$A$2:$AH$450,MATCH($D$3,'Données FPC'!$1:$1),0))","v":0},{"$f":"IF(ISNA(VLOOKUP('Cache inventaire'!P29,'Données FPC'!$A$2:$AH$450,MATCH($D$3,'Données FPC'!$1:$1),0)),,VLOOKUP('Cache inventaire'!P29,'Données FPC'!$A$2:$AH$450,MATCH($D$3,'Données FPC'!$1:$1),0))","v":0},null,null,{"$f":"SUM(D29:R29)","v":0}]
[null,"TOTAL",null,{"$f":"SUM(D22,D27,D29)","v":0},{"$f":"SUM(E22,E27,E29)","v":0},0,0,0,0,0,0,0,0,0,0,0,0,0,0]
[]
[null,"B. Production d'énergie"]
[]
[null,"Production d'électricité locale/distribuée (énergies renouvelables uniquement)"]
[]
[null,"Installations locales d'électricité renouvelable",null,"[MWh]","[t/MWh produit]","[t]"]
[null,"Eolien",null,null,null,{"$f":"D37*E37","v":0}]
[null,"Energie hydroélectrique",null,null,null,{"$f":"D38*E38","v":0}]
[null,"Photovoltaïque",null,null,null,{"$f":"D39*E39","v":0}]
[null,"Géothermie",null,null,null,{"$f":"D40*E40","v":0}]
[null,"Total",null,{"$f":"SUM(D37:D40)","v":0},{"$f":"SUM(E37:E40)","v":0},{"$f":"SUM(F37:F40)","v":0}]
[]
[null,"Production d'électricité locale/distribuée"]
[]
[null,"Installations de production locale d'électricité",null,"[MWh]",null,"[MWh]",null,null,null,null,null,null,null,null,null,"[t]"]
[null,null,null,null,null,"Combustibles fossiles",null,null,null,null,"Déchets","Huile végétale","Autre biomasse","Autres énergies renouvelables ","Autres"]
[null,null,null,"Electricité renouvelable","Electricité non renouvelable ","Gaz naturel","Gaz liquide","Mazout de chauffage","Lignite","Charbon",null,null,null,null,null,"Sources d'énergie fossiles","Sources renouvelables"]
[null,"Production combinée de chaleur et d'électricité"]
[]
[null,"Production locale de chaleur/froid"]
[]
[null,"Installations de production locale d'électricité",null,"[MWh]",null,"[MWh]",null,null,null,null,null,null,null,null,null,"[t]"]
[null,null,null,null,null,"Combustibles fossiles",null,null,null,null,"Déchets","Huile végétale","Autre biomasse","Autres énergies renouvelables ","Autres"]
[null,null,null,"Chaleur/froid renouvelables","Chaleur/Froid non renouvelable ","Gaz naturel","Gaz liquide","Mazout de chauffage","Lignite","Charbon",null,null,null,null,null,"Sources d'énergie fossiles","Sources renouvelables"]
[null,"Production combinée de chaleur et d'électricité"]
[null,"Chauffage urbain"]
[null,"Total",null,{"$f":"SUM(D55:D56)","v":0},0,0,0,0,0,0,0,0,0,0,0,0,0]
[]
[]
[]
[null,"C. Emissions"]
[]
[null,"Facteurs d'émissions"]
[]
[]
[null,null,"Electricité",null,"Chauffage et refroidissement urbain","Combustibles fossiles",null,null,null,null,null,null,null,"Energies renouvelables"]
[null,null,"National","Local",null,"Gaz naturel","Gaz liquide","Mazout de chauffage","Diesel","Essence","Lignite","Charbon","Autres combustibles fossiles","Biocarburants","Huile végétale","Autre biomasse","Solaire thermique","Géothermie"]
[null,null,null,{"$f":"VLOOKUP('Cache inventaire'!D68,'Données FPC'!$A$2:$AH$450,D3-2000+13,0)","v":{"$error":"#VALUE!"}},null,{"$f":"VLOOKUP('Cache inventaire'!F68,'Données FPC'!$A$2:$AH$450,2,0)","v":0},{"$f":"VLOOKUP('Cache inventaire'!G68,'Données FPC'!$A$2:$AH$450,2,0)","v":0},{"$f":"VLOOKUP('Cache inventaire'!H68,'Données FPC'!$A$2:$AH$450,2,0)","v":0},{"$f":"VLOOKUP('Cache inventaire'!I68,'Données FPC'!$A$2:$AH$450,2,0)","v":0},{"$f":"VLOOKUP('Cache inventaire'!J68,'Données FPC'!$A$2:$AH$450,2,0)","v":0},{"$f":"VLOOKUP('Cache inventaire'!K68,'Données FPC'!$A$2:$AH$450,2,0)","v":0},{"$f":"VLOOKUP('Cache inventaire'!L68,'Données FPC'!$A$2:$AH$450,2,0)","v":0},{"$f":"VLOOKUP('Cache inventaire'!M68,'Données FPC'!$A$2:$AH$450,2,0)","v":0},{"$f":"VLOOKUP('Cache inventaire'!N68,'Données FPC'!$A$2:$AH$450,2,0)","v":0}]
[null,"AwAC",0.27900000000000003,null,0,0.2026798378561297,0.23723981020815182,0.26819978544017159,0.26819978544017159,0.26135979091216727,0.36610920000000002,0.34307972553621952,0.26542368,1.5436799999999997E-3,0,3.1319974944020043E-2,0,0]
[]
[null,"Complétez dans le cas où des secteurs non énergétiques sont inclus:"]
[]
[null,"Non-energy related sectors",null,"[t]"]
[null,"Traitement des décets "]
[null,"Traitement des eaux usées"]
[null,"Autres non énergétiques"]
[]
[]
[]
[null,"Inventaire des émissions"]
[]
[null,"Secteur ",null,"Emissions de CO2éq [t]"]
[null,null,null,"Electricité","Chauffage et refroidissement urbain","Combustibles fossiles",null,null,null,null,null,null,null,"Energies renouvelables",null,null,null,null,"Total"]
[null,null,null,null,null,"Gaz naturel","Gaz liquide","Mazout de chauffage","Diesel","Essence","Lignite","Charbon","Autres combustibles fossiles","Biocarburants","Huile végétale","Autre biomasse","Solaire thermique","Géothermie"]
[null,"BUILDINGS, EQUIPMENT/FACILITIES AND INDUSTRIES",null," "]
[null,"Bâtiments, équipements/installations municipaux",null,{"$f":"D17*D$68","v":{"$error":"#VALUE!"}},0,0,0,0,0,0,0,0,0,0,0,0,0,0,{"$f":"SUM(D86:R86)","v":{"$error":"#VALUE!"}}]
[null,"Bâtiments, équipements/installations tertiaires (non municipaux)",null,{"$f":"D18*D$68","v":{"$error":"#VALUE!"}},0,0,0,0,0,0,0,0,0,0,0,0,{"$f":"Q18*Q$68","v":0},0,{"$error":"#VALUE!"}]
[null,"Bâtiments résidentiels",null,{"$f":"D19*D$68","v":{"$error":"#VALUE!"}},0,0,0,0,0,0,0,0,0,0,0,{"$f":"P19*P$68","v":0},0,0,{"$error":"#VALUE!"}]
[null,"Eclairage public",null,{"$f":"D20*D$68","v":{"$error":"#VALUE!"}},0,0,0,0,0,0,0,0,0,0,0,{"$f":"P20*P$68","v":0},0,0,{"$error":"#VALUE!"}]
[null,"Industrie","Non-ETS",{"$f":"D21*D$68","v":{"$error":"#VALUE!"}},0,0,0,0,0,0,0,0,0,0,0,{"$f":"P21*P$68","v":0},0,0,{"$error":"#VALUE!"}]
[null,"Subtotal",null,{"$f":"SUM(D86:D90)","v":{"$error":"#VALUE!"}},0,0,0,0,0,0,0,0,0,0,0,0,0,0,{"$error":"#VALUE!"}]
[null,"TRANSPORT"]
[null,"Flotte municipale",null,{"$f":"D24*D$68","v":{"$error":"#VALUE!"}},0,0,0,0,0,0,0,0,0,0,0,0,0,0,{"$f":"SUM(D93:R93)","v":{"$error":"#VALUE!"}}]
[null,"Trasnports publics",null,{"$f":"D25*D$68","v":{"$error":"#VALUE!"}},0,0,0,0,0,0,0,0,0,0,0,0,0,0,{"$f":"SUM(D94:R94)","v":{"$error":"#VALUE!"}}]
[null,"Transports privés et commerciaux",null,{"$f":"D26*D$68","v":{"$error":"#VALUE!"}},0,0,0,0,0,0,0,0,0,0,0,0,0,0,{"$f":"SUM(D95:R95)","v":{"$error":"#VALUE!"}}]
[null,"Subtotal",null,{"$f":"SUM(D93:D95)","v":{"$error":"#VALUE!"}},{"$f":"SUM(E93:E95)","v":0},0,0,0,0,0,0,0,0,0,0,0,0,0,{"$f":"SUM(D96:R96)","v":{"$error":"#VALUE!"}}]
[null,"OTHER "]
[null,"Agriculture",null,{"$f":"D29*D$68","v":{"$error":"#VALUE!"}},0,0,0,0,0,0,0,0,0,0,0,0,0,0,{"$f":"SUM(D98:R98)","v":{"$error":"#VALUE!"}}]
[null,"OTHER NON-ENERGY RELATED"]
[null,"Traitement des décets ",null,null,null,null,null,null,null,null,null,null,null,null,null,null,null,null,{"$f":"D74","v":0}]
[null,"Traitement des eaux usées",null,null,null,null,null,null,null,null,null,null,null,null,null,null,null,null,{"$f":"D75","v":0}]
[null,"Autres non énergétiques",null,null,null,null,null,null,null,null,null,null,null,null,null,null,null,null,{"$f":"D76","v":0}]
[null,"TOTAL",null,{"$f":"SUM(D91,D96,D98)","v":{"$error":"#VALUE!"}},{"$f":"SUM(E91,E96,E98)","v":0},0,0,0,0,0,0,0,0,0,0,0,0,0,{"$f":"SUM(S91,S96,S98,S100,S101,S102)","v":{"$error":"#VALUE!"}}]

{"sheet":"Potentiel EnR","index":7,"n_rows":11,"n_cols":9,"rows_kept":11,"cut":false,"hidden":false,"merged":[[3,3,4,3],[7,2,8,2]]}
["Potentiel énergies renouvelables"]
[]
["Technologie","Temps de fonctionnement à puissance nominale (heures/an)","Puissance électrique (kW)","Puissance thermique (kW)","Production électrique (GWh/an)","Production thermique (GWh/an)","Total (GWh/an)","Pourcentage du poteniel total"]
["Eolien",2190,null,null,{"$f":"B4*C4/1000000","v":0},{"$f":"B4*D4/1000000","v":0},{"$f":"SUM(E4:F4)","v":0},{"$f":"IF($G$11=0,0,G4/$G$11)","v":0}]
["Hydroélectricité",3300,null,null,{"$f":"B5*C5/1000000","v":0},{"$f":"B5*D5/1000000","v":0},{"$f":"SUM(E5:F5)","v":0},0]
["Bois",4800,null,null,0,0,0,0]
["Biométhanisation ",6500,null,null,{"$f":"B7*C7/1000000","v":0},{"$f":"B7*D7/1000000","v":0},0,0]
["PAC Géothermie",1800,null,null,null,{"$f":"B8*D8/1000000","v":0},0,0,"h"]
["Solaire thermique",900,null,null,{"$f":"B9*C9/1000000","v":0},{"$f":"B9*D9/1000000","v":0},0,0]
["Photovoltaïque ",900,null,null,0,0,0,0]
[null,null,null,"Total",{"$f":"SUM(E4:E10)","v":0},{"$f":"SUM(F4:F10)","v":0},{"$f":"SUM(G4:G10)","v":0}]

{"sheet":"Objectifs","index":8,"n_rows":78,"n_cols":63,"rows_kept":78,"cut":false,"hidden":false,"merged":[[1,43,1,46],[1,47,1,50],[1,51,1,54],[1,55,1,58],[1,59,1,62],[1,23,1,26],[1,27,1,30],[1,31,1,34],[1,35,1,38],[1,39,1,42],[29,0,38,0],[35,2,35,3],[6,0,27,0],[38,1,38,3],[36,2,36,3],[37,2,37,3],[8,2,8,3],[34,2,34,3],[30,2,30,3],[32,2,32,3],[33,2,33,3],[25,2,25,3],[23,2,23,3],[21,2,21,3],[11,2,11,3],[15,2,15,3],[40,0,45,0],[40,2,40,4],[41,2,41,4],[43,2,43,4],[44,2,44,4],[45,2,45,4],[42,2,42,4],[31,2,31,3],[18,2,18,3],[24,2,24,3],[29,2,29,3],[20,2,20,3],[19,2,19,3],[26,2,26,3],[22,2,22,3],[14,2,14,3],[13,2,13,3],[12,2,12,3],[1,19,1,22],[27,1,27,3],[6,2,6,3],[16,2,16,3],[7,2,7,3],[17,2,17,3],[10,2,10,3],[9,2,9,3]]}
["Objectifs",null,null,null,null,null,null,null,null,null,null,null,"Commune","Administration communale"]
[null,null,null,null,null,null,null,null,null,null,null,null,"Déchets","Déchets",null,null,null,null,null,"Logement",null,null,null,"Administration communale",null,null,null,"Industrie non-ETS",null,null,null,"Eclairage public",null,null,null,"Tertiaire",null,null,null,"Transport",null,null,null,"Agriculture",null,null,null,"Production de chaleur",null,null,null,"Production d'électricité",null,null,null,"Véhicules communaux",null,null,null,"Déchets"]
[null,"Type d'objectif CdM","Absolu",null,"Tableau de bord","Objectif CdM","Objectif PAEDC","Atteint",null,null,null,null,"Industrie","Industrie non-ETS",null,null,null,null,null,null,"Liste","Condition",null,null,"Liste","Condition",null,null,"Liste","Condition",null,null,"Liste","Condition",null,null,"Liste","Condition",null,null,"Liste","Condition",null,null,"Liste","Condition",null,null,"Liste","Condition",null,null,"Liste","Condition",null,null,"Liste","Condition",null,null,"Liste","Condition"]
[null,null,null,null,"tCO2eq",{"$f":"IF(C3=\"Relatif\",'Calcul obj relatif'!C5,'Inventaire Référence'!S103*0.4)","v":0},{"$f":"'Inventaire Référence'!S103-'Inventaire Contrôle'!S103+SUM(Objectifs!F28,Objectifs!F39,Objectifs!F42:F46)","v":{"$error":"#VALUE!"}},{"$f":"'Inventaire Référence'!S103-'Inventaire Contrôle'!S103+SUM('Suivi objectifs'!H2:H34)","v":{"$error":"#VALUE!"}},null,null,null,null,"Logements","Logement",null,null,null,null,4,{"$f":"IF(ISNA(IF(HLOOKUP(T$2,$M$73:$X$127,$S4,0)>1,0,HLOOKUP(T$2,$M$73:$X$127,$S4,0))),0,IF(HLOOKUP(T$2,$M$73:$X$127,$S4,0)>1,0,HLOOKUP(T$2,$M$73:$X$127,$S4,0)))","v":0},{"$f":"IF(T4=1,M76,\"\")","v":""},{"$f":"IF(U4=\"Total général\",\"\",IF(U4<>\"\",\"o\",\"\"))","v":""},{"$f":"IF(ROWS(3:$3)<=COUNTIF(cond1,\"o\"),INDEX(champ1,SMALL(IF(cond1=\"o\",ROW(INDIRECT(\"1:\"&ROWS(champ1)))),ROWS(3:$3))),\"\")","v":""},{"$f":"IF(ISNA(IF(HLOOKUP(X$2,$M$73:$X$127,$S4,0)>1,0,HLOOKUP(X$2,$M$73:$X$127,$S4,0))),0,IF(HLOOKUP(X$2,$M$73:$X$127,$S4,0)>1,0,HLOOKUP(X$2,$M$73:$X$127,$S4,0)))","v":0},{"$f":"IF(X4=1,M76,\"\")","v":""},{"$f":"IF(Y4=\"Total général\",\"\",IF(Y4<>\"\",\"o\",\"\"))","v":""},{"$f":"IF(ROWS(3:$3)<=COUNTIF(cond2,\"o\"),INDEX(champ2,SMALL(IF(cond2=\"o\",ROW(INDIRECT(\"1:\"&ROWS(champ2)))),ROWS(3:$3))),\"\")","v":""},{"$f":"IF(ISNA(IF(HLOOKUP(AB$2,$M$73:$X$127,$S4,0)>1,0,HLOOKUP(AB$2,$M$73:$X$127,$S4,0))),0,IF(HLOOKUP(AB$2,$M$73:$X$127,$S4,0)>1,0,HLOOKUP(AB$2,$M$73:$X$127,$S4,0)))","v":0},{"$f":"IF(AB4=1,$M76,\"\")","v":""},{"$f":"IF(AC4=\"Total général\",\"\",IF(AC4<>\"\",\"o\",\"\"))","v":""},{"$f":"IF(ROWS(3:$3)<=COUNTIF(cond3,\"o\"),INDEX(champ3,SMALL(IF(cond3=\"o\",ROW(INDIRECT(\"1:\"&ROWS(champ3)))),ROWS(3:$3))),\"\")","v":""},{"$f":"IF(ISNA(IF(HLOOKUP(AF$2,$M$73:$X$127,$S4,0)>1,0,HLOOKUP(AF$2,$M$73:$X$127,$S4,0))),0,IF(HLOOKUP(AF$2,$M$73:$X$127,$S4,0)>1,0,HLOOKUP(AF$2,$M$73:$X$127,$S4,0)))","v":0},{"$f":"IF(AF4=1,$M76,\"\")","v":""},{"$f":"IF(AG4=\"Total général\",\"\",IF(AG4<>\"\",\"o\",\"\"))","v":""},{"$f":"IF(ROWS(3:$3)<=COUNTIF(cond4,\"o\"),INDEX(champ4,SMALL(IF(cond4=\"o\",ROW(INDIRECT(\"1:\"&ROWS(champ4)))),ROWS(3:$3))),\"\")","v":""},{"$f":"IF(ISNA(IF(HLOOKUP(AJ$2,$M$73:$X$127,$S4,0)>1,0,HLOOKUP(AJ$2,$M$73:$X$127,$S4,0))),0,IF(HLOOKUP(AJ$2,$M$73:$X$127,$S4,0)>1,0,HLOOKUP(AJ$2,$M$73:$X$127,$S4,0)))","v":0},{"$f":"IF(AJ4=1,$M76,\"\")","v":""},{"$f":"IF(AK4=\"Total général\",\"\",IF(AK4<>\"\",\"o\",\"\"))","v":""},{"$f":"IF(ROWS(3:$3)<=COUNTIF(cond5,\"o\"),INDEX(champ5,SMALL(IF(cond5=\"o\",ROW(INDIRECT(\"1:\"&ROWS(champ5)))),ROWS(3:$3))),\"\")","v":""},{"$f":"IF(ISNA(IF(HLOOKUP(AN$2,$M$73:$X$127,$S4,0)>1,0,HLOOKUP(AN$2,$M$73:$X$127,$S4,0))),0,IF(HLOOKUP(AN$2,$M$73:$X$127,$S4,0)>1,0,HLOOKUP(AN$2,$M$73:$X$127,$S4,0)))","v":0},{"$f":"IF(AN4=1,$M76,\"\")","v":""},{"$f":"IF(AO4=\"Total général\",\"\",IF(AO4<>\"\",\"o\",\"\"))","v":""},{"$f":"IF(ROWS(3:$3)<=COUNTIF(cond6,\"o\"),INDEX(champ6,SMALL(IF(cond6=\"o\",ROW(INDIRECT(\"1:\"&ROWS(champ6)))),ROWS(3:$3))),\"\")","v":""},{"$f":"IF(ISNA(IF(HLOOKUP(AR$2,$M$73:$X$127,$S4,0)>1,0,HLOOKUP(AR$2,$M$73:$X$127,$S4,0))),0,IF(HLOOKUP(AR$2,$M$73:$X$127,$S4,0)>1,0,HLOOKUP(AR$2,$M$73:$X$127,$S4,0)))","v":0},{"$f":"IF(AR4=1,$M76,\"\")","v":""},{"$f":"IF(AS4=\"Total général\",\"\",IF(AS4<>\"\",\"o\",\"\"))","v":""},{"$f":"IF(ROWS(3:$3)<=COUNTIF(cond7,\"o\"),INDEX(champ7,SMALL(IF(cond7=\"o\",ROW(INDIRECT(\"1:\"&ROWS(champ7)))),ROWS(3:$3))),\"\")","v":""},{"$f":"IF(ISNA(IF(HLOOKUP(AV$2,$M$73:$X$127,$S4,0)>1,0,HLOOKUP(AV$2,$M$73:$X$127,$S4,0))),0,IF(HLOOKUP(AV$2,$M$73:$X$127,$S4,0)>1,0,HLOOKUP(AV$2,$M$73:$X$127,$S4,0)))","v":0},{"$f":"IF(AV4=1,$M76,\"\")","v":""},{"$f":"IF(AW4=\"Total général\",\"\",IF(AW4<>\"\",\"o\",\"\"))","v":""},{"$f":"IF(ROWS(3:$3)<=COUNTIF(cond8,\"o\"),INDEX(champ8,SMALL(IF(cond8=\"o\",ROW(INDIRECT(\"1:\"&ROWS(champ8)))),ROWS(3:$3))),\"\")","v":""},{"$f":"IF(ISNA(IF(HLOOKUP(AZ$2,$M$73:$X$127,$S4,0)>1,0,HLOOKUP(AZ$2,$M$73:$X$127,$S4,0))),0,IF(HLOOKUP(AZ$2,$M$73:$X$127,$S4,0)>1,0,HLOOKUP(AZ$2,$M$73:$X$127,$S4,0)))","v":0},{"$f":"IF(AZ4=1,$M76,\"\")","v":""},{"$f":"IF(BA4=\"Total général\",\"\",IF(BA4<>\"\",\"o\",\"\"))","v":""},{"$f":"IF(ROWS(3:$3)<=COUNTIF(cond9,\"o\"),INDEX(champ9,SMALL(IF(cond9=\"o\",ROW(INDIRECT(\"1:\"&ROWS(champ9)))),ROWS(3:$3))),\"\")","v":""},{"$f":"IF(ISNA(IF(HLOOKUP(BD$2,$M$73:$X$127,$S4,0)>1,0,HLOOKUP(BD$2,$M$73:$X$127,$S4,0))),0,IF(HLOOKUP(BD$2,$M$73:$X$127,$S4,0)>1,0,HLOOKUP(BD$2,$M$73:$X$127,$S4,0)))","v":0},{"$f":"IF(BD4=1,$M76,\"\")","v":""},{"$f":"IF(BE4=\"Total général\",\"\",IF(BE4<>\"\",\"o\",\"\"))","v":""},{"$f":"IF(ROWS(3:$3)<=COUNTIF(cond10,\"o\"),INDEX(champ10,SMALL(IF(cond10=\"o\",ROW(INDIRECT(\"1:\"&ROWS(champ10)))),ROWS(3:$3))),\"\")","v":""},{"$f":"IF(ISNA(IF(HLOOKUP(BH$2,$M$73:$X$127,$S4,0)>1,0,HLOOKUP(BH$2,$M$73:$X$127,$S4,0))),0,IF(HLOOKUP(BH$2,$M$73:$X$127,$S4,0)>1,0,HLOOKUP(BH$2,$M$73:$X$127,$S4,0)))","v":0},{"$f":"IF(BH4=1,$M76,\"\")","v":""},{"$f":"IF(BI4=\"Total général\",\"\",IF(BI4<>\"\",\"o\",\"\"))","v":""},{"$f":"IF(ROWS(3:$3)<=COUNTIF(cond11,\"o\"),INDEX(champ11,SMALL(IF(cond11=\"o\",ROW(INDIRECT(\"1:\"&ROWS(champ11)))),ROWS(3:$3))),\"\")","v":""}]
[null,null,null,null,null,{"$f":"IF('Inventaire Référence'!S103=0,0,Objectifs!F4/'Inventaire Référence'!S103)","v":0},{"$f":"IF('Inventaire Référence'!S103=0,0,G4/'Inventaire Référence'!S103)","v":0},{"$f":"IF('Inventaire Référence'!S103=0,0,H4/'Inventaire Référence'!S103)","v":0},null,null,null,null,"Production locale de chaleur/froid","Production de chaleur",null,null,null,null,5,{"$f":"IF(ISNA(IF(HLOOKUP(T$2,$M$73:$X$127,$S5,0)>1,0,HLOOKUP(T$2,$M$73:$X$127,$S5,0))),0,IF(HLOOKUP(T$2,$M$73:$X$127,$S5,0)>1,0,HLOOKUP(T$2,$M$73:$X$127,$S5,0)))","v":0},{"$f":"IF(T5=1,M77,\"\")","v":""},{"$f":"IF(U5=\"Total général\",\"\",IF(U5<>\"\",\"o\",\"\"))","v":""},{"$f":"IF(ROWS($3:4)<=COUNTIF(cond1,\"o\"),INDEX(champ1,SMALL(IF(cond1=\"o\",ROW(INDIRECT(\"1:\"&ROWS(champ1)))),ROWS($3:4))),\"\")","v":""},{"$f":"IF(ISNA(IF(HLOOKUP(X$2,$M$73:$X$127,$S5,0)>1,0,HLOOKUP(X$2,$M$73:$X$127,$S5,0))),0,IF(HLOOKUP(X$2,$M$73:$X$127,$S5,0)>1,0,HLOOKUP(X$2,$M$73:$X$127,$S5,0)))","v":0},{"$f":"IF(X5=1,M77,\"\")","v":""},{"$f":"IF(Y5=\"Total général\",\"\",IF(Y5<>\"\",\"o\",\"\"))","v":""},{"$f":"IF(ROWS($3:4)<=COUNTIF(cond2,\"o\"),INDEX(champ2,SMALL(IF(cond2=\"o\",ROW(INDIRECT(\"1:\"&ROWS(champ2)))),ROWS($3:4))),\"\")","v":""},{"$f":"IF(ISNA(IF(HLOOKUP(AB$2,$M$73:$X$127,$S5,0)>1,0,HLOOKUP(AB$2,$M$73:$X$127,$S5,0))),0,IF(HLOOKUP(AB$2,$M$73:$X$127,$S5,0)>1,0,HLOOKUP(AB$2,$M$73:$X$127,$S5,0)))","v":0},{"$f":"IF(AB5=1,$M77,\"\")","v":""},{"$f":"IF(AC5=\"Total général\",\"\",IF(AC5<>\"\",\"o\",\"\"))","v":""},{"$f":"IF(ROWS($3:4)<=COUNTIF(cond3,\"o\"),INDEX(champ3,SMALL(IF(cond3=\"o\",ROW(INDIRECT(\"1:\"&ROWS(champ3)))),ROWS($3:4))),\"\")","v":""},{"$f":"IF(ISNA(IF(HLOOKUP(AF$2,$M$73:$X$127,$S5,0)>1,0,HLOOKUP(AF$2,$M$73:$X$127,$S5,0))),0,IF(HLOOKUP(AF$2,$M$73:$X$127,$S5,0)>1,0,HLOOKUP(AF$2,$M$73:$X$127,$S5,0)))","v":0},{"$f":"IF(AF5=1,$M77,\"\")","v":""},{"$f":"IF(AG5=\"Total général\",\"\",IF(AG5<>\"\",\"o\",\"\"))","v":""},{"$f":"IF(ROWS($3:4)<=COUNTIF(cond4,\"o\"),INDEX(champ4,SMALL(IF(cond4=\"o\",ROW(INDIRECT(\"1:\"&ROWS(champ4)))),ROWS($3:4))),\"\")","v":""},{"$f":"IF(ISNA(IF(HLOOKUP(AJ$2,$M$73:$X$127,$S5,0)>1,0,HLOOKUP(AJ$2,$M$73:$X$127,$S5,0))),0,IF(HLOOKUP(AJ$2,$M$73:$X$127,$S5,0)>1,0,HLOOKUP(AJ$2,$M$73:$X$127,$S5,0)))","v":0},{"$f":"IF(AJ5=1,$M77,\"\")","v":""},{"$f":"IF(AK5=\"Total général\",\"\",IF(AK5<>\"\",\"o\",\"\"))","v":""},{"$f":"IF(ROWS($3:4)<=COUNTIF(cond5,\"o\"),INDEX(champ5,SMALL(IF(cond5=\"o\",ROW(INDIRECT(\"1:\"&ROWS(champ5)))),ROWS($3:4))),\"\")","v":""},{"$f":"IF(ISNA(IF(HLOOKUP(AN$2,$M$73:$X$127,$S5,0)>1,0,HLOOKUP(AN$2,$M$73:$X$127,$S5,0))),0,IF(HLOOKUP(AN$2,$M$73:$X$127,$S5,0)>1,0,HLOOKUP(AN$2,$M$73:$X$127,$S5,0)))","v":0},{"$f":"IF(AN5=1,$M77,\"\")","v":""},{"$f":"IF(AO5=\"Total général\",\"\",IF(AO5<>\"\",\"o\",\"\"))","v":""},{"$f":"IF(ROWS($3:4)<=COUNTIF(cond6,\"o\"),INDEX(champ6,SMALL(IF(cond6=\"o\",ROW(INDIRECT(\"1:\"&ROWS(champ6)))),ROWS($3:4))),\"\")","v":""},{"$f":"IF(ISNA(IF(HLOOKUP(AR$2,$M$73:$X$127,$S5,0)>1,0,HLOOKUP(AR$2,$M$73:$X$127,$S5,0))),0,IF(HLOOKUP(AR$2,$M$73:$X$127,$S5,0)>1,0,HLOOKUP(AR$2,$M$73:$X$127,$S5,0)))","v":0},{"$f":"IF(AR5=1,$M77,\"\")","v":""},{"$f":"IF(AS5=\"Total général\",\"\",IF(AS5<>\"\",\"o\",\"\"))","v":""},{"$f":"IF(ROWS($3:4)<=COUNTIF(cond7,\"o\"),INDEX(champ7,SMALL(IF(cond7=\"o\",ROW(INDIRECT(\"1:\"&ROWS(champ7)))),ROWS($3:4))),\"\")","v":""},{"$f":"IF(ISNA(IF(HLOOKUP(AV$2,$M$73:$X$127,$S5,0)>1,0,HLOOKUP(AV$2,$M$73:$X$127,$S5,0))),0,IF(HLOOKUP(AV$2,$M$73:$X$127,$S5,0)>1,0,HLOOKUP(AV$2,$M$73:$X$127,$S5,0)))","v":0},{"$f":"IF(AV5=1,$M77,\"\")","v":""},{"$f":"IF(AW5=\"Total général\",\"\",IF(AW5<>\"\",\"o\",\"\"))","v":""},{"$f":"IF(ROWS($3:4)<=COUNTIF(cond8,\"o\"),INDEX(champ8,SMALL(IF(cond8=\"o\",ROW(INDIRECT(\"1:\"&ROWS(champ8)))),ROWS($3:4))),\"\")","v":""},{"$f":"IF(ISNA(IF(HLOOKUP(AZ$2,$M$73:$X$127,$S5,0)>1,0,HLOOKUP(AZ$2,$M$73:$X$127,$S5,0))),0,IF(HLOOKUP(AZ$2,$M$73:$X$127,$S5,0)>1,0,HLOOKUP(AZ$2,$M$73:$X$127,$S5,0)))","v":0},{"$f":"IF(AZ5=1,$M77,\"\")","v":""},{"$f":"IF(BA5=\"Total général\",\"\",IF(BA5<>\"\",\"o\",\"\"))","v":""},{"$f":"IF(ROWS($3:4)<=COUNTIF(cond9,\"o\"),INDEX(champ9,SMALL(IF(cond9=\"o\",ROW(INDIRECT(\"1:\"&ROWS(champ9)))),ROWS($3:4))),\"\")","v":""},{"$f":"IF(ISNA(IF(HLOOKUP(BD$2,$M$73:$X$127,$S5,0)>1,0,HLOOKUP(BD$2,$M$73:$X$127,$S5,0))),0,IF(HLOOKUP(BD$2,$M$73:$X$127,$S5,0)>1,0,HLOOKUP(BD$2,$M$73:$X$127,$S5,0)))","v":0},{"$f":"IF(BD5=1,$M77,\"\")","v":""},{"$f":"IF(BE5=\"Total général\",\"\",IF(BE5<>\"\",\"o\",\"\"))","v":""},{"$f":"IF(ROWS($3:4)<=COUNTIF(cond10,\"o\"),INDEX(champ10,SMALL(IF(cond10=\"o\",ROW(INDIRECT(\"1:\"&ROWS(champ10)))),ROWS($3:4))),\"\")","v":""},{"$f":"IF(ISNA(IF(HLOOKUP(BH$2,$M$73:$X$127,$S5,0)>1,0,HLOOKUP(BH$2,$M$73:$X$127,$S5,0))),0,IF(HLOOKUP(BH$2,$M$73:$X$127,$S5,0)>1,0,HLOOKUP(BH$2,$M$73:$X$127,$S5,0)))","v":0},{"$f":"IF(BH5=1,$M77,\"\")","v":""},{"$f":"IF(BI5=\"Total général\",\"\",IF(BI5<>\"\",\"o\",\"\"))","v":""},{"$f":"IF(ROWS($3:4)<=COUNTIF(cond11,\"o\"),INDEX(champ11,SMALL(IF(cond11=\"o\",ROW(INDIRECT(\"1:\"&ROWS(champ11)))),ROWS($3:4))),\"\")","v":""}]
[null,null,null,null,null,null,null,null,null,null,null,null,"Production locale d'électricité","Production d'électricité",null,null,null,null,6,0,"","",{"$f":"IF(ROWS($3:5)<=COUNTIF(cond1,\"o\"),INDEX(champ1,SMALL(IF(cond1=\"o\",ROW(INDIRECT(\"1:\"&ROWS(champ1)))),ROWS($3:5))),\"\")","v":""},0,"","",{"$f":"IF(ROWS($3:5)<=COUNTIF(cond2,\"o\"),INDEX(champ2,SMALL(IF(cond2=\"o\",ROW(INDIRECT(\"1:\"&ROWS(champ2)))),ROWS($3:5))),\"\")","v":""},0,"","",{"$f":"IF(ROWS($3:5)<=COUNTIF(cond3,\"o\"),INDEX(champ3,SMALL(IF(cond3=\"o\",ROW(INDIRECT(\"1:\"&ROWS(champ3)))),ROWS($3:5))),\"\")","v":""},0,"","",{"$f":"IF(ROWS($3:5)<=COUNTIF(cond4,\"o\"),INDEX(champ4,SMALL(IF(cond4=\"o\",ROW(INDIRECT(\"1:\"&ROWS(champ4)))),ROWS($3:5))),\"\")","v":""},0,"","",{"$f":"IF(ROWS($3:5)<=COUNTIF(cond5,\"o\"),INDEX(champ5,SMALL(IF(cond5=\"o\",ROW(INDIRECT(\"1:\"&ROWS(champ5)))),ROWS($3:5))),\"\")","v":""},0,"","",{"$f":"IF(ROWS($3:5)<=COUNTIF(cond6,\"o\"),INDEX(champ6,SMALL(IF(cond6=\"o\",ROW(INDIRECT(\"1:\"&ROWS(champ6)))),ROWS($3:5))),\"\")","v":""},0,"","",{"$f":"IF(ROWS($3:5)<=COUNTIF(cond7,\"o\"),INDEX(champ7,SMALL(IF(cond7=\"o\",ROW(INDIRECT(\"1:\"&ROWS(champ7)))),ROWS($3:5))),\"\")","v":""},0,"","",{"$f":"IF(ROWS($3:5)<=COUNTIF(cond8,\"o\"),INDEX(champ8,SMALL(IF(cond8=\"o\",ROW(INDIRECT(\"1:\"&ROWS(champ8)))),ROWS($3:5))),\"\")","v":""},0,"","",{"$f":"IF(ROWS($3:5)<=COUNTIF(cond9,\"o\"),INDEX(champ9,SMALL(IF(cond9=\"o\",ROW(INDIRECT(\"1:\"&ROWS(champ9)))),ROWS($3:5))),\"\")","v":""},0,"","",{"$f":"IF(ROWS($3:5)<=COUNTIF(cond10,\"o\"),INDEX(champ10,SMALL(IF(cond10=\"o\",ROW(INDIRECT(\"1:\"&ROWS(champ10)))),ROWS($3:5))),\"\")","v":""},0,"","",{"$f":"IF(ROWS($3:5)<=COUNTIF(cond11,\"o\"),INDEX(champ11,SMALL(IF(cond11=\"o\",ROW(INDIRECT(\"1:\"&ROWS(champ11)))),ROWS($3:5))),\"\")","v":""}]
["Réduction des consommations","Secteur","Objectif",null,"Economie d'énergie (GWh/an)","Réduction des émissions (tCO2/an)","Etat d'avancement",null,null,null,null,null,"Public Lighting","Eclairage public",null,null,null,null,7,0,"","",{"$f":"IF(ROWS($3:6)<=COUNTIF(cond1,\"o\"),INDEX(champ1,SMALL(IF(cond1=\"o\",ROW(INDIRECT(\"1:\"&ROWS(champ1)))),ROWS($3:6))),\"\")","v":""},0,"","",{"$f":"IF(ROWS($3:6)<=COUNTIF(cond2,\"o\"),INDEX(champ2,SMALL(IF(cond2=\"o\",ROW(INDIRECT(\"1:\"&ROWS(champ2)))),ROWS($3:6))),\"\")","v":""},0,"","",{"$f":"IF(ROWS($3:6)<=COUNTIF(cond3,\"o\"),INDEX(champ3,SMALL(IF(cond3=\"o\",ROW(INDIRECT(\"1:\"&ROWS(champ3)))),ROWS($3:6))),\"\")","v":""},0,"","",{"$f":"IF(ROWS($3:6)<=COUNTIF(cond4,\"o\"),INDEX(champ4,SMALL(IF(cond4=\"o\",ROW(INDIRECT(\"1:\"&ROWS(champ4)))),ROWS($3:6))),\"\")","v":""},0,"","",{"$f":"IF(ROWS($3:6)<=COUNTIF(cond5,\"o\"),INDEX(champ5,SMALL(IF(cond5=\"o\",ROW(INDIRECT(\"1:\"&ROWS(champ5)))),ROWS($3:6))),\"\")","v":""},0,"","",{"$f":"IF(ROWS($3:6)<=COUNTIF(cond6,\"o\"),INDEX(champ6,SMALL(IF(cond6=\"o\",ROW(INDIRECT(\"1:\"&ROWS(champ6)))),ROWS($3:6))),\"\")","v":""},0,"","",{"$f":"IF(ROWS($3:6)<=COUNTIF(cond7,\"o\"),INDEX(champ7,SMALL(IF(cond7=\"o\",ROW(INDIRECT(\"1:\"&ROWS(champ7)))),ROWS($3:6))),\"\")","v":""},0,"","",{"$f":"IF(ROWS($3:6)<=COUNTIF(cond8,\"o\"),INDEX(champ8,SMALL(IF(cond8=\"o\",ROW(INDIRECT(\"1:\"&ROWS(champ8)))),ROWS($3:6))),\"\")","v":""},0,"","",{"$f":"IF(ROWS($3:6)<=COUNTIF(cond9,\"o\"),INDEX(champ9,SMALL(IF(cond9=\"o\",ROW(INDIRECT(\"1:\"&ROWS(champ9)))),ROWS($3:6))),\"\")","v":""},0,"","",{"$f":"IF(ROWS($3:6)<=COUNTIF(cond10,\"o\"),INDEX(champ10,SMALL(IF(cond10=\"o\",ROW(INDIRECT(\"1:\"&ROWS(champ10)))),ROWS($3:6))),\"\")","v":""},0,"","",{"$f":"IF(ROWS($3:6)<=COUNTIF(cond11,\"o\"),INDEX(champ11,SMALL(IF(cond11=\"o\",ROW(INDIRECT(\"1:\"&ROWS(champ11)))),ROWS($3:6))),\"\")","v":""}]
[null,"Industrie non-ETS",{"$f":"\"Objectif \"&B8","v":"Objectif Industrie non-ETS"},null,{"$f":"Indicateurs!C5","v":0},{"$f":"Indicateurs!C6","v":0},{"$f":"IF(Indicateurs!E19=0,0,Indicateurs!H19/Indicateurs!E19*Indicateurs!F19)","v":0},"Suivi",null,null,null,null,"Tertiaire","Tertiaire",null,null,null,null,8,0,"","",{"$f":"IF(ROWS($3:7)<=COUNTIF(cond1,\"o\"),INDEX(champ1,SMALL(IF(cond1=\"o\",ROW(INDIRECT(\"1:\"&ROWS(champ1)))),ROWS($3:7))),\"\")","v":""},0,"","",{"$f":"IF(ROWS($3:7)<=COUNTIF(cond2,\"o\"),INDEX(champ2,SMALL(IF(cond2=\"o\",ROW(INDIRECT(\"1:\"&ROWS(champ2)))),ROWS($3:7))),\"\")","v":""},0,"","",{"$f":"IF(ROWS($3:7)<=COUNTIF(cond3,\"o\"),INDEX(champ3,SMALL(IF(cond3=\"o\",ROW(INDIRECT(\"1:\"&ROWS(champ3)))),ROWS($3:7))),\"\")","v":""},0,"","",{"$f":"IF(ROWS($3:7)<=COUNTIF(cond4,\"o\"),INDEX(champ4,SMALL(IF(cond4=\"o\",ROW(INDIRECT(\"1:\"&ROWS(champ4)))),ROWS($3:7))),\"\")","v":""},0,"","",{"$f":"IF(ROWS($3:7)<=COUNTIF(cond5,\"o\"),INDEX(champ5,SMALL(IF(cond5=\"o\",ROW(INDIRECT(\"1:\"&ROWS(champ5)))),ROWS($3:7))),\"\")","v":""},0,"","",{"$f":"IF(ROWS($3:7)<=COUNTIF(cond6,\"o\"),INDEX(champ6,SMALL(IF(cond6=\"o\",ROW(INDIRECT(\"1:\"&ROWS(champ6)))),ROWS($3:7))),\"\")","v":""},0,"","",{"$f":"IF(ROWS($3:7)<=COUNTIF(cond7,\"o\"),INDEX(champ7,SMALL(IF(cond7=\"o\",ROW(INDIRECT(\"1:\"&ROWS(champ7)))),ROWS($3:7))),\"\")","v":""},0,"","",{"$f":"IF(ROWS($3:7)<=COUNTIF(cond8,\"o\"),INDEX(champ8,SMALL(IF(cond8=\"o\",ROW(INDIRECT(\"1:\"&ROWS(champ8)))),ROWS($3:7))),\"\")","v":""},0,"","",{"$f":"IF(ROWS($3:7)<=COUNTIF(cond9,\"o\"),INDEX(champ9,SMALL(IF(cond9=\"o\",ROW(INDIRECT(\"1:\"&ROWS(champ9)))),ROWS($3:7))),\"\")","v":""},0,"","",{"$f":"IF(ROWS($3:7)<=COUNTIF(cond10,\"o\"),INDEX(champ10,SMALL(IF(cond10=\"o\",ROW(INDIRECT(\"1:\"&ROWS(champ10)))),ROWS($3:7))),\"\")","v":""},0,"","",{"$f":"IF(ROWS($3:7)<=COUNTIF(cond11,\"o\"),INDEX(champ11,SMALL(IF(cond11=\"o\",ROW(INDIRECT(\"1:\"&ROWS(champ11)))),ROWS($3:7))),\"\")","v":""}]
[null,"Tertiaire",{"$f":"\"Objectif \"&B9","v":"Objectif Tertiaire"},null,{"$f":"Indicateurs!C29","v":0},{"$f":"Indicateurs!C30","v":0},{"$f":"IF(Indicateurs!E43=0,0,Indicateurs!H43/Indicateurs!E43*Indicateurs!F43)","v":0},"Suivi",null,null,null,null,"Transport privé","Transport",null,null,null,null,9,0,"","",{"$f":"IF(ROWS($3:8)<=COUNTIF(cond1,\"o\"),INDEX(champ1,SMALL(IF(cond1=\"o\",ROW(INDIRECT(\"1:\"&ROWS(champ1)))),ROWS($3:8))),\"\")","v":""},0,"","",{"$f":"IF(ROWS($3:8)<=COUNTIF(cond2,\"o\"),INDEX(champ2,SMALL(IF(cond2=\"o\",ROW(INDIRECT(\"1:\"&ROWS(champ2)))),ROWS($3:8))),\"\")","v":""},0,"","",{"$f":"IF(ROWS($3:8)<=COUNTIF(cond3,\"o\"),INDEX(champ3,SMALL(IF(cond3=\"o\",ROW(INDIRECT(\"1:\"&ROWS(champ3)))),ROWS($3:8))),\"\")","v":""},0,"","",{"$f":"IF(ROWS($3:8)<=COUNTIF(cond4,\"o\"),INDEX(champ4,SMALL(IF(cond4=\"o\",ROW(INDIRECT(\"1:\"&ROWS(champ4)))),ROWS($3:8))),\"\")","v":""},0,"","",{"$f":"IF(ROWS($3:8)<=COUNTIF(cond5,\"o\"),INDEX(champ5,SMALL(IF(cond5=\"o\",ROW(INDIRECT(\"1:\"&ROWS(champ5)))),ROWS($3:8))),\"\")","v":""},0,"","",{"$f":"IF(ROWS($3:8)<=COUNTIF(cond6,\"o\"),INDEX(champ6,SMALL(IF(cond6=\"o\",ROW(INDIRECT(\"1:\"&ROWS(champ6)))),ROWS($3:8))),\"\")","v":""},0,"","",{"$f":"IF(ROWS($3:8)<=COUNTIF(cond7,\"o\"),INDEX(champ7,SMALL(IF(cond7=\"o\",ROW(INDIRECT(\"1:\"&ROWS(champ7)))),ROWS($3:8))),\"\")","v":""},0,"","",{"$f":"IF(ROWS($3:8)<=COUNTIF(cond8,\"o\"),INDEX(champ8,SMALL(IF(cond8=\"o\",ROW(INDIRECT(\"1:\"&ROWS(champ8)))),ROWS($3:8))),\"\")","v":""},0,"","",{"$f":"IF(ROWS($3:8)<=COUNTIF(cond9,\"o\"),INDEX(champ9,SMALL(IF(cond9=\"o\",ROW(INDIRECT(\"1:\"&ROWS(champ9)))),ROWS($3:8))),\"\")","v":""},0,"","",{"$f":"IF(ROWS($3:8)<=COUNTIF(cond10,\"o\"),INDEX(champ10,SMALL(IF(cond10=\"o\",ROW(INDIRECT(\"1:\"&ROWS(champ10)))),ROWS($3:8))),\"\")","v":""},0,"","",{"$f":"IF(ROWS($3:8)<=COUNTIF(cond11,\"o\"),INDEX(champ11,SMALL(IF(cond11=\"o\",ROW(INDIRECT(\"1:\"&ROWS(champ11)))),ROWS($3:8))),\"\")","v":""}]
[null,"Administration communale","Objectif Administration communale",null,{"$f":"Indicateurs!C54","v":0},{"$f":"Indicateurs!C55","v":0},{"$f":"IF(Indicateurs!E68=0,0,Indicateurs!H68/Indicateurs!E68*Indicateurs!F68)","v":0},"Suivi",null,null,null,null,"Agriculture","Agriculture",null,null,null,null,10,0,"","",{"$f":"IF(ROWS($3:9)<=COUNTIF(cond1,\"o\"),INDEX(champ1,SMALL(IF(cond1=\"o\",ROW(INDIRECT(\"1:\"&ROWS(champ1)))),ROWS($3:9))),\"\")","v":""},0,"","",{"$f":"IF(ROWS($3:9)<=COUNTIF(cond2,\"o\"),INDEX(champ2,SMALL(IF(cond2=\"o\",ROW(INDIRECT(\"1:\"&ROWS(champ2)))),ROWS($3:9))),\"\")","v":""},0,"","",{"$f":"IF(ROWS($3:9)<=COUNTIF(cond3,\"o\"),INDEX(champ3,SMALL(IF(cond3=\"o\",ROW(INDIRECT(\"1:\"&ROWS(champ3)))),ROWS($3:9))),\"\")","v":""},0,"","",{"$f":"IF(ROWS($3:9)<=COUNTIF(cond4,\"o\"),INDEX(champ4,SMALL(IF(cond4=\"o\",ROW(INDIRECT(\"1:\"&ROWS(champ4)))),ROWS($3:9))),\"\")","v":""},0,"","",{"$f":"IF(ROWS($3:9)<=COUNTIF(cond5,\"o\"),INDEX(champ5,SMALL(IF(cond5=\"o\",ROW(INDIRECT(\"1:\"&ROWS(champ5)))),ROWS($3:9))),\"\")","v":""},0,"","",{"$f":"IF(ROWS($3:9)<=COUNTIF(cond6,\"o\"),INDEX(champ6,SMALL(IF(cond6=\"o\",ROW(INDIRECT(\"1:\"&ROWS(champ6)))),ROWS($3:9))),\"\")","v":""},0,"","",{"$f":"IF(ROWS($3:9)<=COUNTIF(cond7,\"o\"),INDEX(champ7,SMALL(IF(cond7=\"o\",ROW(INDIRECT(\"1:\"&ROWS(champ7)))),ROWS($3:9))),\"\")","v":""},0,"","",{"$f":"IF(ROWS($3:9)<=COUNTIF(cond8,\"o\"),INDEX(champ8,SMALL(IF(cond8=\"o\",ROW(INDIRECT(\"1:\"&ROWS(champ8)))),ROWS($3:9))),\"\")","v":""},0,"","",{"$f":"IF(ROWS($3:9)<=COUNTIF(cond9,\"o\"),INDEX(champ9,SMALL(IF(cond9=\"o\",ROW(INDIRECT(\"1:\"&ROWS(champ9)))),ROWS($3:9))),\"\")","v":""},0,"","",{"$f":"IF(ROWS($3:9)<=COUNTIF(cond10,\"o\"),INDEX(champ10,SMALL(IF(cond10=\"o\",ROW(INDIRECT(\"1:\"&ROWS(champ10)))),ROWS($3:9))),\"\")","v":""},0,"","",{"$f":"IF(ROWS($3:9)<=COUNTIF(cond11,\"o\"),INDEX(champ11,SMALL(IF(cond11=\"o\",ROW(INDIRECT(\"1:\"&ROWS(champ11)))),ROWS($3:9))),\"\")","v":""}]
[null,"Eclairage public","Objectif Eclairage public",null,{"$f":"Indicateurs!C79","v":0},{"$f":"Indicateurs!C80","v":0},{"$f":"IF(Indicateurs!E93=0,0,Indicateurs!H93/Indicateurs!E93*Indicateurs!F93)","v":0},"Suivi",null,null,null,null,"Véhicules communaux","Véhicules communaux",null,null,null,null,11,0,"","",{"$f":"IF(ROWS($3:10)<=COUNTIF(cond1,\"o\"),INDEX(champ1,SMALL(IF(cond1=\"o\",ROW(INDIRECT(\"1:\"&ROWS(champ1)))),ROWS($3:10))),\"\")","v":""},0,"","",{"$f":"IF(ROWS($3:10)<=COUNTIF(cond2,\"o\"),INDEX(champ2,SMALL(IF(cond2=\"o\",ROW(INDIRECT(\"1:\"&ROWS(champ2)))),ROWS($3:10))),\"\")","v":""},0,"","",{"$f":"IF(ROWS($3:10)<=COUNTIF(cond3,\"o\"),INDEX(champ3,SMALL(IF(cond3=\"o\",ROW(INDIRECT(\"1:\"&ROWS(champ3)))),ROWS($3:10))),\"\")","v":""},0,"","",{"$f":"IF(ROWS($3:10)<=COUNTIF(cond4,\"o\"),INDEX(champ4,SMALL(IF(cond4=\"o\",ROW(INDIRECT(\"1:\"&ROWS(champ4)))),ROWS($3:10))),\"\")","v":""},0,"","",{"$f":"IF(ROWS($3:10)<=COUNTIF(cond5,\"o\"),INDEX(champ5,SMALL(IF(cond5=\"o\",ROW(INDIRECT(\"1:\"&ROWS(champ5)))),ROWS($3:10))),\"\")","v":""},0,"","",{"$f":"IF(ROWS($3:10)<=COUNTIF(cond6,\"o\"),INDEX(champ6,SMALL(IF(cond6=\"o\",ROW(INDIRECT(\"1:\"&ROWS(champ6)))),ROWS($3:10))),\"\")","v":""},0,"","",{"$f":"IF(ROWS($3:10)<=COUNTIF(cond7,\"o\"),INDEX(champ7,SMALL(IF(cond7=\"o\",ROW(INDIRECT(\"1:\"&ROWS(champ7)))),ROWS($3:10))),\"\")","v":""},0,"","",{"$f":"IF(ROWS($3:10)<=COUNTIF(cond8,\"o\"),INDEX(champ8,SMALL(IF(cond8=\"o\",ROW(INDIRECT(\"1:\"&ROWS(champ8)))),ROWS($3:10))),\"\")","v":""},0,"","",{"$f":"IF(ROWS($3:10)<=COUNTIF(cond9,\"o\"),INDEX(champ9,SMALL(IF(cond9=\"o\",ROW(INDIRECT(\"1:\"&ROWS(champ9)))),ROWS($3:10))),\"\")","v":""},0,"","",{"$f":"IF(ROWS($3:10)<=COUNTIF(cond10,\"o\"),INDEX(champ10,SMALL(IF(cond10=\"o\",ROW(INDIRECT(\"1:\"&ROWS(champ10)))),ROWS($3:10))),\"\")","v":""},0,"","",{"$f":"IF(ROWS($3:10)<=COUNTIF(cond11,\"o\"),INDEX(champ11,SMALL(IF(cond11=\"o\",ROW(INDIRECT(\"1:\"&ROWS(champ11)))),ROWS($3:10))),\"\")","v":""}]
[null,"Logement","Objectif Logement",null,{"$f":"Indicateurs!C104","v":0},{"$f":"Indicateurs!C105","v":0},{"$f":"IF(Indicateurs!E118=0,0,Indicateurs!H118/Indicateurs!E118*Indicateurs!F118)","v":0},"Suivi",null,null,null,null,null,null,null,null,null,null,12,0,"","",{"$f":"IF(ROWS($3:11)<=COUNTIF(cond1,\"o\"),INDEX(champ1,SMALL(IF(cond1=\"o\",ROW(INDIRECT(\"1:\"&ROWS(champ1)))),ROWS($3:11))),\"\")","v":""},0,"","",{"$f":"IF(ROWS($3:11)<=COUNTIF(cond2,\"o\"),INDEX(champ2,SMALL(IF(cond2=\"o\",ROW(INDIRECT(\"1:\"&ROWS(champ2)))),ROWS($3:11))),\"\")","v":""},0,"","",{"$f":"IF(ROWS($3:11)<=COUNTIF(cond3,\"o\"),INDEX(champ3,SMALL(IF(cond3=\"o\",ROW(INDIRECT(\"1:\"&ROWS(champ3)))),ROWS($3:11))),\"\")","v":""},0,"","",{"$f":"IF(ROWS($3:11)<=COUNTIF(cond4,\"o\"),INDEX(champ4,SMALL(IF(cond4=\"o\",ROW(INDIRECT(\"1:\"&ROWS(champ4)))),ROWS($3:11))),\"\")","v":""},0,"","",{"$f":"IF(ROWS($3:11)<=COUNTIF(cond5,\"o\"),INDEX(champ5,SMALL(IF(cond5=\"o\",ROW(INDIRECT(\"1:\"&ROWS(champ5)))),ROWS($3:11))),\"\")","v":""},0,"","",{"$f":"IF(ROWS($3:11)<=COUNTIF(cond6,\"o\"),INDEX(champ6,SMALL(IF(cond6=\"o\",ROW(INDIRECT(\"1:\"&ROWS(champ6)))),ROWS($3:11))),\"\")","v":""},0,"","",{"$f":"IF(ROWS($3:11)<=COUNTIF(cond7,\"o\"),INDEX(champ7,SMALL(IF(cond7=\"o\",ROW(INDIRECT(\"1:\"&ROWS(champ7)))),ROWS($3:11))),\"\")","v":""},0,"","",{"$f":"IF(ROWS($3:11)<=COUNTIF(cond8,\"o\"),INDEX(champ8,SMALL(IF(cond8=\"o\",ROW(INDIRECT(\"1:\"&ROWS(champ8)))),ROWS($3:11))),\"\")","v":""},0,"","",{"$f":"IF(ROWS($3:11)<=COUNTIF(cond9,\"o\"),INDEX(champ9,SMALL(IF(cond9=\"o\",ROW(INDIRECT(\"1:\"&ROWS(champ9)))),ROWS($3:11))),\"\")","v":""},0,"","",{"$f":"IF(ROWS($3:11)<=COUNTIF(cond10,\"o\"),INDEX(champ10,SMALL(IF(cond10=\"o\",ROW(INDIRECT(\"1:\"&ROWS(champ10)))),ROWS($3:11))),\"\")","v":""},0,"","",{"$f":"IF(ROWS($3:11)<=COUNTIF(cond11,\"o\"),INDEX(champ11,SMALL(IF(cond11=\"o\",ROW(INDIRECT(\"1:\"&ROWS(champ11)))),ROWS($3:11))),\"\")","v":""}]
[null,"Agriculture","Objectif Agriculture",null,{"$f":"Indicateurs!C129","v":0},{"$f":"Indicateurs!C130","v":0},{"$f":"IF(Indicateurs!E143=0,0,Indicateurs!H143/Indicateurs!E143*Indicateurs!F143)","v":0},"Suivi",null,null,null,null,null,null,null,null,null,null,13,0,"","",{"$f":"IF(ROWS($3:12)<=COUNTIF(cond1,\"o\"),INDEX(champ1,SMALL(IF(cond1=\"o\",ROW(INDIRECT(\"1:\"&ROWS(champ1)))),ROWS($3:12))),\"\")","v":""},0,"","",{"$f":"IF(ROWS($3:12)<=COUNTIF(cond2,\"o\"),INDEX(champ2,SMALL(IF(cond2=\"o\",ROW(INDIRECT(\"1:\"&ROWS(champ2)))),ROWS($3:12))),\"\")","v":""},0,"","",{"$f":"IF(ROWS($3:12)<=COUNTIF(cond3,\"o\"),INDEX(champ3,SMALL(IF(cond3=\"o\",ROW(INDIRECT(\"1:\"&ROWS(champ3)))),ROWS($3:12))),\"\")","v":""},0,"","",{"$f":"IF(ROWS($3:12)<=COUNTIF(cond4,\"o\"),INDEX(champ4,SMALL(IF(cond4=\"o\",ROW(INDIRECT(\"1:\"&ROWS(champ4)))),ROWS($3:12))),\"\")","v":""},0,"","",{"$f":"IF(ROWS($3:12)<=COUNTIF(cond5,\"o\"),INDEX(champ5,SMALL(IF(cond5=\"o\",ROW(INDIRECT(\"1:\"&ROWS(champ5)))),ROWS($3:12))),\"\")","v":""},0,"","",{"$f":"IF(ROWS($3:12)<=COUNTIF(cond6,\"o\"),INDEX(champ6,SMALL(IF(cond6=\"o\",ROW(INDIRECT(\"1:\"&ROWS(champ6)))),ROWS($3:12))),\"\")","v":""},0,"","",{"$f":"IF(ROWS($3:12)<=COUNTIF(cond7,\"o\"),INDEX(champ7,SMALL(IF(cond7=\"o\",ROW(INDIRECT(\"1:\"&ROWS(champ7)))),ROWS($3:12))),\"\")","v":""},0,"","",{"$f":"IF(ROWS($3:12)<=COUNTIF(cond8,\"o\"),INDEX(champ8,SMALL(IF(cond8=\"o\",ROW(INDIRECT(\"1:\"&ROWS(champ8)))),ROWS($3:12))),\"\")","v":""},0,"","",{"$f":"IF(ROWS($3:12)<=COUNTIF(cond9,\"o\"),INDEX(champ9,SMALL(IF(cond9=\"o\",ROW(INDIRECT(\"1:\"&ROWS(champ9)))),ROWS($3:12))),\"\")","v":""},0,"","",{"$f":"IF(ROWS($3:12)<=COUNTIF(cond10,\"o\"),INDEX(champ10,SMALL(IF(cond10=\"o\",ROW(INDIRECT(\"1:\"&ROWS(champ10)))),ROWS($3:12))),\"\")","v":""},0,"","",{"$f":"IF(ROWS($3:12)<=COUNTIF(cond11,\"o\"),INDEX(champ11,SMALL(IF(cond11=\"o\",ROW(INDIRECT(\"1:\"&ROWS(champ11)))),ROWS($3:12))),\"\")","v":""}]
[null,"Transport","Objectif Transport",null,{"$f":"Indicateurs!C154","v":0},{"$f":"Indicateurs!C155","v":0},{"$f":"IF(Indicateurs!E168=0,0,Indicateurs!H168/Indicateurs!E168*Indicateurs!F168)","v":0},"Suivi",null,null,null,null,null,null,null,null,null,null,14,0,"","",{"$f":"IF(ROWS($3:13)<=COUNTIF(cond1,\"o\"),INDEX(champ1,SMALL(IF(cond1=\"o\",ROW(INDIRECT(\"1:\"&ROWS(champ1)))),ROWS($3:13))),\"\")","v":""},0,"","",{"$f":"IF(ROWS($3:13)<=COUNTIF(cond2,\"o\"),INDEX(champ2,SMALL(IF(cond2=\"o\",ROW(INDIRECT(\"1:\"&ROWS(champ2)))),ROWS($3:13))),\"\")","v":""},0,"","",{"$f":"IF(ROWS($3:13)<=COUNTIF(cond3,\"o\"),INDEX(champ3,SMALL(IF(cond3=\"o\",ROW(INDIRECT(\"1:\"&ROWS(champ3)))),ROWS($3:13))),\"\")","v":""},0,"","",{"$f":"IF(ROWS($3:13)<=COUNTIF(cond4,\"o\"),INDEX(champ4,SMALL(IF(cond4=\"o\",ROW(INDIRECT(\"1:\"&ROWS(champ4)))),ROWS($3:13))),\"\")","v":""},0,"","",{"$f":"IF(ROWS($3:13)<=COUNTIF(cond5,\"o\"),INDEX(champ5,SMALL(IF(cond5=\"o\",ROW(INDIRECT(\"1:\"&ROWS(champ5)))),ROWS($3:13))),\"\")","v":""},0,"","",{"$f":"IF(ROWS($3:13)<=COUNTIF(cond6,\"o\"),INDEX(champ6,SMALL(IF(cond6=\"o\",ROW(INDIRECT(\"1:\"&ROWS(champ6)))),ROWS($3:13))),\"\")","v":""},0,"","",{"$f":"IF(ROWS($3:13)<=COUNTIF(cond7,\"o\"),INDEX(champ7,SMALL(IF(cond7=\"o\",ROW(INDIRECT(\"1:\"&ROWS(champ7)))),ROWS($3:13))),\"\")","v":""},0,"","",{"$f":"IF(ROWS($3:13)<=COUNTIF(cond8,\"o\"),INDEX(champ8,SMALL(IF(cond8=\"o\",ROW(INDIRECT(\"1:\"&ROWS(champ8)))),ROWS($3:13))),\"\")","v":""},0,"","",{"$f":"IF(ROWS($3:13)<=COUNTIF(cond9,\"o\"),INDEX(champ9,SMALL(IF(cond9=\"o\",ROW(INDIRECT(\"1:\"&ROWS(champ9)))),ROWS($3:13))),\"\")","v":""},0,"","",{"$f":"IF(ROWS($3:13)<=COUNTIF(cond10,\"o\"),INDEX(champ10,SMALL(IF(cond10=\"o\",ROW(INDIRECT(\"1:\"&ROWS(champ10)))),ROWS($3:13))),\"\")","v":""},0,"","",{"$f":"IF(ROWS($3:13)<=COUNTIF(cond11,\"o\"),INDEX(champ11,SMALL(IF(cond11=\"o\",ROW(INDIRECT(\"1:\"&ROWS(champ11)))),ROWS($3:13))),\"\")","v":""}]
[null,"Véhicules communaux","Objectif Véhicules communaux",null,{"$f":"Indicateurs!C179","v":0},{"$f":"Indicateurs!C180","v":0},{"$f":"IF(Indicateurs!E193=0,0,Indicateurs!H193/Indicateurs!E193*Indicateurs!F193)","v":0},"Suivi",null,null,null,null,null,null,null,null,null,null,15,0,"","",{"$f":"IF(ROWS($3:14)<=COUNTIF(cond1,\"o\"),INDEX(champ1,SMALL(IF(cond1=\"o\",ROW(INDIRECT(\"1:\"&ROWS(champ1)))),ROWS($3:14))),\"\")","v":""},0,"","",{"$f":"IF(ROWS($3:14)<=COUNTIF(cond2,\"o\"),INDEX(champ2,SMALL(IF(cond2=\"o\",ROW(INDIRECT(\"1:\"&ROWS(champ2)))),ROWS($3:14))),\"\")","v":""},0,"","",{"$f":"IF(ROWS($3:14)<=COUNTIF(cond3,\"o\"),INDEX(champ3,SMALL(IF(cond3=\"o\",ROW(INDIRECT(\"1:\"&ROWS(champ3)))),ROWS($3:14))),\"\")","v":""},0,"","",{"$f":"IF(ROWS($3:14)<=COUNTIF(cond4,\"o\"),INDEX(champ4,SMALL(IF(cond4=\"o\",ROW(INDIRECT(\"1:\"&ROWS(champ4)))),ROWS($3:14))),\"\")","v":""},0,"","",{"$f":"IF(ROWS($3:14)<=COUNTIF(cond5,\"o\"),INDEX(champ5,SMALL(IF(cond5=\"o\",ROW(INDIRECT(\"1:\"&ROWS(champ5)))),ROWS($3:14))),\"\")","v":""},0,"","",{"$f":"IF(ROWS($3:14)<=COUNTIF(cond6,\"o\"),INDEX(champ6,SMALL(IF(cond6=\"o\",ROW(INDIRECT(\"1:\"&ROWS(champ6)))),ROWS($3:14))),\"\")","v":""},0,"","",{"$f":"IF(ROWS($3:14)<=COUNTIF(cond7,\"o\"),INDEX(champ7,SMALL(IF(cond7=\"o\",ROW(INDIRECT(\"1:\"&ROWS(champ7)))),ROWS($3:14))),\"\")","v":""},0,"","",{"$f":"IF(ROWS($3:14)<=COUNTIF(cond8,\"o\"),INDEX(champ8,SMALL(IF(cond8=\"o\",ROW(INDIRECT(\"1:\"&ROWS(champ8)))),ROWS($3:14))),\"\")","v":""},0,"","",{"$f":"IF(ROWS($3:14)<=COUNTIF(cond9,\"o\"),INDEX(champ9,SMALL(IF(cond9=\"o\",ROW(INDIRECT(\"1:\"&ROWS(champ9)))),ROWS($3:14))),\"\")","v":""},0,"","",{"$f":"IF(ROWS($3:14)<=COUNTIF(cond10,\"o\"),INDEX(champ10,SMALL(IF(cond10=\"o\",ROW(INDIRECT(\"1:\"&ROWS(champ10)))),ROWS($3:14))),\"\")","v":""},0,"","",{"$f":"IF(ROWS($3:14)<=COUNTIF(cond11,\"o\"),INDEX(champ11,SMALL(IF(cond11=\"o\",ROW(INDIRECT(\"1:\"&ROWS(champ11)))),ROWS($3:14))),\"\")","v":""}]
[null,null,null,null,null,null,{"$f":"IF(Indicateurs!E218=0,0,Indicateurs!H218/Indicateurs!E218*Indicateurs!F218)","v":0},"Suivi",null,null,null,null,null,null,null,null,null,null,16,0,"","",{"$f":"IF(ROWS($3:15)<=COUNTIF(cond1,\"o\"),INDEX(champ1,SMALL(IF(cond1=\"o\",ROW(INDIRECT(\"1:\"&ROWS(champ1)))),ROWS($3:15))),\"\")","v":""},0,"","",{"$f":"IF(ROWS($3:15)<=COUNTIF(cond2,\"o\"),INDEX(champ2,SMALL(IF(cond2=\"o\",ROW(INDIRECT(\"1:\"&ROWS(champ2)))),ROWS($3:15))),\"\")","v":""},0,"","",{"$f":"IF(ROWS($3:15)<=COUNTIF(cond3,\"o\"),INDEX(champ3,SMALL(IF(cond3=\"o\",ROW(INDIRECT(\"1:\"&ROWS(champ3)))),ROWS($3:15))),\"\")","v":""},0,"","",{"$f":"IF(ROWS($3:15)<=COUNTIF(cond4,\"o\"),INDEX(champ4,SMALL(IF(cond4=\"o\",ROW(INDIRECT(\"1:\"&ROWS(champ4)))),ROWS($3:15))),\"\")","v":""},0,"","",{"$f":"IF(ROWS($3:15)<=COUNTIF(cond5,\"o\"),INDEX(champ5,SMALL(IF(cond5=\"o\",ROW(INDIRECT(\"1:\"&ROWS(champ5)))),ROWS($3:15))),\"\")","v":""},0,"","",{"$f":"IF(ROWS($3:15)<=COUNTIF(cond6,\"o\"),INDEX(champ6,SMALL(IF(cond6=\"o\",ROW(INDIRECT(\"1:\"&ROWS(champ6)))),ROWS($3:15))),\"\")","v":""},0,"","",{"$f":"IF(ROWS($3:15)<=COUNTIF(cond7,\"o\"),INDEX(champ7,SMALL(IF(cond7=\"o\",ROW(INDIRECT(\"1:\"&ROWS(champ7)))),ROWS($3:15))),\"\")","v":""},0,"","",{"$f":"IF(ROWS($3:15)<=COUNTIF(cond8,\"o\"),INDEX(champ8,SMALL(IF(cond8=\"o\",ROW(INDIRECT(\"1:\"&ROWS(champ8)))),ROWS($3:15))),\"\")","v":""},0,"","",{"$f":"IF(ROWS($3:15)<=COUNTIF(cond9,\"o\"),INDEX(champ9,SMALL(IF(cond9=\"o\",ROW(INDIRECT(\"1:\"&ROWS(champ9)))),ROWS($3:15))),\"\")","v":""},0,"","",{"$f":"IF(ROWS($3:15)<=COUNTIF(cond10,\"o\"),INDEX(champ10,SMALL(IF(cond10=\"o\",ROW(INDIRECT(\"1:\"&ROWS(champ10)))),ROWS($3:15))),\"\")","v":""},0,"","",{"$f":"IF(ROWS($3:15)<=COUNTIF(cond11,\"o\"),INDEX(champ11,SMALL(IF(cond11=\"o\",ROW(INDIRECT(\"1:\"&ROWS(champ11)))),ROWS($3:15))),\"\")","v":""}]
[null,null,null,null,null,null,{"$f":"IF(Indicateurs!E243=0,0,Indicateurs!H243/Indicateurs!E243*Indicateurs!F243)","v":0},"Suivi",null,null,null,null,null,null,null,null,null,null,17,0,"","",{"$f":"IF(ROWS($3:16)<=COUNTIF(cond1,\"o\"),INDEX(champ1,SMALL(IF(cond1=\"o\",ROW(INDIRECT(\"1:\"&ROWS(champ1)))),ROWS($3:16))),\"\")","v":""},0,"","",{"$f":"IF(ROWS($3:16)<=COUNTIF(cond2,\"o\"),INDEX(champ2,SMALL(IF(cond2=\"o\",ROW(INDIRECT(\"1:\"&ROWS(champ2)))),ROWS($3:16))),\"\")","v":""},0,"","",{"$f":"IF(ROWS($3:16)<=COUNTIF(cond3,\"o\"),INDEX(champ3,SMALL(IF(cond3=\"o\",ROW(INDIRECT(\"1:\"&ROWS(champ3)))),ROWS($3:16))),\"\")","v":""},0,"","",{"$f":"IF(ROWS($3:16)<=COUNTIF(cond4,\"o\"),INDEX(champ4,SMALL(IF(cond4=\"o\",ROW(INDIRECT(\"1:\"&ROWS(champ4)))),ROWS($3:16))),\"\")","v":""},0,"","",{"$f":"IF(ROWS($3:16)<=COUNTIF(cond5,\"o\"),INDEX(champ5,SMALL(IF(cond5=\"o\",ROW(INDIRECT(\"1:\"&ROWS(champ5)))),ROWS($3:16))),\"\")","v":""},0,"","",{"$f":"IF(ROWS($3:16)<=COUNTIF(cond6,\"o\"),INDEX(champ6,SMALL(IF(cond6=\"o\",ROW(INDIRECT(\"1:\"&ROWS(champ6)))),ROWS($3:16))),\"\")","v":""},0,"","",{"$f":"IF(ROWS($3:16)<=COUNTIF(cond7,\"o\"),INDEX(champ7,SMALL(IF(cond7=\"o\",ROW(INDIRECT(\"1:\"&ROWS(champ7)))),ROWS($3:16))),\"\")","v":""},0,"","",{"$f":"IF(ROWS($3:16)<=COUNTIF(cond8,\"o\"),INDEX(champ8,SMALL(IF(cond8=\"o\",ROW(INDIRECT(\"1:\"&ROWS(champ8)))),ROWS($3:16))),\"\")","v":""},0,"","",{"$f":"IF(ROWS($3:16)<=COUNTIF(cond9,\"o\"),INDEX(champ9,SMALL(IF(cond9=\"o\",ROW(INDIRECT(\"1:\"&ROWS(champ9)))),ROWS($3:16))),\"\")","v":""},0,"","",{"$f":"IF(ROWS($3:16)<=COUNTIF(cond10,\"o\"),INDEX(champ10,SMALL(IF(cond10=\"o\",ROW(INDIRECT(\"1:\"&ROWS(champ10)))),ROWS($3:16))),\"\")","v":""},0,"","",{"$f":"IF(ROWS($3:16)<=COUNTIF(cond11,\"o\"),INDEX(champ11,SMALL(IF(cond11=\"o\",ROW(INDIRECT(\"1:\"&ROWS(champ11)))),ROWS($3:16))),\"\")","v":""}]
[null,null,null,null,null,null,{"$f":"IF(Indicateurs!E268=0,0,Indicateurs!H268/Indicateurs!E268*Indicateurs!F268)","v":0},"Suivi",null,null,null,null,null,null,null,null,null,null,18,0,"","",{"$f":"IF(ROWS($3:17)<=COUNTIF(cond1,\"o\"),INDEX(champ1,SMALL(IF(cond1=\"o\",ROW(INDIRECT(\"1:\"&ROWS(champ1)))),ROWS($3:17))),\"\")","v":""},0,"","",{"$f":"IF(ROWS($3:17)<=COUNTIF(cond2,\"o\"),INDEX(champ2,SMALL(IF(cond2=\"o\",ROW(INDIRECT(\"1:\"&ROWS(champ2)))),ROWS($3:17))),\"\")","v":""},0,"","",{"$f":"IF(ROWS($3:17)<=COUNTIF(cond3,\"o\"),INDEX(champ3,SMALL(IF(cond3=\"o\",ROW(INDIRECT(\"1:\"&ROWS(champ3)))),ROWS($3:17))),\"\")","v":""},0,"","",{"$f":"IF(ROWS($3:17)<=COUNTIF(cond4,\"o\"),INDEX(champ4,SMALL(IF(cond4=\"o\",ROW(INDIRECT(\"1:\"&ROWS(champ4)))),ROWS($3:17))),\"\")","v":""},0,"","",{"$f":"IF(ROWS($3:17)<=COUNTIF(cond5,\"o\"),INDEX(champ5,SMALL(IF(cond5=\"o\",ROW(INDIRECT(\"1:\"&ROWS(champ5)))),ROWS($3:17))),\"\")","v":""},0,"","",{"$f":"IF(ROWS($3:17)<=COUNTIF(cond6,\"o\"),INDEX(champ6,SMALL(IF(cond6=\"o\",ROW(INDIRECT(\"1:\"&ROWS(champ6)))),ROWS($3:17))),\"\")","v":""},0,"","",{"$f":"IF(ROWS($3:17)<=COUNTIF(cond7,\"o\"),INDEX(champ7,SMALL(IF(cond7=\"o\",ROW(INDIRECT(\"1:\"&ROWS(champ7)))),ROWS($3:17))),\"\")","v":""},0,"","",{"$f":"IF(ROWS($3:17)<=COUNTIF(cond8,\"o\"),INDEX(champ8,SMALL(IF(cond8=\"o\",ROW(INDIRECT(\"1:\"&ROWS(champ8)))),ROWS($3:17))),\"\")","v":""},0,"","",{"$f":"IF(ROWS($3:17)<=COUNTIF(cond9,\"o\"),INDEX(champ9,SMALL(IF(cond9=\"o\",ROW(INDIRECT(\"1:\"&ROWS(champ9)))),ROWS($3:17))),\"\")","v":""},0,"","",{"$f":"IF(ROWS($3:17)<=COUNTIF(cond10,\"o\"),INDEX(champ10,SMALL(IF(cond10=\"o\",ROW(INDIRECT(\"1:\"&ROWS(champ10)))),ROWS($3:17))),\"\")","v":""},0,"","",{"$f":"IF(ROWS($3:17)<=COUNTIF(cond11,\"o\"),INDEX(champ11,SMALL(IF(cond11=\"o\",ROW(INDIRECT(\"1:\"&ROWS(champ11)))),ROWS($3:17))),\"\")","v":""}]
[null,null,null,null,null,null,{"$f":"IF(Indicateurs!E293=0,0,Indicateurs!H293/Indicateurs!E293*Indicateurs!F293)","v":0},"Suivi",null,null,null,null,null,null,null,null,null,null,19,0,"","",{"$f":"IF(ROWS($3:18)<=COUNTIF(cond1,\"o\"),INDEX(champ1,SMALL(IF(cond1=\"o\",ROW(INDIRECT(\"1:\"&ROWS(champ1)))),ROWS($3:18))),\"\")","v":""},0,"","",{"$f":"IF(ROWS($3:18)<=COUNTIF(cond2,\"o\"),INDEX(champ2,SMALL(IF(cond2=\"o\",ROW(INDIRECT(\"1:\"&ROWS(champ2)))),ROWS($3:18))),\"\")","v":""},0,"","",{"$f":"IF(ROWS($3:18)<=COUNTIF(cond3,\"o\"),INDEX(champ3,SMALL(IF(cond3=\"o\",ROW(INDIRECT(\"1:\"&ROWS(champ3)))),ROWS($3:18))),\"\")","v":""},0,"","",{"$f":"IF(ROWS($3:18)<=COUNTIF(cond4,\"o\"),INDEX(champ4,SMALL(IF(cond4=\"o\",ROW(INDIRECT(\"1:\"&ROWS(champ4)))),ROWS($3:18))),\"\")","v":""},0,"","",{"$f":"IF(ROWS($3:18)<=COUNTIF(cond5,\"o\"),INDEX(champ5,SMALL(IF(cond5=\"o\",ROW(INDIRECT(\"1:\"&ROWS(champ5)))),ROWS($3:18))),\"\")","v":""},0,"","",{"$f":"IF(ROWS($3:18)<=COUNTIF(cond6,\"o\"),INDEX(champ6,SMALL(IF(cond6=\"o\",ROW(INDIRECT(\"1:\"&ROWS(champ6)))),ROWS($3:18))),\"\")","v":""},0,"","",{"$f":"IF(ROWS($3:18)<=COUNTIF(cond7,\"o\"),INDEX(champ7,SMALL(IF(cond7=\"o\",ROW(INDIRECT(\"1:\"&ROWS(champ7)))),ROWS($3:18))),\"\")","v":""},0,"","",{"$f":"IF(ROWS($3:18)<=COUNTIF(cond8,\"o\"),INDEX(champ8,SMALL(IF(cond8=\"o\",ROW(INDIRECT(\"1:\"&ROWS(champ8)))),ROWS($3:18))),\"\")","v":""},0,"","",{"$f":"IF(ROWS($3:18)<=COUNTIF(cond9,\"o\"),INDEX(champ9,SMALL(IF(cond9=\"o\",ROW(INDIRECT(\"1:\"&ROWS(champ9)))),ROWS($3:18))),\"\")","v":""},0,"","",{"$f":"IF(ROWS($3:18)<=COUNTIF(cond10,\"o\"),INDEX(champ10,SMALL(IF(cond10=\"o\",ROW(INDIRECT(\"1:\"&ROWS(champ10)))),ROWS($3:18))),\"\")","v":""},0,"","",{"$f":"IF(ROWS($3:18)<=COUNTIF(cond11,\"o\"),INDEX(champ11,SMALL(IF(cond11=\"o\",ROW(INDIRECT(\"1:\"&ROWS(champ11)))),ROWS($3:18))),\"\")","v":""}]
[null,null,null,null,null,null,{"$f":"IF(Indicateurs!E318=0,0,Indicateurs!H318/Indicateurs!E318*Indicateurs!F318)","v":0},"Suivi",null,null,null,null,null,null,null,null,null,null,20,0,"","",{"$f":"IF(ROWS($3:19)<=COUNTIF(cond1,\"o\"),INDEX(champ1,SMALL(IF(cond1=\"o\",ROW(INDIRECT(\"1:\"&ROWS(champ1)))),ROWS($3:19))),\"\")","v":""},0,"","",{"$f":"IF(ROWS($3:19)<=COUNTIF(cond2,\"o\"),INDEX(champ2,SMALL(IF(cond2=\"o\",ROW(INDIRECT(\"1:\"&ROWS(champ2)))),ROWS($3:19))),\"\")","v":""},0,"","",{"$f":"IF(ROWS($3:19)<=COUNTIF(cond3,\"o\"),INDEX(champ3,SMALL(IF(cond3=\"o\",ROW(INDIRECT(\"1:\"&ROWS(champ3)))),ROWS($3:19))),\"\")","v":""},0,"","",{"$f":"IF(ROWS($3:19)<=COUNTIF(cond4,\"o\"),INDEX(champ4,SMALL(IF(cond4=\"o\",ROW(INDIRECT(\"1:\"&ROWS(champ4)))),ROWS($3:19))),\"\")","v":""},0,"","",{"$f":"IF(ROWS($3:19)<=COUNTIF(cond5,\"o\"),INDEX(champ5,SMALL(IF(cond5=\"o\",ROW(INDIRECT(\"1:\"&ROWS(champ5)))),ROWS($3:19))),\"\")","v":""},0,"","",{"$f":"IF(ROWS($3:19)<=COUNTIF(cond6,\"o\"),INDEX(champ6,SMALL(IF(cond6=\"o\",ROW(INDIRECT(\"1:\"&ROWS(champ6)))),ROWS($3:19))),\"\")","v":""},0,"","",{"$f":"IF(ROWS($3:19)<=COUNTIF(cond7,\"o\"),INDEX(champ7,SMALL(IF(cond7=\"o\",ROW(INDIRECT(\"1:\"&ROWS(champ7)))),ROWS($3:19))),\"\")","v":""},0,"","",{"$f":"IF(ROWS($3:19)<=COUNTIF(cond8,\"o\"),INDEX(champ8,SMALL(IF(cond8=\"o\",ROW(INDIRECT(\"1:\"&ROWS(champ8)))),ROWS($3:19))),\"\")","v":""},0,"","",{"$f":"IF(ROWS($3:19)<=COUNTIF(cond9,\"o\"),INDEX(champ9,SMALL(IF(cond9=\"o\",ROW(INDIRECT(\"1:\"&ROWS(champ9)))),ROWS($3:19))),\"\")","v":""},0,"","",{"$f":"IF(ROWS($3:19)<=COUNTIF(cond10,\"o\"),INDEX(champ10,SMALL(IF(cond10=\"o\",ROW(INDIRECT(\"1:\"&ROWS(champ10)))),ROWS($3:19))),\"\")","v":""},0,"","",{"$f":"IF(ROWS($3:19)<=COUNTIF(cond11,\"o\"),INDEX(champ11,SMALL(IF(cond11=\"o\",ROW(INDIRECT(\"1:\"&ROWS(champ11)))),ROWS($3:19))),\"\")","v":""}]
[null,null,null,null,null,null,{"$f":"IF(Indicateurs!E343=0,0,Indicateurs!H343/Indicateurs!E343*Indicateurs!F343)","v":0},"Suivi",null,null,null,null,null,null,null,null,null,null,21,0,"","",{"$f":"IF(ROWS($3:20)<=COUNTIF(cond1,\"o\"),INDEX(champ1,SMALL(IF(cond1=\"o\",ROW(INDIRECT(\"1:\"&ROWS(champ1)))),ROWS($3:20))),\"\")","v":""},0,"","",{"$f":"IF(ROWS($3:20)<=COUNTIF(cond2,\"o\"),INDEX(champ2,SMALL(IF(cond2=\"o\",ROW(INDIRECT(\"1:\"&ROWS(champ2)))),ROWS($3:20))),\"\")","v":""},0,"","",{"$f":"IF(ROWS($3:20)<=COUNTIF(cond3,\"o\"),INDEX(champ3,SMALL(IF(cond3=\"o\",ROW(INDIRECT(\"1:\"&ROWS(champ3)))),ROWS($3:20))),\"\")","v":""},0,"","",{"$f":"IF(ROWS($3:20)<=COUNTIF(cond4,\"o\"),INDEX(champ4,SMALL(IF(cond4=\"o\",ROW(INDIRECT(\"1:\"&ROWS(champ4)))),ROWS($3:20))),\"\")","v":""},0,"","",{"$f":"IF(ROWS($3:20)<=COUNTIF(cond5,\"o\"),INDEX(champ5,SMALL(IF(cond5=\"o\",ROW(INDIRECT(\"1:\"&ROWS(champ5)))),ROWS($3:20))),\"\")","v":""},0,"","",{"$f":"IF(ROWS($3:20)<=COUNTIF(cond6,\"o\"),INDEX(champ6,SMALL(IF(cond6=\"o\",ROW(INDIRECT(\"1:\"&ROWS(champ6)))),ROWS($3:20))),\"\")","v":""},0,"","",{"$f":"IF(ROWS($3:20)<=COUNTIF(cond7,\"o\"),INDEX(champ7,SMALL(IF(cond7=\"o\",ROW(INDIRECT(\"1:\"&ROWS(champ7)))),ROWS($3:20))),\"\")","v":""},0,"","",{"$f":"IF(ROWS($3:20)<=COUNTIF(cond8,\"o\"),INDEX(champ8,SMALL(IF(cond8=\"o\",ROW(INDIRECT(\"1:\"&ROWS(champ8)))),ROWS($3:20))),\"\")","v":""},0,"","",{"$f":"IF(ROWS($3:20)<=COUNTIF(cond9,\"o\"),INDEX(champ9,SMALL(IF(cond9=\"o\",ROW(INDIRECT(\"1:\"&ROWS(champ9)))),ROWS($3:20))),\"\")","v":""},0,"","",{"$f":"IF(ROWS($3:20)<=COUNTIF(cond10,\"o\"),INDEX(champ10,SMALL(IF(cond10=\"o\",ROW(INDIRECT(\"1:\"&ROWS(champ10)))),ROWS($3:20))),\"\")","v":""},0,"","",{"$f":"IF(ROWS($3:20)<=COUNTIF(cond11,\"o\"),INDEX(champ11,SMALL(IF(cond11=\"o\",ROW(INDIRECT(\"1:\"&ROWS(champ11)))),ROWS($3:20))),\"\")","v":""}]
[null,null,null,null,null,null,{"$f":"IF(Indicateurs!E368=0,0,Indicateurs!H368/Indicateurs!E368*Indicateurs!F368)","v":0},"Suivi",null,null,null,null,null,null,null,null,null,null,22,0,"","",{"$f":"IF(ROWS($3:21)<=COUNTIF(cond1,\"o\"),INDEX(champ1,SMALL(IF(cond1=\"o\",ROW(INDIRECT(\"1:\"&ROWS(champ1)))),ROWS($3:21))),\"\")","v":""},0,"","",{"$f":"IF(ROWS($3:21)<=COUNTIF(cond2,\"o\"),INDEX(champ2,SMALL(IF(cond2=\"o\",ROW(INDIRECT(\"1:\"&ROWS(champ2)))),ROWS($3:21))),\"\")","v":""},0,"","",{"$f":"IF(ROWS($3:21)<=COUNTIF(cond3,\"o\"),INDEX(champ3,SMALL(IF(cond3=\"o\",ROW(INDIRECT(\"1:\"&ROWS(champ3)))),ROWS($3:21))),\"\")","v":""},0,"","",{"$f":"IF(ROWS($3:21)<=COUNTIF(cond4,\"o\"),INDEX(champ4,SMALL(IF(cond4=\"o\",ROW(INDIRECT(\"1:\"&ROWS(champ4)))),ROWS($3:21))),\"\")","v":""},0,"","",{"$f":"IF(ROWS($3:21)<=COUNTIF(cond5,\"o\"),INDEX(champ5,SMALL(IF(cond5=\"o\",ROW(INDIRECT(\"1:\"&ROWS(champ5)))),ROWS($3:21))),\"\")","v":""},0,"","",{"$f":"IF(ROWS($3:21)<=COUNTIF(cond6,\"o\"),INDEX(champ6,SMALL(IF(cond6=\"o\",ROW(INDIRECT(\"1:\"&ROWS(champ6)))),ROWS($3:21))),\"\")","v":""},0,"","",{"$f":"IF(ROWS($3:21)<=COUNTIF(cond7,\"o\"),INDEX(champ7,SMALL(IF(cond7=\"o\",ROW(INDIRECT(\"1:\"&ROWS(champ7)))),ROWS($3:21))),\"\")","v":""},0,"","",{"$f":"IF(ROWS($3:21)<=COUNTIF(cond8,\"o\"),INDEX(champ8,SMALL(IF(cond8=\"o\",ROW(INDIRECT(\"1:\"&ROWS(champ8)))),ROWS($3:21))),\"\")","v":""},0,"","",{"$f":"IF(ROWS($3:21)<=COUNTIF(cond9,\"o\"),INDEX(champ9,SMALL(IF(cond9=\"o\",ROW(INDIRECT(\"1:\"&ROWS(champ9)))),ROWS($3:21))),\"\")","v":""},0,"","",{"$f":"IF(ROWS($3:21)<=COUNTIF(cond10,\"o\"),INDEX(champ10,SMALL(IF(cond10=\"o\",ROW(INDIRECT(\"1:\"&ROWS(champ10)))),ROWS($3:21))),\"\")","v":""},0,"","",{"$f":"IF(ROWS($3:21)<=COUNTIF(cond11,\"o\"),INDEX(champ11,SMALL(IF(cond11=\"o\",ROW(INDIRECT(\"1:\"&ROWS(champ11)))),ROWS($3:21))),\"\")","v":""}]
[null,null,null,null,null,null,{"$f":"IF(Indicateurs!E393=0,0,Indicateurs!H393/Indicateurs!E393*Indicateurs!F393)","v":0},"Suivi",null,null,null,null,null,null,null,null,null,null,23,0,"","",{"$f":"IF(ROWS($3:22)<=COUNTIF(cond1,\"o\"),INDEX(champ1,SMALL(IF(cond1=\"o\",ROW(INDIRECT(\"1:\"&ROWS(champ1)))),ROWS($3:22))),\"\")","v":""},0,"","",{"$f":"IF(ROWS($3:22)<=COUNTIF(cond2,\"o\"),INDEX(champ2,SMALL(IF(cond2=\"o\",ROW(INDIRECT(\"1:\"&ROWS(champ2)))),ROWS($3:22))),\"\")","v":""},0,"","",{"$f":"IF(ROWS($3:22)<=COUNTIF(cond3,\"o\"),INDEX(champ3,SMALL(IF(cond3=\"o\",ROW(INDIRECT(\"1:\"&ROWS(champ3)))),ROWS($3:22))),\"\")","v":""},0,"","",{"$f":"IF(ROWS($3:22)<=COUNTIF(cond4,\"o\"),INDEX(champ4,SMALL(IF(cond4=\"o\",ROW(INDIRECT(\"1:\"&ROWS(champ4)))),ROWS($3:22))),\"\")","v":""},0,"","",{"$f":"IF(ROWS($3:22)<=COUNTIF(cond5,\"o\"),INDEX(champ5,SMALL(IF(cond5=\"o\",ROW(INDIRECT(\"1:\"&ROWS(champ5)))),ROWS($3:22))),\"\")","v":""},0,"","",{"$f":"IF(ROWS($3:22)<=COUNTIF(cond6,\"o\"),INDEX(champ6,SMALL(IF(cond6=\"o\",ROW(INDIRECT(\"1:\"&ROWS(champ6)))),ROWS($3:22))),\"\")","v":""},0,"","",{"$f":"IF(ROWS($3:22)<=COUNTIF(cond7,\"o\"),INDEX(champ7,SMALL(IF(cond7=\"o\",ROW(INDIRECT(\"1:\"&ROWS(champ7)))),ROWS($3:22))),\"\")","v":""},0,"","",{"$f":"IF(ROWS($3:22)<=COUNTIF(cond8,\"o\"),INDEX(champ8,SMALL(IF(cond8=\"o\",ROW(INDIRECT(\"1:\"&ROWS(champ8)))),ROWS($3:22))),\"\")","v":""},0,"","",{"$f":"IF(ROWS($3:22)<=COUNTIF(cond9,\"o\"),INDEX(champ9,SMALL(IF(cond9=\"o\",ROW(INDIRECT(\"1:\"&ROWS(champ9)))),ROWS($3:22))),\"\")","v":""},0,"","",{"$f":"IF(ROWS($3:22)<=COUNTIF(cond10,\"o\"),INDEX(champ10,SMALL(IF(cond10=\"o\",ROW(INDIRECT(\"1:\"&ROWS(champ10)))),ROWS($3:22))),\"\")","v":""},0,"","",{"$f":"IF(ROWS($3:22)<=COUNTIF(cond11,\"o\"),INDEX(champ11,SMALL(IF(cond11=\"o\",ROW(INDIRECT(\"1:\"&ROWS(champ11)))),ROWS($3:22))),\"\")","v":""}]
[null,null,null,null,null,null,{"$f":"IF(Indicateurs!E418=0,0,Indicateurs!H418/Indicateurs!E418*Indicateurs!F418)","v":0},"Suivi",null,null,null,null,null,null,null,null,null,null,24,0,"","",{"$f":"IF(ROWS($3:23)<=COUNTIF(cond1,\"o\"),INDEX(champ1,SMALL(IF(cond1=\"o\",ROW(INDIRECT(\"1:\"&ROWS(champ1)))),ROWS($3:23))),\"\")","v":""},0,"","",{"$f":"IF(ROWS($3:23)<=COUNTIF(cond2,\"o\"),INDEX(champ2,SMALL(IF(cond2=\"o\",ROW(INDIRECT(\"1:\"&ROWS(champ2)))),ROWS($3:23))),\"\")","v":""},0,"","",{"$f":"IF(ROWS($3:23)<=COUNTIF(cond3,\"o\"),INDEX(champ3,SMALL(IF(cond3=\"o\",ROW(INDIRECT(\"1:\"&ROWS(champ3)))),ROWS($3:23))),\"\")","v":""},0,"","",{"$f":"IF(ROWS($3:23)<=COUNTIF(cond4,\"o\"),INDEX(champ4,SMALL(IF(cond4=\"o\",ROW(INDIRECT(\"1:\"&ROWS(champ4)))),ROWS($3:23))),\"\")","v":""},0,"","",{"$f":"IF(ROWS($3:23)<=COUNTIF(cond5,\"o\"),INDEX(champ5,SMALL(IF(cond5=\"o\",ROW(INDIRECT(\"1:\"&ROWS(champ5)))),ROWS($3:23))),\"\")","v":""},0,"","",{"$f":"IF(ROWS($3:23)<=COUNTIF(cond6,\"o\"),INDEX(champ6,SMALL(IF(cond6=\"o\",ROW(INDIRECT(\"1:\"&ROWS(champ6)))),ROWS($3:23))),\"\")","v":""},0,"","",{"$f":"IF(ROWS($3:23)<=COUNTIF(cond7,\"o\"),INDEX(champ7,SMALL(IF(cond7=\"o\",ROW(INDIRECT(\"1:\"&ROWS(champ7)))),ROWS($3:23))),\"\")","v":""},0,"","",{"$f":"IF(ROWS($3:23)<=COUNTIF(cond8,\"o\"),INDEX(champ8,SMALL(IF(cond8=\"o\",ROW(INDIRECT(\"1:\"&ROWS(champ8)))),ROWS($3:23))),\"\")","v":""},0,"","",{"$f":"IF(ROWS($3:23)<=COUNTIF(cond9,\"o\"),INDEX(champ9,SMALL(IF(cond9=\"o\",ROW(INDIRECT(\"1:\"&ROWS(champ9)))),ROWS($3:23))),\"\")","v":""},0,"","",{"$f":"IF(ROWS($3:23)<=COUNTIF(cond10,\"o\"),INDEX(champ10,SMALL(IF(cond10=\"o\",ROW(INDIRECT(\"1:\"&ROWS(champ10)))),ROWS($3:23))),\"\")","v":""},0,"","",{"$f":"IF(ROWS($3:23)<=COUNTIF(cond11,\"o\"),INDEX(champ11,SMALL(IF(cond11=\"o\",ROW(INDIRECT(\"1:\"&ROWS(champ11)))),ROWS($3:23))),\"\")","v":""}]
[null,null,null,null,null,null,{"$f":"IF(Indicateurs!E443=0,0,Indicateurs!H443/Indicateurs!E443*Indicateurs!F443)","v":0},"Suivi",null,null,null,null,null,null,null,null,null,null,25,0,"","",{"$f":"IF(ROWS($3:24)<=COUNTIF(cond1,\"o\"),INDEX(champ1,SMALL(IF(cond1=\"o\",ROW(INDIRECT(\"1:\"&ROWS(champ1)))),ROWS($3:24))),\"\")","v":""},0,"","",{"$f":"IF(ROWS($3:24)<=COUNTIF(cond2,\"o\"),INDEX(champ2,SMALL(IF(cond2=\"o\",ROW(INDIRECT(\"1:\"&ROWS(champ2)))),ROWS($3:24))),\"\")","v":""},0,"","",{"$f":"IF(ROWS($3:24)<=COUNTIF(cond3,\"o\"),INDEX(champ3,SMALL(IF(cond3=\"o\",ROW(INDIRECT(\"1:\"&ROWS(champ3)))),ROWS($3:24))),\"\")","v":""},0,"","",{"$f":"IF(ROWS($3:24)<=COUNTIF(cond4,\"o\"),INDEX(champ4,SMALL(IF(cond4=\"o\",ROW(INDIRECT(\"1:\"&ROWS(champ4)))),ROWS($3:24))),\"\")","v":""},0,"","",{"$f":"IF(ROWS($3:24)<=COUNTIF(cond5,\"o\"),INDEX(champ5,SMALL(IF(cond5=\"o\",ROW(INDIRECT(\"1:\"&ROWS(champ5)))),ROWS($3:24))),\"\")","v":""},0,"","",{"$f":"IF(ROWS($3:24)<=COUNTIF(cond6,\"o\"),INDEX(champ6,SMALL(IF(cond6=\"o\",ROW(INDIRECT(\"1:\"&ROWS(champ6)))),ROWS($3:24))),\"\")","v":""},0,"","",{"$f":"IF(ROWS($3:24)<=COUNTIF(cond7,\"o\"),INDEX(champ7,SMALL(IF(cond7=\"o\",ROW(INDIRECT(\"1:\"&ROWS(champ7)))),ROWS($3:24))),\"\")","v":""},0,"","",{"$f":"IF(ROWS($3:24)<=COUNTIF(cond8,\"o\"),INDEX(champ8,SMALL(IF(cond8=\"o\",ROW(INDIRECT(\"1:\"&ROWS(champ8)))),ROWS($3:24))),\"\")","v":""},0,"","",{"$f":"IF(ROWS($3:24)<=COUNTIF(cond9,\"o\"),INDEX(champ9,SMALL(IF(cond9=\"o\",ROW(INDIRECT(\"1:\"&ROWS(champ9)))),ROWS($3:24))),\"\")","v":""},0,"","",{"$f":"IF(ROWS($3:24)<=COUNTIF(cond10,\"o\"),INDEX(champ10,SMALL(IF(cond10=\"o\",ROW(INDIRECT(\"1:\"&ROWS(champ10)))),ROWS($3:24))),\"\")","v":""},0,"","",{"$f":"IF(ROWS($3:24)<=COUNTIF(cond11,\"o\"),INDEX(champ11,SMALL(IF(cond11=\"o\",ROW(INDIRECT(\"1:\"&ROWS(champ11)))),ROWS($3:24))),\"\")","v":""}]
[null,null,null,null,null,null,{"$f":"IF(Indicateurs!E468=0,0,Indicateurs!H468/Indicateurs!E468*Indicateurs!F468)","v":0},"Suivi",null,null,null,null,null,null,null,null,null,null,26,0,"","",{"$f":"IF(ROWS($3:25)<=COUNTIF(cond1,\"o\"),INDEX(champ1,SMALL(IF(cond1=\"o\",ROW(INDIRECT(\"1:\"&ROWS(champ1)))),ROWS($3:25))),\"\")","v":""},0,"","",{"$f":"IF(ROWS($3:25)<=COUNTIF(cond2,\"o\"),INDEX(champ2,SMALL(IF(cond2=\"o\",ROW(INDIRECT(\"1:\"&ROWS(champ2)))),ROWS($3:25))),\"\")","v":""},0,"","",{"$f":"IF(ROWS($3:25)<=COUNTIF(cond3,\"o\"),INDEX(champ3,SMALL(IF(cond3=\"o\",ROW(INDIRECT(\"1:\"&ROWS(champ3)))),ROWS($3:25))),\"\")","v":""},0,"","",{"$f":"IF(ROWS($3:25)<=COUNTIF(cond4,\"o\"),INDEX(champ4,SMALL(IF(cond4=\"o\",ROW(INDIRECT(\"1:\"&ROWS(champ4)))),ROWS($3:25))),\"\")","v":""},0,"","",{"$f":"IF(ROWS($3:25)<=COUNTIF(cond5,\"o\"),INDEX(champ5,SMALL(IF(cond5=\"o\",ROW(INDIRECT(\"1:\"&ROWS(champ5)))),ROWS($3:25))),\"\")","v":""},0,"","",{"$f":"IF(ROWS($3:25)<=COUNTIF(cond6,\"o\"),INDEX(champ6,SMALL(IF(cond6=\"o\",ROW(INDIRECT(\"1:\"&ROWS(champ6)))),ROWS($3:25))),\"\")","v":""},0,"","",{"$f":"IF(ROWS($3:25)<=COUNTIF(cond7,\"o\"),INDEX(champ7,SMALL(IF(cond7=\"o\",ROW(INDIRECT(\"1:\"&ROWS(champ7)))),ROWS($3:25))),\"\")","v":""},0,"","",{"$f":"IF(ROWS($3:25)<=COUNTIF(cond8,\"o\"),INDEX(champ8,SMALL(IF(cond8=\"o\",ROW(INDIRECT(\"1:\"&ROWS(champ8)))),ROWS($3:25))),\"\")","v":""},0,"","",{"$f":"IF(ROWS($3:25)<=COUNTIF(cond9,\"o\"),INDEX(champ9,SMALL(IF(cond9=\"o\",ROW(INDIRECT(\"1:\"&ROWS(champ9)))),ROWS($3:25))),\"\")","v":""},0,"","",{"$f":"IF(ROWS($3:25)<=COUNTIF(cond10,\"o\"),INDEX(champ10,SMALL(IF(cond10=\"o\",ROW(INDIRECT(\"1:\"&ROWS(champ10)))),ROWS($3:25))),\"\")","v":""},0,"","",{"$f":"IF(ROWS($3:25)<=COUNTIF(cond11,\"o\"),INDEX(champ11,SMALL(IF(cond11=\"o\",ROW(INDIRECT(\"1:\"&ROWS(champ11)))),ROWS($3:25))),\"\")","v":""}]
[null,null,null,null,null,null,{"$f":"IF(Indicateurs!E493=0,0,Indicateurs!H493/Indicateurs!E493*Indicateurs!F493)","v":0},"Suivi",null,null,null,null,null,null,null,null,null,null,27,0,"","",{"$f":"IF(ROWS($3:26)<=COUNTIF(cond1,\"o\"),INDEX(champ1,SMALL(IF(cond1=\"o\",ROW(INDIRECT(\"1:\"&ROWS(champ1)))),ROWS($3:26))),\"\")","v":""},0,"","",{"$f":"IF(ROWS($3:26)<=COUNTIF(cond2,\"o\"),INDEX(champ2,SMALL(IF(cond2=\"o\",ROW(INDIRECT(\"1:\"&ROWS(champ2)))),ROWS($3:26))),\"\")","v":""},0,"","",{"$f":"IF(ROWS($3:26)<=COUNTIF(cond3,\"o\"),INDEX(champ3,SMALL(IF(cond3=\"o\",ROW(INDIRECT(\"1:\"&ROWS(champ3)))),ROWS($3:26))),\"\")","v":""},0,"","",{"$f":"IF(ROWS($3:26)<=COUNTIF(cond4,\"o\"),INDEX(champ4,SMALL(IF(cond4=\"o\",ROW(INDIRECT(\"1:\"&ROWS(champ4)))),ROWS($3:26))),\"\")","v":""},0,"","",{"$f":"IF(ROWS($3:26)<=COUNTIF(cond5,\"o\"),INDEX(champ5,SMALL(IF(cond5=\"o\",ROW(INDIRECT(\"1:\"&ROWS(champ5)))),ROWS($3:26))),\"\")","v":""},0,"","",{"$f":"IF(ROWS($3:26)<=COUNTIF(cond6,\"o\"),INDEX(champ6,SMALL(IF(cond6=\"o\",ROW(INDIRECT(\"1:\"&ROWS(champ6)))),ROWS($3:26))),\"\")","v":""},0,"","",{"$f":"IF(ROWS($3:26)<=COUNTIF(cond7,\"o\"),INDEX(champ7,SMALL(IF(cond7=\"o\",ROW(INDIRECT(\"1:\"&ROWS(champ7)))),ROWS($3:26))),\"\")","v":""},0,"","",{"$f":"IF(ROWS($3:26)<=COUNTIF(cond8,\"o\"),INDEX(champ8,SMALL(IF(cond8=\"o\",ROW(INDIRECT(\"1:\"&ROWS(champ8)))),ROWS($3:26))),\"\")","v":""},0,"","",{"$f":"IF(ROWS($3:26)<=COUNTIF(cond9,\"o\"),INDEX(champ9,SMALL(IF(cond9=\"o\",ROW(INDIRECT(\"1:\"&ROWS(champ9)))),ROWS($3:26))),\"\")","v":""},0,"","",{"$f":"IF(ROWS($3:26)<=COUNTIF(cond10,\"o\"),INDEX(champ10,SMALL(IF(cond10=\"o\",ROW(INDIRECT(\"1:\"&ROWS(champ10)))),ROWS($3:26))),\"\")","v":""},0,"","",{"$f":"IF(ROWS($3:26)<=COUNTIF(cond11,\"o\"),INDEX(champ11,SMALL(IF(cond11=\"o\",ROW(INDIRECT(\"1:\"&ROWS(champ11)))),ROWS($3:26))),\"\")","v":""}]
[null,"Total",null,null,{"$f":"SUM(E8:E27)","v":0},{"$f":"SUM(F8:F27)","v":0},null,null,null,null,null,null,null,null,null,null,null,null,28,0,"","",{"$f":"IF(ROWS($3:27)<=COUNTIF(cond1,\"o\"),INDEX(champ1,SMALL(IF(cond1=\"o\",ROW(INDIRECT(\"1:\"&ROWS(champ1)))),ROWS($3:27))),\"\")","v":""},0,"","",{"$f":"IF(ROWS($3:27)<=COUNTIF(cond2,\"o\"),INDEX(champ2,SMALL(IF(cond2=\"o\",ROW(INDIRECT(\"1:\"&ROWS(champ2)))),ROWS($3:27))),\"\")","v":""},0,"","",{"$f":"IF(ROWS($3:27)<=COUNTIF(cond3,\"o\"),INDEX(champ3,SMALL(IF(cond3=\"o\",ROW(INDIRECT(\"1:\"&ROWS(champ3)))),ROWS($3:27))),\"\")","v":""},0,"","",{"$f":"IF(ROWS($3:27)<=COUNTIF(cond4,\"o\"),INDEX(champ4,SMALL(IF(cond4=\"o\",ROW(INDIRECT(\"1:\"&ROWS(champ4)))),ROWS($3:27))),\"\")","v":""},0,"","",{"$f":"IF(ROWS($3:27)<=COUNTIF(cond5,\"o\"),INDEX(champ5,SMALL(IF(cond5=\"o\",ROW(INDIRECT(\"1:\"&ROWS(champ5)))),ROWS($3:27))),\"\")","v":""},0,"","",{"$f":"IF(ROWS($3:27)<=COUNTIF(cond6,\"o\"),INDEX(champ6,SMALL(IF(cond6=\"o\",ROW(INDIRECT(\"1:\"&ROWS(champ6)))),ROWS($3:27))),\"\")","v":""},0,"","",{"$f":"IF(ROWS($3:27)<=COUNTIF(cond7,\"o\"),INDEX(champ7,SMALL(IF(cond7=\"o\",ROW(INDIRECT(\"1:\"&ROWS(champ7)))),ROWS($3:27))),\"\")","v":""},0,"","",{"$f":"IF(ROWS($3:27)<=COUNTIF(cond8,\"o\"),INDEX(champ8,SMALL(IF(cond8=\"o\",ROW(INDIRECT(\"1:\"&ROWS(champ8)))),ROWS($3:27))),\"\")","v":""},0,"","",{"$f":"IF(ROWS($3:27)<=COUNTIF(cond9,\"o\"),INDEX(champ9,SMALL(IF(cond9=\"o\",ROW(INDIRECT(\"1:\"&ROWS(champ9)))),ROWS($3:27))),\"\")","v":""},0,"","",{"$f":"IF(ROWS($3:27)<=COUNTIF(cond10,\"o\"),INDEX(champ10,SMALL(IF(cond10=\"o\",ROW(INDIRECT(\"1:\"&ROWS(champ10)))),ROWS($3:27))),\"\")","v":""},0,"","",{"$f":"IF(ROWS($3:27)<=COUNTIF(cond11,\"o\"),INDEX(champ11,SMALL(IF(cond11=\"o\",ROW(INDIRECT(\"1:\"&ROWS(champ11)))),ROWS($3:27))),\"\")","v":""}]
[null,null,null,null,null,null,null,null,null,null,null,null,null,null,null,null,null,null,29,0,"","",{"$f":"IF(ROWS($3:28)<=COUNTIF(cond1,\"o\"),INDEX(champ1,SMALL(IF(cond1=\"o\",ROW(INDIRECT(\"1:\"&ROWS(champ1)))),ROWS($3:28))),\"\")","v":""},0,"","",{"$f":"IF(ROWS($3:28)<=COUNTIF(cond2,\"o\"),INDEX(champ2,SMALL(IF(cond2=\"o\",ROW(INDIRECT(\"1:\"&ROWS(champ2)))),ROWS($3:28))),\"\")","v":""},0,"","",{"$f":"IF(ROWS($3:28)<=COUNTIF(cond3,\"o\"),INDEX(champ3,SMALL(IF(cond3=\"o\",ROW(INDIRECT(\"1:\"&ROWS(champ3)))),ROWS($3:28))),\"\")","v":""},0,"","",{"$f":"IF(ROWS($3:28)<=COUNTIF(cond4,\"o\"),INDEX(champ4,SMALL(IF(cond4=\"o\",ROW(INDIRECT(\"1:\"&ROWS(champ4)))),ROWS($3:28))),\"\")","v":""},0,"","",{"$f":"IF(ROWS($3:28)<=COUNTIF(cond5,\"o\"),INDEX(champ5,SMALL(IF(cond5=\"o\",ROW(INDIRECT(\"1:\"&ROWS(champ5)))),ROWS($3:28))),\"\")","v":""},0,"","",{"$f":"IF(ROWS($3:28)<=COUNTIF(cond6,\"o\"),INDEX(champ6,SMALL(IF(cond6=\"o\",ROW(INDIRECT(\"1:\"&ROWS(champ6)))),ROWS($3:28))),\"\")","v":""},0,"","",{"$f":"IF(ROWS($3:28)<=COUNTIF(cond7,\"o\"),INDEX(champ7,SMALL(IF(cond7=\"o\",ROW(INDIRECT(\"1:\"&ROWS(champ7)))),ROWS($3:28))),\"\")","v":""},0,"","",{"$f":"IF(ROWS($3:28)<=COUNTIF(cond8,\"o\"),INDEX(champ8,SMALL(IF(cond8=\"o\",ROW(INDIRECT(\"1:\"&ROWS(champ8)))),ROWS($3:28))),\"\")","v":""},0,"","",{"$f":"IF(ROWS($3:28)<=COUNTIF(cond9,\"o\"),INDEX(champ9,SMALL(IF(cond9=\"o\",ROW(INDIRECT(\"1:\"&ROWS(champ9)))),ROWS($3:28))),\"\")","v":""},0,"","",{"$f":"IF(ROWS($3:28)<=COUNTIF(cond10,\"o\"),INDEX(champ10,SMALL(IF(cond10=\"o\",ROW(INDIRECT(\"1:\"&ROWS(champ10)))),ROWS($3:28))),\"\")","v":""},0,"","",{"$f":"IF(ROWS($3:28)<=COUNTIF(cond11,\"o\"),INDEX(champ11,SMALL(IF(cond11=\"o\",ROW(INDIRECT(\"1:\"&ROWS(champ11)))),ROWS($3:28))),\"\")","v":""}]
["Production renouvelable","Filière","Objectif",null,"Productible (GWh/an)","Réduction des émissions (tCO2éq/an)","Etat d'avancement","Patrimoine communal?",null,null,null,null,null,null,null,null,null,null,30,0,"","",{"$f":"IF(ROWS($3:29)<=COUNTIF(cond1,\"o\"),INDEX(champ1,SMALL(IF(cond1=\"o\",ROW(INDIRECT(\"1:\"&ROWS(champ1)))),ROWS($3:29))),\"\")","v":""},0,"","",{"$f":"IF(ROWS($3:29)<=COUNTIF(cond2,\"o\"),INDEX(champ2,SMALL(IF(cond2=\"o\",ROW(INDIRECT(\"1:\"&ROWS(champ2)))),ROWS($3:29))),\"\")","v":""},0,"","",{"$f":"IF(ROWS($3:29)<=COUNTIF(cond3,\"o\"),INDEX(champ3,SMALL(IF(cond3=\"o\",ROW(INDIRECT(\"1:\"&ROWS(champ3)))),ROWS($3:29))),\"\")","v":""},0,"","",{"$f":"IF(ROWS($3:29)<=COUNTIF(cond4,\"o\"),INDEX(champ4,SMALL(IF(cond4=\"o\",ROW(INDIRECT(\"1:\"&ROWS(champ4)))),ROWS($3:29))),\"\")","v":""},0,"","",{"$f":"IF(ROWS($3:29)<=COUNTIF(cond5,\"o\"),INDEX(champ5,SMALL(IF(cond5=\"o\",ROW(INDIRECT(\"1:\"&ROWS(champ5)))),ROWS($3:29))),\"\")","v":""},0,"","",{"$f":"IF(ROWS($3:29)<=COUNTIF(cond6,\"o\"),INDEX(champ6,SMALL(IF(cond6=\"o\",ROW(INDIRECT(\"1:\"&ROWS(champ6)))),ROWS($3:29))),\"\")","v":""},0,"","",{"$f":"IF(ROWS($3:29)<=COUNTIF(cond7,\"o\"),INDEX(champ7,SMALL(IF(cond7=\"o\",ROW(INDIRECT(\"1:\"&ROWS(champ7)))),ROWS($3:29))),\"\")","v":""},0,"","",{"$f":"IF(ROWS($3:29)<=COUNTIF(cond8,\"o\"),INDEX(champ8,SMALL(IF(cond8=\"o\",ROW(INDIRECT(\"1:\"&ROWS(champ8)))),ROWS($3:29))),\"\")","v":""},0,"","",{"$f":"IF(ROWS($3:29)<=COUNTIF(cond9,\"o\"),INDEX(champ9,SMALL(IF(cond9=\"o\",ROW(INDIRECT(\"1:\"&ROWS(champ9)))),ROWS($3:29))),\"\")","v":""},0,"","",{"$f":"IF(ROWS($3:29)<=COUNTIF(cond10,\"o\"),INDEX(champ10,SMALL(IF(cond10=\"o\",ROW(INDIRECT(\"1:\"&ROWS(champ10)))),ROWS($3:29))),\"\")","v":""},0,"","",{"$f":"IF(ROWS($3:29)<=COUNTIF(cond11,\"o\"),INDEX(champ11,SMALL(IF(cond11=\"o\",ROW(INDIRECT(\"1:\"&ROWS(champ11)))),ROWS($3:29))),\"\")","v":""}]
[null,null,"Production de chaleur",null,{"$f":"Indicateurs!C504","v":0},{"$f":"Indicateurs!E518","v":0},{"$f":"IF(Indicateurs!E518=0,0,Indicateurs!H518/Indicateurs!E518)","v":0},null,"Suivi",null,null,null,null,null,null,null,null,null,31,0,"","",{"$f":"IF(ROWS($3:30)<=COUNTIF(cond1,\"o\"),INDEX(champ1,SMALL(IF(cond1=\"o\",ROW(INDIRECT(\"1:\"&ROWS(champ1)))),ROWS($3:30))),\"\")","v":""},0,"","",{"$f":"IF(ROWS($3:30)<=COUNTIF(cond2,\"o\"),INDEX(champ2,SMALL(IF(cond2=\"o\",ROW(INDIRECT(\"1:\"&ROWS(champ2)))),ROWS($3:30))),\"\")","v":""},0,"","",{"$f":"IF(ROWS($3:30)<=COUNTIF(cond3,\"o\"),INDEX(champ3,SMALL(IF(cond3=\"o\",ROW(INDIRECT(\"1:\"&ROWS(champ3)))),ROWS($3:30))),\"\")","v":""},0,"","",{"$f":"IF(ROWS($3:30)<=COUNTIF(cond4,\"o\"),INDEX(champ4,SMALL(IF(cond4=\"o\",ROW(INDIRECT(\"1:\"&ROWS(champ4)))),ROWS($3:30))),\"\")","v":""},0,"","",{"$f":"IF(ROWS($3:30)<=COUNTIF(cond5,\"o\"),INDEX(champ5,SMALL(IF(cond5=\"o\",ROW(INDIRECT(\"1:\"&ROWS(champ5)))),ROWS($3:30))),\"\")","v":""},0,"","",{"$f":"IF(ROWS($3:30)<=COUNTIF(cond6,\"o\"),INDEX(champ6,SMALL(IF(cond6=\"o\",ROW(INDIRECT(\"1:\"&ROWS(champ6)))),ROWS($3:30))),\"\")","v":""},0,"","",{"$f":"IF(ROWS($3:30)<=COUNTIF(cond7,\"o\"),INDEX(champ7,SMALL(IF(cond7=\"o\",ROW(INDIRECT(\"1:\"&ROWS(champ7)))),ROWS($3:30))),\"\")","v":""},0,"","",{"$f":"IF(ROWS($3:30)<=COUNTIF(cond8,\"o\"),INDEX(champ8,SMALL(IF(cond8=\"o\",ROW(INDIRECT(\"1:\"&ROWS(champ8)))),ROWS($3:30))),\"\")","v":""},0,"","",{"$f":"IF(ROWS($3:30)<=COUNTIF(cond9,\"o\"),INDEX(champ9,SMALL(IF(cond9=\"o\",ROW(INDIRECT(\"1:\"&ROWS(champ9)))),ROWS($3:30))),\"\")","v":""},0,"","",{"$f":"IF(ROWS($3:30)<=COUNTIF(cond10,\"o\"),INDEX(champ10,SMALL(IF(cond10=\"o\",ROW(INDIRECT(\"1:\"&ROWS(champ10)))),ROWS($3:30))),\"\")","v":""},0,"","",{"$f":"IF(ROWS($3:30)<=COUNTIF(cond11,\"o\"),INDEX(champ11,SMALL(IF(cond11=\"o\",ROW(INDIRECT(\"1:\"&ROWS(champ11)))),ROWS($3:30))),\"\")","v":""}]
[null,null,"Production d'électricité",null,{"$f":"Indicateurs!C529","v":0},{"$f":"Indicateurs!C530","v":0},{"$f":"IF(Indicateurs!E543=0,0,Indicateurs!H543/Indicateurs!E543)","v":0},null,"Suivi",null,null,null,null,null,null,null,null,null,32,0,"","",{"$f":"IF(ROWS($3:31)<=COUNTIF(cond1,\"o\"),INDEX(champ1,SMALL(IF(cond1=\"o\",ROW(INDIRECT(\"1:\"&ROWS(champ1)))),ROWS($3:31))),\"\")","v":""},0,"","",{"$f":"IF(ROWS($3:31)<=COUNTIF(cond2,\"o\"),INDEX(champ2,SMALL(IF(cond2=\"o\",ROW(INDIRECT(\"1:\"&ROWS(champ2)))),ROWS($3:31))),\"\")","v":""},0,"","",{"$f":"IF(ROWS($3:31)<=COUNTIF(cond3,\"o\"),INDEX(champ3,SMALL(IF(cond3=\"o\",ROW(INDIRECT(\"1:\"&ROWS(champ3)))),ROWS($3:31))),\"\")","v":""},0,"","",{"$f":"IF(ROWS($3:31)<=COUNTIF(cond4,\"o\"),INDEX(champ4,SMALL(IF(cond4=\"o\",ROW(INDIRECT(\"1:\"&ROWS(champ4)))),ROWS($3:31))),\"\")","v":""},0,"","",{"$f":"IF(ROWS($3:31)<=COUNTIF(cond5,\"o\"),INDEX(champ5,SMALL(IF(cond5=\"o\",ROW(INDIRECT(\"1:\"&ROWS(champ5)))),ROWS($3:31))),\"\")","v":""},0,"","",{"$f":"IF(ROWS($3:31)<=COUNTIF(cond6,\"o\"),INDEX(champ6,SMALL(IF(cond6=\"o\",ROW(INDIRECT(\"1:\"&ROWS(champ6)))),ROWS($3:31))),\"\")","v":""},0,"","",{"$f":"IF(ROWS($3:31)<=COUNTIF(cond7,\"o\"),INDEX(champ7,SMALL(IF(cond7=\"o\",ROW(INDIRECT(\"1:\"&ROWS(champ7)))),ROWS($3:31))),\"\")","v":""},0,"","",{"$f":"IF(ROWS($3:31)<=COUNTIF(cond8,\"o\"),INDEX(champ8,SMALL(IF(cond8=\"o\",ROW(INDIRECT(\"1:\"&ROWS(champ8)))),ROWS($3:31))),\"\")","v":""},0,"","",{"$f":"IF(ROWS($3:31)<=COUNTIF(cond9,\"o\"),INDEX(champ9,SMALL(IF(cond9=\"o\",ROW(INDIRECT(\"1:\"&ROWS(champ9)))),ROWS($3:31))),\"\")","v":""},0,"","",{"$f":"IF(ROWS($3:31)<=COUNTIF(cond10,\"o\"),INDEX(champ10,SMALL(IF(cond10=\"o\",ROW(INDIRECT(\"1:\"&ROWS(champ10)))),ROWS($3:31))),\"\")","v":""},0,"","",{"$f":"IF(ROWS($3:31)<=COUNTIF(cond11,\"o\"),INDEX(champ11,SMALL(IF(cond11=\"o\",ROW(INDIRECT(\"1:\"&ROWS(champ11)))),ROWS($3:31))),\"\")","v":""}]
[null,null,"Cogénération",null,{"$f":"Indicateurs!C554","v":0},{"$f":"Indicateurs!C555","v":0},{"$f":"IF(Indicateurs!E568=0,0,Indicateurs!H568/Indicateurs!E568)","v":0},null,"Suivi",null,null,null,null,null,null,null,null,null,33,0,"","",{"$f":"IF(ROWS($3:32)<=COUNTIF(cond1,\"o\"),INDEX(champ1,SMALL(IF(cond1=\"o\",ROW(INDIRECT(\"1:\"&ROWS(champ1)))),ROWS($3:32))),\"\")","v":""},0,"","",{"$f":"IF(ROWS($3:32)<=COUNTIF(cond2,\"o\"),INDEX(champ2,SMALL(IF(cond2=\"o\",ROW(INDIRECT(\"1:\"&ROWS(champ2)))),ROWS($3:32))),\"\")","v":""},0,"","",{"$f":"IF(ROWS($3:32)<=COUNTIF(cond3,\"o\"),INDEX(champ3,SMALL(IF(cond3=\"o\",ROW(INDIRECT(\"1:\"&ROWS(champ3)))),ROWS($3:32))),\"\")","v":""},0,"","",{"$f":"IF(ROWS($3:32)<=COUNTIF(cond4,\"o\"),INDEX(champ4,SMALL(IF(cond4=\"o\",ROW(INDIRECT(\"1:\"&ROWS(champ4)))),ROWS($3:32))),\"\")","v":""},0,"","",{"$f":"IF(ROWS($3:32)<=COUNTIF(cond5,\"o\"),INDEX(champ5,SMALL(IF(cond5=\"o\",ROW(INDIRECT(\"1:\"&ROWS(champ5)))),ROWS($3:32))),\"\")","v":""},0,"","",{"$f":"IF(ROWS($3:32)<=COUNTIF(cond6,\"o\"),INDEX(champ6,SMALL(IF(cond6=\"o\",ROW(INDIRECT(\"1:\"&ROWS(champ6)))),ROWS($3:32))),\"\")","v":""},0,"","",{"$f":"IF(ROWS($3:32)<=COUNTIF(cond7,\"o\"),INDEX(champ7,SMALL(IF(cond7=\"o\",ROW(INDIRECT(\"1:\"&ROWS(champ7)))),ROWS($3:32))),\"\")","v":""},0,"","",{"$f":"IF(ROWS($3:32)<=COUNTIF(cond8,\"o\"),INDEX(champ8,SMALL(IF(cond8=\"o\",ROW(INDIRECT(\"1:\"&ROWS(champ8)))),ROWS($3:32))),\"\")","v":""},0,"","",{"$f":"IF(ROWS($3:32)<=COUNTIF(cond9,\"o\"),INDEX(champ9,SMALL(IF(cond9=\"o\",ROW(INDIRECT(\"1:\"&ROWS(champ9)))),ROWS($3:32))),\"\")","v":""},0,"","",{"$f":"IF(ROWS($3:32)<=COUNTIF(cond10,\"o\"),INDEX(champ10,SMALL(IF(cond10=\"o\",ROW(INDIRECT(\"1:\"&ROWS(champ10)))),ROWS($3:32))),\"\")","v":""},0,"","",{"$f":"IF(ROWS($3:32)<=COUNTIF(cond11,\"o\"),INDEX(champ11,SMALL(IF(cond11=\"o\",ROW(INDIRECT(\"1:\"&ROWS(champ11)))),ROWS($3:32))),\"\")","v":""}]
[null,null,null,null,null,null,{"$f":"IF(Indicateurs!E594=0,0,Indicateurs!H594/Indicateurs!E594)","v":0},null,"Suivi",null,null,null,null,null,null,null,null,null,34,0,"","",{"$f":"IF(ROWS($3:33)<=COUNTIF(cond1,\"o\"),INDEX(champ1,SMALL(IF(cond1=\"o\",ROW(INDIRECT(\"1:\"&ROWS(champ1)))),ROWS($3:33))),\"\")","v":""},0,"","",{"$f":"IF(ROWS($3:33)<=COUNTIF(cond2,\"o\"),INDEX(champ2,SMALL(IF(cond2=\"o\",ROW(INDIRECT(\"1:\"&ROWS(champ2)))),ROWS($3:33))),\"\")","v":""},0,"","",{"$f":"IF(ROWS($3:33)<=COUNTIF(cond3,\"o\"),INDEX(champ3,SMALL(IF(cond3=\"o\",ROW(INDIRECT(\"1:\"&ROWS(champ3)))),ROWS($3:33))),\"\")","v":""},0,"","",{"$f":"IF(ROWS($3:33)<=COUNTIF(cond4,\"o\"),INDEX(champ4,SMALL(IF(cond4=\"o\",ROW(INDIRECT(\"1:\"&ROWS(champ4)))),ROWS($3:33))),\"\")","v":""},0,"","",{"$f":"IF(ROWS($3:33)<=COUNTIF(cond5,\"o\"),INDEX(champ5,SMALL(IF(cond5=\"o\",ROW(INDIRECT(\"1:\"&ROWS(champ5)))),ROWS($3:33))),\"\")","v":""},0,"","",{"$f":"IF(ROWS($3:33)<=COUNTIF(cond6,\"o\"),INDEX(champ6,SMALL(IF(cond6=\"o\",ROW(INDIRECT(\"1:\"&ROWS(champ6)))),ROWS($3:33))),\"\")","v":""},0,"","",{"$f":"IF(ROWS($3:33)<=COUNTIF(cond7,\"o\"),INDEX(champ7,SMALL(IF(cond7=\"o\",ROW(INDIRECT(\"1:\"&ROWS(champ7)))),ROWS($3:33))),\"\")","v":""},0,"","",{"$f":"IF(ROWS($3:33)<=COUNTIF(cond8,\"o\"),INDEX(champ8,SMALL(IF(cond8=\"o\",ROW(INDIRECT(\"1:\"&ROWS(champ8)))),ROWS($3:33))),\"\")","v":""},0,"","",{"$f":"IF(ROWS($3:33)<=COUNTIF(cond9,\"o\"),INDEX(champ9,SMALL(IF(cond9=\"o\",ROW(INDIRECT(\"1:\"&ROWS(champ9)))),ROWS($3:33))),\"\")","v":""},0,"","",{"$f":"IF(ROWS($3:33)<=COUNTIF(cond10,\"o\"),INDEX(champ10,SMALL(IF(cond10=\"o\",ROW(INDIRECT(\"1:\"&ROWS(champ10)))),ROWS($3:33))),\"\")","v":""},0,"","",{"$f":"IF(ROWS($3:33)<=COUNTIF(cond11,\"o\"),INDEX(champ11,SMALL(IF(cond11=\"o\",ROW(INDIRECT(\"1:\"&ROWS(champ11)))),ROWS($3:33))),\"\")","v":""}]
[null,null,null,null,null,null,{"$f":"IF(Indicateurs!E618=0,0,Indicateurs!H618/Indicateurs!E618)","v":0},null,"Suivi",null,null,null,null,null,null,null,null,null,35,0,"","",{"$f":"IF(ROWS($3:34)<=COUNTIF(cond1,\"o\"),INDEX(champ1,SMALL(IF(cond1=\"o\",ROW(INDIRECT(\"1:\"&ROWS(champ1)))),ROWS($3:34))),\"\")","v":""},0,"","",{"$f":"IF(ROWS($3:34)<=COUNTIF(cond2,\"o\"),INDEX(champ2,SMALL(IF(cond2=\"o\",ROW(INDIRECT(\"1:\"&ROWS(champ2)))),ROWS($3:34))),\"\")","v":""},0,"","",{"$f":"IF(ROWS($3:34)<=COUNTIF(cond3,\"o\"),INDEX(champ3,SMALL(IF(cond3=\"o\",ROW(INDIRECT(\"1:\"&ROWS(champ3)))),ROWS($3:34))),\"\")","v":""},0,"","",{"$f":"IF(ROWS($3:34)<=COUNTIF(cond4,\"o\"),INDEX(champ4,SMALL(IF(cond4=\"o\",ROW(INDIRECT(\"1:\"&ROWS(champ4)))),ROWS($3:34))),\"\")","v":""},0,"","",{"$f":"IF(ROWS($3:34)<=COUNTIF(cond5,\"o\"),INDEX(champ5,SMALL(IF(cond5=\"o\",ROW(INDIRECT(\"1:\"&ROWS(champ5)))),ROWS($3:34))),\"\")","v":""},0,"","",{"$f":"IF(ROWS($3:34)<=COUNTIF(cond6,\"o\"),INDEX(champ6,SMALL(IF(cond6=\"o\",ROW(INDIRECT(\"1:\"&ROWS(champ6)))),ROWS($3:34))),\"\")","v":""},0,"","",{"$f":"IF(ROWS($3:34)<=COUNTIF(cond7,\"o\"),INDEX(champ7,SMALL(IF(cond7=\"o\",ROW(INDIRECT(\"1:\"&ROWS(champ7)))),ROWS($3:34))),\"\")","v":""},0,"","",{"$f":"IF(ROWS($3:34)<=COUNTIF(cond8,\"o\"),INDEX(champ8,SMALL(IF(cond8=\"o\",ROW(INDIRECT(\"1:\"&ROWS(champ8)))),ROWS($3:34))),\"\")","v":""},0,"","",{"$f":"IF(ROWS($3:34)<=COUNTIF(cond9,\"o\"),INDEX(champ9,SMALL(IF(cond9=\"o\",ROW(INDIRECT(\"1:\"&ROWS(champ9)))),ROWS($3:34))),\"\")","v":""},0,"","",{"$f":"IF(ROWS($3:34)<=COUNTIF(cond10,\"o\"),INDEX(champ10,SMALL(IF(cond10=\"o\",ROW(INDIRECT(\"1:\"&ROWS(champ10)))),ROWS($3:34))),\"\")","v":""},0,"","",{"$f":"IF(ROWS($3:34)<=COUNTIF(cond11,\"o\"),INDEX(champ11,SMALL(IF(cond11=\"o\",ROW(INDIRECT(\"1:\"&ROWS(champ11)))),ROWS($3:34))),\"\")","v":""}]
[null,null,null,null,null,null,{"$f":"IF(Indicateurs!E643=0,0,Indicateurs!H643/Indicateurs!E643)","v":0},null,"Suivi",null,null,null,null,null,null,null,null,null,36,0,"","",{"$f":"IF(ROWS($3:35)<=COUNTIF(cond1,\"o\"),INDEX(champ1,SMALL(IF(cond1=\"o\",ROW(INDIRECT(\"1:\"&ROWS(champ1)))),ROWS($3:35))),\"\")","v":""},0,"","",{"$f":"IF(ROWS($3:35)<=COUNTIF(cond2,\"o\"),INDEX(champ2,SMALL(IF(cond2=\"o\",ROW(INDIRECT(\"1:\"&ROWS(champ2)))),ROWS($3:35))),\"\")","v":""},0,"","",{"$f":"IF(ROWS($3:35)<=COUNTIF(cond3,\"o\"),INDEX(champ3,SMALL(IF(cond3=\"o\",ROW(INDIRECT(\"1:\"&ROWS(champ3)))),ROWS($3:35))),\"\")","v":""},0,"","",{"$f":"IF(ROWS($3:35)<=COUNTIF(cond4,\"o\"),INDEX(champ4,SMALL(IF(cond4=\"o\",ROW(INDIRECT(\"1:\"&ROWS(champ4)))),ROWS($3:35))),\"\")","v":""},0,"","",{"$f":"IF(ROWS($3:35)<=COUNTIF(cond5,\"o\"),INDEX(champ5,SMALL(IF(cond5=\"o\",ROW(INDIRECT(\"1:\"&ROWS(champ5)))),ROWS($3:35))),\"\")","v":""},0,"","",{"$f":"IF(ROWS($3:35)<=COUNTIF(cond6,\"o\"),INDEX(champ6,SMALL(IF(cond6=\"o\",ROW(INDIRECT(\"1:\"&ROWS(champ6)))),ROWS($3:35))),\"\")","v":""},0,"","",{"$f":"IF(ROWS($3:35)<=COUNTIF(cond7,\"o\"),INDEX(champ7,SMALL(IF(cond7=\"o\",ROW(INDIRECT(\"1:\"&ROWS(champ7)))),ROWS($3:35))),\"\")","v":""},0,"","",{"$f":"IF(ROWS($3:35)<=COUNTIF(cond8,\"o\"),INDEX(champ8,SMALL(IF(cond8=\"o\",ROW(INDIRECT(\"1:\"&ROWS(champ8)))),ROWS($3:35))),\"\")","v":""},0,"","",{"$f":"IF(ROWS($3:35)<=COUNTIF(cond9,\"o\"),INDEX(champ9,SMALL(IF(cond9=\"o\",ROW(INDIRECT(\"1:\"&ROWS(champ9)))),ROWS($3:35))),\"\")","v":""},0,"","",{"$f":"IF(ROWS($3:35)<=COUNTIF(cond10,\"o\"),INDEX(champ10,SMALL(IF(cond10=\"o\",ROW(INDIRECT(\"1:\"&ROWS(champ10)))),ROWS($3:35))),\"\")","v":""},0,"","",{"$f":"IF(ROWS($3:35)<=COUNTIF(cond11,\"o\"),INDEX(champ11,SMALL(IF(cond11=\"o\",ROW(INDIRECT(\"1:\"&ROWS(champ11)))),ROWS($3:35))),\"\")","v":""}]
[null,null,null,null,null,null,{"$f":"IF(Indicateurs!E668=0,0,Indicateurs!H668/Indicateurs!E668)","v":0},null,"Suivi",null,null,null,null,null,null,null,null,null,37,0,"","",{"$f":"IF(ROWS($3:36)<=COUNTIF(cond1,\"o\"),INDEX(champ1,SMALL(IF(cond1=\"o\",ROW(INDIRECT(\"1:\"&ROWS(champ1)))),ROWS($3:36))),\"\")","v":""},0,"","",{"$f":"IF(ROWS($3:36)<=COUNTIF(cond2,\"o\"),INDEX(champ2,SMALL(IF(cond2=\"o\",ROW(INDIRECT(\"1:\"&ROWS(champ2)))),ROWS($3:36))),\"\")","v":""},0,"","",{"$f":"IF(ROWS($3:36)<=COUNTIF(cond3,\"o\"),INDEX(champ3,SMALL(IF(cond3=\"o\",ROW(INDIRECT(\"1:\"&ROWS(champ3)))),ROWS($3:36))),\"\")","v":""},0,"","",{"$f":"IF(ROWS($3:36)<=COUNTIF(cond4,\"o\"),INDEX(champ4,SMALL(IF(cond4=\"o\",ROW(INDIRECT(\"1:\"&ROWS(champ4)))),ROWS($3:36))),\"\")","v":""},0,"","",{"$f":"IF(ROWS($3:36)<=COUNTIF(cond5,\"o\"),INDEX(champ5,SMALL(IF(cond5=\"o\",ROW(INDIRECT(\"1:\"&ROWS(champ5)))),ROWS($3:36))),\"\")","v":""},0,"","",{"$f":"IF(ROWS($3:36)<=COUNTIF(cond6,\"o\"),INDEX(champ6,SMALL(IF(cond6=\"o\",ROW(INDIRECT(\"1:\"&ROWS(champ6)))),ROWS($3:36))),\"\")","v":""},0,"","",{"$f":"IF(ROWS($3:36)<=COUNTIF(cond7,\"o\"),INDEX(champ7,SMALL(IF(cond7=\"o\",ROW(INDIRECT(\"1:\"&ROWS(champ7)))),ROWS($3:36))),\"\")","v":""},0,"","",{"$f":"IF(ROWS($3:36)<=COUNTIF(cond8,\"o\"),INDEX(champ8,SMALL(IF(cond8=\"o\",ROW(INDIRECT(\"1:\"&ROWS(champ8)))),ROWS($3:36))),\"\")","v":""},0,"","",{"$f":"IF(ROWS($3:36)<=COUNTIF(cond9,\"o\"),INDEX(champ9,SMALL(IF(cond9=\"o\",ROW(INDIRECT(\"1:\"&ROWS(champ9)))),ROWS($3:36))),\"\")","v":""},0,"","",{"$f":"IF(ROWS($3:36)<=COUNTIF(cond10,\"o\"),INDEX(champ10,SMALL(IF(cond10=\"o\",ROW(INDIRECT(\"1:\"&ROWS(champ10)))),ROWS($3:36))),\"\")","v":""},0,"","",{"$f":"IF(ROWS($3:36)<=COUNTIF(cond11,\"o\"),INDEX(champ11,SMALL(IF(cond11=\"o\",ROW(INDIRECT(\"1:\"&ROWS(champ11)))),ROWS($3:36))),\"\")","v":""}]
[null,null,null,null,null,null,{"$f":"IF(Indicateurs!E693=0,0,Indicateurs!H693/Indicateurs!E693)","v":0},null,"Suivi",null,null,null,null,null,null,null,null,null,38,0,"","",{"$f":"IF(ROWS($3:37)<=COUNTIF(cond1,\"o\"),INDEX(champ1,SMALL(IF(cond1=\"o\",ROW(INDIRECT(\"1:\"&ROWS(champ1)))),ROWS($3:37))),\"\")","v":""},0,"","",{"$f":"IF(ROWS($3:37)<=COUNTIF(cond2,\"o\"),INDEX(champ2,SMALL(IF(cond2=\"o\",ROW(INDIRECT(\"1:\"&ROWS(champ2)))),ROWS($3:37))),\"\")","v":""},0,"","",{"$f":"IF(ROWS($3:37)<=COUNTIF(cond3,\"o\"),INDEX(champ3,SMALL(IF(cond3=\"o\",ROW(INDIRECT(\"1:\"&ROWS(champ3)))),ROWS($3:37))),\"\")","v":""},0,"","",{"$f":"IF(ROWS($3:37)<=COUNTIF(cond4,\"o\"),INDEX(champ4,SMALL(IF(cond4=\"o\",ROW(INDIRECT(\"1:\"&ROWS(champ4)))),ROWS($3:37))),\"\")","v":""},0,"","",{"$f":"IF(ROWS($3:37)<=COUNTIF(cond5,\"o\"),INDEX(champ5,SMALL(IF(cond5=\"o\",ROW(INDIRECT(\"1:\"&ROWS(champ5)))),ROWS($3:37))),\"\")","v":""},0,"","",{"$f":"IF(ROWS($3:37)<=COUNTIF(cond6,\"o\"),INDEX(champ6,SMALL(IF(cond6=\"o\",ROW(INDIRECT(\"1:\"&ROWS(champ6)))),ROWS($3:37))),\"\")","v":""},0,"","",{"$f":"IF(ROWS($3:37)<=COUNTIF(cond7,\"o\"),INDEX(champ7,SMALL(IF(cond7=\"o\",ROW(INDIRECT(\"1:\"&ROWS(champ7)))),ROWS($3:37))),\"\")","v":""},0,"","",{"$f":"IF(ROWS($3:37)<=COUNTIF(cond8,\"o\"),INDEX(champ8,SMALL(IF(cond8=\"o\",ROW(INDIRECT(\"1:\"&ROWS(champ8)))),ROWS($3:37))),\"\")","v":""},0,"","",{"$f":"IF(ROWS($3:37)<=COUNTIF(cond9,\"o\"),INDEX(champ9,SMALL(IF(cond9=\"o\",ROW(INDIRECT(\"1:\"&ROWS(champ9)))),ROWS($3:37))),\"\")","v":""},0,"","",{"$f":"IF(ROWS($3:37)<=COUNTIF(cond10,\"o\"),INDEX(champ10,SMALL(IF(cond10=\"o\",ROW(INDIRECT(\"1:\"&ROWS(champ10)))),ROWS($3:37))),\"\")","v":""},0,"","",{"$f":"IF(ROWS($3:37)<=COUNTIF(cond11,\"o\"),INDEX(champ11,SMALL(IF(cond11=\"o\",ROW(INDIRECT(\"1:\"&ROWS(champ11)))),ROWS($3:37))),\"\")","v":""}]
[null,"Total",null,null,{"$f":"SUM(E31:E38)","v":0},{"$f":"SUM(F31:F38)","v":0},null,null,null,null,null,null,null,null,null,null,null,null,39,0,"","",{"$f":"IF(ROWS($3:38)<=COUNTIF(cond1,\"o\"),INDEX(champ1,SMALL(IF(cond1=\"o\",ROW(INDIRECT(\"1:\"&ROWS(champ1)))),ROWS($3:38))),\"\")","v":""},0,"","",{"$f":"IF(ROWS($3:38)<=COUNTIF(cond2,\"o\"),INDEX(champ2,SMALL(IF(cond2=\"o\",ROW(INDIRECT(\"1:\"&ROWS(champ2)))),ROWS($3:38))),\"\")","v":""},0,"","",{"$f":"IF(ROWS($3:38)<=COUNTIF(cond3,\"o\"),INDEX(champ3,SMALL(IF(cond3=\"o\",ROW(INDIRECT(\"1:\"&ROWS(champ3)))),ROWS($3:38))),\"\")","v":""},0,"","",{"$f":"IF(ROWS($3:38)<=COUNTIF(cond4,\"o\"),INDEX(champ4,SMALL(IF(cond4=\"o\",ROW(INDIRECT(\"1:\"&ROWS(champ4)))),ROWS($3:38))),\"\")","v":""},0,"","",{"$f":"IF(ROWS($3:38)<=COUNTIF(cond5,\"o\"),INDEX(champ5,SMALL(IF(cond5=\"o\",ROW(INDIRECT(\"1:\"&ROWS(champ5)))),ROWS($3:38))),\"\")","v":""},0,"","",{"$f":"IF(ROWS($3:38)<=COUNTIF(cond6,\"o\"),INDEX(champ6,SMALL(IF(cond6=\"o\",ROW(INDIRECT(\"1:\"&ROWS(champ6)))),ROWS($3:38))),\"\")","v":""},0,"","",{"$f":"IF(ROWS($3:38)<=COUNTIF(cond7,\"o\"),INDEX(champ7,SMALL(IF(cond7=\"o\",ROW(INDIRECT(\"1:\"&ROWS(champ7)))),ROWS($3:38))),\"\")","v":""},0,"","",{"$f":"IF(ROWS($3:38)<=COUNTIF(cond8,\"o\"),INDEX(champ8,SMALL(IF(cond8=\"o\",ROW(INDIRECT(\"1:\"&ROWS(champ8)))),ROWS($3:38))),\"\")","v":""},0,"","",{"$f":"IF(ROWS($3:38)<=COUNTIF(cond9,\"o\"),INDEX(champ9,SMALL(IF(cond9=\"o\",ROW(INDIRECT(\"1:\"&ROWS(champ9)))),ROWS($3:38))),\"\")","v":""},0,"","",{"$f":"IF(ROWS($3:38)<=COUNTIF(cond10,\"o\"),INDEX(champ10,SMALL(IF(cond10=\"o\",ROW(INDIRECT(\"1:\"&ROWS(champ10)))),ROWS($3:38))),\"\")","v":""},0,"","",{"$f":"IF(ROWS($3:38)<=COUNTIF(cond11,\"o\"),INDEX(champ11,SMALL(IF(cond11=\"o\",ROW(INDIRECT(\"1:\"&ROWS(champ11)))),ROWS($3:38))),\"\")","v":""}]
[null,null,null,null,null,null,null,null,null,null,null,null,null,null,null,null,null,null,40,0,"","",{"$f":"IF(ROWS($3:39)<=COUNTIF(cond1,\"o\"),INDEX(champ1,SMALL(IF(cond1=\"o\",ROW(INDIRECT(\"1:\"&ROWS(champ1)))),ROWS($3:39))),\"\")","v":""},0,"","",{"$f":"IF(ROWS($3:39)<=COUNTIF(cond2,\"o\"),INDEX(champ2,SMALL(IF(cond2=\"o\",ROW(INDIRECT(\"1:\"&ROWS(champ2)))),ROWS($3:39))),\"\")","v":""},0,"","",{"$f":"IF(ROWS($3:39)<=COUNTIF(cond3,\"o\"),INDEX(champ3,SMALL(IF(cond3=\"o\",ROW(INDIRECT(\"1:\"&ROWS(champ3)))),ROWS($3:39))),\"\")","v":""},0,"","",{"$f":"IF(ROWS($3:39)<=COUNTIF(cond4,\"o\"),INDEX(champ4,SMALL(IF(cond4=\"o\",ROW(INDIRECT(\"1:\"&ROWS(champ4)))),ROWS($3:39))),\"\")","v":""},0,"","",{"$f":"IF(ROWS($3:39)<=COUNTIF(cond5,\"o\"),INDEX(champ5,SMALL(IF(cond5=\"o\",ROW(INDIRECT(\"1:\"&ROWS(champ5)))),ROWS($3:39))),\"\")","v":""},0,"","",{"$f":"IF(ROWS($3:39)<=COUNTIF(cond6,\"o\"),INDEX(champ6,SMALL(IF(cond6=\"o\",ROW(INDIRECT(\"1:\"&ROWS(champ6)))),ROWS($3:39))),\"\")","v":""},0,"","",{"$f":"IF(ROWS($3:39)<=COUNTIF(cond7,\"o\"),INDEX(champ7,SMALL(IF(cond7=\"o\",ROW(INDIRECT(\"1:\"&ROWS(champ7)))),ROWS($3:39))),\"\")","v":""},0,"","",{"$f":"IF(ROWS($3:39)<=COUNTIF(cond8,\"o\"),INDEX(champ8,SMALL(IF(cond8=\"o\",ROW(INDIRECT(\"1:\"&ROWS(champ8)))),ROWS($3:39))),\"\")","v":""},0,"","",{"$f":"IF(ROWS($3:39)<=COUNTIF(cond9,\"o\"),INDEX(champ9,SMALL(IF(cond9=\"o\",ROW(INDIRECT(\"1:\"&ROWS(champ9)))),ROWS($3:39))),\"\")","v":""},0,"","",{"$f":"IF(ROWS($3:39)<=COUNTIF(cond10,\"o\"),INDEX(champ10,SMALL(IF(cond10=\"o\",ROW(INDIRECT(\"1:\"&ROWS(champ10)))),ROWS($3:39))),\"\")","v":""},0,"","",{"$f":"IF(ROWS($3:39)<=COUNTIF(cond11,\"o\"),INDEX(champ11,SMALL(IF(cond11=\"o\",ROW(INDIRECT(\"1:\"&ROWS(champ11)))),ROWS($3:39))),\"\")","v":""}]
["Secteurs non-énergétiques","Secteur","Objectif",null,null,"Réduction des émissions (tCO2éq/an)","Etat d'avancement",null,null,null,null,null,null,null,null,null,null,null,41,0,"","",{"$f":"IF(ROWS($3:40)<=COUNTIF(cond1,\"o\"),INDEX(champ1,SMALL(IF(cond1=\"o\",ROW(INDIRECT(\"1:\"&ROWS(champ1)))),ROWS($3:40))),\"\")","v":""},0,"","",{"$f":"IF(ROWS($3:40)<=COUNTIF(cond2,\"o\"),INDEX(champ2,SMALL(IF(cond2=\"o\",ROW(INDIRECT(\"1:\"&ROWS(champ2)))),ROWS($3:40))),\"\")","v":""},0,"","",{"$f":"IF(ROWS($3:40)<=COUNTIF(cond3,\"o\"),INDEX(champ3,SMALL(IF(cond3=\"o\",ROW(INDIRECT(\"1:\"&ROWS(champ3)))),ROWS($3:40))),\"\")","v":""},0,"","",{"$f":"IF(ROWS($3:40)<=COUNTIF(cond4,\"o\"),INDEX(champ4,SMALL(IF(cond4=\"o\",ROW(INDIRECT(\"1:\"&ROWS(champ4)))),ROWS($3:40))),\"\")","v":""},0,"","",{"$f":"IF(ROWS($3:40)<=COUNTIF(cond5,\"o\"),INDEX(champ5,SMALL(IF(cond5=\"o\",ROW(INDIRECT(\"1:\"&ROWS(champ5)))),ROWS($3:40))),\"\")","v":""},0,"","",{"$f":"IF(ROWS($3:40)<=COUNTIF(cond6,\"o\"),INDEX(champ6,SMALL(IF(cond6=\"o\",ROW(INDIRECT(\"1:\"&ROWS(champ6)))),ROWS($3:40))),\"\")","v":""},0,"","",{"$f":"IF(ROWS($3:40)<=COUNTIF(cond7,\"o\"),INDEX(champ7,SMALL(IF(cond7=\"o\",ROW(INDIRECT(\"1:\"&ROWS(champ7)))),ROWS($3:40))),\"\")","v":""},0,"","",{"$f":"IF(ROWS($3:40)<=COUNTIF(cond8,\"o\"),INDEX(champ8,SMALL(IF(cond8=\"o\",ROW(INDIRECT(\"1:\"&ROWS(champ8)))),ROWS($3:40))),\"\")","v":""},0,"","",{"$f":"IF(ROWS($3:40)<=COUNTIF(cond9,\"o\"),INDEX(champ9,SMALL(IF(cond9=\"o\",ROW(INDIRECT(\"1:\"&ROWS(champ9)))),ROWS($3:40))),\"\")","v":""},0,"","",{"$f":"IF(ROWS($3:40)<=COUNTIF(cond10,\"o\"),INDEX(champ10,SMALL(IF(cond10=\"o\",ROW(INDIRECT(\"1:\"&ROWS(champ10)))),ROWS($3:40))),\"\")","v":""},0,"","",{"$f":"IF(ROWS($3:40)<=COUNTIF(cond11,\"o\"),INDEX(champ11,SMALL(IF(cond11=\"o\",ROW(INDIRECT(\"1:\"&ROWS(champ11)))),ROWS($3:40))),\"\")","v":""}]
[null,null,null,null,null,null,{"$f":"IF(Indicateurs!D718=0,0,Indicateurs!H718/Indicateurs!D718)","v":0},"Suivi",null,null,null,null,null,null,null,null,null,null,42,0,"","",{"$f":"IF(ROWS($3:41)<=COUNTIF(cond1,\"o\"),INDEX(champ1,SMALL(IF(cond1=\"o\",ROW(INDIRECT(\"1:\"&ROWS(champ1)))),ROWS($3:41))),\"\")","v":""},0,"","",{"$f":"IF(ROWS($3:41)<=COUNTIF(cond2,\"o\"),INDEX(champ2,SMALL(IF(cond2=\"o\",ROW(INDIRECT(\"1:\"&ROWS(champ2)))),ROWS($3:41))),\"\")","v":""},0,"","",{"$f":"IF(ROWS($3:41)<=COUNTIF(cond3,\"o\"),INDEX(champ3,SMALL(IF(cond3=\"o\",ROW(INDIRECT(\"1:\"&ROWS(champ3)))),ROWS($3:41))),\"\")","v":""},0,"","",{"$f":"IF(ROWS($3:41)<=COUNTIF(cond4,\"o\"),INDEX(champ4,SMALL(IF(cond4=\"o\",ROW(INDIRECT(\"1:\"&ROWS(champ4)))),ROWS($3:41))),\"\")","v":""},0,"","",{"$f":"IF(ROWS($3:41)<=COUNTIF(cond5,\"o\"),INDEX(champ5,SMALL(IF(cond5=\"o\",ROW(INDIRECT(\"1:\"&ROWS(champ5)))),ROWS($3:41))),\"\")","v":""},0,"","",{"$f":"IF(ROWS($3:41)<=COUNTIF(cond6,\"o\"),INDEX(champ6,SMALL(IF(cond6=\"o\",ROW(INDIRECT(\"1:\"&ROWS(champ6)))),ROWS($3:41))),\"\")","v":""},0,"","",{"$f":"IF(ROWS($3:41)<=COUNTIF(cond7,\"o\"),INDEX(champ7,SMALL(IF(cond7=\"o\",ROW(INDIRECT(\"1:\"&ROWS(champ7)))),ROWS($3:41))),\"\")","v":""},0,"","",{"$f":"IF(ROWS($3:41)<=COUNTIF(cond8,\"o\"),INDEX(champ8,SMALL(IF(cond8=\"o\",ROW(INDIRECT(\"1:\"&ROWS(champ8)))),ROWS($3:41))),\"\")","v":""},0,"","",{"$f":"IF(ROWS($3:41)<=COUNTIF(cond9,\"o\"),INDEX(champ9,SMALL(IF(cond9=\"o\",ROW(INDIRECT(\"1:\"&ROWS(champ9)))),ROWS($3:41))),\"\")","v":""},0,"","",{"$f":"IF(ROWS($3:41)<=COUNTIF(cond10,\"o\"),INDEX(champ10,SMALL(IF(cond10=\"o\",ROW(INDIRECT(\"1:\"&ROWS(champ10)))),ROWS($3:41))),\"\")","v":""},0,"","",{"$f":"IF(ROWS($3:41)<=COUNTIF(cond11,\"o\"),INDEX(champ11,SMALL(IF(cond11=\"o\",ROW(INDIRECT(\"1:\"&ROWS(champ11)))),ROWS($3:41))),\"\")","v":""}]
[null,null,null,null,null,null,{"$f":"IF(Indicateurs!D743=0,0,Indicateurs!H743/Indicateurs!D743)","v":0},"Suivi",null,null,null,null,null,null,null,null,null,null,43,0,"","",{"$f":"IF(ROWS($3:42)<=COUNTIF(cond1,\"o\"),INDEX(champ1,SMALL(IF(cond1=\"o\",ROW(INDIRECT(\"1:\"&ROWS(champ1)))),ROWS($3:42))),\"\")","v":""},0,"","",{"$f":"IF(ROWS($3:42)<=COUNTIF(cond2,\"o\"),INDEX(champ2,SMALL(IF(cond2=\"o\",ROW(INDIRECT(\"1:\"&ROWS(champ2)))),ROWS($3:42))),\"\")","v":""},0,"","",{"$f":"IF(ROWS($3:42)<=COUNTIF(cond3,\"o\"),INDEX(champ3,SMALL(IF(cond3=\"o\",ROW(INDIRECT(\"1:\"&ROWS(champ3)))),ROWS($3:42))),\"\")","v":""},0,"","",{"$f":"IF(ROWS($3:42)<=COUNTIF(cond4,\"o\"),INDEX(champ4,SMALL(IF(cond4=\"o\",ROW(INDIRECT(\"1:\"&ROWS(champ4)))),ROWS($3:42))),\"\")","v":""},0,"","",{"$f":"IF(ROWS($3:42)<=COUNTIF(cond5,\"o\"),INDEX(champ5,SMALL(IF(cond5=\"o\",ROW(INDIRECT(\"1:\"&ROWS(champ5)))),ROWS($3:42))),\"\")","v":""},0,"","",{"$f":"IF(ROWS($3:42)<=COUNTIF(cond6,\"o\"),INDEX(champ6,SMALL(IF(cond6=\"o\",ROW(INDIRECT(\"1:\"&ROWS(champ6)))),ROWS($3:42))),\"\")","v":""},0,"","",{"$f":"IF(ROWS($3:42)<=COUNTIF(cond7,\"o\"),INDEX(champ7,SMALL(IF(cond7=\"o\",ROW(INDIRECT(\"1:\"&ROWS(champ7)))),ROWS($3:42))),\"\")","v":""},0,"","",{"$f":"IF(ROWS($3:42)<=COUNTIF(cond8,\"o\"),INDEX(champ8,SMALL(IF(cond8=\"o\",ROW(INDIRECT(\"1:\"&ROWS(champ8)))),ROWS($3:42))),\"\")","v":""},0,"","",{"$f":"IF(ROWS($3:42)<=COUNTIF(cond9,\"o\"),INDEX(champ9,SMALL(IF(cond9=\"o\",ROW(INDIRECT(\"1:\"&ROWS(champ9)))),ROWS($3:42))),\"\")","v":""},0,"","",{"$f":"IF(ROWS($3:42)<=COUNTIF(cond10,\"o\"),INDEX(champ10,SMALL(IF(cond10=\"o\",ROW(INDIRECT(\"1:\"&ROWS(champ10)))),ROWS($3:42))),\"\")","v":""},0,"","",{"$f":"IF(ROWS($3:42)<=COUNTIF(cond11,\"o\"),INDEX(champ11,SMALL(IF(cond11=\"o\",ROW(INDIRECT(\"1:\"&ROWS(champ11)))),ROWS($3:42))),\"\")","v":""}]
[null,null,null,null,null,null,{"$f":"IF(Indicateurs!D768=0,0,Indicateurs!H768/Indicateurs!D768)","v":0},"Suivi",null,null,null,null,null,null,null,null,null,null,44,0,"","",{"$f":"IF(ROWS($3:43)<=COUNTIF(cond1,\"o\"),INDEX(champ1,SMALL(IF(cond1=\"o\",ROW(INDIRECT(\"1:\"&ROWS(champ1)))),ROWS($3:43))),\"\")","v":""},0,"","",{"$f":"IF(ROWS($3:43)<=COUNTIF(cond2,\"o\"),INDEX(champ2,SMALL(IF(cond2=\"o\",ROW(INDIRECT(\"1:\"&ROWS(champ2)))),ROWS($3:43))),\"\")","v":""},0,"","",{"$f":"IF(ROWS($3:43)<=COUNTIF(cond3,\"o\"),INDEX(champ3,SMALL(IF(cond3=\"o\",ROW(INDIRECT(\"1:\"&ROWS(champ3)))),ROWS($3:43))),\"\")","v":""},0,"","",{"$f":"IF(ROWS($3:43)<=COUNTIF(cond4,\"o\"),INDEX(champ4,SMALL(IF(cond4=\"o\",ROW(INDIRECT(\"1:\"&ROWS(champ4)))),ROWS($3:43))),\"\")","v":""},0,"","",{"$f":"IF(ROWS($3:43)<=COUNTIF(cond5,\"o\"),INDEX(champ5,SMALL(IF(cond5=\"o\",ROW(INDIRECT(\"1:\"&ROWS(champ5)))),ROWS($3:43))),\"\")","v":""},0,"","",{"$f":"IF(ROWS($3:43)<=COUNTIF(cond6,\"o\"),INDEX(champ6,SMALL(IF(cond6=\"o\",ROW(INDIRECT(\"1:\"&ROWS(champ6)))),ROWS($3:43))),\"\")","v":""},0,"","",{"$f":"IF(ROWS($3:43)<=COUNTIF(cond7,\"o\"),INDEX(champ7,SMALL(IF(cond7=\"o\",ROW(INDIRECT(\"1:\"&ROWS(champ7)))),ROWS($3:43))),\"\")","v":""},0,"","",{"$f":"IF(ROWS($3:43)<=COUNTIF(cond8,\"o\"),INDEX(champ8,SMALL(IF(cond8=\"o\",ROW(INDIRECT(\"1:\"&ROWS(champ8)))),ROWS($3:43))),\"\")","v":""},0,"","",{"$f":"IF(ROWS($3:43)<=COUNTIF(cond9,\"o\"),INDEX(champ9,SMALL(IF(cond9=\"o\",ROW(INDIRECT(\"1:\"&ROWS(champ9)))),ROWS($3:43))),\"\")","v":""},0,"","",{"$f":"IF(ROWS($3:43)<=COUNTIF(cond10,\"o\"),INDEX(champ10,SMALL(IF(cond10=\"o\",ROW(INDIRECT(\"1:\"&ROWS(champ10)))),ROWS($3:43))),\"\")","v":""},0,"","",{"$f":"IF(ROWS($3:43)<=COUNTIF(cond11,\"o\"),INDEX(champ11,SMALL(IF(cond11=\"o\",ROW(INDIRECT(\"1:\"&ROWS(champ11)))),ROWS($3:43))),\"\")","v":""}]
[null,null,null,null,null,null,{"$f":"IF(Indicateurs!D793=0,0,Indicateurs!H793/Indicateurs!D793)","v":0},"Suivi",null,null,null,null,null,null,null,null,null,null,45,0,"","",{"$f":"IF(ROWS($3:44)<=COUNTIF(cond1,\"o\"),INDEX(champ1,SMALL(IF(cond1=\"o\",ROW(INDIRECT(\"1:\"&ROWS(champ1)))),ROWS($3:44))),\"\")","v":""},0,"","",{"$f":"IF(ROWS($3:44)<=COUNTIF(cond2,\"o\"),INDEX(champ2,SMALL(IF(cond2=\"o\",ROW(INDIRECT(\"1:\"&ROWS(champ2)))),ROWS($3:44))),\"\")","v":""},0,"","",{"$f":"IF(ROWS($3:44)<=COUNTIF(cond3,\"o\"),INDEX(champ3,SMALL(IF(cond3=\"o\",ROW(INDIRECT(\"1:\"&ROWS(champ3)))),ROWS($3:44))),\"\")","v":""},0,"","",{"$f":"IF(ROWS($3:44)<=COUNTIF(cond4,\"o\"),INDEX(champ4,SMALL(IF(cond4=\"o\",ROW(INDIRECT(\"1:\"&ROWS(champ4)))),ROWS($3:44))),\"\")","v":""},0,"","",{"$f":"IF(ROWS($3:44)<=COUNTIF(cond5,\"o\"),INDEX(champ5,SMALL(IF(cond5=\"o\",ROW(INDIRECT(\"1:\"&ROWS(champ5)))),ROWS($3:44))),\"\")","v":""},0,"","",{"$f":"IF(ROWS($3:44)<=COUNTIF(cond6,\"o\"),INDEX(champ6,SMALL(IF(cond6=\"o\",ROW(INDIRECT(\"1:\"&ROWS(champ6)))),ROWS($3:44))),\"\")","v":""},0,"","",{"$f":"IF(ROWS($3:44)<=COUNTIF(cond7,\"o\"),INDEX(champ7,SMALL(IF(cond7=\"o\",ROW(INDIRECT(\"1:\"&ROWS(champ7)))),ROWS($3:44))),\"\")","v":""},0,"","",{"$f":"IF(ROWS($3:44)<=COUNTIF(cond8,\"o\"),INDEX(champ8,SMALL(IF(cond8=\"o\",ROW(INDIRECT(\"1:\"&ROWS(champ8)))),ROWS($3:44))),\"\")","v":""},0,"","",{"$f":"IF(ROWS($3:44)<=COUNTIF(cond9,\"o\"),INDEX(champ9,SMALL(IF(cond9=\"o\",ROW(INDIRECT(\"1:\"&ROWS(champ9)))),ROWS($3:44))),\"\")","v":""},0,"","",{"$f":"IF(ROWS($3:44)<=COUNTIF(cond10,\"o\"),INDEX(champ10,SMALL(IF(cond10=\"o\",ROW(INDIRECT(\"1:\"&ROWS(champ10)))),ROWS($3:44))),\"\")","v":""},0,"","",{"$f":"IF(ROWS($3:44)<=COUNTIF(cond11,\"o\"),INDEX(champ11,SMALL(IF(cond11=\"o\",ROW(INDIRECT(\"1:\"&ROWS(champ11)))),ROWS($3:44))),\"\")","v":""}]
[null,null,null,null,null,null,{"$f":"IF(Indicateurs!D818=0,0,Indicateurs!H818/Indicateurs!D818)","v":0},"Suivi",null,null,null,null,null,null,null,null,null,null,46,0,"","",{"$f":"IF(ROWS($3:45)<=COUNTIF(cond1,\"o\"),INDEX(champ1,SMALL(IF(cond1=\"o\",ROW(INDIRECT(\"1:\"&ROWS(champ1)))),ROWS($3:45))),\"\")","v":""},0,"","",{"$f":"IF(ROWS($3:45)<=COUNTIF(cond2,\"o\"),INDEX(champ2,SMALL(IF(cond2=\"o\",ROW(INDIRECT(\"1:\"&ROWS(champ2)))),ROWS($3:45))),\"\")","v":""},0,"","",{"$f":"IF(ROWS($3:45)<=COUNTIF(cond3,\"o\"),INDEX(champ3,SMALL(IF(cond3=\"o\",ROW(INDIRECT(\"1:\"&ROWS(champ3)))),ROWS($3:45))),\"\")","v":""},0,"","",{"$f":"IF(ROWS($3:45)<=COUNTIF(cond4,\"o\"),INDEX(champ4,SMALL(IF(cond4=\"o\",ROW(INDIRECT(\"1:\"&ROWS(champ4)))),ROWS($3:45))),\"\")","v":""},0,"","",{"$f":"IF(ROWS($3:45)<=COUNTIF(cond5,\"o\"),INDEX(champ5,SMALL(IF(cond5=\"o\",ROW(INDIRECT(\"1:\"&ROWS(champ5)))),ROWS($3:45))),\"\")","v":""},0,"","",{"$f":"IF(ROWS($3:45)<=COUNTIF(cond6,\"o\"),INDEX(champ6,SMALL(IF(cond6=\"o\",ROW(INDIRECT(\"1:\"&ROWS(champ6)))),ROWS($3:45))),\"\")","v":""},0,"","",{"$f":"IF(ROWS($3:45)<=COUNTIF(cond7,\"o\"),INDEX(champ7,SMALL(IF(cond7=\"o\",ROW(INDIRECT(\"1:\"&ROWS(champ7)))),ROWS($3:45))),\"\")","v":""},0,"","",{"$f":"IF(ROWS($3:45)<=COUNTIF(cond8,\"o\"),INDEX(champ8,SMALL(IF(cond8=\"o\",ROW(INDIRECT(\"1:\"&ROWS(champ8)))),ROWS($3:45))),\"\")","v":""},0,"","",{"$f":"IF(ROWS($3:45)<=COUNTIF(cond9,\"o\"),INDEX(champ9,SMALL(IF(cond9=\"o\",ROW(INDIRECT(\"1:\"&ROWS(champ9)))),ROWS($3:45))),\"\")","v":""},0,"","",{"$f":"IF(ROWS($3:45)<=COUNTIF(cond10,\"o\"),INDEX(champ10,SMALL(IF(cond10=\"o\",ROW(INDIRECT(\"1:\"&ROWS(champ10)))),ROWS($3:45))),\"\")","v":""},0,"","",{"$f":"IF(ROWS($3:45)<=COUNTIF(cond11,\"o\"),INDEX(champ11,SMALL(IF(cond11=\"o\",ROW(INDIRECT(\"1:\"&ROWS(champ11)))),ROWS($3:45))),\"\")","v":""}]
[null,null,null,null,null,null,null,null,null,null,null,null,null,null,null,null,null,null,47,0,"","",{"$f":"IF(ROWS($3:46)<=COUNTIF(cond1,\"o\"),INDEX(champ1,SMALL(IF(cond1=\"o\",ROW(INDIRECT(\"1:\"&ROWS(champ1)))),ROWS($3:46))),\"\")","v":""},0,"","",{"$f":"IF(ROWS($3:46)<=COUNTIF(cond2,\"o\"),INDEX(champ2,SMALL(IF(cond2=\"o\",ROW(INDIRECT(\"1:\"&ROWS(champ2)))),ROWS($3:46))),\"\")","v":""},0,"","",{"$f":"IF(ROWS($3:46)<=COUNTIF(cond3,\"o\"),INDEX(champ3,SMALL(IF(cond3=\"o\",ROW(INDIRECT(\"1:\"&ROWS(champ3)))),ROWS($3:46))),\"\")","v":""},0,"","",{"$f":"IF(ROWS($3:46)<=COUNTIF(cond4,\"o\"),INDEX(champ4,SMALL(IF(cond4=\"o\",ROW(INDIRECT(\"1:\"&ROWS(champ4)))),ROWS($3:46))),\"\")","v":""},0,"","",{"$f":"IF(ROWS($3:46)<=COUNTIF(cond5,\"o\"),INDEX(champ5,SMALL(IF(cond5=\"o\",ROW(INDIRECT(\"1:\"&ROWS(champ5)))),ROWS($3:46))),\"\")","v":""},0,"","",{"$f":"IF(ROWS($3:46)<=COUNTIF(cond6,\"o\"),INDEX(champ6,SMALL(IF(cond6=\"o\",ROW(INDIRECT(\"1:\"&ROWS(champ6)))),ROWS($3:46))),\"\")","v":""},0,"","",{"$f":"IF(ROWS($3:46)<=COUNTIF(cond7,\"o\"),INDEX(champ7,SMALL(IF(cond7=\"o\",ROW(INDIRECT(\"1:\"&ROWS(champ7)))),ROWS($3:46))),\"\")","v":""},0,"","",{"$f":"IF(ROWS($3:46)<=COUNTIF(cond8,\"o\"),INDEX(champ8,SMALL(IF(cond8=\"o\",ROW(INDIRECT(\"1:\"&ROWS(champ8)))),ROWS($3:46))),\"\")","v":""},0,"","",{"$f":"IF(ROWS($3:46)<=COUNTIF(cond9,\"o\"),INDEX(champ9,SMALL(IF(cond9=\"o\",ROW(INDIRECT(\"1:\"&ROWS(champ9)))),ROWS($3:46))),\"\")","v":""},0,"","",{"$f":"IF(ROWS($3:46)<=COUNTIF(cond10,\"o\"),INDEX(champ10,SMALL(IF(cond10=\"o\",ROW(INDIRECT(\"1:\"&ROWS(champ10)))),ROWS($3:46))),\"\")","v":""},0,"","",{"$f":"IF(ROWS($3:46)<=COUNTIF(cond11,\"o\"),INDEX(champ11,SMALL(IF(cond11=\"o\",ROW(INDIRECT(\"1:\"&ROWS(champ11)))),ROWS($3:46))),\"\")","v":""}]
[null,null,null,null,null,null,null,null,null,null,null,null,null,null,null,null,null,null,48,0,"","",{"$f":"IF(ROWS($3:47)<=COUNTIF(cond1,\"o\"),INDEX(champ1,SMALL(IF(cond1=\"o\",ROW(INDIRECT(\"1:\"&ROWS(champ1)))),ROWS($3:47))),\"\")","v":""},0,"","",{"$f":"IF(ROWS($3:47)<=COUNTIF(cond2,\"o\"),INDEX(champ2,SMALL(IF(cond2=\"o\",ROW(INDIRECT(\"1:\"&ROWS(champ2)))),ROWS($3:47))),\"\")","v":""},0,"","",{"$f":"IF(ROWS($3:47)<=COUNTIF(cond3,\"o\"),INDEX(champ3,SMALL(IF(cond3=\"o\",ROW(INDIRECT(\"1:\"&ROWS(champ3)))),ROWS($3:47))),\"\")","v":""},0,"","",{"$f":"IF(ROWS($3:47)<=COUNTIF(cond4,\"o\"),INDEX(champ4,SMALL(IF(cond4=\"o\",ROW(INDIRECT(\"1:\"&ROWS(champ4)))),ROWS($3:47))),\"\")","v":""},0,"","",{"$f":"IF(ROWS($3:47)<=COUNTIF(cond5,\"o\"),INDEX(champ5,SMALL(IF(cond5=\"o\",ROW(INDIRECT(\"1:\"&ROWS(champ5)))),ROWS($3:47))),\"\")","v":""},0,"","",{"$f":"IF(ROWS($3:47)<=COUNTIF(cond6,\"o\"),INDEX(champ6,SMALL(IF(cond6=\"o\",ROW(INDIRECT(\"1:\"&ROWS(champ6)))),ROWS($3:47))),\"\")","v":""},0,"","",{"$f":"IF(ROWS($3:47)<=COUNTIF(cond7,\"o\"),INDEX(champ7,SMALL(IF(cond7=\"o\",ROW(INDIRECT(\"1:\"&ROWS(champ7)))),ROWS($3:47))),\"\")","v":""},0,"","",{"$f":"IF(ROWS($3:47)<=COUNTIF(cond8,\"o\"),INDEX(champ8,SMALL(IF(cond8=\"o\",ROW(INDIRECT(\"1:\"&ROWS(champ8)))),ROWS($3:47))),\"\")","v":""},0,"","",{"$f":"IF(ROWS($3:47)<=COUNTIF(cond9,\"o\"),INDEX(champ9,SMALL(IF(cond9=\"o\",ROW(INDIRECT(\"1:\"&ROWS(champ9)))),ROWS($3:47))),\"\")","v":""},0,"","",{"$f":"IF(ROWS($3:47)<=COUNTIF(cond10,\"o\"),INDEX(champ10,SMALL(IF(cond10=\"o\",ROW(INDIRECT(\"1:\"&ROWS(champ10)))),ROWS($3:47))),\"\")","v":""},0,"","",{"$f":"IF(ROWS($3:47)<=COUNTIF(cond11,\"o\"),INDEX(champ11,SMALL(IF(cond11=\"o\",ROW(INDIRECT(\"1:\"&ROWS(champ11)))),ROWS($3:47))),\"\")","v":""}]
[null,null,null,null,null,null,null,null,null,null,null,null,null,null,null,null,null,null,49,0,"","",{"$f":"IF(ROWS($3:48)<=COUNTIF(cond1,\"o\"),INDEX(champ1,SMALL(IF(cond1=\"o\",ROW(INDIRECT(\"1:\"&ROWS(champ1)))),ROWS($3:48))),\"\")","v":""},0,"","",{"$f":"IF(ROWS($3:48)<=COUNTIF(cond2,\"o\"),INDEX(champ2,SMALL(IF(cond2=\"o\",ROW(INDIRECT(\"1:\"&ROWS(champ2)))),ROWS($3:48))),\"\")","v":""},0,"","",{"$f":"IF(ROWS($3:48)<=COUNTIF(cond3,\"o\"),INDEX(champ3,SMALL(IF(cond3=\"o\",ROW(INDIRECT(\"1:\"&ROWS(champ3)))),ROWS($3:48))),\"\")","v":""},0,"","",{"$f":"IF(ROWS($3:48)<=COUNTIF(cond4,\"o\"),INDEX(champ4,SMALL(IF(cond4=\"o\",ROW(INDIRECT(\"1:\"&ROWS(champ4)))),ROWS($3:48))),\"\")","v":""},0,"","",{"$f":"IF(ROWS($3:48)<=COUNTIF(cond5,\"o\"),INDEX(champ5,SMALL(IF(cond5=\"o\",ROW(INDIRECT(\"1:\"&ROWS(champ5)))),ROWS($3:48))),\"\")","v":""},0,"","",{"$f":"IF(ROWS($3:48)<=COUNTIF(cond6,\"o\"),INDEX(champ6,SMALL(IF(cond6=\"o\",ROW(INDIRECT(\"1:\"&ROWS(champ6)))),ROWS($3:48))),\"\")","v":""},0,"","",{"$f":"IF(ROWS($3:48)<=COUNTIF(cond7,\"o\"),INDEX(champ7,SMALL(IF(cond7=\"o\",ROW(INDIRECT(\"1:\"&ROWS(champ7)))),ROWS($3:48))),\"\")","v":""},0,"","",{"$f":"IF(ROWS($3:48)<=COUNTIF(cond8,\"o\"),INDEX(champ8,SMALL(IF(cond8=\"o\",ROW(INDIRECT(\"1:\"&ROWS(champ8)))),ROWS($3:48))),\"\")","v":""},0,"","",{"$f":"IF(ROWS($3:48)<=COUNTIF(cond9,\"o\"),INDEX(champ9,SMALL(IF(cond9=\"o\",ROW(INDIRECT(\"1:\"&ROWS(champ9)))),ROWS($3:48))),\"\")","v":""},0,"","",{"$f":"IF(ROWS($3:48)<=COUNTIF(cond10,\"o\"),INDEX(champ10,SMALL(IF(cond10=\"o\",ROW(INDIRECT(\"1:\"&ROWS(champ10)))),ROWS($3:48))),\"\")","v":""},0,"","",{"$f":"IF(ROWS($3:48)<=COUNTIF(cond11,\"o\"),INDEX(champ11,SMALL(IF(cond11=\"o\",ROW(INDIRECT(\"1:\"&ROWS(champ11)))),ROWS($3:48))),\"\")","v":""}]
[null,null,null,null,null,null,null,null,null,null,null,null,null,null,null,null,null,null,50,0,"","",{"$f":"IF(ROWS($3:49)<=COUNTIF(cond1,\"o\"),INDEX(champ1,SMALL(IF(cond1=\"o\",ROW(INDIRECT(\"1:\"&ROWS(champ1)))),ROWS($3:49))),\"\")","v":""},0,"","",{"$f":"IF(ROWS($3:49)<=COUNTIF(cond2,\"o\"),INDEX(champ2,SMALL(IF(cond2=\"o\",ROW(INDIRECT(\"1:\"&ROWS(champ2)))),ROWS($3:49))),\"\")","v":""},0,"","",{"$f":"IF(ROWS($3:49)<=COUNTIF(cond3,\"o\"),INDEX(champ3,SMALL(IF(cond3=\"o\",ROW(INDIRECT(\"1:\"&ROWS(champ3)))),ROWS($3:49))),\"\")","v":""},0,"","",{"$f":"IF(ROWS($3:49)<=COUNTIF(cond4,\"o\"),INDEX(champ4,SMALL(IF(cond4=\"o\",ROW(INDIRECT(\"1:\"&ROWS(champ4)))),ROWS($3:49))),\"\")","v":""},0,"","",{"$f":"IF(ROWS($3:49)<=COUNTIF(cond5,\"o\"),INDEX(champ5,SMALL(IF(cond5=\"o\",ROW(INDIRECT(\"1:\"&ROWS(champ5)))),ROWS($3:49))),\"\")","v":""},0,"","",{"$f":"IF(ROWS($3:49)<=COUNTIF(cond6,\"o\"),INDEX(champ6,SMALL(IF(cond6=\"o\",ROW(INDIRECT(\"1:\"&ROWS(champ6)))),ROWS($3:49))),\"\")","v":""},0,"","",{"$f":"IF(ROWS($3:49)<=COUNTIF(cond7,\"o\"),INDEX(champ7,SMALL(IF(cond7=\"o\",ROW(INDIRECT(\"1:\"&ROWS(champ7)))),ROWS($3:49))),\"\")","v":""},0,"","",{"$f":"IF(ROWS($3:49)<=COUNTIF(cond8,\"o\"),INDEX(champ8,SMALL(IF(cond8=\"o\",ROW(INDIRECT(\"1:\"&ROWS(champ8)))),ROWS($3:49))),\"\")","v":""},0,"","",{"$f":"IF(ROWS($3:49)<=COUNTIF(cond9,\"o\"),INDEX(champ9,SMALL(IF(cond9=\"o\",ROW(INDIRECT(\"1:\"&ROWS(champ9)))),ROWS($3:49))),\"\")","v":""},0,"","",{"$f":"IF(ROWS($3:49)<=COUNTIF(cond10,\"o\"),INDEX(champ10,SMALL(IF(cond10=\"o\",ROW(INDIRECT(\"1:\"&ROWS(champ10)))),ROWS($3:49))),\"\")","v":""},0,"","",{"$f":"IF(ROWS($3:49)<=COUNTIF(cond11,\"o\"),INDEX(champ11,SMALL(IF(cond11=\"o\",ROW(INDIRECT(\"1:\"&ROWS(champ11)))),ROWS($3:49))),\"\")","v":""}]
[null,null,null,null,null,null,null,null,null,null,null,null,null,null,null,null,null,null,51,0,"","",{"$f":"IF(ROWS($3:50)<=COUNTIF(cond1,\"o\"),INDEX(champ1,SMALL(IF(cond1=\"o\",ROW(INDIRECT(\"1:\"&ROWS(champ1)))),ROWS($3:50))),\"\")","v":""},0,"","",{"$f":"IF(ROWS($3:50)<=COUNTIF(cond2,\"o\"),INDEX(champ2,SMALL(IF(cond2=\"o\",ROW(INDIRECT(\"1:\"&ROWS(champ2)))),ROWS($3:50))),\"\")","v":""},0,"","",{"$f":"IF(ROWS($3:50)<=COUNTIF(cond3,\"o\"),INDEX(champ3,SMALL(IF(cond3=\"o\",ROW(INDIRECT(\"1:\"&ROWS(champ3)))),ROWS($3:50))),\"\")","v":""},0,"","",{"$f":"IF(ROWS($3:50)<=COUNTIF(cond4,\"o\"),INDEX(champ4,SMALL(IF(cond4=\"o\",ROW(INDIRECT(\"1:\"&ROWS(champ4)))),ROWS($3:50))),\"\")","v":""},0,"","",{"$f":"IF(ROWS($3:50)<=COUNTIF(cond5,\"o\"),INDEX(champ5,SMALL(IF(cond5=\"o\",ROW(INDIRECT(\"1:\"&ROWS(champ5)))),ROWS($3:50))),\"\")","v":""},0,"","",{"$f":"IF(ROWS($3:50)<=COUNTIF(cond6,\"o\"),INDEX(champ6,SMALL(IF(cond6=\"o\",ROW(INDIRECT(\"1:\"&ROWS(champ6)))),ROWS($3:50))),\"\")","v":""},0,"","",{"$f":"IF(ROWS($3:50)<=COUNTIF(cond7,\"o\"),INDEX(champ7,SMALL(IF(cond7=\"o\",ROW(INDIRECT(\"1:\"&ROWS(champ7)))),ROWS($3:50))),\"\")","v":""},0,"","",{"$f":"IF(ROWS($3:50)<=COUNTIF(cond8,\"o\"),INDEX(champ8,SMALL(IF(cond8=\"o\",ROW(INDIRECT(\"1:\"&ROWS(champ8)))),ROWS($3:50))),\"\")","v":""},0,"","",{"$f":"IF(ROWS($3:50)<=COUNTIF(cond9,\"o\"),INDEX(champ9,SMALL(IF(cond9=\"o\",ROW(INDIRECT(\"1:\"&ROWS(champ9)))),ROWS($3:50))),\"\")","v":""},0,"","",{"$f":"IF(ROWS($3:50)<=COUNTIF(cond10,\"o\"),INDEX(champ10,SMALL(IF(cond10=\"o\",ROW(INDIRECT(\"1:\"&ROWS(champ10)))),ROWS($3:50))),\"\")","v":""},0,"","",{"$f":"IF(ROWS($3:50)<=COUNTIF(cond11,\"o\"),INDEX(champ11,SMALL(IF(cond11=\"o\",ROW(INDIRECT(\"1:\"&ROWS(champ11)))),ROWS($3:50))),\"\")","v":""}]
[null,null,null,null,null,null,null,null,null,null,null,null,null,null,null,null,null,null,52,0,"","",{"$f":"IF(ROWS($3:51)<=COUNTIF(cond1,\"o\"),INDEX(champ1,SMALL(IF(cond1=\"o\",ROW(INDIRECT(\"1:\"&ROWS(champ1)))),ROWS($3:51))),\"\")","v":""},0,"","",{"$f":"IF(ROWS($3:51)<=COUNTIF(cond2,\"o\"),INDEX(champ2,SMALL(IF(cond2=\"o\",ROW(INDIRECT(\"1:\"&ROWS(champ2)))),ROWS($3:51))),\"\")","v":""},0,"","",{"$f":"IF(ROWS($3:51)<=COUNTIF(cond3,\"o\"),INDEX(champ3,SMALL(IF(cond3=\"o\",ROW(INDIRECT(\"1:\"&ROWS(champ3)))),ROWS($3:51))),\"\")","v":""},0,"","",{"$f":"IF(ROWS($3:51)<=COUNTIF(cond4,\"o\"),INDEX(champ4,SMALL(IF(cond4=\"o\",ROW(INDIRECT(\"1:\"&ROWS(champ4)))),ROWS($3:51))),\"\")","v":""},0,"","",{"$f":"IF(ROWS($3:51)<=COUNTIF(cond5,\"o\"),INDEX(champ5,SMALL(IF(cond5=\"o\",ROW(INDIRECT(\"1:\"&ROWS(champ5)))),ROWS($3:51))),\"\")","v":""},0,"","",{"$f":"IF(ROWS($3:51)<=COUNTIF(cond6,\"o\"),INDEX(champ6,SMALL(IF(cond6=\"o\",ROW(INDIRECT(\"1:\"&ROWS(champ6)))),ROWS($3:51))),\"\")","v":""},0,"","",{"$f":"IF(ROWS($3:51)<=COUNTIF(cond7,\"o\"),INDEX(champ7,SMALL(IF(cond7=\"o\",ROW(INDIRECT(\"1:\"&ROWS(champ7)))),ROWS($3:51))),\"\")","v":""},0,"","",{"$f":"IF(ROWS($3:51)<=COUNTIF(cond8,\"o\"),INDEX(champ8,SMALL(IF(cond8=\"o\",ROW(INDIRECT(\"1:\"&ROWS(champ8)))),ROWS($3:51))),\"\")","v":""},0,"","",{"$f":"IF(ROWS($3:51)<=COUNTIF(cond9,\"o\"),INDEX(champ9,SMALL(IF(cond9=\"o\",ROW(INDIRECT(\"1:\"&ROWS(champ9)))),ROWS($3:51))),\"\")","v":""},0,"","",{"$f":"IF(ROWS($3:51)<=COUNTIF(cond10,\"o\"),INDEX(champ10,SMALL(IF(cond10=\"o\",ROW(INDIRECT(\"1:\"&ROWS(champ10)))),ROWS($3:51))),\"\")","v":""},0,"","",{"$f":"IF(ROWS($3:51)<=COUNTIF(cond11,\"o\"),INDEX(champ11,SMALL(IF(cond11=\"o\",ROW(INDIRECT(\"1:\"&ROWS(champ11)))),ROWS($3:51))),\"\")","v":""}]
[null,null,null,null,null,null,null,null,null,null,null,null,null,null,null,null,null,null,53,0,"","",{"$f":"IF(ROWS($3:52)<=COUNTIF(cond1,\"o\"),INDEX(champ1,SMALL(IF(cond1=\"o\",ROW(INDIRECT(\"1:\"&ROWS(champ1)))),ROWS($3:52))),\"\")","v":""},0,"","",{"$f":"IF(ROWS($3:52)<=COUNTIF(cond2,\"o\"),INDEX(champ2,SMALL(IF(cond2=\"o\",ROW(INDIRECT(\"1:\"&ROWS(champ2)))),ROWS($3:52))),\"\")","v":""},0,"","",{"$f":"IF(ROWS($3:52)<=COUNTIF(cond3,\"o\"),INDEX(champ3,SMALL(IF(cond3=\"o\",ROW(INDIRECT(\"1:\"&ROWS(champ3)))),ROWS($3:52))),\"\")","v":""},0,"","",{"$f":"IF(ROWS($3:52)<=COUNTIF(cond4,\"o\"),INDEX(champ4,SMALL(IF(cond4=\"o\",ROW(INDIRECT(\"1:\"&ROWS(champ4)))),ROWS($3:52))),\"\")","v":""},0,"","",{"$f":"IF(ROWS($3:52)<=COUNTIF(cond5,\"o\"),INDEX(champ5,SMALL(IF(cond5=\"o\",ROW(INDIRECT(\"1:\"&ROWS(champ5)))),ROWS($3:52))),\"\")","v":""},0,"","",{"$f":"IF(ROWS($3:52)<=COUNTIF(cond6,\"o\"),INDEX(champ6,SMALL(IF(cond6=\"o\",ROW(INDIRECT(\"1:\"&ROWS(champ6)))),ROWS($3:52))),\"\")","v":""},0,"","",{"$f":"IF(ROWS($3:52)<=COUNTIF(cond7,\"o\"),INDEX(champ7,SMALL(IF(cond7=\"o\",ROW(INDIRECT(\"1:\"&ROWS(champ7)))),ROWS($3:52))),\"\")","v":""},0,"","",{"$f":"IF(ROWS($3:52)<=COUNTIF(cond8,\"o\"),INDEX(champ8,SMALL(IF(cond8=\"o\",ROW(INDIRECT(\"1:\"&ROWS(champ8)))),ROWS($3:52))),\"\")","v":""},0,"","",{"$f":"IF(ROWS($3:52)<=COUNTIF(cond9,\"o\"),INDEX(champ9,SMALL(IF(cond9=\"o\",ROW(INDIRECT(\"1:\"&ROWS(champ9)))),ROWS($3:52))),\"\")","v":""},0,"","",{"$f":"IF(ROWS($3:52)<=COUNTIF(cond10,\"o\"),INDEX(champ10,SMALL(IF(cond10=\"o\",ROW(INDIRECT(\"1:\"&ROWS(champ10)))),ROWS($3:52))),\"\")","v":""},0,"","",{"$f":"IF(ROWS($3:52)<=COUNTIF(cond11,\"o\"),INDEX(champ11,SMALL(IF(cond11=\"o\",ROW(INDIRECT(\"1:\"&ROWS(champ11)))),ROWS($3:52))),\"\")","v":""}]
[null,null,null,null,null,null,null,null,null,null,null,null,null,null,null,null,null,null,54,0,"","",{"$f":"IF(ROWS($3:53)<=COUNTIF(cond1,\"o\"),INDEX(champ1,SMALL(IF(cond1=\"o\",ROW(INDIRECT(\"1:\"&ROWS(champ1)))),ROWS($3:53))),\"\")","v":""},0,"","",{"$f":"IF(ROWS($3:53)<=COUNTIF(cond2,\"o\"),INDEX(champ2,SMALL(IF(cond2=\"o\",ROW(INDIRECT(\"1:\"&ROWS(champ2)))),ROWS($3:53))),\"\")","v":""},0,"","",{"$f":"IF(ROWS($3:53)<=COUNTIF(cond3,\"o\"),INDEX(champ3,SMALL(IF(cond3=\"o\",ROW(INDIRECT(\"1:\"&ROWS(champ3)))),ROWS($3:53))),\"\")","v":""},0,"","",{"$f":"IF(ROWS($3:53)<=COUNTIF(cond4,\"o\"),INDEX(champ4,SMALL(IF(cond4=\"o\",ROW(INDIRECT(\"1:\"&ROWS(champ4)))),ROWS($3:53))),\"\")","v":""},0,"","",{"$f":"IF(ROWS($3:53)<=COUNTIF(cond5,\"o\"),INDEX(champ5,SMALL(IF(cond5=\"o\",ROW(INDIRECT(\"1:\"&ROWS(champ5)))),ROWS($3:53))),\"\")","v":""},0,"","",{"$f":"IF(ROWS($3:53)<=COUNTIF(cond6,\"o\"),INDEX(champ6,SMALL(IF(cond6=\"o\",ROW(INDIRECT(\"1:\"&ROWS(champ6)))),ROWS($3:53))),\"\")","v":""},0,"","",{"$f":"IF(ROWS($3:53)<=COUNTIF(cond7,\"o\"),INDEX(champ7,SMALL(IF(cond7=\"o\",ROW(INDIRECT(\"1:\"&ROWS(champ7)))),ROWS($3:53))),\"\")","v":""},0,"","",{"$f":"IF(ROWS($3:53)<=COUNTIF(cond8,\"o\"),INDEX(champ8,SMALL(IF(cond8=\"o\",ROW(INDIRECT(\"1:\"&ROWS(champ8)))),ROWS($3:53))),\"\")","v":""},0,"","",{"$f":"IF(ROWS($3:53)<=COUNTIF(cond9,\"o\"),INDEX(champ9,SMALL(IF(cond9=\"o\",ROW(INDIRECT(\"1:\"&ROWS(champ9)))),ROWS($3:53))),\"\")","v":""},0,"","",{"$f":"IF(ROWS($3:53)<=COUNTIF(cond10,\"o\"),INDEX(champ10,SMALL(IF(cond10=\"o\",ROW(INDIRECT(\"1:\"&ROWS(champ10)))),ROWS($3:53))),\"\")","v":""},0,"","",{"$f":"IF(ROWS($3:53)<=COUNTIF(cond11,\"o\"),INDEX(champ11,SMALL(IF(cond11=\"o\",ROW(INDIRECT(\"1:\"&ROWS(champ11)))),ROWS($3:53))),\"\")","v":""}]
[null,null,null,null,null,null,null,null,null,null,null,null,null,null,null,null,null,null,55,0,"","",{"$f":"IF(ROWS($3:54)<=COUNTIF(cond1,\"o\"),INDEX(champ1,SMALL(IF(cond1=\"o\",ROW(INDIRECT(\"1:\"&ROWS(champ1)))),ROWS($3:54))),\"\")","v":""},0,"","",{"$f":"IF(ROWS($3:54)<=COUNTIF(cond2,\"o\"),INDEX(champ2,SMALL(IF(cond2=\"o\",ROW(INDIRECT(\"1:\"&ROWS(champ2)))),ROWS($3:54))),\"\")","v":""},0,"","",{"$f":"IF(ROWS($3:54)<=COUNTIF(cond3,\"o\"),INDEX(champ3,SMALL(IF(cond3=\"o\",ROW(INDIRECT(\"1:\"&ROWS(champ3)))),ROWS($3:54))),\"\")","v":""},0,"","",{"$f":"IF(ROWS($3:54)<=COUNTIF(cond4,\"o\"),INDEX(champ4,SMALL(IF(cond4=\"o\",ROW(INDIRECT(\"1:\"&ROWS(champ4)))),ROWS($3:54))),\"\")","v":""},0,"","",{"$f":"IF(ROWS($3:54)<=COUNTIF(cond5,\"o\"),INDEX(champ5,SMALL(IF(cond5=\"o\",ROW(INDIRECT(\"1:\"&ROWS(champ5)))),ROWS($3:54))),\"\")","v":""},0,"","",{"$f":"IF(ROWS($3:54)<=COUNTIF(cond6,\"o\"),INDEX(champ6,SMALL(IF(cond6=\"o\",ROW(INDIRECT(\"1:\"&ROWS(champ6)))),ROWS($3:54))),\"\")","v":""},0,"","",{"$f":"IF(ROWS($3:54)<=COUNTIF(cond7,\"o\"),INDEX(champ7,SMALL(IF(cond7=\"o\",ROW(INDIRECT(\"1:\"&ROWS(champ7)))),ROWS($3:54))),\"\")","v":""},0,"","",{"$f":"IF(ROWS($3:54)<=COUNTIF(cond8,\"o\"),INDEX(champ8,SMALL(IF(cond8=\"o\",ROW(INDIRECT(\"1:\"&ROWS(champ8)))),ROWS($3:54))),\"\")","v":""},0,"","",{"$f":"IF(ROWS($3:54)<=COUNTIF(cond9,\"o\"),INDEX(champ9,SMALL(IF(cond9=\"o\",ROW(INDIRECT(\"1:\"&ROWS(champ9)))),ROWS($3:54))),\"\")","v":""},0,"","",{"$f":"IF(ROWS($3:54)<=COUNTIF(cond10,\"o\"),INDEX(champ10,SMALL(IF(cond10=\"o\",ROW(INDIRECT(\"1:\"&ROWS(champ10)))),ROWS($3:54))),\"\")","v":""},0,"","",{"$f":"IF(ROWS($3:54)<=COUNTIF(cond11,\"o\"),INDEX(champ11,SMALL(IF(cond11=\"o\",ROW(INDIRECT(\"1:\"&ROWS(champ11)))),ROWS($3:54))),\"\")","v":""}]
[]
[]
[]
[]
[]
[]
[]
[]
[]
[]
[]
[]
[]
[]
[]
[]
[]
[null,null,null,null,null,null,null,null,null,null,null,null,null,{"$f":"VLOOKUP(N75,$M$1:$N$11,2,0)","v":{"$error":"#N/A"}},{"$f":"VLOOKUP(O75,$M$1:$N$11,2,0)","v":{"$error":"#N/A"}},{"$error":"#N/A"},{"$error":"#N/A"},{"$error":"#N/A"},{"$error":"#N/A"},{"$error":"#N/A"},{"$error":"#N/A"},{"$error":"#N/A"}]
[null,null,null,null,null,null,null,null,null,null,null,null,"Nombre de Nom","Étiquettes de colonnes"]
[null,null,null,null,null,null,null,null,null,null,null,null,"Étiquettes de lignes","(vide)","Total général"]
[null,null,null,null,null,null,null,null,null,null,null,null,"(vide)"]
[null,null,null,null,null,null,null,null,null,null,null,null," - "]
[null,null,null,null,null,null,null,null,null,null,null,null,"Total général"]

{"sheet":"Indicateurs","index":9,"n_rows":818,"n_cols":10,"rows_kept":818,"cut":false,"hidden":false,"merged":[[791,3,791,4],[792,3,792,4],[781,3,781,4],[782,3,782,4],[766,3,766,4],[787,3,787,4],[788,3,788,4],[789,3,789,4],[790,3,790,4],[767,3,767,4],[783,3,783,4],[784,3,784,4],[785,3,785,4],[786,3,786,4],[761,3,761,4],[762,3,762,4],[763,3,763,4],[764,3,764,4],[765,3,765,4],[817,3,817,4],[806,3,806,4],[807,3,807,4],[808,3,808,4],[809,3,809,4],[810,3,810,4],[811,3,811,4],[812,3,812,4],[813,3,813,4],[814,3,814,4],[816,3,816,4],[815,3,815,4],[731,3,731,4],[732,3,732,4],[733,3,733,4],[734,3,734,4],[760,3,760,4],[736,3,736,4],[737,3,737,4],[738,3,738,4],[739,3,739,4],[740,3,740,4],[741,3,741,4],[742,3,742,4],[756,3,756,4],[757,3,757,4],[758,3,758,4],[759,3,759,4],[735,3,735,4],[56,9,56,10],[56,11,56,12],[56,13,56,14],[711,3,711,4],[712,3,712,4],[713,3,713,4],[714,3,714,4],[717,3,717,4],[715,3,715,4],[716,3,716,4],[706,3,706,4],[707,3,707,4],[708,3,708,4],[709,3,709,4],[710,3,710,4]]}
["Indicateurs de suivi des objectifs"]
[]
[null,"Objectif:",{"$f":"Objectifs!C8","v":"Objectif Industrie non-ETS"}]
[null,"Secteur:",{"$f":"Objectifs!B8","v":"Industrie non-ETS"}]
[null,"Economie d'énergie (GWh/an):",{"$f":"D19","v":0}]
[null,"Réduction des émissions (tCO2eq/an):",{"$f":"E19","v":0}]
[]
[null,"Indicateur","Valeur cible","Economie d'énergie (GWh/an)","Réduction des émissions (tCO2eq/an)","Part de l'objectif","Valeur au moment du suivi","Réduction des émissions (tCO2eq/an)"]
[{"$f":"C$3&\" dans le secteur '\"&C$4&\"'_\"&I9","v":"Objectif Industrie non-ETS dans le secteur 'Industrie non-ETS'_1"},{"$f":"IF(Objectifs!AE4=\"\",\"\",Objectifs!AE4)","v":""},{"$f":"IF(ISNA(VLOOKUP(B9,Mesures_FPC!$B$1:$L$52,8,0)),,VLOOKUP(B9,Mesures_FPC!$B$1:$L$52,8,0))","v":0},null,{"$f":"IF(ISNA(VLOOKUP(B9,Mesures_FPC!$B$1:$M$52,12,0)),,VLOOKUP(B9,Mesures_FPC!$B$1:$M$52,12,0))","v":0},{"$f":"IF($C$6=0,0,E9/$C$6)","v":0},{"$f":"IF(ISNA(VLOOKUP(J9,Mesures_FPC!$A$1:$L$52,8,0)),,VLOOKUP(J9,Mesures_FPC!$A$1:$L$52,8,0))","v":0},{"$f":"IF(C9=0,0,E9/C9*G9)","v":0},1,"RECHERCHEV(AQ4;Objectifs!$M$1:$N$10;2;0)"]
["Objectif Industrie non-ETS dans le secteur 'Industrie non-ETS'_2",{"$f":"IF(Objectifs!AE5=\"\",\"\",Objectifs!AE5)","v":""},{"$f":"IF(ISNA(VLOOKUP(B10,Mesures_FPC!$B$1:$L$52,8,0)),,VLOOKUP(B10,Mesures_FPC!$B$1:$L$52,8,0))","v":0},null,{"$f":"IF(ISNA(VLOOKUP(B10,Mesures_FPC!$B$1:$M$52,12,0)),,VLOOKUP(B10,Mesures_FPC!$B$1:$M$52,12,0))","v":0},{"$f":"IF($C$6=0,0,E10/$C$6)","v":0},{"$f":"IF(ISNA(VLOOKUP(J10,Mesures_FPC!$A$1:$L$52,8,0)),,VLOOKUP(J10,Mesures_FPC!$A$1:$L$52,8,0))","v":0},{"$f":"IF(C10=0,0,E10/C10*G10)","v":0},2,"RECHERCHEV(AQ4;Objectifs!$M$1:$N$10;2;0)"]
["Objectif Industrie non-ETS dans le secteur 'Industrie non-ETS'_3",{"$f":"IF(Objectifs!AE6=\"\",\"\",Objectifs!AE6)","v":""},{"$f":"IF(ISNA(VLOOKUP(B11,Mesures_FPC!$B$1:$L$52,8,0)),,VLOOKUP(B11,Mesures_FPC!$B$1:$L$52,8,0))","v":0},null,{"$f":"IF(ISNA(VLOOKUP(B11,Mesures_FPC!$B$1:$M$52,12,0)),,VLOOKUP(B11,Mesures_FPC!$B$1:$M$52,12,0))","v":0},0,{"$f":"IF(ISNA(VLOOKUP(J11,Mesures_FPC!$A$1:$L$52,8,0)),,VLOOKUP(J11,Mesures_FPC!$A$1:$L$52,8,0))","v":0},0,3,"RECHERCHEV(AQ4;Objectifs!$M$1:$N$10;2;0)"]
["Objectif Industrie non-ETS dans le secteur 'Industrie non-ETS'_4",{"$f":"IF(Objectifs!AE7=\"\",\"\",Objectifs!AE7)","v":""},{"$f":"IF(ISNA(VLOOKUP(B12,Mesures_FPC!$B$1:$L$52,8,0)),,VLOOKUP(B12,Mesures_FPC!$B$1:$L$52,8,0))","v":0},null,{"$f":"IF(ISNA(VLOOKUP(B12,Mesures_FPC!$B$1:$M$52,12,0)),,VLOOKUP(B12,Mesures_FPC!$B$1:$M$52,12,0))","v":0},0,{"$f":"IF(ISNA(VLOOKUP(J12,Mesures_FPC!$A$1:$L$52,8,0)),,VLOOKUP(J12,Mesures_FPC!$A$1:$L$52,8,0))","v":0},0,4,"RECHERCHEV(AQ4;Objectifs!$M$1:$N$10;2;0)"]
["Objectif Industrie non-ETS dans le secteur 'Industrie non-ETS'_5",{"$f":"IF(Objectifs!AE8=\"\",\"\",Objectifs!AE8)","v":""},{"$f":"IF(ISNA(VLOOKUP(B13,Mesures_FPC!$B$1:$L$52,8,0)),,VLOOKUP(B13,Mesures_FPC!$B$1:$L$52,8,0))","v":0},null,{"$f":"IF(ISNA(VLOOKUP(B13,Mesures_FPC!$B$1:$M$52,12,0)),,VLOOKUP(B13,Mesures_FPC!$B$1:$M$52,12,0))","v":0},0,{"$f":"IF(ISNA(VLOOKUP(J13,Mesures_FPC!$A$1:$L$52,8,0)),,VLOOKUP(J13,Mesures_FPC!$A$1:$L$52,8,0))","v":0},0,5,"RECHERCHEV(AQ4;Objectifs!$M$1:$N$10;2;0)"]
["Objectif Industrie non-ETS dans le secteur 'Industrie non-ETS'_6",{"$f":"IF(Objectifs!AE9=\"\",\"\",Objectifs!AE9)","v":""},{"$f":"IF(ISNA(VLOOKUP(B14,Mesures_FPC!$B$1:$L$52,8,0)),,VLOOKUP(B14,Mesures_FPC!$B$1:$L$52,8,0))","v":0},null,{"$f":"IF(ISNA(VLOOKUP(B14,Mesures_FPC!$B$1:$M$52,12,0)),,VLOOKUP(B14,Mesures_FPC!$B$1:$M$52,12,0))","v":0},0,{"$f":"IF(ISNA(VLOOKUP(J14,Mesures_FPC!$A$1:$L$52,8,0)),,VLOOKUP(J14,Mesures_FPC!$A$1:$L$52,8,0))","v":0},0,6,"RECHERCHEV(AQ4;Objectifs!$M$1:$N$10;2;0)"]
["Objectif Industrie non-ETS dans le secteur 'Industrie non-ETS'_7",{"$f":"IF(Objectifs!AE10=\"\",\"\",Objectifs!AE10)","v":""},{"$f":"IF(ISNA(VLOOKUP(B15,Mesures_FPC!$B$1:$L$52,8,0)),,VLOOKUP(B15,Mesures_FPC!$B$1:$L$52,8,0))","v":0},null,{"$f":"IF(ISNA(VLOOKUP(B15,Mesures_FPC!$B$1:$M$52,12,0)),,VLOOKUP(B15,Mesures_FPC!$B$1:$M$52,12,0))","v":0},0,{"$f":"IF(ISNA(VLOOKUP(J15,Mesures_FPC!$A$1:$L$52,8,0)),,VLOOKUP(J15,Mesures_FPC!$A$1:$L$52,8,0))","v":0},0,7,"RECHERCHEV(AQ4;Objectifs!$M$1:$N$10;2;0)"]
["Objectif Industrie non-ETS dans le secteur 'Industrie non-ETS'_8",{"$f":"IF(Objectifs!AE11=\"\",\"\",Objectifs!AE11)","v":""},{"$f":"IF(ISNA(VLOOKUP(B16,Mesures_FPC!$B$1:$L$52,8,0)),,VLOOKUP(B16,Mesures_FPC!$B$1:$L$52,8,0))","v":0},null,{"$f":"IF(ISNA(VLOOKUP(B16,Mesures_FPC!$B$1:$M$52,12,0)),,VLOOKUP(B16,Mesures_FPC!$B$1:$M$52,12,0))","v":0},0,{"$f":"IF(ISNA(VLOOKUP(J16,Mesures_FPC!$A$1:$L$52,8,0)),,VLOOKUP(J16,Mesures_FPC!$A$1:$L$52,8,0))","v":0},0,8,"RECHERCHEV(AQ4;Objectifs!$M$1:$N$10;2;0)"]
["Objectif Industrie non-ETS dans le secteur 'Industrie non-ETS'_9",{"$f":"IF(Objectifs!AE12=\"\",\"\",Objectifs!AE12)","v":""},{"$f":"IF(ISNA(VLOOKUP(B17,Mesures_FPC!$B$1:$L$52,8,0)),,VLOOKUP(B17,Mesures_FPC!$B$1:$L$52,8,0))","v":0},null,{"$f":"IF(ISNA(VLOOKUP(B17,Mesures_FPC!$B$1:$M$52,12,0)),,VLOOKUP(B17,Mesures_FPC!$B$1:$M$52,12,0))","v":0},0,{"$f":"IF(ISNA(VLOOKUP(J17,Mesures_FPC!$A$1:$L$52,8,0)),,VLOOKUP(J17,Mesures_FPC!$A$1:$L$52,8,0))","v":0},0,9,"RECHERCHEV(AQ4;Objectifs!$M$1:$N$10;2;0)"]
["Objectif Industrie non-ETS dans le secteur 'Industrie non-ETS'_10",{"$f":"IF(Objectifs!AE13=\"\",\"\",Objectifs!AE13)","v":""},{"$f":"IF(ISNA(VLOOKUP(B18,Mesures_FPC!$B$1:$L$52,8,0)),,VLOOKUP(B18,Mesures_FPC!$B$1:$L$52,8,0))","v":0},null,{"$f":"IF(ISNA(VLOOKUP(B18,Mesures_FPC!$B$1:$M$52,12,0)),,VLOOKUP(B18,Mesures_FPC!$B$1:$M$52,12,0))","v":0},0,{"$f":"IF(ISNA(VLOOKUP(J18,Mesures_FPC!$A$1:$L$52,8,0)),,VLOOKUP(J18,Mesures_FPC!$A$1:$L$52,8,0))","v":0},0,10,"RECHERCHEV(AQ4;Objectifs!$M$1:$N$10;2;0)"]
[null,null,"Total",{"$f":"SUM(D9:D18)","v":0},{"$f":"SUM(E9:E18)","v":0},0,"Total",{"$f":"SUM(H9:H18)","v":0},null,"RECHERCHEV(AQ4;Objectifs!$M$1:$N$10;2;0)"]
[]
[]
[]
[]
[]
[]
[]
[null,"Objectif:",{"$f":"Objectifs!C9","v":"Objectif Tertiaire"}]
[null,"Secteur:",{"$f":"Objectifs!B9","v":"Tertiaire"}]
[null,"Economie d'énergie (GWh/an):",{"$f":"D43","v":0}]
[null,"Réduction des émissions (tCO2eq/an):",{"$f":"E43","v":0}]
[]
[null,"Indicateur","Valeur cible","Economie d'énergie (GWh/an)","Réduction des émissions (tCO2eq/an)","Part de l'objectif","Valeur au moment du suivi","Réduction des émissions (tCO2eq/an)"]
[{"$f":"C$27&\" dans le secteur '\"&C$28&\"'_\"&I33","v":"Objectif Tertiaire dans le secteur 'Tertiaire'_1"},{"$f":"IF(Objectifs!AM4=\"\",\"\",Objectifs!AM4)","v":""},{"$f":"IF(ISNA(VLOOKUP(B33,Mesures_FPC!$B$1:$L$52,8,0)),,VLOOKUP(B33,Mesures_FPC!$B$1:$L$52,8,0))","v":0},null,{"$f":"IF(ISNA(VLOOKUP(B33,Mesures_FPC!$B$1:$M$52,12,0)),,VLOOKUP(B33,Mesures_FPC!$B$1:$M$52,12,0))","v":0},{"$f":"IF($E$43=0,0,E33/$E$43)","v":0},{"$f":"IF(ISNA(VLOOKUP(J33,Mesures_FPC!$A$1:$L$52,8,0)),,VLOOKUP(J33,Mesures_FPC!$A$1:$L$52,8,0))","v":0},{"$f":"IF(C33=0,0,E33/C33*G33)","v":0},1,"RECHERCHEV(AQ4;Objectifs!$M$1:$N$10;2;0)"]
["Objectif Tertiaire dans le secteur 'Tertiaire'_2",{"$f":"IF(Objectifs!AM5=\"\",\"\",Objectifs!AM5)","v":""},{"$f":"IF(ISNA(VLOOKUP(B34,Mesures_FPC!$B$1:$L$52,8,0)),,VLOOKUP(B34,Mesures_FPC!$B$1:$L$52,8,0))","v":0},null,{"$f":"IF(ISNA(VLOOKUP(B34,Mesures_FPC!$B$1:$M$52,12,0)),,VLOOKUP(B34,Mesures_FPC!$B$1:$M$52,12,0))","v":0},{"$f":"IF($E$43=0,0,E34/$E$43)","v":0},{"$f":"IF(ISNA(VLOOKUP(J34,Mesures_FPC!$A$1:$L$52,8,0)),,VLOOKUP(J34,Mesures_FPC!$A$1:$L$52,8,0))","v":0},{"$f":"IF(C34=0,0,E34/C34*G34)","v":0},2,"RECHERCHEV(AQ4;Objectifs!$M$1:$N$10;2;0)"]
["Objectif Tertiaire dans le secteur 'Tertiaire'_3",{"$f":"IF(Objectifs!AM6=\"\",\"\",Objectifs!AM6)","v":""},{"$f":"IF(ISNA(VLOOKUP(B35,Mesures_FPC!$B$1:$L$52,8,0)),,VLOOKUP(B35,Mesures_FPC!$B$1:$L$52,8,0))","v":0},null,{"$f":"IF(ISNA(VLOOKUP(B35,Mesures_FPC!$B$1:$M$52,12,0)),,VLOOKUP(B35,Mesures_FPC!$B$1:$M$52,12,0))","v":0},0,{"$f":"IF(ISNA(VLOOKUP(J35,Mesures_FPC!$A$1:$L$52,8,0)),,VLOOKUP(J35,Mesures_FPC!$A$1:$L$52,8,0))","v":0},0,3,"RECHERCHEV(AQ4;Objectifs!$M$1:$N$10;2;0)"]
["Objectif Tertiaire dans le secteur 'Tertiaire'_4",{"$f":"IF(Objectifs!AM7=\"\",\"\",Objectifs!AM7)","v":""},{"$f":"IF(ISNA(VLOOKUP(B36,Mesures_FPC!$B$1:$L$52,8,0)),,VLOOKUP(B36,Mesures_FPC!$B$1:$L$52,8,0))","v":0},null,{"$f":"IF(ISNA(VLOOKUP(B36,Mesures_FPC!$B$1:$M$52,12,0)),,VLOOKUP(B36,Mesures_FPC!$B$1:$M$52,12,0))","v":0},0,{"$f":"IF(ISNA(VLOOKUP(J36,Mesures_FPC!$A$1:$L$52,8,0)),,VLOOKUP(J36,Mesures_FPC!$A$1:$L$52,8,0))","v":0},0,4,"RECHERCHEV(AQ4;Objectifs!$M$1:$N$10;2;0)"]
["Objectif Tertiaire dans le secteur 'Tertiaire'_5",{"$f":"IF(Objectifs!AM8=\"\",\"\",Objectifs!AM8)","v":""},{"$f":"IF(ISNA(VLOOKUP(B37,Mesures_FPC!$B$1:$L$52,8,0)),,VLOOKUP(B37,Mesures_FPC!$B$1:$L$52,8,0))","v":0},null,{"$f":"IF(ISNA(VLOOKUP(B37,Mesures_FPC!$B$1:$M$52,12,0)),,VLOOKUP(B37,Mesures_FPC!$B$1:$M$52,12,0))","v":0},0,{"$f":"IF(ISNA(VLOOKUP(J37,Mesures_FPC!$A$1:$L$52,8,0)),,VLOOKUP(J37,Mesures_FPC!$A$1:$L$52,8,0))","v":0},0,5,"RECHERCHEV(AQ4;Objectifs!$M$1:$N$10;2;0)"]
["Objectif Tertiaire dans le secteur 'Tertiaire'_6",{"$f":"IF(Objectifs!AM9=\"\",\"\",Objectifs!AM9)","v":""},{"$f":"IF(ISNA(VLOOKUP(B38,Mesures_FPC!$B$1:$L$52,8,0)),,VLOOKUP(B38,Mesures_FPC!$B$1:$L$52,8,0))","v":0},null,{"$f":"IF(ISNA(VLOOKUP(B38,Mesures_FPC!$B$1:$M$52,12,0)),,VLOOKUP(B38,Mesures_FPC!$B$1:$M$52,12,0))","v":0},0,{"$f":"IF(ISNA(VLOOKUP(J38,Mesures_FPC!$A$1:$L$52,8,0)),,VLOOKUP(J38,Mesures_FPC!$A$1:$L$52,8,0))","v":0},0,6,"RECHERCHEV(AQ4;Objectifs!$M$1:$N$10;2;0)"]
["Objectif Tertiaire dans le secteur 'Tertiaire'_7",{"$f":"IF(Objectifs!AM10=\"\",\"\",Objectifs!AM10)","v":""},{"$f":"IF(ISNA(VLOOKUP(B39,Mesures_FPC!$B$1:$L$52,8,0)),,VLOOKUP(B39,Mesures_FPC!$B$1:$L$52,8,0))","v":0},null,{"$f":"IF(ISNA(VLOOKUP(B39,Mesures_FPC!$B$1:$M$52,12,0)),,VLOOKUP(B39,Mesures_FPC!$B$1:$M$52,12,0))","v":0},0,{"$f":"IF(ISNA(VLOOKUP(J39,Mesures_FPC!$A$1:$L$52,8,0)),,VLOOKUP(J39,Mesures_FPC!$A$1:$L$52,8,0))","v":0},0,7,"RECHERCHEV(AQ4;Objectifs!$M$1:$N$10;2;0)"]
["Objectif Tertiaire dans le secteur 'Tertiaire'_8",{"$f":"IF(Objectifs!AM11=\"\",\"\",Objectifs!AM11)","v":""},{"$f":"IF(ISNA(VLOOKUP(B40,Mesures_FPC!$B$1:$L$52,8,0)),,VLOOKUP(B40,Mesures_FPC!$B$1:$L$52,8,0))","v":0},null,{"$f":"IF(ISNA(VLOOKUP(B40,Mesures_FPC!$B$1:$M$52,12,0)),,VLOOKUP(B40,Mesures_FPC!$B$1:$M$52,12,0))","v":0},0,{"$f":"IF(ISNA(VLOOKUP(J40,Mesures_FPC!$A$1:$L$52,8,0)),,VLOOKUP(J40,Mesures_FPC!$A$1:$L$52,8,0))","v":0},0,8,"RECHERCHEV(AQ4;Objectifs!$M$1:$N$10;2;0)"]
["Objectif Tertiaire dans le secteur 'Tertiaire'_9",{"$f":"IF(Objectifs!AM12=\"\",\"\",Objectifs!AM12)","v":""},{"$f":"IF(ISNA(VLOOKUP(B41,Mesures_FPC!$B$1:$L$52,8,0)),,VLOOKUP(B41,Mesures_FPC!$B$1:$L$52,8,0))","v":0},null,{"$f":"IF(ISNA(VLOOKUP(B41,Mesures_FPC!$B$1:$M$52,12,0)),,VLOOKUP(B41,Mesures_FPC!$B$1:$M$52,12,0))","v":0},0,{"$f":"IF(ISNA(VLOOKUP(J41,Mesures_FPC!$A$1:$L$52,8,0)),,VLOOKUP(J41,Mesures_FPC!$A$1:$L$52,8,0))","v":0},0,9,"RECHERCHEV(AQ4;Objectifs!$M$1:$N$10;2;0)"]
["Objectif Tertiaire dans le secteur 'Tertiaire'_10",{"$f":"IF(Objectifs!AM13=\"\",\"\",Objectifs!AM13)","v":""},{"$f":"IF(ISNA(VLOOKUP(B42,Mesures_FPC!$B$1:$L$52,8,0)),,VLOOKUP(B42,Mesures_FPC!$B$1:$L$52,8,0))","v":0},null,{"$f":"IF(ISNA(VLOOKUP(B42,Mesures_FPC!$B$1:$M$52,12,0)),,VLOOKUP(B42,Mesures_FPC!$B$1:$M$52,12,0))","v":0},0,{"$f":"IF(ISNA(VLOOKUP(J42,Mesures_FPC!$A$1:$L$52,8,0)),,VLOOKUP(J42,Mesures_FPC!$A$1:$L$52,8,0))","v":0},0,10,"RECHERCHEV(AQ4;Objectifs!$M$1:$N$10;2;0)"]
[null,null,"Total",{"$f":"SUM(D33:D42)","v":0},{"$f":"SUM(E33:E42)","v":0},{"$f":"IF(C30=0,0,E43/C30)","v":0},"Total",{"$f":"SUM(H33:H42)","v":0},null,"RECHERCHEV(AQ4;Objectifs!$M$1:$N$10;2;0)"]
[]
[]
[]
[]
[]
[]
[]
[]
[null,"Objectif:",{"$f":"Objectifs!C10","v":"Objectif Administration communale"}]
[null,"Secteur:",{"$f":"Objectifs!B10","v":"Administration communale"}]
[null,"Economie d'énergie (GWh/an):",{"$f":"D68","v":0}]
[null,"Réduction des émissions (tCO2eq/an):",{"$f":"E68","v":0}]
[]
[null,"Indicateur","Valeur cible","Economie d'énergie (GWh/an)","Réduction des émissions (tCO2eq/an)","Part de l'objectif","Valeur au moment du suivi","Réduction des émissions (tCO2eq/an)"]
[{"$f":"C$52&\" dans le secteur '\"&C$53&\"'_\"&I58","v":"Objectif Administration communale dans le secteur 'Administration communale'_1"},{"$f":"IF(Objectifs!AA4=\"\",\"\",Objectifs!AA4)","v":""},{"$f":"IF(ISNA(VLOOKUP(B58,Mesures_FPC!$B$1:$L$52,8,0)),,VLOOKUP(B58,Mesures_FPC!$B$1:$L$52,8,0))","v":0},null,{"$f":"IF(ISNA(VLOOKUP(B58,Mesures_FPC!$B$1:$M$52,12,0)),,VLOOKUP(B58,Mesures_FPC!$B$1:$M$52,12,0))","v":0},{"$f":"IF($E$68=0,0,E58/$E$68)","v":0},{"$f":"IF(ISNA(VLOOKUP(J58,Mesures_FPC!$A$1:$L$52,8,0)),,VLOOKUP(J58,Mesures_FPC!$A$1:$L$52,8,0))","v":0},{"$f":"IF(C58=0,0,E58/C58*G58)","v":0},1,"RECHERCHEV(AQ4;Objectifs!$M$1:$N$10;2;0)"]
["Objectif Administration communale dans le secteur 'Administration communale'_2",{"$f":"IF(Objectifs!AA5=\"\",\"\",Objectifs!AA5)","v":""},{"$f":"IF(ISNA(VLOOKUP(B59,Mesures_FPC!$B$1:$L$52,8,0)),,VLOOKUP(B59,Mesures_FPC!$B$1:$L$52,8,0))","v":0},null,{"$f":"IF(ISNA(VLOOKUP(B59,Mesures_FPC!$B$1:$M$52,12,0)),,VLOOKUP(B59,Mesures_FPC!$B$1:$M$52,12,0))","v":0},{"$f":"IF($E$68=0,0,E59/$E$68)","v":0},{"$f":"IF(ISNA(VLOOKUP(J59,Mesures_FPC!$A$1:$L$52,8,0)),,VLOOKUP(J59,Mesures_FPC!$A$1:$L$52,8,0))","v":0},{"$f":"IF(C59=0,0,E59/C59*G59)","v":0},2,"RECHERCHEV(AQ4;Objectifs!$M$1:$N$10;2;0)"]
["Objectif Administration communale dans le secteur 'Administration communale'_3",{"$f":"IF(Objectifs!AA6=\"\",\"\",Objectifs!AA6)","v":""},{"$f":"IF(ISNA(VLOOKUP(B60,Mesures_FPC!$B$1:$L$52,8,0)),,VLOOKUP(B60,Mesures_FPC!$B$1:$L$52,8,0))","v":0},null,{"$f":"IF(ISNA(VLOOKUP(B60,Mesures_FPC!$B$1:$M$52,12,0)),,VLOOKUP(B60,Mesures_FPC!$B$1:$M$52,12,0))","v":0},0,{"$f":"IF(ISNA(VLOOKUP(J60,Mesures_FPC!$A$1:$L$52,8,0)),,VLOOKUP(J60,Mesures_FPC!$A$1:$L$52,8,0))","v":0},0,3,"RECHERCHEV(AQ4;Objectifs!$M$1:$N$10;2;0)"]
["Objectif Administration communale dans le secteur 'Administration communale'_4",{"$f":"IF(Objectifs!AA7=\"\",\"\",Objectifs!AA7)","v":""},{"$f":"IF(ISNA(VLOOKUP(B61,Mesures_FPC!$B$1:$L$52,8,0)),,VLOOKUP(B61,Mesures_FPC!$B$1:$L$52,8,0))","v":0},null,{"$f":"IF(ISNA(VLOOKUP(B61,Mesures_FPC!$B$1:$M$52,12,0)),,VLOOKUP(B61,Mesures_FPC!$B$1:$M$52,12,0))","v":0},0,{"$f":"IF(ISNA(VLOOKUP(J61,Mesures_FPC!$A$1:$L$52,8,0)),,VLOOKUP(J61,Mesures_FPC!$A$1:$L$52,8,0))","v":0},0,4,"RECHERCHEV(AQ4;Objectifs!$M$1:$N$10;2;0)"]
["Objectif Administration communale dans le secteur 'Administration communale'_5",{"$f":"IF(Objectifs!AA8=\"\",\"\",Objectifs!AA8)","v":""},{"$f":"IF(ISNA(VLOOKUP(B62,Mesures_FPC!$B$1:$L$52,8,0)),,VLOOKUP(B62,Mesures_FPC!$B$1:$L$52,8,0))","v":0},null,{"$f":"IF(ISNA(VLOOKUP(B62,Mesures_FPC!$B$1:$M$52,12,0)),,VLOOKUP(B62,Mesures_FPC!$B$1:$M$52,12,0))","v":0},0,{"$f":"IF(ISNA(VLOOKUP(J62,Mesures_FPC!$A$1:$L$52,8,0)),,VLOOKUP(J62,Mesures_FPC!$A$1:$L$52,8,0))","v":0},0,5,"RECHERCHEV(AQ4;Objectifs!$M$1:$N$10;2;0)"]
["Objectif Administration communale dans le secteur 'Administration communale'_6",{"$f":"IF(Objectifs!AA9=\"\",\"\",Objectifs!AA9)","v":""},{"$f":"IF(ISNA(VLOOKUP(B63,Mesures_FPC!$B$1:$L$52,8,0)),,VLOOKUP(B63,Mesures_FPC!$B$1:$L$52,8,0))","v":0},null,{"$f":"IF(ISNA(VLOOKUP(B63,Mesures_FPC!$B$1:$M$52,12,0)),,VLOOKUP(B63,Mesures_FPC!$B$1:$M$52,12,0))","v":0},0,{"$f":"IF(ISNA(VLOOKUP(J63,Mesures_FPC!$A$1:$L$52,8,0)),,VLOOKUP(J63,Mesures_FPC!$A$1:$L$52,8,0))","v":0},0,6,"RECHERCHEV(AQ4;Objectifs!$M$1:$N$10;2;0)"]
["Objectif Administration communale dans le secteur 'Administration communale'_7",{"$f":"IF(Objectifs!AA10=\"\",\"\",Objectifs!AA10)","v":""},{"$f":"IF(ISNA(VLOOKUP(B64,Mesures_FPC!$B$1:$L$52,8,0)),,VLOOKUP(B64,Mesures_FPC!$B$1:$L$52,8,0))","v":0},null,{"$f":"IF(ISNA(VLOOKUP(B64,Mesures_FPC!$B$1:$M$52,12,0)),,VLOOKUP(B64,Mesures_FPC!$B$1:$M$52,12,0))","v":0},0,{"$f":"IF(ISNA(VLOOKUP(J64,Mesures_FPC!$A$1:$L$52,8,0)),,VLOOKUP(J64,Mesures_FPC!$A$1:$L$52,8,0))","v":0},0,7,"RECHERCHEV(AQ4;Objectifs!$M$1:$N$10;2;0)"]
["Objectif Administration communale dans le secteur 'Administration communale'_8",{"$f":"IF(Objectifs!AA11=\"\",\"\",Objectifs!AA11)","v":""},{"$f":"IF(ISNA(VLOOKUP(B65,Mesures_FPC!$B$1:$L$52,8,0)),,VLOOKUP(B65,Mesures_FPC!$B$1:$L$52,8,0))","v":0},null,{"$f":"IF(ISNA(VLOOKUP(B65,Mesures_FPC!$B$1:$M$52,12,0)),,VLOOKUP(B65,Mesures_FPC!$B$1:$M$52,12,0))","v":0},0,{"$f":"IF(ISNA(VLOOKUP(J65,Mesures_FPC!$A$1:$L$52,8,0)),,VLOOKUP(J65,Mesures_FPC!$A$1:$L$52,8,0))","v":0},0,8,"RECHERCHEV(AQ4;Objectifs!$M$1:$N$10;2;0)"]
["Objectif Administration communale dans le secteur 'Administration communale'_9",{"$f":"IF(Objectifs!AA12=\"\",\"\",Objectifs!AA12)","v":""},{"$f":"IF(ISNA(VLOOKUP(B66,Mesures_FPC!$B$1:$L$52,8,0)),,VLOOKUP(B66,Mesures_FPC!$B$1:$L$52,8,0))","v":0},null,{"$f":"IF(ISNA(VLOOKUP(B66,Mesures_FPC!$B$1:$M$52,12,0)),,VLOOKUP(B66,Mesures_FPC!$B$1:$M$52,12,0))","v":0},0,{"$f":"IF(ISNA(VLOOKUP(J66,Mesures_FPC!$A$1:$L$52,8,0)),,VLOOKUP(J66,Mesures_FPC!$A$1:$L$52,8,0))","v":0},0,9,"RECHERCHEV(AQ4;Objectifs!$M$1:$N$10;2;0)"]
["Objectif Administration communale dans le secteur 'Administration communale'_10",{"$f":"IF(Objectifs!AA13=\"\",\"\",Objectifs!AA13)","v":""},{"$f":"IF(ISNA(VLOOKUP(B67,Mesures_FPC!$B$1:$L$52,8,0)),,VLOOKUP(B67,Mesures_FPC!$B$1:$L$52,8,0))","v":0},null,{"$f":"IF(ISNA(VLOOKUP(B67,Mesures_FPC!$B$1:$M$52,12,0)),,VLOOKUP(B67,Mesures_FPC!$B$1:$M$52,12,0))","v":0},0,{"$f":"IF(ISNA(VLOOKUP(J67,Mesures_FPC!$A$1:$L$52,8,0)),,VLOOKUP(J67,Mesures_FPC!$A$1:$L$52,8,0))","v":0},0,10,"RECHERCHEV(AQ4;Objectifs!$M$1:$N$10;2;0)"]
[null,null,"Total",{"$f":"SUM(D58:D67)","v":0},{"$f":"SUM(E58:E67)","v":0},{"$f":"IF(E$68=0,0,E68/E$68)","v":0},"Total",{"$f":"SUM(H58:H67)","v":0},null,"RECHERCHEV(AQ4;Objectifs!$M$1:$N$10;2;0)"]
[]
[]
[]
[]
[]
[]
[]
[]
[null,"Objectif:",{"$f":"Objectifs!C11","v":"Objectif Eclairage public"}]
[null,"Secteur:",{"$f":"Objectifs!B11","v":"Eclairage public"}]
[null,"Economie d'énergie (GWh/an):",{"$f":"D93","v":0}]
[null,"Réduction des émissions (tCO2eq/an):",{"$f":"E93","v":0}]
[]
[null,"Indicateur","Valeur cible","Economie d'énergie (GWh/an)","Réduction des émissions (tCO2eq/an)","Part de l'objectif","Valeur au moment du suivi","Réduction des émissions (tCO2eq/an)"]
[{"$f":"C$77&\" dans le secteur '\"&C$78&\"'_\"&I83","v":"Objectif Eclairage public dans le secteur 'Eclairage public'_1"},{"$f":"IF(Objectifs!AI4=\"\",\"\",Objectifs!AI4)","v":""},{"$f":"IF(ISNA(VLOOKUP(B83,Mesures_FPC!$B$1:$L$52,8,0)),,VLOOKUP(B83,Mesures_FPC!$B$1:$L$52,8,0))","v":0},null,{"$f":"IF(ISNA(VLOOKUP(B83,Mesures_FPC!$B$1:$M$52,12,0)),,VLOOKUP(B83,Mesures_FPC!$B$1:$M$52,12,0))","v":0},{"$f":"IF($E$93=0,0,E83/$E$93)","v":0},{"$f":"IF(ISNA(VLOOKUP(J83,Mesures_FPC!$A$1:$L$52,8,0)),,VLOOKUP(J83,Mesures_FPC!$A$1:$L$52,8,0))","v":0},{"$f":"IF(C83=0,0,E83/C83*G83)","v":0},1,"RECHERCHEV(AQ4;Objectifs!$M$1:$N$10;2;0)"]
["Objectif Eclairage public dans le secteur 'Eclairage public'_2",{"$f":"IF(Objectifs!AI5=\"\",\"\",Objectifs!AI5)","v":""},{"$f":"IF(ISNA(VLOOKUP(B84,Mesures_FPC!$B$1:$L$52,8,0)),,VLOOKUP(B84,Mesures_FPC!$B$1:$L$52,8,0))","v":0},null,{"$f":"IF(ISNA(VLOOKUP(B84,Mesures_FPC!$B$1:$M$52,12,0)),,VLOOKUP(B84,Mesures_FPC!$B$1:$M$52,12,0))","v":0},{"$f":"IF($E$93=0,0,E84/$E$93)","v":0},{"$f":"IF(ISNA(VLOOKUP(J84,Mesures_FPC!$A$1:$L$52,8,0)),,VLOOKUP(J84,Mesures_FPC!$A$1:$L$52,8,0))","v":0},{"$f":"IF(C84=0,0,E84/C84*G84)","v":0},2,"RECHERCHEV(AQ4;Objectifs!$M$1:$N$10;2;0)"]
["Objectif Eclairage public dans le secteur 'Eclairage public'_3",{"$f":"IF(Objectifs!AI6=\"\",\"\",Objectifs!AI6)","v":""},{"$f":"IF(ISNA(VLOOKUP(B85,Mesures_FPC!$B$1:$L$52,8,0)),,VLOOKUP(B85,Mesures_FPC!$B$1:$L$52,8,0))","v":0},null,{"$f":"IF(ISNA(VLOOKUP(B85,Mesures_FPC!$B$1:$M$52,12,0)),,VLOOKUP(B85,Mesures_FPC!$B$1:$M$52,12,0))","v":0},0,{"$f":"IF(ISNA(VLOOKUP(J85,Mesures_FPC!$A$1:$L$52,8,0)),,VLOOKUP(J85,Mesures_FPC!$A$1:$L$52,8,0))","v":0},0,3,"RECHERCHEV(AQ4;Objectifs!$M$1:$N$10;2;0)"]
["Objectif Eclairage public dans le secteur 'Eclairage public'_4",{"$f":"IF(Objectifs!AI7=\"\",\"\",Objectifs!AI7)","v":""},{"$f":"IF(ISNA(VLOOKUP(B86,Mesures_FPC!$B$1:$L$52,8,0)),,VLOOKUP(B86,Mesures_FPC!$B$1:$L$52,8,0))","v":0},null,{"$f":"IF(ISNA(VLOOKUP(B86,Mesures_FPC!$B$1:$M$52,12,0)),,VLOOKUP(B86,Mesures_FPC!$B$1:$M$52,12,0))","v":0},0,{"$f":"IF(ISNA(VLOOKUP(J86,Mesures_FPC!$A$1:$L$52,8,0)),,VLOOKUP(J86,Mesures_FPC!$A$1:$L$52,8,0))","v":0},0,4,"RECHERCHEV(AQ4;Objectifs!$M$1:$N$10;2;0)"]
["Objectif Eclairage public dans le secteur 'Eclairage public'_5",{"$f":"IF(Objectifs!AI8=\"\",\"\",Objectifs!AI8)","v":""},{"$f":"IF(ISNA(VLOOKUP(B87,Mesures_FPC!$B$1:$L$52,8,0)),,VLOOKUP(B87,Mesures_FPC!$B$1:$L$52,8,0))","v":0},null,{"$f":"IF(ISNA(VLOOKUP(B87,Mesures_FPC!$B$1:$M$52,12,0)),,VLOOKUP(B87,Mesures_FPC!$B$1:$M$52,12,0))","v":0},0,{"$f":"IF(ISNA(VLOOKUP(J87,Mesures_FPC!$A$1:$L$52,8,0)),,VLOOKUP(J87,Mesures_FPC!$A$1:$L$52,8,0))","v":0},0,5,"RECHERCHEV(AQ4;Objectifs!$M$1:$N$10;2;0)"]
["Objectif Eclairage public dans le secteur 'Eclairage public'_6",{"$f":"IF(Objectifs!AI9=\"\",\"\",Objectifs!AI9)","v":""},{"$f":"IF(ISNA(VLOOKUP(B88,Mesures_FPC!$B$1:$L$52,8,0)),,VLOOKUP(B88,Mesures_FPC!$B$1:$L$52,8,0))","v":0},null,{"$f":"IF(ISNA(VLOOKUP(B88,Mesures_FPC!$B$1:$M$52,12,0)),,VLOOKUP(B88,Mesures_FPC!$B$1:$M$52,12,0))","v":0},0,{"$f":"IF(ISNA(VLOOKUP(J88,Mesures_FPC!$A$1:$L$52,8,0)),,VLOOKUP(J88,Mesures_FPC!$A$1:$L$52,8,0))","v":0},0,6,"RECHERCHEV(AQ4;Objectifs!$M$1:$N$10;2;0)"]
["Objectif Eclairage public dans le secteur 'Eclairage public'_7",{"$f":"IF(Objectifs!AI10=\"\",\"\",Objectifs!AI10)","v":""},{"$f":"IF(ISNA(VLOOKUP(B89,Mesures_FPC!$B$1:$L$52,8,0)),,VLOOKUP(B89,Mesures_FPC!$B$1:$L$52,8,0))","v":0},null,{"$f":"IF(ISNA(VLOOKUP(B89,Mesures_FPC!$B$1:$M$52,12,0)),,VLOOKUP(B89,Mesures_FPC!$B$1:$M$52,12,0))","v":0},0,{"$f":"IF(ISNA(VLOOKUP(J89,Mesures_FPC!$A$1:$L$52,8,0)),,VLOOKUP(J89,Mesures_FPC!$A$1:$L$52,8,0))","v":0},0,7,"RECHERCHEV(AQ4;Objectifs!$M$1:$N$10;2;0)"]
["Objectif Eclairage public dans le secteur 'Eclairage public'_8",{"$f":"IF(Objectifs!AI11=\"\",\"\",Objectifs!AI11)","v":""},{"$f":"IF(ISNA(VLOOKUP(B90,Mesures_FPC!$B$1:$L$52,8,0)),,VLOOKUP(B90,Mesures_FPC!$B$1:$L$52,8,0))","v":0},null,{"$f":"IF(ISNA(VLOOKUP(B90,Mesures_FPC!$B$1:$M$52,12,0)),,VLOOKUP(B90,Mesures_FPC!$B$1:$M$52,12,0))","v":0},0,{"$f":"IF(ISNA(VLOOKUP(J90,Mesures_FPC!$A$1:$L$52,8,0)),,VLOOKUP(J90,Mesures_FPC!$A$1:$L$52,8,0))","v":0},0,8,"RECHERCHEV(AQ4;Objectifs!$M$1:$N$10;2;0)"]
["Objectif Eclairage public dans le secteur 'Eclairage public'_9",{"$f":"IF(Objectifs!AI12=\"\",\"\",Objectifs!AI12)","v":""},{"$f":"IF(ISNA(VLOOKUP(B91,Mesures_FPC!$B$1:$L$52,8,0)),,VLOOKUP(B91,Mesures_FPC!$B$1:$L$52,8,0))","v":0},null,{"$f":"IF(ISNA(VLOOKUP(B91,Mesures_FPC!$B$1:$M$52,12,0)),,VLOOKUP(B91,Mesures_FPC!$B$1:$M$52,12,0))","v":0},0,{"$f":"IF(ISNA(VLOOKUP(J91,Mesures_FPC!$A$1:$L$52,8,0)),,VLOOKUP(J91,Mesures_FPC!$A$1:$L$52,8,0))","v":0},0,9,"RECHERCHEV(AQ4;Objectifs!$M$1:$N$10;2;0)"]
["Objectif Eclairage public dans le secteur 'Eclairage public'_10",{"$f":"IF(Objectifs!AI13=\"\",\"\",Objectifs!AI13)","v":""},{"$f":"IF(ISNA(VLOOKUP(B92,Mesures_FPC!$B$1:$L$52,8,0)),,VLOOKUP(B92,Mesures_FPC!$B$1:$L$52,8,0))","v":0},null,{"$f":"IF(ISNA(VLOOKUP(B92,Mesures_FPC!$B$1:$M$52,12,0)),,VLOOKUP(B92,Mesures_FPC!$B$1:$M$52,12,0))","v":0},0,{"$f":"IF(ISNA(VLOOKUP(J92,Mesures_FPC!$A$1:$L$52,8,0)),,VLOOKUP(J92,Mesures_FPC!$A$1:$L$52,8,0))","v":0},0,10,"RECHERCHEV(AQ4;Objectifs!$M$1:$N$10;2;0)"]
[null,null,"Total",{"$f":"SUM(D83:D92)","v":0},{"$f":"SUM(E83:E92)","v":0},{"$f":"IF(C80=0,0,E93/C80)","v":0},"Total",{"$f":"SUM(H83:H92)","v":0},null,"RECHERCHEV(AQ4;Objectifs!$M$1:$N$10;2;0)"]
[]
[]
[]
[]
[]
[]
[]
[]
[null,"Objectif:",{"$f":"Objectifs!C12","v":"Objectif Logement"}]
[null,"Secteur:",{"$f":"Objectifs!B12","v":"Logement"}]
[null,"Economie d'énergie (GWh/an):",{"$f":"D118","v":0}]
[null,"Réduction des émissions (tCO2eq/an):",{"$f":"E118","v":0}]
[]
[null,"Indicateur","Valeur cible","Economie d'énergie (GWh/an)","Réduction des émissions (tCO2eq/an)","Part de l'objectif","Valeur au moment du suivi","Réduction des émissions (tCO2eq/an)"]
[{"$f":"C$102&\" dans le secteur '\"&C$103&\"'_\"&I108","v":"Objectif Logement dans le secteur 'Logement'_1"},{"$f":"IF(Objectifs!W4=\"\",\"\",Objectifs!W4)","v":""},{"$f":"IF(ISNA(VLOOKUP(B108,Mesures_FPC!$B$1:$L$52,8,0)),,VLOOKUP(B108,Mesures_FPC!$B$1:$L$52,8,0))","v":0},null,{"$f":"IF(ISNA(VLOOKUP(B108,Mesures_FPC!$B$1:$M$52,12,0)),,VLOOKUP(B108,Mesures_FPC!$B$1:$M$52,12,0))","v":0},{"$f":"IF($E$118=0,0,E108/$E$118)","v":0},{"$f":"IF(ISNA(VLOOKUP(J108,Mesures_FPC!$A$1:$L$52,8,0)),,VLOOKUP(J108,Mesures_FPC!$A$1:$L$52,8,0))","v":0},{"$f":"IF(C108=0,0,E108/C108*G108)","v":0},1,"RECHERCHEV(AQ4;Objectifs!$M$1:$N$10;2;0)"]
["Objectif Logement dans le secteur 'Logement'_2",{"$f":"IF(Objectifs!W5=\"\",\"\",Objectifs!W5)","v":""},{"$f":"IF(ISNA(VLOOKUP(B109,Mesures_FPC!$B$1:$L$52,8,0)),,VLOOKUP(B109,Mesures_FPC!$B$1:$L$52,8,0))","v":0},null,{"$f":"IF(ISNA(VLOOKUP(B109,Mesures_FPC!$B$1:$M$52,12,0)),,VLOOKUP(B109,Mesures_FPC!$B$1:$M$52,12,0))","v":0},{"$f":"IF($E$118=0,0,E109/$E$118)","v":0},{"$f":"IF(ISNA(VLOOKUP(J109,Mesures_FPC!$A$1:$L$52,8,0)),,VLOOKUP(J109,Mesures_FPC!$A$1:$L$52,8,0))","v":0},{"$f":"IF(C109=0,0,E109/C109*G109)","v":0},2,"RECHERCHEV(AQ4;Objectifs!$M$1:$N$10;2;0)"]
["Objectif Logement dans le secteur 'Logement'_3",{"$f":"IF(Objectifs!W6=\"\",\"\",Objectifs!W6)","v":""},{"$f":"IF(ISNA(VLOOKUP(B110,Mesures_FPC!$B$1:$L$52,8,0)),,VLOOKUP(B110,Mesures_FPC!$B$1:$L$52,8,0))","v":0},null,{"$f":"IF(ISNA(VLOOKUP(B110,Mesures_FPC!$B$1:$M$52,12,0)),,VLOOKUP(B110,Mesures_FPC!$B$1:$M$52,12,0))","v":0},0,{"$f":"IF(ISNA(VLOOKUP(J110,Mesures_FPC!$A$1:$L$52,8,0)),,VLOOKUP(J110,Mesures_FPC!$A$1:$L$52,8,0))","v":0},0,3,"RECHERCHEV(AQ4;Objectifs!$M$1:$N$10;2;0)"]
["Objectif Logement dans le secteur 'Logement'_4",{"$f":"IF(Objectifs!W7=\"\",\"\",Objectifs!W7)","v":""},{"$f":"IF(ISNA(VLOOKUP(B111,Mesures_FPC!$B$1:$L$52,8,0)),,VLOOKUP(B111,Mesures_FPC!$B$1:$L$52,8,0))","v":0},null,{"$f":"IF(ISNA(VLOOKUP(B111,Mesures_FPC!$B$1:$M$52,12,0)),,VLOOKUP(B111,Mesures_FPC!$B$1:$M$52,12,0))","v":0},0,{"$f":"IF(ISNA(VLOOKUP(J111,Mesures_FPC!$A$1:$L$52,8,0)),,VLOOKUP(J111,Mesures_FPC!$A$1:$L$52,8,0))","v":0},0,4,"RECHERCHEV(AQ4;Objectifs!$M$1:$N$10;2;0)"]
["Objectif Logement dans le secteur 'Logement'_5",{"$f":"IF(Objectifs!W8=\"\",\"\",Objectifs!W8)","v":""},{"$f":"IF(ISNA(VLOOKUP(B112,Mesures_FPC!$B$1:$L$52,8,0)),,VLOOKUP(B112,Mesures_FPC!$B$1:$L$52,8,0))","v":0},null,{"$f":"IF(ISNA(VLOOKUP(B112,Mesures_FPC!$B$1:$M$52,12,0)),,VLOOKUP(B112,Mesures_FPC!$B$1:$M$52,12,0))","v":0},0,{"$f":"IF(ISNA(VLOOKUP(J112,Mesures_FPC!$A$1:$L$52,8,0)),,VLOOKUP(J112,Mesures_FPC!$A$1:$L$52,8,0))","v":0},0,5,"RECHERCHEV(AQ4;Objectifs!$M$1:$N$10;2;0)"]
["Objectif Logement dans le secteur 'Logement'_6",{"$f":"IF(Objectifs!W9=\"\",\"\",Objectifs!W9)","v":""},{"$f":"IF(ISNA(VLOOKUP(B113,Mesures_FPC!$B$1:$L$52,8,0)),,VLOOKUP(B113,Mesures_FPC!$B$1:$L$52,8,0))","v":0},null,{"$f":"IF(ISNA(VLOOKUP(B113,Mesures_FPC!$B$1:$M$52,12,0)),,VLOOKUP(B113,Mesures_FPC!$B$1:$M$52,12,0))","v":0},0,{"$f":"IF(ISNA(VLOOKUP(J113,Mesures_FPC!$A$1:$L$52,8,0)),,VLOOKUP(J113,Mesures_FPC!$A$1:$L$52,8,0))","v":0},0,6,"RECHERCHEV(AQ4;Objectifs!$M$1:$N$10;2;0)"]
["Objectif Logement dans le secteur 'Logement'_7",{"$f":"IF(Objectifs!W10=\"\",\"\",Objectifs!W10)","v":""},{"$f":"IF(ISNA(VLOOKUP(B114,Mesures_FPC!$B$1:$L$52,8,0)),,VLOOKUP(B114,Mesures_FPC!$B$1:$L$52,8,0))","v":0},null,{"$f":"IF(ISNA(VLOOKUP(B114,Mesures_FPC!$B$1:$M$52,12,0)),,VLOOKUP(B114,Mesures_FPC!$B$1:$M$52,12,0))","v":0},0,{"$f":"IF(ISNA(VLOOKUP(J114,Mesures_FPC!$A$1:$L$52,8,0)),,VLOOKUP(J114,Mesures_FPC!$A$1:$L$52,8,0))","v":0},0,7,"RECHERCHEV(AQ4;Objectifs!$M$1:$N$10;2;0)"]
["Objectif Logement dans le secteur 'Logement'_8",{"$f":"IF(Objectifs!W11=\"\",\"\",Objectifs!W11)","v":""},{"$f":"IF(ISNA(VLOOKUP(B115,Mesures_FPC!$B$1:$L$52,8,0)),,VLOOKUP(B115,Mesures_FPC!$B$1:$L$52,8,0))","v":0},null,{"$f":"IF(ISNA(VLOOKUP(B115,Mesures_FPC!$B$1:$M$52,12,0)),,VLOOKUP(B115,Mesures_FPC!$B$1:$M$52,12,0))","v":0},0,{"$f":"IF(ISNA(VLOOKUP(J115,Mesures_FPC!$A$1:$L$52,8,0)),,VLOOKUP(J115,Mesures_FPC!$A$1:$L$52,8,0))","v":0},0,8,"RECHERCHEV(AQ4;Objectifs!$M$1:$N$10;2;0)"]
["Objectif Logement dans le secteur 'Logement'_9",{"$f":"IF(Objectifs!W12=\"\",\"\",Objectifs!W12)","v":""},{"$f":"IF(ISNA(VLOOKUP(B116,Mesures_FPC!$B$1:$L$52,8,0)),,VLOOKUP(B116,Mesures_FPC!$B$1:$L$52,8,0))","v":0},null,{"$f":"IF(ISNA(VLOOKUP(B116,Mesures_FPC!$B$1:$M$52,12,0)),,VLOOKUP(B116,Mesures_FPC!$B$1:$M$52,12,0))","v":0},0,{"$f":"IF(ISNA(VLOOKUP(J116,Mesures_FPC!$A$1:$L$52,8,0)),,VLOOKUP(J116,Mesures_FPC!$A$1:$L$52,8,0))","v":0},0,9,"RECHERCHEV(AQ4;Objectifs!$M$1:$N$10;2;0)"]
["Objectif Logement dans le secteur 'Logement'_10",{"$f":"IF(Objectifs!W13=\"\",\"\",Objectifs!W13)","v":""},{"$f":"IF(ISNA(VLOOKUP(B117,Mesures_FPC!$B$1:$L$52,8,0)),,VLOOKUP(B117,Mesures_FPC!$B$1:$L$52,8,0))","v":0},null,{"$f":"IF(ISNA(VLOOKUP(B117,Mesures_FPC!$B$1:$M$52,12,0)),,VLOOKUP(B117,Mesures_FPC!$B$1:$M$52,12,0))","v":0},0,{"$f":"IF(ISNA(VLOOKUP(J117,Mesures_FPC!$A$1:$L$52,8,0)),,VLOOKUP(J117,Mesures_FPC!$A$1:$L$52,8,0))","v":0},0,10,"RECHERCHEV(AQ4;Objectifs!$M$1:$N$10;2;0)"]
[null,null,"Total",{"$f":"SUM(D108:D117)","v":0},{"$f":"SUM(E108:E117)","v":0},{"$f":"IF(C105=0,0,E118/C105)","v":0},"Total",{"$f":"SUM(H108:H117)","v":0},null,"RECHERCHEV(AQ4;Objectifs!$M$1:$N$10;2;0)"]
[]
[]
[]
[]
[]
[]
[]
[]
[null,"Objectif:",{"$f":"Objectifs!C13","v":"Objectif Agriculture"}]
[null,"Secteur:",{"$f":"Objectifs!B13","v":"Agriculture"}]
[null,"Economie d'énergie (GWh/an):",{"$f":"D143","v":0}]
[null,"Réduction des émissions (tCO2eq/an):",{"$f":"E143","v":0}]
[]
[null,"Indicateur","Valeur cible","Economie d'énergie (GWh/an)","Réduction des émissions (tCO2eq/an)","Part de l'objectif","Valeur au moment du suivi","Réduction des émissions (tCO2eq/an)"]
[{"$f":"C$127&\" dans le secteur '\"&C$128&\"'_\"&I133","v":"Objectif Agriculture dans le secteur 'Agriculture'_1"},{"$f":"IF(Objectifs!AU4=\"\",\"\",Objectifs!AU4)","v":""},{"$f":"IF(ISNA(VLOOKUP(B133,Mesures_FPC!$B$1:$L$52,8,0)),,VLOOKUP(B133,Mesures_FPC!$B$1:$L$52,8,0))","v":0},null,{"$f":"IF(ISNA(VLOOKUP(B133,Mesures_FPC!$B$1:$M$52,12,0)),,VLOOKUP(B133,Mesures_FPC!$B$1:$M$52,12,0))","v":0},{"$f":"IF($E$143=0,0,E133/$E$143)","v":0},{"$f":"IF(ISNA(VLOOKUP(J133,Mesures_FPC!$A$1:$L$52,8,0)),,VLOOKUP(J133,Mesures_FPC!$A$1:$L$52,8,0))","v":0},{"$f":"IF(C133=0,0,E133/C133*G133)","v":0},1,"RECHERCHEV(AQ4;Objectifs!$M$1:$N$10;2;0)"]
["Objectif Agriculture dans le secteur 'Agriculture'_2",{"$f":"IF(Objectifs!AU5=\"\",\"\",Objectifs!AU5)","v":""},{"$f":"IF(ISNA(VLOOKUP(B134,Mesures_FPC!$B$1:$L$52,8,0)),,VLOOKUP(B134,Mesures_FPC!$B$1:$L$52,8,0))","v":0},null,{"$f":"IF(ISNA(VLOOKUP(B134,Mesures_FPC!$B$1:$M$52,12,0)),,VLOOKUP(B134,Mesures_FPC!$B$1:$M$52,12,0))","v":0},{"$f":"IF($E$143=0,0,E134/$E$143)","v":0},{"$f":"IF(ISNA(VLOOKUP(J134,Mesures_FPC!$A$1:$L$52,8,0)),,VLOOKUP(J134,Mesures_FPC!$A$1:$L$52,8,0))","v":0},{"$f":"IF(C134=0,0,E134/C134*G134)","v":0},2,"RECHERCHEV(AQ4;Objectifs!$M$1:$N$10;2;0)"]
["Objectif Agriculture dans le secteur 'Agriculture'_3",{"$f":"IF(Objectifs!AU6=\"\",\"\",Objectifs!AU6)","v":""},{"$f":"IF(ISNA(VLOOKUP(B135,Mesures_FPC!$B$1:$L$52,8,0)),,VLOOKUP(B135,Mesures_FPC!$B$1:$L$52,8,0))","v":0},null,{"$f":"IF(ISNA(VLOOKUP(B135,Mesures_FPC!$B$1:$M$52,12,0)),,VLOOKUP(B135,Mesures_FPC!$B$1:$M$52,12,0))","v":0},0,{"$f":"IF(ISNA(VLOOKUP(J135,Mesures_FPC!$A$1:$L$52,8,0)),,VLOOKUP(J135,Mesures_FPC!$A$1:$L$52,8,0))","v":0},0,3,"RECHERCHEV(AQ4;Objectifs!$M$1:$N$10;2;0)"]
["Objectif Agriculture dans le secteur 'Agriculture'_4",{"$f":"IF(Objectifs!AU7=\"\",\"\",Objectifs!AU7)","v":""},{"$f":"IF(ISNA(VLOOKUP(B136,Mesures_FPC!$B$1:$L$52,8,0)),,VLOOKUP(B136,Mesures_FPC!$B$1:$L$52,8,0))","v":0},null,{"$f":"IF(ISNA(VLOOKUP(B136,Mesures_FPC!$B$1:$M$52,12,0)),,VLOOKUP(B136,Mesures_FPC!$B$1:$M$52,12,0))","v":0},0,{"$f":"IF(ISNA(VLOOKUP(J136,Mesures_FPC!$A$1:$L$52,8,0)),,VLOOKUP(J136,Mesures_FPC!$A$1:$L$52,8,0))","v":0},0,4,"RECHERCHEV(AQ4;Objectifs!$M$1:$N$10;2;0)"]
["Objectif Agriculture dans le secteur 'Agriculture'_5",{"$f":"IF(Objectifs!AU8=\"\",\"\",Objectifs!AU8)","v":""},{"$f":"IF(ISNA(VLOOKUP(B137,Mesures_FPC!$B$1:$L$52,8,0)),,VLOOKUP(B137,Mesures_FPC!$B$1:$L$52,8,0))","v":0},null,{"$f":"IF(ISNA(VLOOKUP(B137,Mesures_FPC!$B$1:$M$52,12,0)),,VLOOKUP(B137,Mesures_FPC!$B$1:$M$52,12,0))","v":0},0,{"$f":"IF(ISNA(VLOOKUP(J137,Mesures_FPC!$A$1:$L$52,8,0)),,VLOOKUP(J137,Mesures_FPC!$A$1:$L$52,8,0))","v":0},0,5,"RECHERCHEV(AQ4;Objectifs!$M$1:$N$10;2;0)"]
["Objectif Agriculture dans le secteur 'Agriculture'_6",{"$f":"IF(Objectifs!AU9=\"\",\"\",Objectifs!AU9)","v":""},{"$f":"IF(ISNA(VLOOKUP(B138,Mesures_FPC!$B$1:$L$52,8,0)),,VLOOKUP(B138,Mesures_FPC!$B$1:$L$52,8,0))","v":0},null,{"$f":"IF(ISNA(VLOOKUP(B138,Mesures_FPC!$B$1:$M$52,12,0)),,VLOOKUP(B138,Mesures_FPC!$B$1:$M$52,12,0))","v":0},0,{"$f":"IF(ISNA(VLOOKUP(J138,Mesures_FPC!$A$1:$L$52,8,0)),,VLOOKUP(J138,Mesures_FPC!$A$1:$L$52,8,0))","v":0},0,6,"RECHERCHEV(AQ4;Objectifs!$M$1:$N$10;2;0)"]
["Objectif Agriculture dans le secteur 'Agriculture'_7",{"$f":"IF(Objectifs!AU10=\"\",\"\",Objectifs!AU10)","v":""},{"$f":"IF(ISNA(VLOOKUP(B139,Mesures_FPC!$B$1:$L$52,8,0)),,VLOOKUP(B139,Mesures_FPC!$B$1:$L$52,8,0))","v":0},null,{"$f":"IF(ISNA(VLOOKUP(B139,Mesures_FPC!$B$1:$M$52,12,0)),,VLOOKUP(B139,Mesures_FPC!$B$1:$M$52,12,0))","v":0},0,{"$f":"IF(ISNA(VLOOKUP(J139,Mesures_FPC!$A$1:$L$52,8,0)),,VLOOKUP(J139,Mesures_FPC!$A$1:$L$52,8,0))","v":0},0,7,"RECHERCHEV(AQ4;Objectifs!$M$1:$N$10;2;0)"]
["Objectif Agriculture dans le secteur 'Agriculture'_8",{"$f":"IF(Objectifs!AU11=\"\",\"\",Objectifs!AU11)","v":""},{"$f":"IF(ISNA(VLOOKUP(B140,Mesures_FPC!$B$1:$L$52,8,0)),,VLOOKUP(B140,Mesures_FPC!$B$1:$L$52,8,0))","v":0},null,{"$f":"IF(ISNA(VLOOKUP(B140,Mesures_FPC!$B$1:$M$52,12,0)),,VLOOKUP(B140,Mesures_FPC!$B$1:$M$52,12,0))","v":0},0,{"$f":"IF(ISNA(VLOOKUP(J140,Mesures_FPC!$A$1:$L$52,8,0)),,VLOOKUP(J140,Mesures_FPC!$A$1:$L$52,8,0))","v":0},0,8,"RECHERCHEV(AQ4;Objectifs!$M$1:$N$10;2;0)"]
["Objectif Agriculture dans le secteur 'Agriculture'_9",{"$f":"IF(Objectifs!AU12=\"\",\"\",Objectifs!AU12)","v":""},{"$f":"IF(ISNA(VLOOKUP(B141,Mesures_FPC!$B$1:$L$52,8,0)),,VLOOKUP(B141,Mesures_FPC!$B$1:$L$52,8,0))","v":0},null,{"$f":"IF(ISNA(VLOOKUP(B141,Mesures_FPC!$B$1:$M$52,12,0)),,VLOOKUP(B141,Mesures_FPC!$B$1:$M$52,12,0))","v":0},0,{"$f":"IF(ISNA(VLOOKUP(J141,Mesures_FPC!$A$1:$L$52,8,0)),,VLOOKUP(J141,Mesures_FPC!$A$1:$L$52,8,0))","v":0},0,9,"RECHERCHEV(AQ4;Objectifs!$M$1:$N$10;2;0)"]
["Objectif Agriculture dans le secteur 'Agriculture'_10",{"$f":"IF(Objectifs!AU13=\"\",\"\",Objectifs!AU13)","v":""},{"$f":"IF(ISNA(VLOOKUP(B142,Mesures_FPC!$B$1:$L$52,8,0)),,VLOOKUP(B142,Mesures_FPC!$B$1:$L$52,8,0))","v":0},null,{"$f":"IF(ISNA(VLOOKUP(B142,Mesures_FPC!$B$1:$M$52,12,0)),,VLOOKUP(B142,Mesures_FPC!$B$1:$M$52,12,0))","v":0},0,{"$f":"IF(ISNA(VLOOKUP(J142,Mesures_FPC!$A$1:$L$52,8,0)),,VLOOKUP(J142,Mesures_FPC!$A$1:$L$52,8,0))","v":0},0,10,"RECHERCHEV(AQ4;Objectifs!$M$1:$N$10;2;0)"]
[null,null,"Total",{"$f":"SUM(D133:D142)","v":0},{"$f":"SUM(E133:E142)","v":0},{"$f":"IF(C130=0,0,E143/C130)","v":0},"Total",{"$f":"SUM(H133:H142)","v":0},null,"RECHERCHEV(AQ4;Objectifs!$M$1:$N$10;2;0)"]
[]
[]
[]
[]
[]
[]
[]
[]
[null,"Objectif:",{"$f":"Objectifs!C14","v":"Objectif Transport"}]
[null,"Secteur:",{"$f":"Objectifs!B14","v":"Transport"}]
[null,"Economie d'énergie (GWh/an):",{"$f":"D168","v":0}]
[null,"Réduction des émissions (tCO2eq/an):",{"$f":"E168","v":0}]
[]
[null,"Indicateur","Valeur cible","Economie d'énergie (GWh/an)","Réduction des émissions (tCO2eq/an)","Part de l'objectif","Valeur au moment du suivi","Réduction des émissions (tCO2eq/an)"]
[{"$f":"C$152&\" dans le secteur '\"&C$153&\"'_\"&I158","v":"Objectif Transport dans le secteur 'Transport'_1"},{"$f":"IF(Objectifs!AQ4=\"\",\"\",Objectifs!AQ4)","v":""},{"$f":"IF(ISNA(VLOOKUP(B158,Mesures_FPC!$B$1:$L$52,8,0)),,VLOOKUP(B158,Mesures_FPC!$B$1:$L$52,8,0))","v":0},null,{"$f":"IF(ISNA(VLOOKUP(B158,Mesures_FPC!$B$1:$M$52,12,0)),,VLOOKUP(B158,Mesures_FPC!$B$1:$M$52,12,0))","v":0},{"$f":"IF($E$168=0,0,E158/$E$168)","v":0},{"$f":"IF(ISNA(VLOOKUP(J158,Mesures_FPC!$A$1:$L$52,8,0)),,VLOOKUP(J158,Mesures_FPC!$A$1:$L$52,8,0))","v":0},{"$f":"IF(C158=0,0,E158/C158*G158)","v":0},1,"RECHERCHEV(AQ4;Objectifs!$M$1:$N$10;2;0)"]
["Objectif Transport dans le secteur 'Transport'_2",{"$f":"IF(Objectifs!AQ5=\"\",\"\",Objectifs!AQ5)","v":""},{"$f":"IF(ISNA(VLOOKUP(B159,Mesures_FPC!$B$1:$L$52,8,0)),,VLOOKUP(B159,Mesures_FPC!$B$1:$L$52,8,0))","v":0},null,{"$f":"IF(ISNA(VLOOKUP(B159,Mesures_FPC!$B$1:$M$52,12,0)),,VLOOKUP(B159,Mesures_FPC!$B$1:$M$52,12,0))","v":0},{"$f":"IF($E$168=0,0,E159/$E$168)","v":0},{"$f":"IF(ISNA(VLOOKUP(J159,Mesures_FPC!$A$1:$L$52,8,0)),,VLOOKUP(J159,Mesures_FPC!$A$1:$L$52,8,0))","v":0},{"$f":"IF(C159=0,0,E159/C159*G159)","v":0},2,"RECHERCHEV(AQ4;Objectifs!$M$1:$N$10;2;0)"]
["Objectif Transport dans le secteur 'Transport'_3",{"$f":"IF(Objectifs!AQ6=\"\",\"\",Objectifs!AQ6)","v":""},{"$f":"IF(ISNA(VLOOKUP(B160,Mesures_FPC!$B$1:$L$52,8,0)),,VLOOKUP(B160,Mesures_FPC!$B$1:$L$52,8,0))","v":0},null,{"$f":"IF(ISNA(VLOOKUP(B160,Mesures_FPC!$B$1:$M$52,12,0)),,VLOOKUP(B160,Mesures_FPC!$B$1:$M$52,12,0))","v":0},0,{"$f":"IF(ISNA(VLOOKUP(J160,Mesures_FPC!$A$1:$L$52,8,0)),,VLOOKUP(J160,Mesures_FPC!$A$1:$L$52,8,0))","v":0},0,3,"RECHERCHEV(AQ4;Objectifs!$M$1:$N$10;2;0)"]
["Objectif Transport dans le secteur 'Transport'_4",{"$f":"IF(Objectifs!AQ7=\"\",\"\",Objectifs!AQ7)","v":""},{"$f":"IF(ISNA(VLOOKUP(B161,Mesures_FPC!$B$1:$L$52,8,0)),,VLOOKUP(B161,Mesures_FPC!$B$1:$L$52,8,0))","v":0},null,{"$f":"IF(ISNA(VLOOKUP(B161,Mesures_FPC!$B$1:$M$52,12,0)),,VLOOKUP(B161,Mesures_FPC!$B$1:$M$52,12,0))","v":0},0,{"$f":"IF(ISNA(VLOOKUP(J161,Mesures_FPC!$A$1:$L$52,8,0)),,VLOOKUP(J161,Mesures_FPC!$A$1:$L$52,8,0))","v":0},0,4,"RECHERCHEV(AQ4;Objectifs!$M$1:$N$10;2;0)"]
["Objectif Transport dans le secteur 'Transport'_5",{"$f":"IF(Objectifs!AQ8=\"\",\"\",Objectifs!AQ8)","v":""},{"$f":"IF(ISNA(VLOOKUP(B162,Mesures_FPC!$B$1:$L$52,8,0)),,VLOOKUP(B162,Mesures_FPC!$B$1:$L$52,8,0))","v":0},null,{"$f":"IF(ISNA(VLOOKUP(B162,Mesures_FPC!$B$1:$M$52,12,0)),,VLOOKUP(B162,Mesures_FPC!$B$1:$M$52,12,0))","v":0},0,{"$f":"IF(ISNA(VLOOKUP(J162,Mesures_FPC!$A$1:$L$52,8,0)),,VLOOKUP(J162,Mesures_FPC!$A$1:$L$52,8,0))","v":0},0,5,"RECHERCHEV(AQ4;Objectifs!$M$1:$N$10;2;0)"]
["Objectif Transport dans le secteur 'Transport'_6",{"$f":"IF(Objectifs!AQ9=\"\",\"\",Objectifs!AQ9)","v":""},{"$f":"IF(ISNA(VLOOKUP(B163,Mesures_FPC!$B$1:$L$52,8,0)),,VLOOKUP(B163,Mesures_FPC!$B$1:$L$52,8,0))","v":0},null,{"$f":"IF(ISNA(VLOOKUP(B163,Mesures_FPC!$B$1:$M$52,12,0)),,VLOOKUP(B163,Mesures_FPC!$B$1:$M$52,12,0))","v":0},0,{"$f":"IF(ISNA(VLOOKUP(J163,Mesures_FPC!$A$1:$L$52,8,0)),,VLOOKUP(J163,Mesures_FPC!$A$1:$L$52,8,0))","v":0},0,6,"RECHERCHEV(AQ4;Objectifs!$M$1:$N$10;2;0)"]
["Objectif Transport dans le secteur 'Transport'_7",{"$f":"IF(Objectifs!AQ10=\"\",\"\",Objectifs!AQ10)","v":""},{"$f":"IF(ISNA(VLOOKUP(B164,Mesures_FPC!$B$1:$L$52,8,0)),,VLOOKUP(B164,Mesures_FPC!$B$1:$L$52,8,0))","v":0},null,{"$f":"IF(ISNA(VLOOKUP(B164,Mesures_FPC!$B$1:$M$52,12,0)),,VLOOKUP(B164,Mesures_FPC!$B$1:$M$52,12,0))","v":0},0,{"$f":"IF(ISNA(VLOOKUP(J164,Mesures_FPC!$A$1:$L$52,8,0)),,VLOOKUP(J164,Mesures_FPC!$A$1:$L$52,8,0))","v":0},0,7,"RECHERCHEV(AQ4;Objectifs!$M$1:$N$10;2;0)"]
["Objectif Transport dans le secteur 'Transport'_8",{"$f":"IF(Objectifs!AQ11=\"\",\"\",Objectifs!AQ11)","v":""},{"$f":"IF(ISNA(VLOOKUP(B165,Mesures_FPC!$B$1:$L$52,8,0)),,VLOOKUP(B165,Mesures_FPC!$B$1:$L$52,8,0))","v":0},null,{"$f":"IF(ISNA(VLOOKUP(B165,Mesures_FPC!$B$1:$M$52,12,0)),,VLOOKUP(B165,Mesures_FPC!$B$1:$M$52,12,0))","v":0},0,{"$f":"IF(ISNA(VLOOKUP(J165,Mesures_FPC!$A$1:$L$52,8,0)),,VLOOKUP(J165,Mesures_FPC!$A$1:$L$52,8,0))","v":0},0,8,"RECHERCHEV(AQ4;Objectifs!$M$1:$N$10;2;0)"]
["Objectif Transport dans le secteur 'Transport'_9",{"$f":"IF(Objectifs!AQ12=\"\",\"\",Objectifs!AQ12)","v":""},{"$f":"IF(ISNA(VLOOKUP(B166,Mesures_FPC!$B$1:$L$52,8,0)),,VLOOKUP(B166,Mesures_FPC!$B$1:$L$52,8,0))","v":0},null,{"$f":"IF(ISNA(VLOOKUP(B166,Mesures_FPC!$B$1:$M$52,12,0)),,VLOOKUP(B166,Mesures_FPC!$B$1:$M$52,12,0))","v":0},0,{"$f":"IF(ISNA(VLOOKUP(J166,Mesures_FPC!$A$1:$L$52,8,0)),,VLOOKUP(J166,Mesures_FPC!$A$1:$L$52,8,0))","v":0},0,9,"RECHERCHEV(AQ4;Objectifs!$M$1:$N$10;2;0)"]
["Objectif Transport dans le secteur 'Transport'_10",{"$f":"IF(Objectifs!AQ13=\"\",\"\",Objectifs!AQ13)","v":""},{"$f":"IF(ISNA(VLOOKUP(B167,Mesures_FPC!$B$1:$L$52,8,0)),,VLOOKUP(B167,Mesures_FPC!$B$1:$L$52,8,0))","v":0},null,{"$f":"IF(ISNA(VLOOKUP(B167,Mesures_FPC!$B$1:$M$52,12,0)),,VLOOKUP(B167,Mesures_FPC!$B$1:$M$52,12,0))","v":0},0,{"$f":"IF(ISNA(VLOOKUP(J167,Mesures_FPC!$A$1:$L$52,8,0)),,VLOOKUP(J167,Mesures_FPC!$A$1:$L$52,8,0))","v":0},0,10,"RECHERCHEV(AQ4;Objectifs!$M$1:$N$10;2;0)"]
[null,null,"Total",{"$f":"SUM(D158:D167)","v":0},{"$f":"SUM(E158:E167)","v":0},{"$f":"IF(C155=0,0,E168/C155)","v":0},"Total",{"$f":"SUM(H158:H167)","v":0},null,"RECHERCHEV(AQ4;Objectifs!$M$1:$N$10;2;0)"]
[]
[]
[]
[]
[]
[]
[]
[]
[null,"Objectif:",{"$f":"Objectifs!C15","v":"Objectif Véhicules communaux"}]
[null,"Secteur:",{"$f":"Objectifs!B15","v":"Véhicules communaux"}]
[null,"Economie d'énergie (GWh/an):",{"$f":"D193","v":0}]
[null,"Réduction des émissions (tCO2eq/an):",{"$f":"E193","v":0}]
[]
[null,"Indicateur","Valeur cible","Economie d'énergie (GWh/an)","Réduction des émissions (tCO2eq/an)","Part de l'objectif","Valeur au moment du suivi","Réduction des émissions (tCO2eq/an)"]
[{"$f":"C177&\"_\"&I183","v":"Objectif Véhicules communaux_1"},{"$f":"IF(Objectifs!BG4=\"\",\"\",Objectifs!BG4)","v":""},{"$f":"IF(ISNA(VLOOKUP(B183,Mesures_FPC!$B$1:$L$52,8,0)),,VLOOKUP(B183,Mesures_FPC!$B$1:$L$52,8,0))","v":0},null,{"$f":"IF(ISNA(VLOOKUP(B183,Mesures_FPC!$B$1:$M$52,12,0)),,VLOOKUP(B183,Mesures_FPC!$B$1:$M$52,12,0))","v":0},{"$f":"IF($E$193=0,0,E183/$E$193)","v":0},{"$f":"IF(ISNA(VLOOKUP(J183,Mesures_FPC!$A$1:$L$52,8,0)),,VLOOKUP(J183,Mesures_FPC!$A$1:$L$52,8,0))","v":0},{"$f":"IF(C183=0,0,E183/C183*G183)","v":0},1,"RECHERCHEV(AQ4;Objectifs!$M$1:$N$10;2;0)"]
[{"$f":"C177&\"_\"&I184","v":"Objectif Véhicules communaux_2"},{"$f":"IF(Objectifs!BG5=\"\",\"\",Objectifs!BG5)","v":""},{"$f":"IF(ISNA(VLOOKUP(B184,Mesures_FPC!$B$1:$L$52,8,0)),,VLOOKUP(B184,Mesures_FPC!$B$1:$L$52,8,0))","v":0},null,{"$f":"IF(ISNA(VLOOKUP(B184,Mesures_FPC!$B$1:$M$52,12,0)),,VLOOKUP(B184,Mesures_FPC!$B$1:$M$52,12,0))","v":0},{"$f":"IF($E$193=0,0,E184/$E$193)","v":0},{"$f":"IF(ISNA(VLOOKUP(J184,Mesures_FPC!$A$1:$L$52,8,0)),,VLOOKUP(J184,Mesures_FPC!$A$1:$L$52,8,0))","v":0},{"$f":"IF(C184=0,0,E184/C184*G184)","v":0},2,"RECHERCHEV(AQ4;Objectifs!$M$1:$N$10;2;0)"]
[{"$f":"C$177&\"_\"&I185","v":"Objectif Véhicules communaux_3"},{"$f":"IF(Objectifs!BG6=\"\",\"\",Objectifs!BG6)","v":""},{"$f":"IF(ISNA(VLOOKUP(B185,Mesures_FPC!$B$1:$L$52,8,0)),,VLOOKUP(B185,Mesures_FPC!$B$1:$L$52,8,0))","v":0},null,{"$f":"IF(ISNA(VLOOKUP(B185,Mesures_FPC!$B$1:$M$52,12,0)),,VLOOKUP(B185,Mesures_FPC!$B$1:$M$52,12,0))","v":0},0,{"$f":"IF(ISNA(VLOOKUP(J185,Mesures_FPC!$A$1:$L$52,8,0)),,VLOOKUP(J185,Mesures_FPC!$A$1:$L$52,8,0))","v":0},0,3,"RECHERCHEV(AQ4;Objectifs!$M$1:$N$10;2;0)"]
["Objectif Véhicules communaux_4",{"$f":"IF(Objectifs!BG7=\"\",\"\",Objectifs!BG7)","v":""},{"$f":"IF(ISNA(VLOOKUP(B186,Mesures_FPC!$B$1:$L$52,8,0)),,VLOOKUP(B186,Mesures_FPC!$B$1:$L$52,8,0))","v":0},null,{"$f":"IF(ISNA(VLOOKUP(B186,Mesures_FPC!$B$1:$M$52,12,0)),,VLOOKUP(B186,Mesures_FPC!$B$1:$M$52,12,0))","v":0},0,{"$f":"IF(ISNA(VLOOKUP(J186,Mesures_FPC!$A$1:$L$52,8,0)),,VLOOKUP(J186,Mesures_FPC!$A$1:$L$52,8,0))","v":0},0,4,"RECHERCHEV(AQ4;Objectifs!$M$1:$N$10;2;0)"]
["Objectif Véhicules communaux_5",{"$f":"IF(Objectifs!BG8=\"\",\"\",Objectifs!BG8)","v":""},{"$f":"IF(ISNA(VLOOKUP(B187,Mesures_FPC!$B$1:$L$52,8,0)),,VLOOKUP(B187,Mesures_FPC!$B$1:$L$52,8,0))","v":0},null,{"$f":"IF(ISNA(VLOOKUP(B187,Mesures_FPC!$B$1:$M$52,12,0)),,VLOOKUP(B187,Mesures_FPC!$B$1:$M$52,12,0))","v":0},0,{"$f":"IF(ISNA(VLOOKUP(J187,Mesures_FPC!$A$1:$L$52,8,0)),,VLOOKUP(J187,Mesures_FPC!$A$1:$L$52,8,0))","v":0},0,5,"RECHERCHEV(AQ4;Objectifs!$M$1:$N$10;2;0)"]
["Objectif Véhicules communaux_6",{"$f":"IF(Objectifs!BG9=\"\",\"\",Objectifs!BG9)","v":""},{"$f":"IF(ISNA(VLOOKUP(B188,Mesures_FPC!$B$1:$L$52,8,0)),,VLOOKUP(B188,Mesures_FPC!$B$1:$L$52,8,0))","v":0},null,{"$f":"IF(ISNA(VLOOKUP(B188,Mesures_FPC!$B$1:$M$52,12,0)),,VLOOKUP(B188,Mesures_FPC!$B$1:$M$52,12,0))","v":0},0,{"$f":"IF(ISNA(VLOOKUP(J188,Mesures_FPC!$A$1:$L$52,8,0)),,VLOOKUP(J188,Mesures_FPC!$A$1:$L$52,8,0))","v":0},0,6,"RECHERCHEV(AQ4;Objectifs!$M$1:$N$10;2;0)"]
["Objectif Véhicules communaux_7",{"$f":"IF(Objectifs!BG10=\"\",\"\",Objectifs!BG10)","v":""},{"$f":"IF(ISNA(VLOOKUP(B189,Mesures_FPC!$B$1:$L$52,8,0)),,VLOOKUP(B189,Mesures_FPC!$B$1:$L$52,8,0))","v":0},null,{"$f":"IF(ISNA(VLOOKUP(B189,Mesures_FPC!$B$1:$M$52,12,0)),,VLOOKUP(B189,Mesures_FPC!$B$1:$M$52,12,0))","v":0},0,{"$f":"IF(ISNA(VLOOKUP(J189,Mesures_FPC!$A$1:$L$52,8,0)),,VLOOKUP(J189,Mesures_FPC!$A$1:$L$52,8,0))","v":0},0,7,"RECHERCHEV(AQ4;Objectifs!$M$1:$N$10;2;0)"]
["Objectif Véhicules communaux_8",{"$f":"IF(Objectifs!BG11=\"\",\"\",Objectifs!BG11)","v":""},{"$f":"IF(ISNA(VLOOKUP(B190,Mesures_FPC!$B$1:$L$52,8,0)),,VLOOKUP(B190,Mesures_FPC!$B$1:$L$52,8,0))","v":0},null,{"$f":"IF(ISNA(VLOOKUP(B190,Mesures_FPC!$B$1:$M$52,12,0)),,VLOOKUP(B190,Mesures_FPC!$B$1:$M$52,12,0))","v":0},0,{"$f":"IF(ISNA(VLOOKUP(J190,Mesures_FPC!$A$1:$L$52,8,0)),,VLOOKUP(J190,Mesures_FPC!$A$1:$L$52,8,0))","v":0},0,8,"RECHERCHEV(AQ4;Objectifs!$M$1:$N$10;2;0)"]
["Objectif Véhicules communaux_9",{"$f":"IF(Objectifs!BG12=\"\",\"\",Objectifs!BG12)","v":""},{"$f":"IF(ISNA(VLOOKUP(B191,Mesures_FPC!$B$1:$L$52,8,0)),,VLOOKUP(B191,Mesures_FPC!$B$1:$L$52,8,0))","v":0},null,{"$f":"IF(ISNA(VLOOKUP(B191,Mesures_FPC!$B$1:$M$52,12,0)),,VLOOKUP(B191,Mesures_FPC!$B$1:$M$52,12,0))","v":0},0,{"$f":"IF(ISNA(VLOOKUP(J191,Mesures_FPC!$A$1:$L$52,8,0)),,VLOOKUP(J191,Mesures_FPC!$A$1:$L$52,8,0))","v":0},0,9,"RECHERCHEV(AQ4;Objectifs!$M$1:$N$10;2;0)"]
["Objectif Véhicules communaux_10",{"$f":"IF(Objectifs!BG13=\"\",\"\",Objectifs!BG13)","v":""},{"$f":"IF(ISNA(VLOOKUP(B192,Mesures_FPC!$B$1:$L$52,8,0)),,VLOOKUP(B192,Mesures_FPC!$B$1:$L$52,8,0))","v":0},null,{"$f":"IF(ISNA(VLOOKUP(B192,Mesures_FPC!$B$1:$M$52,12,0)),,VLOOKUP(B192,Mesures_FPC!$B$1:$M$52,12,0))","v":0},0,{"$f":"IF(ISNA(VLOOKUP(J192,Mesures_FPC!$A$1:$L$52,8,0)),,VLOOKUP(J192,Mesures_FPC!$A$1:$L$52,8,0))","v":0},0,10,"RECHERCHEV(AQ4;Objectifs!$M$1:$N$10;2;0)"]
[null,null,"Total",{"$f":"SUM(D183:D192)","v":0},{"$f":"SUM(E183:E192)","v":0},{"$f":"IF(C180=0,0,E193/C180)","v":0},"Total",{"$f":"SUM(H183:H192)","v":0},null,"RECHERCHEV(AQ4;Objectifs!$M$1:$N$10;2;0)"]
[]
[]
[]
[]
[]
[]
[]
[]
[null,"Objectif:",{"$f":"Objectifs!C16","v":0}]
[null,"Secteur:",{"$f":"Objectifs!B16","v":0}]
[null,"Economie d'énergie (GWh/an):",{"$f":"Objectifs!E16","v":0}]
[null,"Réduction des émissions (tCO2eq/an):",{"$f":"Objectifs!F16","v":0}]
[]
[null,"Indicateur","Valeur cible","Economie d'énergie (GWh/an)","Réduction des émissions (tCO2eq/an)","Part de l'objectif","Valeur au moment du suivi","Réduction des émissions (tCO2eq/an)"]
[{"$f":"C202&\"_\"&I208","v":"0_1"},null,null,null,null,{"$f":"IF(C205=0,0,E208/C205)","v":0},null,{"$f":"IF(C208=0,0,E208/C208*G208)","v":0},1]
[{"$f":"C202&\"_\"&I209","v":"0_2"},null,null,null,null,{"$f":"IF(C205=0,0,E209/C205)","v":0},null,{"$f":"IF(C209=0,0,E209/C209*G209)","v":0},2]
[{"$f":"C202&\"_\"&I210","v":"0_3"},null,null,null,null,{"$f":"IF(C205=0,0,E210/C205)","v":0},null,0,3]
[{"$f":"C202&\"_\"&I211","v":"0_4"},null,null,null,null,{"$f":"IF(C205=0,0,E211/C205)","v":0},null,0,4]
[{"$f":"C202&\"_\"&I212","v":"0_5"},null,null,null,null,{"$f":"IF(C205=0,0,E212/C205)","v":0},null,0,5]
[{"$f":"C202&\"_\"&I213","v":"0_6"},null,null,null,null,{"$f":"IF(C205=0,0,E213/C205)","v":0},null,0,6]
[{"$f":"C202&\"_\"&I214","v":"0_7"},null,null,null,null,{"$f":"IF(C205=0,0,E214/C205)","v":0},null,0,7]
[{"$f":"C202&\"_\"&I215","v":"0_8"},null,null,null,null,{"$f":"IF(C205=0,0,E215/C205)","v":0},null,0,8]
[{"$f":"C202&\"_\"&I216","v":"0_9"},null,null,null,null,{"$f":"IF(C205=0,0,E216/C205)","v":0},null,0,9]
[{"$f":"C202&\"_\"&I217","v":"0_10"},null,null,null,null,{"$f":"IF(C205=0,0,E217/C205)","v":0},null,0,10]
[null,null,"Total",{"$f":"SUM(D208:D217)","v":0},{"$f":"SUM(E208:E217)","v":0},{"$f":"IF(C205=0,0,E218/C205)","v":0},"Total",{"$f":"SUM(H208:H217)","v":0}]
[]
[]
[]
[]
[]
[]
[]
[]
[null,"Objectif:",{"$f":"Objectifs!C17","v":0}]
[null,"Secteur:",{"$f":"Objectifs!B17","v":0}]
[null,"Economie d'énergie (GWh/an):",{"$f":"Objectifs!E17","v":0}]
[null,"Réduction des émissions (tCO2eq/an):",{"$f":"Objectifs!F17","v":0}]
[]
[null,"Indicateur","Valeur cible","Economie d'énergie (GWh/an)","Réduction des émissions (tCO2eq/an)","Part de l'objectif","Valeur au moment du suivi","Réduction des émissions (tCO2eq/an)"]
[{"$f":"C227&\"_\"&I233","v":"0_1"},null,null,null,null,{"$f":"IF(C230=0,0,E233/C230)","v":0},null,{"$f":"IF(C233=0,0,E233/C233*G233)","v":0},1]
[{"$f":"C227&\"_\"&I234","v":"0_2"},null,null,null,null,{"$f":"IF(C230=0,0,E234/C230)","v":0},null,{"$f":"IF(C234=0,0,E234/C234*G234)","v":0},2]
[{"$f":"C227&\"_\"&I235","v":"0_3"},null,null,null,null,{"$f":"IF(C230=0,0,E235/C230)","v":0},null,0,3]
[{"$f":"C227&\"_\"&I236","v":"0_4"},null,null,null,null,{"$f":"IF(C230=0,0,E236/C230)","v":0},null,0,4]
[{"$f":"C227&\"_\"&I237","v":"0_5"},null,null,null,null,{"$f":"IF(C230=0,0,E237/C230)","v":0},null,0,5]
[{"$f":"C227&\"_\"&I238","v":"0_6"},null,null,null,null,{"$f":"IF(C230=0,0,E238/C230)","v":0},null,0,6]
[{"$f":"C227&\"_\"&I239","v":"0_7"},null,null,null,null,{"$f":"IF(C230=0,0,E239/C230)","v":0},null,0,7]
[{"$f":"C227&\"_\"&I240","v":"0_8"},null,null,null,null,{"$f":"IF(C230=0,0,E240/C230)","v":0},null,0,8]
[{"$f":"C227&\"_\"&I241","v":"0_9"},null,null,null,null,{"$f":"IF(C230=0,0,E241/C230)","v":0},null,0,9]
[{"$f":"C227&\"_\"&I242","v":"0_10"},null,null,null,null,{"$f":"IF(C230=0,0,E242/C230)","v":0},null,0,10]
[null,null,"Total",{"$f":"SUM(D233:D242)","v":0},{"$f":"SUM(E233:E242)","v":0},{"$f":"IF(C230=0,0,E243/C230)","v":0},"Total",{"$f":"SUM(H233:H242)","v":0}]
[]
[]
[]
[]
[]
[]
[]
[]
[null,"Objectif:",{"$f":"Objectifs!C18","v":0}]
[null,"Secteur:",{"$f":"Objectifs!B18","v":0}]
[null,"Economie d'énergie (GWh/an):",{"$f":"Objectifs!E18","v":0}]
[null,"Réduction des émissions (tCO2eq/an):",{"$f":"Objectifs!F18","v":0}]
[]
[null,"Indicateur","Valeur cible","Economie d'énergie (GWh/an)","Réduction des émissions (tCO2eq/an)","Part de l'objectif","Valeur au moment du suivi","Réduction des émissions (tCO2eq/an)"]
[{"$f":"C252&\"_\"&I258","v":"0_1"},null,null,null,null,{"$f":"IF(C255=0,0,E258/C255)","v":0},null,{"$f":"IF(C258=0,0,E258/C258*G258)","v":0},1]
[{"$f":"C252&\"_\"&I259","v":"0_2"},null,null,null,null,{"$f":"IF(C255=0,0,E259/C255)","v":0},null,{"$f":"IF(C259=0,0,E259/C259*G259)","v":0},2]
[{"$f":"C252&\"_\"&I260","v":"0_3"},null,null,null,null,{"$f":"IF(C255=0,0,E260/C255)","v":0},null,0,3]
[{"$f":"C252&\"_\"&I261","v":"0_4"},null,null,null,null,{"$f":"IF(C255=0,0,E261/C255)","v":0},null,0,4]
[{"$f":"C252&\"_\"&I262","v":"0_5"},null,null,null,null,{"$f":"IF(C255=0,0,E262/C255)","v":0},null,0,5]
[{"$f":"C252&\"_\"&I263","v":"0_6"},null,null,null,null,{"$f":"IF(C255=0,0,E263/C255)","v":0},null,0,6]
[{"$f":"C252&\"_\"&I264","v":"0_7"},null,null,null,null,{"$f":"IF(C255=0,0,E264/C255)","v":0},null,0,7]
[{"$f":"C252&\"_\"&I265","v":"0_8"},null,null,null,null,{"$f":"IF(C255=0,0,E265/C255)","v":0},null,0,8]
[{"$f":"C252&\"_\"&I266","v":"0_9"},null,null,null,null,{"$f":"IF(C255=0,0,E266/C255)","v":0},null,0,9]
[{"$f":"C252&\"_\"&I267","v":"0_10"},null,null,null,null,{"$f":"IF(C255=0,0,E267/C255)","v":0},null,0,10]
[null,null,"Total",{"$f":"SUM(D258:D267)","v":0},{"$f":"SUM(E258:E267)","v":0},{"$f":"IF(C255=0,0,E268/C255)","v":0},"Total",{"$f":"SUM(H258:H267)","v":0}]
[]
[]
[]
[]
[]
[]
[]
[]
[null,"Objectif:",{"$f":"Objectifs!C19","v":0}]
[null,"Secteur:",{"$f":"Objectifs!B19","v":0}]
[null,"Economie d'énergie (GWh/an):",{"$f":"Objectifs!E19","v":0}]
[null,"Réduction des émissions (tCO2eq/an):",{"$f":"Objectifs!F19","v":0}]
[]
[null,"Indicateur","Valeur cible","Economie d'énergie (GWh/an)","Réduction des émissions (tCO2eq/an)","Part de l'objectif","Valeur au moment du suivi","Réduction des émissions (tCO2eq/an)"]
[{"$f":"C277&\"_\"&I283","v":"0_1"},null,null,null,null,{"$f":"IF(C280=0,0,E283/C280)","v":0},null,{"$f":"IF(C283=0,0,E283/C283*G283)","v":0},1]
[{"$f":"C277&\"_\"&I284","v":"0_2"},null,null,null,null,{"$f":"IF(C280=0,0,E284/C280)","v":0},null,{"$f":"IF(C284=0,0,E284/C284*G284)","v":0},2]
[{"$f":"C277&\"_\"&I285","v":"0_3"},null,null,null,null,{"$f":"IF(C280=0,0,E285/C280)","v":0},null,0,3]
[{"$f":"C277&\"_\"&I286","v":"0_4"},null,null,null,null,{"$f":"IF(C280=0,0,E286/C280)","v":0},null,0,4]
[{"$f":"C277&\"_\"&I287","v":"0_5"},null,null,null,null,{"$f":"IF(C280=0,0,E287/C280)","v":0},null,0,5]
[{"$f":"C277&\"_\"&I288","v":"0_6"},null,null,null,null,{"$f":"IF(C280=0,0,E288/C280)","v":0},null,0,6]
[{"$f":"C277&\"_\"&I289","v":"0_7"},null,null,null,null,{"$f":"IF(C280=0,0,E289/C280)","v":0},null,0,7]
[{"$f":"C277&\"_\"&I290","v":"0_8"},null,null,null,null,{"$f":"IF(C280=0,0,E290/C280)","v":0},null,0,8]
[{"$f":"C277&\"_\"&I291","v":"0_9"},null,null,null,null,{"$f":"IF(C280=0,0,E291/C280)","v":0},null,0,9]
[{"$f":"C277&\"_\"&I292","v":"0_10"},null,null,null,null,{"$f":"IF(C280=0,0,E292/C280)","v":0},null,0,10]
[null,null,"Total",{"$f":"SUM(D283:D292)","v":0},{"$f":"SUM(E283:E292)","v":0},{"$f":"IF(C280=0,0,E293/C280)","v":0},"Total",{"$f":"SUM(H283:H292)","v":0}]
[]
[]
[]
[]
[]
[]
[]
[]
[null,"Objectif:",{"$f":"Objectifs!C20","v":0}]
[null,"Secteur:",{"$f":"Objectifs!B20","v":0}]
[null,"Economie d'énergie (GWh/an):",{"$f":"Objectifs!E20","v":0}]
[null,"Réduction des émissions (tCO2eq/an):",{"$f":"Objectifs!F20","v":0}]
[]
[null,"Indicateur","Valeur cible","Economie d'énergie (GWh/an)","Réduction des émissions (tCO2eq/an)","Part de l'objectif","Valeur au moment du suivi","Réduction des émissions (tCO2eq/an)"]
[{"$f":"C302&\"_\"&I308","v":"0_1"},null,null,null,null,{"$f":"IF(C305=0,0,E308/C305)","v":0},null,{"$f":"IF(C308=0,0,E308/C308*G308)","v":0},1]
[{"$f":"C302&\"_\"&I309","v":"0_2"},null,null,null,null,{"$f":"IF(C305=0,0,E309/C305)","v":0},null,{"$f":"IF(C309=0,0,E309/C309*G309)","v":0},2]
[{"$f":"C302&\"_\"&I310","v":"0_3"},null,null,null,null,{"$f":"IF(C305=0,0,E310/C305)","v":0},null,0,3]
[{"$f":"C302&\"_\"&I311","v":"0_4"},null,null,null,null,{"$f":"IF(C305=0,0,E311/C305)","v":0},null,0,4]
[{"$f":"C302&\"_\"&I312","v":"0_5"},null,null,null,null,{"$f":"IF(C305=0,0,E312/C305)","v":0},null,0,5]
[{"$f":"C302&\"_\"&I313","v":"0_6"},null,null,null,null,{"$f":"IF(C305=0,0,E313/C305)","v":0},null,0,6]
[{"$f":"C302&\"_\"&I314","v":"0_7"},null,null,null,null,{"$f":"IF(C305=0,0,E314/C305)","v":0},null,0,7]
[{"$f":"C302&\"_\"&I315","v":"0_8"},null,null,null,null,{"$f":"IF(C305=0,0,E315/C305)","v":0},null,0,8]
[{"$f":"C302&\"_\"&I316","v":"0_9"},null,null,null,null,{"$f":"IF(C305=0,0,E316/C305)","v":0},null,0,9]
[{"$f":"C302&\"_\"&I317","v":"0_10"},null,null,null,null,{"$f":"IF(C305=0,0,E317/C305)","v":0},null,0,10]
[null,null,"Total",{"$f":"SUM(D308:D317)","v":0},{"$f":"SUM(E308:E317)","v":0},{"$f":"IF(C305=0,0,E318/C305)","v":0},"Total",{"$f":"SUM(H308:H317)","v":0}]
[]
[]
[]
[]
[]
[]
[]
[]
[null,"Objectif:",{"$f":"Objectifs!C21","v":0}]
[null,"Secteur:",{"$f":"Objectifs!B21","v":0}]
[null,"Economie d'énergie (GWh/an):",{"$f":"Objectifs!E21","v":0}]
[null,"Réduction des émissions (tCO2eq/an):",{"$f":"Objectifs!F21","v":0}]
[]
[null,"Indicateur","Valeur cible","Economie d'énergie (GWh/an)","Réduction des émissions (tCO2eq/an)","Part de l'objectif","Valeur au moment du suivi","Réduction des émissions (tCO2eq/an)"]
[{"$f":"C327&\"_\"&I333","v":"0_1"},null,null,null,null,{"$f":"IF(C330=0,0,E333/C330)","v":0},null,{"$f":"IF(C333=0,0,E333/C333*G333)","v":0},1]
[{"$f":"C327&\"_\"&I334","v":"0_2"},null,null,null,null,{"$f":"IF(C330=0,0,E334/C330)","v":0},null,{"$f":"IF(C334=0,0,E334/C334*G334)","v":0},2]
[{"$f":"C327&\"_\"&I335","v":"0_3"},null,null,null,null,{"$f":"IF(C330=0,0,E335/C330)","v":0},null,0,3]
[{"$f":"C327&\"_\"&I336","v":"0_4"},null,null,null,null,{"$f":"IF(C330=0,0,E336/C330)","v":0},null,0,4]
[{"$f":"C327&\"_\"&I337","v":"0_5"},null,null,null,null,{"$f":"IF(C330=0,0,E337/C330)","v":0},null,0,5]
[{"$f":"C327&\"_\"&I338","v":"0_6"},null,null,null,null,{"$f":"IF(C330=0,0,E338/C330)","v":0},null,0,6]
[{"$f":"C327&\"_\"&I339","v":"0_7"},null,null,null,null,{"$f":"IF(C330=0,0,E339/C330)","v":0},null,0,7]
[{"$f":"C327&\"_\"&I340","v":"0_8"},null,null,null,null,{"$f":"IF(C330=0,0,E340/C330)","v":0},null,0,8]
[{"$f":"C327&\"_\"&I341","v":"0_9"},null,null,null,null,{"$f":"IF(C330=0,0,E341/C330)","v":0},null,0,9]
[{"$f":"C327&\"_\"&I342","v":"0_10"},null,null,null,null,{"$f":"IF(C330=0,0,E342/C330)","v":0},null,0,10]
[null,null,"Total",{"$f":"SUM(D333:D342)","v":0},{"$f":"SUM(E333:E342)","v":0},{"$f":"IF(C330=0,0,E343/C330)","v":0},"Total",{"$f":"SUM(H333:H342)","v":0}]
[]
[]
[]
[]
[]
[]
[]
[]
[null,"Objectif:",{"$f":"Objectifs!C22","v":0}]
[null,"Secteur:",{"$f":"Objectifs!B22","v":0}]
[null,"Economie d'énergie (GWh/an):",{"$f":"Objectifs!E22","v":0}]
[null,"Réduction des émissions (tCO2eq/an):",{"$f":"Objectifs!F22","v":0}]
[]
[null,"Indicateur","Valeur cible","Economie d'énergie (GWh/an)","Réduction des émissions (tCO2eq/an)","Part de l'objectif","Valeur au moment du suivi","Réduction des émissions (tCO2eq/an)"]
[{"$f":"C352&\"_\"&I358","v":"0_1"},null,null,null,null,{"$f":"IF(C355=0,0,E358/C355)","v":0},null,{"$f":"IF(C358=0,0,E358/C358*G358)","v":0},1]
[{"$f":"C352&\"_\"&I359","v":"0_2"},null,null,null,null,{"$f":"IF(C355=0,0,E359/C355)","v":0},null,{"$f":"IF(C359=0,0,E359/C359*G359)","v":0},2]
[{"$f":"C352&\"_\"&I360","v":"0_3"},null,null,null,null,{"$f":"IF(C355=0,0,E360/C355)","v":0},null,0,3]
[{"$f":"C352&\"_\"&I361","v":"0_4"},null,null,null,null,{"$f":"IF(C355=0,0,E361/C355)","v":0},null,0,4]
[{"$f":"C352&\"_\"&I362","v":"0_5"},null,null,null,null,{"$f":"IF(C355=0,0,E362/C355)","v":0},null,0,5]
[{"$f":"C352&\"_\"&I363","v":"0_6"},null,null,null,null,{"$f":"IF(C355=0,0,E363/C355)","v":0},null,0,6]
[{"$f":"C352&\"_\"&I364","v":"0_7"},null,null,null,null,{"$f":"IF(C355=0,0,E364/C355)","v":0},null,0,7]
[{"$f":"C352&\"_\"&I365","v":"0_8"},null,null,null,null,{"$f":"IF(C355=0,0,E365/C355)","v":0},null,0,8]
[{"$f":"C352&\"_\"&I366","v":"0_9"},null,null,null,null,{"$f":"IF(C355=0,0,E366/C355)","v":0},null,0,9]
[{"$f":"C352&\"_\"&I367","v":"0_10"},null,null,null,null,{"$f":"IF(C355=0,0,E367/C355)","v":0},null,0,10]
[null,null,"Total",{"$f":"SUM(D358:D367)","v":0},{"$f":"SUM(E358:E367)","v":0},{"$f":"IF(C355=0,0,E368/C355)","v":0},"Total",{"$f":"SUM(H358:H367)","v":0}]
[]
[]
[]
[]
[]
[]
[]
[]
[null,"Objectif:",{"$f":"Objectifs!C23","v":0}]
[null,"Secteur:",{"$f":"Objectifs!B23","v":0}]
[null,"Economie d'énergie (GWh/an):",{"$f":"Objectifs!E23","v":0}]
[null,"Réduction des émissions (tCO2eq/an):",{"$f":"Objectifs!F23","v":0}]
[]
[null,"Indicateur","Valeur cible","Economie d'énergie (GWh/an)","Réduction des émissions (tCO2eq/an)","Part de l'objectif","Valeur au moment du suivi","Réduction des émissions (tCO2eq/an)"]
[{"$f":"C377&\"_\"&I383","v":"0_1"},null,null,null,null,{"$f":"IF(C380=0,0,E383/C380)","v":0},null,{"$f":"IF(C383=0,0,E383/C383*G383)","v":0},1]
[{"$f":"C377&\"_\"&I384","v":"0_2"},null,null,null,null,{"$f":"IF(C380=0,0,E384/C380)","v":0},null,{"$f":"IF(C384=0,0,E384/C384*G384)","v":0},2]
[{"$f":"C377&\"_\"&I385","v":"0_3"},null,null,null,null,{"$f":"IF(C380=0,0,E385/C380)","v":0},null,0,3]
[{"$f":"C377&\"_\"&I386","v":"0_4"},null,null,null,null,{"$f":"IF(C380=0,0,E386/C380)","v":0},null,0,4]
[{"$f":"C377&\"_\"&I387","v":"0_5"},null,null,null,null,{"$f":"IF(C380=0,0,E387/C380)","v":0},null,0,5]
[{"$f":"C377&\"_\"&I388","v":"0_6"},null,null,null,null,{"$f":"IF(C380=0,0,E388/C380)","v":0},null,0,6]
[{"$f":"C377&\"_\"&I389","v":"0_7"},null,null,null,null,{"$f":"IF(C380=0,0,E389/C380)","v":0},null,0,7]
[{"$f":"C377&\"_\"&I390","v":"0_8"},null,null,null,null,{"$f":"IF(C380=0,0,E390/C380)","v":0},null,0,8]
[{"$f":"C377&\"_\"&I391","v":"0_9"},null,null,null,null,{"$f":"IF(C380=0,0,E391/C380)","v":0},null,0,9]
[{"$f":"C377&\"_\"&I392","v":"0_10"},null,null,null,null,{"$f":"IF(C380=0,0,E392/C380)","v":0},null,0,10]
[null,null,"Total",{"$f":"SUM(D383:D392)","v":0},{"$f":"SUM(E383:E392)","v":0},{"$f":"IF(C380=0,0,E393/C380)","v":0},"Total",{"$f":"SUM(H383:H392)","v":0}]
[]
[]
[]
[]
[]
[]
[]
[]
[null,"Objectif:",{"$f":"Objectifs!C24","v":0}]
[null,"Secteur:",{"$f":"Objectifs!B24","v":0}]
[null,"Economie d'énergie (GWh/an):",{"$f":"Objectifs!E24","v":0}]
[null,"Réduction des émissions (tCO2eq/an):",{"$f":"Objectifs!F24","v":0}]
[]
[null,"Indicateur","Valeur cible","Economie d'énergie (GWh/an)","Réduction des émissions (tCO2eq/an)","Part de l'objectif","Valeur au moment du suivi","Réduction des émissions (tCO2eq/an)"]
[{"$f":"C402&\"_\"&I408","v":"0_1"},null,null,null,null,{"$f":"IF(C405=0,0,E408/C405)","v":0},null,{"$f":"IF(C408=0,0,E408/C408*G408)","v":0},1]
[{"$f":"C402&\"_\"&I409","v":"0_2"},null,null,null,null,{"$f":"IF(C405=0,0,E409/C405)","v":0},null,{"$f":"IF(C409=0,0,E409/C409*G409)","v":0},2]
[{"$f":"C402&\"_\"&I410","v":"0_3"},null,null,null,null,{"$f":"IF(C405=0,0,E410/C405)","v":0},null,0,3]
[{"$f":"C402&\"_\"&I411","v":"0_4"},null,null,null,null,{"$f":"IF(C405=0,0,E411/C405)","v":0},null,0,4]
[{"$f":"C402&\"_\"&I412","v":"0_5"},null,null,null,null,{"$f":"IF(C405=0,0,E412/C405)","v":0},null,0,5]
[{"$f":"C402&\"_\"&I413","v":"0_6"},null,null,null,null,{"$f":"IF(C405=0,0,E413/C405)","v":0},null,0,6]
[{"$f":"C402&\"_\"&I414","v":"0_7"},null,null,null,null,{"$f":"IF(C405=0,0,E414/C405)","v":0},null,0,7]
[{"$f":"C402&\"_\"&I415","v":"0_8"},null,null,null,null,{"$f":"IF(C405=0,0,E415/C405)","v":0},null,0,8]
[{"$f":"C402&\"_\"&I416","v":"0_9"},null,null,null,null,{"$f":"IF(C405=0,0,E416/C405)","v":0},null,0,9]
[{"$f":"C402&\"_\"&I417","v":"0_10"},null,null,null,null,{"$f":"IF(C405=0,0,E417/C405)","v":0},null,0,10]
[null,null,"Total",{"$f":"SUM(D408:D417)","v":0},{"$f":"SUM(E408:E417)","v":0},{"$f":"IF(C405=0,0,E418/C405)","v":0},"Total",{"$f":"SUM(H408:H417)","v":0}]
[]
[]
[]
[]
[]
[]
[]
[]
[null,"Objectif:",{"$f":"Objectifs!C25","v":0}]
[null,"Secteur:",{"$f":"Objectifs!B25","v":0}]
[null,"Economie d'énergie (GWh/an):",{"$f":"Objectifs!E25","v":0}]
[null,"Réduction des émissions (tCO2eq/an):",{"$f":"Objectifs!F25","v":0}]
[]
[null,"Indicateur","Valeur cible","Economie d'énergie (GWh/an)","Réduction des émissions (tCO2eq/an)","Part de l'objectif","Valeur au moment du suivi","Réduction des émissions (tCO2eq/an)"]
[{"$f":"C427&\"_\"&I433","v":"0_1"},null,null,null,null,{"$f":"IF(C430=0,0,E433/C430)","v":0},null,{"$f":"IF(C433=0,0,E433/C433*G433)","v":0},1]
[{"$f":"C427&\"_\"&I434","v":"0_2"},null,null,null,null,{"$f":"IF(C430=0,0,E434/C430)","v":0},null,{"$f":"IF(C434=0,0,E434/C434*G434)","v":0},2]
[{"$f":"C427&\"_\"&I435","v":"0_3"},null,null,null,null,{"$f":"IF(C430=0,0,E435/C430)","v":0},null,0,3]
[{"$f":"C427&\"_\"&I436","v":"0_4"},null,null,null,null,{"$f":"IF(C430=0,0,E436/C430)","v":0},null,0,4]
[{"$f":"C427&\"_\"&I437","v":"0_5"},null,null,null,null,{"$f":"IF(C430=0,0,E437/C430)","v":0},null,0,5]
[{"$f":"C427&\"_\"&I438","v":"0_6"},null,null,null,null,{"$f":"IF(C430=0,0,E438/C430)","v":0},null,0,6]
[{"$f":"C427&\"_\"&I439","v":"0_7"},null,null,null,null,{"$f":"IF(C430=0,0,E439/C430)","v":0},null,0,7]
[{"$f":"C427&\"_\"&I440","v":"0_8"},null,null,null,null,{"$f":"IF(C430=0,0,E440/C430)","v":0},null,0,8]
[{"$f":"C427&\"_\"&I441","v":"0_9"},null,null,null,null,{"$f":"IF(C430=0,0,E441/C430)","v":0},null,0,9]
[{"$f":"C427&\"_\"&I442","v":"0_10"},null,null,null,null,{"$f":"IF(C430=0,0,E442/C430)","v":0},null,0,10]
[null,null,"Total",{"$f":"SUM(D433:D442)","v":0},{"$f":"SUM(E433:E442)","v":0},{"$f":"IF(C430=0,0,E443/C430)","v":0},"Total",{"$f":"SUM(H433:H442)","v":0}]
[]
[]
[]
[]
[]
[]
[]
[]
[null,"Objectif:",{"$f":"Objectifs!C26","v":0}]
[null,"Secteur:",{"$f":"Objectifs!B26","v":0}]
[null,"Economie d'énergie (GWh/an):",{"$f":"Objectifs!E26","v":0}]
[null,"Réduction des émissions (tCO2eq/an):",{"$f":"Objectifs!F26","v":0}]
[]
[null,"Indicateur","Valeur cible","Economie d'énergie (GWh/an)","Réduction des émissions (tCO2eq/an)","Part de l'objectif","Valeur au moment du suivi","Réduction des émissions (tCO2eq/an)"]
[{"$f":"C452&\"_\"&I458","v":"0_1"},null,null,null,null,{"$f":"IF(C455=0,0,E458/C455)","v":0},null,{"$f":"IF(C458=0,0,E458/C458*G458)","v":0},1]
[{"$f":"C452&\"_\"&I459","v":"0_2"},null,null,null,null,{"$f":"IF(C455=0,0,E459/C455)","v":0},null,{"$f":"IF(C459=0,0,E459/C459*G459)","v":0},2]
[{"$f":"C452&\"_\"&I460","v":"0_3"},null,null,null,null,{"$f":"IF(C455=0,0,E460/C455)","v":0},null,0,3]
[{"$f":"C452&\"_\"&I461","v":"0_4"},null,null,null,null,{"$f":"IF(C455=0,0,E461/C455)","v":0},null,0,4]
[{"$f":"C452&\"_\"&I462","v":"0_5"},null,null,null,null,{"$f":"IF(C455=0,0,E462/C455)","v":0},null,0,5]
[{"$f":"C452&\"_\"&I463","v":"0_6"},null,null,null,null,{"$f":"IF(C455=0,0,E463/C455)","v":0},null,0,6]
[{"$f":"C452&\"_\"&I464","v":"0_7"},null,null,null,null,{"$f":"IF(C455=0,0,E464/C455)","v":0},null,0,7]
[{"$f":"C452&\"_\"&I465","v":"0_8"},null,null,null,null,{"$f":"IF(C455=0,0,E465/C455)","v":0},null,0,8]
[{"$f":"C452&\"_\"&I466","v":"0_9"},null,null,null,null,{"$f":"IF(C455=0,0,E466/C455)","v":0},null,0,9]
[{"$f":"C452&\"_\"&I467","v":"0_10"},null,null,null,null,{"$f":"IF(C455=0,0,E467/C455)","v":0},null,0,10]
[null,null,"Total",{"$f":"SUM(D458:D467)","v":0},{"$f":"SUM(E458:E467)","v":0},{"$f":"IF(C455=0,0,E468/C455)","v":0},"Total",{"$f":"SUM(H458:H467)","v":0}]
[]
[]
[]
[]
[]
[]
[]
[]
[null,"Objectif:",{"$f":"Objectifs!C27","v":0}]
[null,"Secteur:",{"$f":"Objectifs!B27","v":0}]
[null,"Economie d'énergie (GWh/an):",{"$f":"Objectifs!E27","v":0}]
[null,"Réduction des émissions (tCO2eq/an):",{"$f":"Objectifs!F27","v":0}]
[]
[null,"Indicateur","Valeur cible","Economie d'énergie (GWh/an)","Réduction des émissions (tCO2eq/an)","Part de l'objectif","Valeur au moment du suivi","Réduction des émissions (tCO2eq/an)"]
[{"$f":"C477&\"_\"&I483","v":"0_1"},null,null,null,null,{"$f":"IF(C480=0,0,E483/C480)","v":0},null,{"$f":"IF(C483=0,0,E483/C483*G483)","v":0},1]
[{"$f":"C477&\"_\"&I484","v":"0_2"},null,null,null,null,{"$f":"IF(C480=0,0,E484/C480)","v":0},null,{"$f":"IF(C484=0,0,E484/C484*G484)","v":0},2]
[{"$f":"C477&\"_\"&I485","v":"0_3"},null,null,null,null,{"$f":"IF(C480=0,0,E485/C480)","v":0},null,0,3]
[{"$f":"C477&\"_\"&I486","v":"0_4"},null,null,null,null,{"$f":"IF(C480=0,0,E486/C480)","v":0},null,0,4]
[{"$f":"C477&\"_\"&I487","v":"0_5"},null,null,null,null,{"$f":"IF(C480=0,0,E487/C480)","v":0},null,0,5]
[{"$f":"C477&\"_\"&I488","v":"0_6"},null,null,null,null,{"$f":"IF(C480=0,0,E488/C480)","v":0},null,0,6]
[{"$f":"C477&\"_\"&I489","v":"0_7"},null,null,null,null,{"$f":"IF(C480=0,0,E489/C480)","v":0},null,0,7]
[{"$f":"C477&\"_\"&I490","v":"0_8"},null,null,null,null,{"$f":"IF(C480=0,0,E490/C480)","v":0},null,0,8]
[{"$f":"C477&\"_\"&I491","v":"0_9"},null,null,null,null,{"$f":"IF(C480=0,0,E491/C480)","v":0},null,0,9]
[{"$f":"C477&\"_\"&I492","v":"0_10"},null,null,null,null,{"$f":"IF(C480=0,0,E492/C480)","v":0},null,0,10]
[null,null,"Total",{"$f":"SUM(D483:D492)","v":0},{"$f":"SUM(E483:E492)","v":0},{"$f":"IF(C480=0,0,E493/C480)","v":0},"Total",{"$f":"SUM(H483:H492)","v":0}]
[]
[]
[]
[]
[]
[]
[]
[]
[null,"Objectif:",{"$f":"Objectifs!C31","v":"Production de chaleur"}]
[null,"Filière:",{"$f":"Objectifs!B31","v":0}]
[null,"Economie d'énergie (GWh/an):",{"$f":"D518","v":0}]
[null,"Réduction des émissions (tCO2eq/an):",{"$f":"E518","v":0}]
[]
[null,"Indicateur","Valeur cible","Production d'énergie (GWh/an)","Réduction des émissions (tCO2eq/an)","Part de l'objectif","Valeur au moment du suivi","Réduction des émissions (tCO2eq/an)"]
[{"$f":"C502&\"_\"&I508","v":"Production de chaleur_1"},{"$f":"IF(Objectifs!AY4=\"\",\"\",Objectifs!AY4)","v":""},{"$f":"IF(ISNA(VLOOKUP(B508,Mesures_FPC!$B$1:$L$52,8,0)),,VLOOKUP(B508,Mesures_FPC!$B$1:$L$52,8,0))","v":0},null,{"$f":"IF(ISNA(VLOOKUP(B508,Mesures_FPC!$B$1:$M$52,12,0)),,VLOOKUP(B508,Mesures_FPC!$B$1:$M$52,12,0))","v":0},{"$f":"IF(E$518=0,0,E508/E$518)","v":0},{"$f":"IF(ISNA(VLOOKUP(J508,Mesures_FPC!$A$1:$L$52,8,0)),,VLOOKUP(J508,Mesures_FPC!$A$1:$L$52,8,0))","v":0},{"$f":"IF(C508=0,0,E508/C508*G508)","v":0},1,"RECHERCHEV(AQ4;Objectifs!$M$1:$N$10;2;0)"]
[{"$f":"C502&\"_\"&I509","v":"Production de chaleur_2"},{"$f":"IF(Objectifs!AY5=\"\",\"\",Objectifs!AY5)","v":""},{"$f":"IF(ISNA(VLOOKUP(B509,Mesures_FPC!$B$1:$L$52,8,0)),,VLOOKUP(B509,Mesures_FPC!$B$1:$L$52,8,0))","v":0},null,{"$f":"IF(ISNA(VLOOKUP(B509,Mesures_FPC!$B$1:$M$52,12,0)),,VLOOKUP(B509,Mesures_FPC!$B$1:$M$52,12,0))","v":0},{"$f":"IF(E$518=0,0,E509/E$518)","v":0},{"$f":"IF(ISNA(VLOOKUP(J509,Mesures_FPC!$A$1:$L$52,8,0)),,VLOOKUP(J509,Mesures_FPC!$A$1:$L$52,8,0))","v":0},{"$f":"IF(C509=0,0,E509/C509*G509)","v":0},2,"RECHERCHEV(AQ4;Objectifs!$M$1:$N$10;2;0)"]
[{"$f":"C502&\"_\"&I510","v":"Production de chaleur_3"},{"$f":"IF(Objectifs!AY6=\"\",\"\",Objectifs!AY6)","v":""},{"$f":"IF(ISNA(VLOOKUP(B510,Mesures_FPC!$B$1:$L$52,8,0)),,VLOOKUP(B510,Mesures_FPC!$B$1:$L$52,8,0))","v":0},null,{"$f":"IF(ISNA(VLOOKUP(B510,Mesures_FPC!$B$1:$M$52,12,0)),,VLOOKUP(B510,Mesures_FPC!$B$1:$M$52,12,0))","v":0},0,{"$f":"IF(ISNA(VLOOKUP(J510,Mesures_FPC!$A$1:$L$52,8,0)),,VLOOKUP(J510,Mesures_FPC!$A$1:$L$52,8,0))","v":0},0,3,"RECHERCHEV(AQ4;Objectifs!$M$1:$N$10;2;0)"]
[{"$f":"C502&\"_\"&I511","v":"Production de chaleur_4"},{"$f":"IF(Objectifs!AY7=\"\",\"\",Objectifs!AY7)","v":""},{"$f":"IF(ISNA(VLOOKUP(B511,Mesures_FPC!$B$1:$L$52,8,0)),,VLOOKUP(B511,Mesures_FPC!$B$1:$L$52,8,0))","v":0},null,{"$f":"IF(ISNA(VLOOKUP(B511,Mesures_FPC!$B$1:$M$52,12,0)),,VLOOKUP(B511,Mesures_FPC!$B$1:$M$52,12,0))","v":0},0,{"$f":"IF(ISNA(VLOOKUP(J511,Mesures_FPC!$A$1:$L$52,8,0)),,VLOOKUP(J511,Mesures_FPC!$A$1:$L$52,8,0))","v":0},0,4,"RECHERCHEV(AQ4;Objectifs!$M$1:$N$10;2;0)"]
[{"$f":"C502&\"_\"&I512","v":"Production de chaleur_5"},{"$f":"IF(Objectifs!AY8=\"\",\"\",Objectifs!AY8)","v":""},{"$f":"IF(ISNA(VLOOKUP(B512,Mesures_FPC!$B$1:$L$52,8,0)),,VLOOKUP(B512,Mesures_FPC!$B$1:$L$52,8,0))","v":0},null,{"$f":"IF(ISNA(VLOOKUP(B512,Mesures_FPC!$B$1:$M$52,12,0)),,VLOOKUP(B512,Mesures_FPC!$B$1:$M$52,12,0))","v":0},0,{"$f":"IF(ISNA(VLOOKUP(J512,Mesures_FPC!$A$1:$L$52,8,0)),,VLOOKUP(J512,Mesures_FPC!$A$1:$L$52,8,0))","v":0},0,5,"RECHERCHEV(AQ4;Objectifs!$M$1:$N$10;2;0)"]
[{"$f":"C502&\"_\"&I513","v":"Production de chaleur_6"},{"$f":"IF(Objectifs!AY9=\"\",\"\",Objectifs!AY9)","v":""},{"$f":"IF(ISNA(VLOOKUP(B513,Mesures_FPC!$B$1:$L$52,8,0)),,VLOOKUP(B513,Mesures_FPC!$B$1:$L$52,8,0))","v":0},null,{"$f":"IF(ISNA(VLOOKUP(B513,Mesures_FPC!$B$1:$M$52,12,0)),,VLOOKUP(B513,Mesures_FPC!$B$1:$M$52,12,0))","v":0},0,{"$f":"IF(ISNA(VLOOKUP(J513,Mesures_FPC!$A$1:$L$52,8,0)),,VLOOKUP(J513,Mesures_FPC!$A$1:$L$52,8,0))","v":0},0,6,"RECHERCHEV(AQ4;Objectifs!$M$1:$N$10;2;0)"]
[{"$f":"C502&\"_\"&I514","v":"Production de chaleur_7"},{"$f":"IF(Objectifs!AY10=\"\",\"\",Objectifs!AY10)","v":""},{"$f":"IF(ISNA(VLOOKUP(B514,Mesures_FPC!$B$1:$L$52,8,0)),,VLOOKUP(B514,Mesures_FPC!$B$1:$L$52,8,0))","v":0},null,{"$f":"IF(ISNA(VLOOKUP(B514,Mesures_FPC!$B$1:$M$52,12,0)),,VLOOKUP(B514,Mesures_FPC!$B$1:$M$52,12,0))","v":0},0,{"$f":"IF(ISNA(VLOOKUP(J514,Mesures_FPC!$A$1:$L$52,8,0)),,VLOOKUP(J514,Mesures_FPC!$A$1:$L$52,8,0))","v":0},0,7,"RECHERCHEV(AQ4;Objectifs!$M$1:$N$10;2;0)"]
[{"$f":"C502&\"_\"&I515","v":"Production de chaleur_8"},{"$f":"IF(Objectifs!AY11=\"\",\"\",Objectifs!AY11)","v":""},{"$f":"IF(ISNA(VLOOKUP(B515,Mesures_FPC!$B$1:$L$52,8,0)),,VLOOKUP(B515,Mesures_FPC!$B$1:$L$52,8,0))","v":0},null,{"$f":"IF(ISNA(VLOOKUP(B515,Mesures_FPC!$B$1:$M$52,12,0)),,VLOOKUP(B515,Mesures_FPC!$B$1:$M$52,12,0))","v":0},0,{"$f":"IF(ISNA(VLOOKUP(J515,Mesures_FPC!$A$1:$L$52,8,0)),,VLOOKUP(J515,Mesures_FPC!$A$1:$L$52,8,0))","v":0},0,8,"RECHERCHEV(AQ4;Objectifs!$M$1:$N$10;2;0)"]
[{"$f":"C502&\"_\"&I516","v":"Production de chaleur_9"},{"$f":"IF(Objectifs!AY12=\"\",\"\",Objectifs!AY12)","v":""},{"$f":"IF(ISNA(VLOOKUP(B516,Mesures_FPC!$B$1:$L$52,8,0)),,VLOOKUP(B516,Mesures_FPC!$B$1:$L$52,8,0))","v":0},null,{"$f":"IF(ISNA(VLOOKUP(B516,Mesures_FPC!$B$1:$M$52,12,0)),,VLOOKUP(B516,Mesures_FPC!$B$1:$M$52,12,0))","v":0},0,{"$f":"IF(ISNA(VLOOKUP(J516,Mesures_FPC!$A$1:$L$52,8,0)),,VLOOKUP(J516,Mesures_FPC!$A$1:$L$52,8,0))","v":0},0,9,"RECHERCHEV(AQ4;Objectifs!$M$1:$N$10;2;0)"]
[{"$f":"C502&\"_\"&I517","v":"Production de chaleur_10"},{"$f":"IF(Objectifs!AY13=\"\",\"\",Objectifs!AY13)","v":""},{"$f":"IF(ISNA(VLOOKUP(B517,Mesures_FPC!$B$1:$L$52,8,0)),,VLOOKUP(B517,Mesures_FPC!$B$1:$L$52,8,0))","v":0},null,{"$f":"IF(ISNA(VLOOKUP(B517,Mesures_FPC!$B$1:$M$52,12,0)),,VLOOKUP(B517,Mesures_FPC!$B$1:$M$52,12,0))","v":0},0,{"$f":"IF(ISNA(VLOOKUP(J517,Mesures_FPC!$A$1:$L$52,8,0)),,VLOOKUP(J517,Mesures_FPC!$A$1:$L$52,8,0))","v":0},0,10,"RECHERCHEV(AQ4;Objectifs!$M$1:$N$10;2;0)"]
[null,null,"Total",{"$f":"SUM(D508:D517)","v":0},{"$f":"SUM(E508:E517)","v":0},{"$f":"IF(C505=0,0,E518/C505)","v":0},"Total",{"$f":"SUM(H508:H517)","v":0},null,"RECHERCHEV(AQ4;Objectifs!$M$1:$N$10;2;0)"]
[]
[]
[]
[]
[]
[]
[]
[]
[null,"Objectif:",{"$f":"Objectifs!C32","v":"Production d'électricité"}]
[null,"Filière:",{"$f":"Objectifs!B32","v":0}]
[null,"Economie d'énergie (GWh/an):",{"$f":"D543","v":0}]
[null,"Réduction des émissions (tCO2eq/an):",{"$f":"E543","v":0}]
[]
[null,"Indicateur","Valeur cible","Production d'énergie (GWh/an)","Réduction des émissions (tCO2eq/an)","Part de l'objectif","Valeur au moment du suivi","Réduction des émissions (tCO2eq/an)"]
[{"$f":"C527&\"_\"&I533","v":"Production d'électricité_1"},{"$f":"IF(Objectifs!BC4=\"\",\"\",Objectifs!BC4)","v":""},{"$f":"IF(ISNA(VLOOKUP(B533,Mesures_FPC!$B$1:$L$52,8,0)),,VLOOKUP(B533,Mesures_FPC!$B$1:$L$52,8,0))","v":0},null,{"$f":"IF(ISNA(VLOOKUP(B533,Mesures_FPC!$B$1:$M$52,12,0)),,VLOOKUP(B533,Mesures_FPC!$B$1:$M$52,12,0))","v":0},{"$f":"IF(E$543=0,0,E533/E$543)","v":0},{"$f":"IF(ISNA(VLOOKUP(J533,Mesures_FPC!$A$1:$L$52,8,0)),,VLOOKUP(J533,Mesures_FPC!$A$1:$L$52,8,0))","v":0},{"$f":"IF(C533=0,0,E533/C533*G533)","v":0},1,"RECHERCHEV(AQ4;Objectifs!$M$1:$N$10;2;0)"]
[{"$f":"C527&\"_\"&I534","v":"Production d'électricité_2"},{"$f":"IF(Objectifs!BC5=\"\",\"\",Objectifs!BC5)","v":""},{"$f":"IF(ISNA(VLOOKUP(B534,Mesures_FPC!$B$1:$L$52,8,0)),,VLOOKUP(B534,Mesures_FPC!$B$1:$L$52,8,0))","v":0},null,{"$f":"IF(ISNA(VLOOKUP(B534,Mesures_FPC!$B$1:$M$52,12,0)),,VLOOKUP(B534,Mesures_FPC!$B$1:$M$52,12,0))","v":0},{"$f":"IF(E$543=0,0,E534/E$543)","v":0},{"$f":"IF(ISNA(VLOOKUP(J534,Mesures_FPC!$A$1:$L$52,8,0)),,VLOOKUP(J534,Mesures_FPC!$A$1:$L$52,8,0))","v":0},{"$f":"IF(C534=0,0,E534/C534*G534)","v":0},2,"RECHERCHEV(AQ4;Objectifs!$M$1:$N$10;2;0)"]
[{"$f":"C527&\"_\"&I535","v":"Production d'électricité_3"},{"$f":"IF(Objectifs!BC6=\"\",\"\",Objectifs!BC6)","v":""},{"$f":"IF(ISNA(VLOOKUP(B535,Mesures_FPC!$B$1:$L$52,8,0)),,VLOOKUP(B535,Mesures_FPC!$B$1:$L$52,8,0))","v":0},null,{"$f":"IF(ISNA(VLOOKUP(B535,Mesures_FPC!$B$1:$M$52,12,0)),,VLOOKUP(B535,Mesures_FPC!$B$1:$M$52,12,0))","v":0},0,{"$f":"IF(ISNA(VLOOKUP(J535,Mesures_FPC!$A$1:$L$52,8,0)),,VLOOKUP(J535,Mesures_FPC!$A$1:$L$52,8,0))","v":0},0,3,"RECHERCHEV(AQ4;Objectifs!$M$1:$N$10;2;0)"]
[{"$f":"C527&\"_\"&I536","v":"Production d'électricité_4"},{"$f":"IF(Objectifs!BC7=\"\",\"\",Objectifs!BC7)","v":""},{"$f":"IF(ISNA(VLOOKUP(B536,Mesures_FPC!$B$1:$L$52,8,0)),,VLOOKUP(B536,Mesures_FPC!$B$1:$L$52,8,0))","v":0},null,{"$f":"IF(ISNA(VLOOKUP(B536,Mesures_FPC!$B$1:$M$52,12,0)),,VLOOKUP(B536,Mesures_FPC!$B$1:$M$52,12,0))","v":0},0,{"$f":"IF(ISNA(VLOOKUP(J536,Mesures_FPC!$A$1:$L$52,8,0)),,VLOOKUP(J536,Mesures_FPC!$A$1:$L$52,8,0))","v":0},0,4,"RECHERCHEV(AQ4;Objectifs!$M$1:$N$10;2;0)"]
[{"$f":"C527&\"_\"&I537","v":"Production d'électricité_5"},{"$f":"IF(Objectifs!BC8=\"\",\"\",Objectifs!BC8)","v":""},{"$f":"IF(ISNA(VLOOKUP(B537,Mesures_FPC!$B$1:$L$52,8,0)),,VLOOKUP(B537,Mesures_FPC!$B$1:$L$52,8,0))","v":0},null,{"$f":"IF(ISNA(VLOOKUP(B537,Mesures_FPC!$B$1:$M$52,12,0)),,VLOOKUP(B537,Mesures_FPC!$B$1:$M$52,12,0))","v":0},0,{"$f":"IF(ISNA(VLOOKUP(J537,Mesures_FPC!$A$1:$L$52,8,0)),,VLOOKUP(J537,Mesures_FPC!$A$1:$L$52,8,0))","v":0},0,5,"RECHERCHEV(AQ4;Objectifs!$M$1:$N$10;2;0)"]
[{"$f":"C527&\"_\"&I538","v":"Production d'électricité_6"},{"$f":"IF(Objectifs!BC9=\"\",\"\",Objectifs!BC9)","v":""},{"$f":"IF(ISNA(VLOOKUP(B538,Mesures_FPC!$B$1:$L$52,8,0)),,VLOOKUP(B538,Mesures_FPC!$B$1:$L$52,8,0))","v":0},null,{"$f":"IF(ISNA(VLOOKUP(B538,Mesures_FPC!$B$1:$M$52,12,0)),,VLOOKUP(B538,Mesures_FPC!$B$1:$M$52,12,0))","v":0},0,{"$f":"IF(ISNA(VLOOKUP(J538,Mesures_FPC!$A$1:$L$52,8,0)),,VLOOKUP(J538,Mesures_FPC!$A$1:$L$52,8,0))","v":0},0,6,"RECHERCHEV(AQ4;Objectifs!$M$1:$N$10;2;0)"]
[{"$f":"C527&\"_\"&I539","v":"Production d'électricité_7"},{"$f":"IF(Objectifs!BC10=\"\",\"\",Objectifs!BC10)","v":""},{"$f":"IF(ISNA(VLOOKUP(B539,Mesures_FPC!$B$1:$L$52,8,0)),,VLOOKUP(B539,Mesures_FPC!$B$1:$L$52,8,0))","v":0},null,{"$f":"IF(ISNA(VLOOKUP(B539,Mesures_FPC!$B$1:$M$52,12,0)),,VLOOKUP(B539,Mesures_FPC!$B$1:$M$52,12,0))","v":0},0,{"$f":"IF(ISNA(VLOOKUP(J539,Mesures_FPC!$A$1:$L$52,8,0)),,VLOOKUP(J539,Mesures_FPC!$A$1:$L$52,8,0))","v":0},0,7,"RECHERCHEV(AQ4;Objectifs!$M$1:$N$10;2;0)"]
[{"$f":"C527&\"_\"&I540","v":"Production d'électricité_8"},{"$f":"IF(Objectifs!BC11=\"\",\"\",Objectifs!BC11)","v":""},{"$f":"IF(ISNA(VLOOKUP(B540,Mesures_FPC!$B$1:$L$52,8,0)),,VLOOKUP(B540,Mesures_FPC!$B$1:$L$52,8,0))","v":0},null,{"$f":"IF(ISNA(VLOOKUP(B540,Mesures_FPC!$B$1:$M$52,12,0)),,VLOOKUP(B540,Mesures_FPC!$B$1:$M$52,12,0))","v":0},0,{"$f":"IF(ISNA(VLOOKUP(J540,Mesures_FPC!$A$1:$L$52,8,0)),,VLOOKUP(J540,Mesures_FPC!$A$1:$L$52,8,0))","v":0},0,8,"RECHERCHEV(AQ4;Objectifs!$M$1:$N$10;2;0)"]
[{"$f":"C527&\"_\"&I541","v":"Production d'électricité_9"},{"$f":"IF(Objectifs!BC12=\"\",\"\",Objectifs!BC12)","v":""},{"$f":"IF(ISNA(VLOOKUP(B541,Mesures_FPC!$B$1:$L$52,8,0)),,VLOOKUP(B541,Mesures_FPC!$B$1:$L$52,8,0))","v":0},null,{"$f":"IF(ISNA(VLOOKUP(B541,Mesures_FPC!$B$1:$M$52,12,0)),,VLOOKUP(B541,Mesures_FPC!$B$1:$M$52,12,0))","v":0},0,{"$f":"IF(ISNA(VLOOKUP(J541,Mesures_FPC!$A$1:$L$52,8,0)),,VLOOKUP(J541,Mesures_FPC!$A$1:$L$52,8,0))","v":0},0,9,"RECHERCHEV(AQ4;Objectifs!$M$1:$N$10;2;0)"]
[{"$f":"C527&\"_\"&I542","v":"Production d'électricité_10"},{"$f":"IF(Objectifs!BC13=\"\",\"\",Objectifs!BC13)","v":""},{"$f":"IF(ISNA(VLOOKUP(B542,Mesures_FPC!$B$1:$L$52,8,0)),,VLOOKUP(B542,Mesures_FPC!$B$1:$L$52,8,0))","v":0},null,{"$f":"IF(ISNA(VLOOKUP(B542,Mesures_FPC!$B$1:$M$52,12,0)),,VLOOKUP(B542,Mesures_FPC!$B$1:$M$52,12,0))","v":0},0,{"$f":"IF(ISNA(VLOOKUP(J542,Mesures_FPC!$A$1:$L$52,8,0)),,VLOOKUP(J542,Mesures_FPC!$A$1:$L$52,8,0))","v":0},0,10,"RECHERCHEV(AQ4;Objectifs!$M$1:$N$10;2;0)"]
[null,null,"Total",{"$f":"SUM(D533:D542)","v":0},{"$f":"SUM(E533:E542)","v":0},{"$f":"IF(C530=0,0,E543/C530)","v":0},"Total",{"$f":"SUM(H533:H542)","v":0},null,"RECHERCHEV(AQ4;Objectifs!$M$1:$N$10;2;0)"]
[]
[]
[]
[]
[]
[]
[]
[]
[null,"Objectif:",{"$f":"Objectifs!C33","v":"Cogénération"}]
[null,"Filière:",{"$f":"Objectifs!B33","v":0}]
[null,"Economie d'énergie (GWh/an):",{"$f":"D568","v":0}]
[null,"Réduction des émissions (tCO2eq/an):",{"$f":"E568","v":0}]
[]
[null,"Indicateur","Valeur cible","Production d'énergie (GWh/an)","Réduction des émissions (tCO2eq/an)","Part de l'objectif","Valeur au moment du suivi","Réduction des émissions (tCO2eq/an)"]
[{"$f":"C552&\"_\"&I558","v":"Cogénération_1"},{"$f":"IF(Objectifs!BK4=\"\",\"\",Objectifs!BK4)","v":""},{"$f":"IF(ISNA(VLOOKUP(B558,Mesures_FPC!$B$1:$L$52,8,0)),,VLOOKUP(B558,Mesures_FPC!$B$1:$L$52,8,0))","v":0},null,{"$f":"IF(ISNA(VLOOKUP(B558,Mesures_FPC!$B$1:$M$52,12,0)),,VLOOKUP(B558,Mesures_FPC!$B$1:$M$52,12,0))","v":0},{"$f":"IF(E$568=0,0,E568/E$118)","v":0},{"$f":"IF(ISNA(VLOOKUP(J558,Mesures_FPC!$A$1:$L$52,8,0)),,VLOOKUP(J558,Mesures_FPC!$A$1:$L$52,8,0))","v":0},{"$f":"IF(C558=0,0,E558/C558*G558)","v":0},1,"RECHERCHEV(AQ4;Objectifs!$M$1:$N$10;2;0)"]
[{"$f":"C552&\"_\"&I559","v":"Cogénération_2"},{"$f":"IF(Objectifs!BK5=\"\",\"\",Objectifs!BK5)","v":""},{"$f":"IF(ISNA(VLOOKUP(B559,Mesures_FPC!$B$1:$L$52,8,0)),,VLOOKUP(B559,Mesures_FPC!$B$1:$L$52,8,0))","v":0},null,{"$f":"IF(ISNA(VLOOKUP(B559,Mesures_FPC!$B$1:$M$52,12,0)),,VLOOKUP(B559,Mesures_FPC!$B$1:$M$52,12,0))","v":0},{"$f":"IF(E$568=0,0,E569/E$118)","v":0},{"$f":"IF(ISNA(VLOOKUP(J559,Mesures_FPC!$A$1:$L$52,8,0)),,VLOOKUP(J559,Mesures_FPC!$A$1:$L$52,8,0))","v":0},{"$f":"IF(C559=0,0,E559/C559*G559)","v":0},2,"RECHERCHEV(AQ4;Objectifs!$M$1:$N$10;2;0)"]
[{"$f":"C552&\"_\"&I560","v":"Cogénération_3"},{"$f":"IF(Objectifs!BK6=\"\",\"\",Objectifs!BK6)","v":""},{"$f":"IF(ISNA(VLOOKUP(B560,Mesures_FPC!$B$1:$L$52,8,0)),,VLOOKUP(B560,Mesures_FPC!$B$1:$L$52,8,0))","v":0},null,{"$f":"IF(ISNA(VLOOKUP(B560,Mesures_FPC!$B$1:$M$52,12,0)),,VLOOKUP(B560,Mesures_FPC!$B$1:$M$52,12,0))","v":0},0,{"$f":"IF(ISNA(VLOOKUP(J560,Mesures_FPC!$A$1:$L$52,8,0)),,VLOOKUP(J560,Mesures_FPC!$A$1:$L$52,8,0))","v":0},0,3,"RECHERCHEV(AQ4;Objectifs!$M$1:$N$10;2;0)"]
[{"$f":"C552&\"_\"&I561","v":"Cogénération_4"},{"$f":"IF(Objectifs!BK7=\"\",\"\",Objectifs!BK7)","v":""},{"$f":"IF(ISNA(VLOOKUP(B561,Mesures_FPC!$B$1:$L$52,8,0)),,VLOOKUP(B561,Mesures_FPC!$B$1:$L$52,8,0))","v":0},null,{"$f":"IF(ISNA(VLOOKUP(B561,Mesures_FPC!$B$1:$M$52,12,0)),,VLOOKUP(B561,Mesures_FPC!$B$1:$M$52,12,0))","v":0},0,{"$f":"IF(ISNA(VLOOKUP(J561,Mesures_FPC!$A$1:$L$52,8,0)),,VLOOKUP(J561,Mesures_FPC!$A$1:$L$52,8,0))","v":0},0,4,"RECHERCHEV(AQ4;Objectifs!$M$1:$N$10;2;0)"]
[{"$f":"C552&\"_\"&I562","v":"Cogénération_5"},{"$f":"IF(Objectifs!BK8=\"\",\"\",Objectifs!BK8)","v":""},{"$f":"IF(ISNA(VLOOKUP(B562,Mesures_FPC!$B$1:$L$52,8,0)),,VLOOKUP(B562,Mesures_FPC!$B$1:$L$52,8,0))","v":0},null,{"$f":"IF(ISNA(VLOOKUP(B562,Mesures_FPC!$B$1:$M$52,12,0)),,VLOOKUP(B562,Mesures_FPC!$B$1:$M$52,12,0))","v":0},0,{"$f":"IF(ISNA(VLOOKUP(J562,Mesures_FPC!$A$1:$L$52,8,0)),,VLOOKUP(J562,Mesures_FPC!$A$1:$L$52,8,0))","v":0},0,5,"RECHERCHEV(AQ4;Objectifs!$M$1:$N$10;2;0)"]
[{"$f":"C552&\"_\"&I563","v":"Cogénération_6"},{"$f":"IF(Objectifs!BK9=\"\",\"\",Objectifs!BK9)","v":""},{"$f":"IF(ISNA(VLOOKUP(B563,Mesures_FPC!$B$1:$L$52,8,0)),,VLOOKUP(B563,Mesures_FPC!$B$1:$L$52,8,0))","v":0},null,{"$f":"IF(ISNA(VLOOKUP(B563,Mesures_FPC!$B$1:$M$52,12,0)),,VLOOKUP(B563,Mesures_FPC!$B$1:$M$52,12,0))","v":0},0,{"$f":"IF(ISNA(VLOOKUP(J563,Mesures_FPC!$A$1:$L$52,8,0)),,VLOOKUP(J563,Mesures_FPC!$A$1:$L$52,8,0))","v":0},0,6,"RECHERCHEV(AQ4;Objectifs!$M$1:$N$10;2;0)"]
[{"$f":"C552&\"_\"&I564","v":"Cogénération_7"},{"$f":"IF(Objectifs!BK10=\"\",\"\",Objectifs!BK10)","v":""},{"$f":"IF(ISNA(VLOOKUP(B564,Mesures_FPC!$B$1:$L$52,8,0)),,VLOOKUP(B564,Mesures_FPC!$B$1:$L$52,8,0))","v":0},null,{"$f":"IF(ISNA(VLOOKUP(B564,Mesures_FPC!$B$1:$M$52,12,0)),,VLOOKUP(B564,Mesures_FPC!$B$1:$M$52,12,0))","v":0},0,{"$f":"IF(ISNA(VLOOKUP(J564,Mesures_FPC!$A$1:$L$52,8,0)),,VLOOKUP(J564,Mesures_FPC!$A$1:$L$52,8,0))","v":0},0,7,"RECHERCHEV(AQ4;Objectifs!$M$1:$N$10;2;0)"]
[{"$f":"C552&\"_\"&I565","v":"Cogénération_8"},{"$f":"IF(Objectifs!BK11=\"\",\"\",Objectifs!BK11)","v":""},{"$f":"IF(ISNA(VLOOKUP(B565,Mesures_FPC!$B$1:$L$52,8,0)),,VLOOKUP(B565,Mesures_FPC!$B$1:$L$52,8,0))","v":0},null,{"$f":"IF(ISNA(VLOOKUP(B565,Mesures_FPC!$B$1:$M$52,12,0)),,VLOOKUP(B565,Mesures_FPC!$B$1:$M$52,12,0))","v":0},0,{"$f":"IF(ISNA(VLOOKUP(J565,Mesures_FPC!$A$1:$L$52,8,0)),,VLOOKUP(J565,Mesures_FPC!$A$1:$L$52,8,0))","v":0},0,8,"RECHERCHEV(AQ4;Objectifs!$M$1:$N$10;2;0)"]
[{"$f":"C552&\"_\"&I566","v":"Cogénération_9"},{"$f":"IF(Objectifs!BK12=\"\",\"\",Objectifs!BK12)","v":""},{"$f":"IF(ISNA(VLOOKUP(B566,Mesures_FPC!$B$1:$L$52,8,0)),,VLOOKUP(B566,Mesures_FPC!$B$1:$L$52,8,0))","v":0},null,{"$f":"IF(ISNA(VLOOKUP(B566,Mesures_FPC!$B$1:$M$52,12,0)),,VLOOKUP(B566,Mesures_FPC!$B$1:$M$52,12,0))","v":0},0,{"$f":"IF(ISNA(VLOOKUP(J566,Mesures_FPC!$A$1:$L$52,8,0)),,VLOOKUP(J566,Mesures_FPC!$A$1:$L$52,8,0))","v":0},0,9,"RECHERCHEV(AQ4;Objectifs!$M$1:$N$10;2;0)"]
[{"$f":"C552&\"_\"&I567","v":"Cogénération_10"},{"$f":"IF(Objectifs!BK13=\"\",\"\",Objectifs!BK13)","v":""},{"$f":"IF(ISNA(VLOOKUP(B567,Mesures_FPC!$B$1:$L$52,8,0)),,VLOOKUP(B567,Mesures_FPC!$B$1:$L$52,8,0))","v":0},null,{"$f":"IF(ISNA(VLOOKUP(B567,Mesures_FPC!$B$1:$M$52,12,0)),,VLOOKUP(B567,Mesures_FPC!$B$1:$M$52,12,0))","v":0},0,{"$f":"IF(ISNA(VLOOKUP(J567,Mesures_FPC!$A$1:$L$52,8,0)),,VLOOKUP(J567,Mesures_FPC!$A$1:$L$52,8,0))","v":0},0,10,"RECHERCHEV(AQ4;Objectifs!$M$1:$N$10;2;0)"]
[null,null,"Total",{"$f":"SUM(D558:D567)","v":0},{"$f":"SUM(E558:E567)","v":0},{"$f":"IF(C555=0,0,E568/C555)","v":0},"Total",{"$f":"SUM(H558:H567)","v":0},null,"RECHERCHEV(AQ4;Objectifs!$M$1:$N$10;2;0)"]
[]
[]
[]
[]
[]
[]
[]
[]
[]
[null,"Objectif:",{"$f":"Objectifs!C34","v":0}]
[null,"Filière:",{"$f":"Objectifs!B34","v":0}]
[null,"Economie d'énergie (GWh/an):",{"$f":"Objectifs!E34","v":0}]
[null,"Réduction des émissions (tCO2eq/an):",{"$f":"Objectifs!F34","v":0}]
[]
[null,"Indicateur","Valeur cible","Production d'énergie (GWh/an)","Réduction des émissions (tCO2eq/an)","Part de l'objectif","Valeur au moment du suivi","Réduction des émissions (tCO2eq/an)"]
[{"$f":"C578&\"_\"&I584","v":"0_1"},null,null,null,null,{"$f":"IF(C581=0,0,E584/C581)","v":0},null,{"$f":"IF(C584=0,0,E584/C584*G584)","v":0},1]
[{"$f":"C578&\"_\"&I585","v":"0_2"},null,null,null,null,{"$f":"IF(C581=0,0,E585/C581)","v":0},null,{"$f":"IF(C585=0,0,E585/C585*G585)","v":0},2]
[{"$f":"C578&\"_\"&I586","v":"0_3"},null,null,null,null,{"$f":"IF(C581=0,0,E586/C581)","v":0},null,0,3]
[{"$f":"C578&\"_\"&I587","v":"0_4"},null,null,null,null,{"$f":"IF(C581=0,0,E587/C581)","v":0},null,0,4]
[{"$f":"C578&\"_\"&I588","v":"0_5"},null,null,null,null,{"$f":"IF(C581=0,0,E588/C581)","v":0},null,0,5]
[{"$f":"C578&\"_\"&I589","v":"0_6"},null,null,null,null,{"$f":"IF(C581=0,0,E589/C581)","v":0},null,0,6]
[{"$f":"C578&\"_\"&I590","v":"0_7"},null,null,null,null,{"$f":"IF(C581=0,0,E590/C581)","v":0},null,0,7]
[{"$f":"C578&\"_\"&I591","v":"0_8"},null,null,null,null,{"$f":"IF(C581=0,0,E591/C581)","v":0},null,0,8]
[{"$f":"C578&\"_\"&I592","v":"0_9"},null,null,null,null,{"$f":"IF(C581=0,0,E592/C581)","v":0},null,0,9]
[{"$f":"C578&\"_\"&I593","v":"0_10"},null,null,null,null,{"$f":"IF(C581=0,0,E593/C581)","v":0},null,0,10]
[null,null,"Total",{"$f":"SUM(D584:D593)","v":0},{"$f":"SUM(E584:E593)","v":0},{"$f":"IF(C581=0,0,E594/C581)","v":0},"Total",{"$f":"SUM(H584:H593)","v":0}]
[]
[]
[]
[]
[]
[]
[]
[null,"Objectif:",{"$f":"Objectifs!C35","v":0}]
[null,"Filière:",{"$f":"Objectifs!B35","v":0}]
[null,"Economie d'énergie (GWh/an):",{"$f":"Objectifs!E35","v":0}]
[null,"Réduction des émissions (tCO2eq/an):",{"$f":"Objectifs!F35","v":0}]
[]
[null,"Indicateur","Valeur cible","Production d'énergie (GWh/an)","Réduction des émissions (tCO2eq/an)","Part de l'objectif","Valeur au moment du suivi","Réduction des émissions (tCO2eq/an)"]
[{"$f":"C602&\"_\"&I608","v":"0_1"},null,null,null,null,{"$f":"IF(C605=0,0,E608/C605)","v":0},null,{"$f":"IF(C608=0,0,E608/C608*G608)","v":0},1]
[{"$f":"C602&\"_\"&I609","v":"0_2"},null,null,null,null,{"$f":"IF(C605=0,0,E609/C605)","v":0},null,{"$f":"IF(C609=0,0,E609/C609*G609)","v":0},2]
[{"$f":"C602&\"_\"&I610","v":"0_3"},null,null,null,null,{"$f":"IF(C605=0,0,E610/C605)","v":0},null,0,3]
[{"$f":"C602&\"_\"&I611","v":"0_4"},null,null,null,null,{"$f":"IF(C605=0,0,E611/C605)","v":0},null,0,4]
[{"$f":"C602&\"_\"&I612","v":"0_5"},null,null,null,null,{"$f":"IF(C605=0,0,E612/C605)","v":0},null,0,5]
[{"$f":"C602&\"_\"&I613","v":"0_6"},null,null,null,null,{"$f":"IF(C605=0,0,E613/C605)","v":0},null,0,6]
[{"$f":"C602&\"_\"&I614","v":"0_7"},null,null,null,null,{"$f":"IF(C605=0,0,E614/C605)","v":0},null,0,7]
[{"$f":"C602&\"_\"&I615","v":"0_8"},null,null,null,null,{"$f":"IF(C605=0,0,E615/C605)","v":0},null,0,8]
[{"$f":"C602&\"_\"&I616","v":"0_9"},null,null,null,null,{"$f":"IF(C605=0,0,E616/C605)","v":0},null,0,9]
[{"$f":"C602&\"_\"&I617","v":"0_10"},null,null,null,null,{"$f":"IF(C605=0,0,E617/C605)","v":0},null,0,10]
[null,null,"Total",{"$f":"SUM(D608:D617)","v":0},{"$f":"SUM(E608:E617)","v":0},{"$f":"IF(C605=0,0,E618/C605)","v":0},"Total",{"$f":"SUM(H608:H617)","v":0}]
[]
[]
[]
[]
[]
[]
[]
[]
[null,"Objectif:",{"$f":"Objectifs!C36","v":0}]
[null,"Filière:",{"$f":"Objectifs!B36","v":0}]
[null,"Economie d'énergie (GWh/an):",{"$f":"Objectifs!E36","v":0}]
[null,"Réduction des émissions (tCO2eq/an):",{"$f":"Objectifs!F36","v":0}]
[]
[null,"Indicateur","Valeur cible","Production d'énergie (GWh/an)","Réduction des émissions (tCO2eq/an)","Part de l'objectif","Valeur au moment du suivi","Réduction des émissions (tCO2eq/an)"]
[{"$f":"C627&\"_\"&I633","v":"0_1"},null,null,null,null,{"$f":"IF(C630=0,0,E633/C630)","v":0},null,{"$f":"IF(C633=0,0,E633/C633*G633)","v":0},1]
[{"$f":"C627&\"_\"&I634","v":"0_2"},null,null,null,null,{"$f":"IF(C630=0,0,E634/C630)","v":0},null,{"$f":"IF(C634=0,0,E634/C634*G634)","v":0},2]
[{"$f":"C627&\"_\"&I635","v":"0_3"},null,null,null,null,{"$f":"IF(C630=0,0,E635/C630)","v":0},null,0,3]
[{"$f":"C627&\"_\"&I636","v":"0_4"},null,null,null,null,{"$f":"IF(C630=0,0,E636/C630)","v":0},null,0,4]
[{"$f":"C627&\"_\"&I637","v":"0_5"},null,null,null,null,{"$f":"IF(C630=0,0,E637/C630)","v":0},null,0,5]
[{"$f":"C627&\"_\"&I638","v":"0_6"},null,null,null,null,{"$f":"IF(C630=0,0,E638/C630)","v":0},null,0,6]
[{"$f":"C627&\"_\"&I639","v":"0_7"},null,null,null,null,{"$f":"IF(C630=0,0,E639/C630)","v":0},null,0,7]
[{"$f":"C627&\"_\"&I640","v":"0_8"},null,null,null,null,{"$f":"IF(C630=0,0,E640/C630)","v":0},null,0,8]
[{"$f":"C627&\"_\"&I641","v":"0_9"},null,null,null,null,{"$f":"IF(C630=0,0,E641/C630)","v":0},null,0,9]
[{"$f":"C627&\"_\"&I642","v":"0_10"},null,null,null,null,{"$f":"IF(C630=0,0,E642/C630)","v":0},null,0,10]
[null,null,"Total",{"$f":"SUM(D633:D642)","v":0},{"$f":"SUM(E633:E642)","v":0},{"$f":"IF(C630=0,0,E643/C630)","v":0},"Total",{"$f":"SUM(H633:H642)","v":0}]
[]
[]
[]
[]
[]
[]
[]
[]
[null,"Objectif:",{"$f":"Objectifs!C37","v":0}]
[null,"Filière:",{"$f":"Objectifs!B37","v":0}]
[null,"Economie d'énergie (GWh/an):",{"$f":"Objectifs!E37","v":0}]
[null,"Réduction des émissions (tCO2eq/an):",{"$f":"Objectifs!F37","v":0}]
[]
[null,"Indicateur","Valeur cible","Production d'énergie (GWh/an)","Réduction des émissions (tCO2eq/an)","Part de l'objectif","Valeur au moment du suivi","Réduction des émissions (tCO2eq/an)"]
[{"$f":"C652&\"_\"&I658","v":"0_1"},null,null,null,null,{"$f":"IF(C655=0,0,E658/C655)","v":0},null,{"$f":"IF(C658=0,0,E658/C658*G658)","v":0},1]
[{"$f":"C652&\"_\"&I659","v":"0_2"},null,null,null,null,{"$f":"IF(C655=0,0,E659/C655)","v":0},null,{"$f":"IF(C659=0,0,E659/C659*G659)","v":0},2]
[{"$f":"C652&\"_\"&I660","v":"0_3"},null,null,null,null,{"$f":"IF(C655=0,0,E660/C655)","v":0},null,0,3]
[{"$f":"C652&\"_\"&I661","v":"0_4"},null,null,null,null,{"$f":"IF(C655=0,0,E661/C655)","v":0},null,0,4]
[{"$f":"C652&\"_\"&I662","v":"0_5"},null,null,null,null,{"$f":"IF(C655=0,0,E662/C655)","v":0},null,0,5]
[{"$f":"C652&\"_\"&I663","v":"0_6"},null,null,null,null,{"$f":"IF(C655=0,0,E663/C655)","v":0},null,0,6]
[{"$f":"C652&\"_\"&I664","v":"0_7"},null,null,null,null,{"$f":"IF(C655=0,0,E664/C655)","v":0},null,0,7]
[{"$f":"C652&\"_\"&I665","v":"0_8"},null,null,null,null,{"$f":"IF(C655=0,0,E665/C655)","v":0},null,0,8]
[{"$f":"C652&\"_\"&I666","v":"0_9"},null,null,null,null,{"$f":"IF(C655=0,0,E666/C655)","v":0},null,0,9]
[{"$f":"C652&\"_\"&I667","v":"0_10"},null,null,null,null,{"$f":"IF(C655=0,0,E667/C655)","v":0},null,0,10]
[null,null,"Total",{"$f":"SUM(D658:D667)","v":0},{"$f":"SUM(E658:E667)","v":0},{"$f":"IF(C655=0,0,E668/C655)","v":0},"Total",{"$f":"SUM(H658:H667)","v":0}]
[]
[]
[]
[]
[]
[]
[]
[]
[null,"Objectif:",{"$f":"Objectifs!C38","v":0}]
[null,"Filière:",{"$f":"Objectifs!B38","v":0}]
[null,"Economie d'énergie (GWh/an):",{"$f":"Objectifs!E38","v":0}]
[null,"Réduction des émissions (tCO2eq/an):",{"$f":"Objectifs!F38","v":0}]
[]
[null,"Indicateur","Valeur cible","Production d'énergie (GWh/an)","Réduction des émissions (tCO2eq/an)","Part de l'objectif","Valeur au moment du suivi","Réduction des émissions (tCO2eq/an)"]
[{"$f":"C677&\"_\"&I683","v":"0_1"},null,null,null,null,{"$f":"IF(C680=0,0,E683/C680)","v":0},null,{"$f":"IF(C683=0,0,E683/C683*G683)","v":0},1]
[{"$f":"C677&\"_\"&I684","v":"0_2"},null,null,null,null,{"$f":"IF(C680=0,0,E684/C680)","v":0},null,{"$f":"IF(C684=0,0,E684/C684*G684)","v":0},2]
[{"$f":"C677&\"_\"&I685","v":"0_3"},null,null,null,null,{"$f":"IF(C680=0,0,E685/C680)","v":0},null,0,3]
[{"$f":"C677&\"_\"&I686","v":"0_4"},null,null,null,null,{"$f":"IF(C680=0,0,E686/C680)","v":0},null,0,4]
[{"$f":"C677&\"_\"&I687","v":"0_5"},null,null,null,null,{"$f":"IF(C680=0,0,E687/C680)","v":0},null,0,5]
[{"$f":"C677&\"_\"&I688","v":"0_6"},null,null,null,null,{"$f":"IF(C680=0,0,E688/C680)","v":0},null,0,6]
[{"$f":"C677&\"_\"&I689","v":"0_7"},null,null,null,null,{"$f":"IF(C680=0,0,E689/C680)","v":0},null,0,7]
[{"$f":"C677&\"_\"&I690","v":"0_8"},null,null,null,null,{"$f":"IF(C680=0,0,E690/C680)","v":0},null,0,8]
[{"$f":"C677&\"_\"&I691","v":"0_9"},null,null,null,null,{"$f":"IF(C680=0,0,E691/C680)","v":0},null,0,9]
[{"$f":"C677&\"_\"&I692","v":"0_10"},null,null,null,null,{"$f":"IF(C680=0,0,E692/C680)","v":0},null,0,10]
[null,null,"Total",{"$f":"SUM(D683:D692)","v":0},{"$f":"SUM(E683:E692)","v":0},{"$f":"IF(C680=0,0,E693/C680)","v":0},"Total",{"$f":"SUM(H683:H692)","v":0}]
[]
[]
[]
[]
[]
[]
[]
[]
[null,"Objectif:",{"$f":"Objectifs!C42","v":0}]
[null,"Secteur:",{"$f":"Objectifs!B42","v":0}]
[null,"Economie d'énergie (GWh/an):",{"$f":"Objectifs!E42","v":0}]
[null,"Réduction des émissions (tCO2eq/an):",{"$f":"Objectifs!F42","v":0}]
[]
[null,"Indicateur","Valeur cible","Réduction des émissions (tCO2eq/an)",null,"Part de l'objectif","Valeur au moment du suivi","Réduction des émissions (tCO2eq/an)"]
[{"$f":"C702&\"_\"&I708","v":"0_1"},null,null,null,null,{"$f":"IF(C705=0,0,D708/C705)","v":0},null,{"$f":"IF(C708=0,0,D708/C708*G708)","v":0},1]
[{"$f":"C702&\"_\"&I709","v":"0_2"},null,null,null,null,{"$f":"IF(C705=0,0,E709/C705)","v":0},null,{"$f":"IF(C709=0,0,E709/C709*G709)","v":0},2]
[{"$f":"C702&\"_\"&I710","v":"0_3"},null,null,null,null,{"$f":"IF(C705=0,0,E710/C705)","v":0},null,0,3]
[{"$f":"C702&\"_\"&I711","v":"0_4"},null,null,null,null,{"$f":"IF(C705=0,0,E711/C705)","v":0},null,0,4]
[{"$f":"C702&\"_\"&I712","v":"0_5"},null,null,null,null,{"$f":"IF(C705=0,0,E712/C705)","v":0},null,0,5]
[{"$f":"C702&\"_\"&I713","v":"0_6"},null,null,null,null,{"$f":"IF(C705=0,0,E713/C705)","v":0},null,0,6]
[{"$f":"C702&\"_\"&I714","v":"0_7"},null,null,null,null,{"$f":"IF(C705=0,0,E714/C705)","v":0},null,0,7]
[{"$f":"C702&\"_\"&I715","v":"0_8"},null,null,null,null,{"$f":"IF(C705=0,0,E715/C705)","v":0},null,0,8]
[{"$f":"C702&\"_\"&I716","v":"0_9"},null,null,null,null,{"$f":"IF(C705=0,0,E716/C705)","v":0},null,0,9]
[{"$f":"C702&\"_\"&I717","v":"0_10"},null,null,null,null,{"$f":"IF(C705=0,0,E717/C705)","v":0},null,0,10]
[null,null,"Total",{"$f":"SUM(D708:E717)","v":0},null,{"$f":"IF(C705=0,0,E718/C705)","v":0},"Total",{"$f":"SUM(H708:H717)","v":0}]
[]
[]
[]
[]
[]
[]
[]
[]
[null,"Objectif:",{"$f":"Objectifs!C43","v":0}]
[null,"Secteur:",{"$f":"Objectifs!B43","v":0}]
[null,"Economie d'énergie (GWh/an):",{"$f":"Objectifs!E43","v":0}]
[null,"Réduction des émissions (tCO2eq/an):",{"$f":"Objectifs!F43","v":0}]
[]
[null,"Indicateur","Valeur cible","Réduction des émissions (tCO2eq/an)",null,"Part de l'objectif","Valeur au moment du suivi","Réduction des émissions (tCO2eq/an)"]
[{"$f":"C727&\"_\"&I733","v":"0_1"},null,null,null,null,{"$f":"IF(C730=0,0,D733/C730)","v":0},null,{"$f":"IF(C733=0,0,D733/C733*G733)","v":0},1]
[{"$f":"C727&\"_\"&I734","v":"0_2"},null,null,null,null,{"$f":"IF(C730=0,0,E734/C730)","v":0},null,{"$f":"IF(C734=0,0,E734/C734*G734)","v":0},2]
[{"$f":"C727&\"_\"&I735","v":"0_3"},null,null,null,null,{"$f":"IF(C730=0,0,E735/C730)","v":0},null,0,3]
[{"$f":"C727&\"_\"&I736","v":"0_4"},null,null,null,null,{"$f":"IF(C730=0,0,E736/C730)","v":0},null,0,4]
[{"$f":"C727&\"_\"&I737","v":"0_5"},null,null,null,null,{"$f":"IF(C730=0,0,E737/C730)","v":0},null,0,5]
[{"$f":"C727&\"_\"&I738","v":"0_6"},null,null,null,null,{"$f":"IF(C730=0,0,E738/C730)","v":0},null,0,6]
[{"$f":"C727&\"_\"&I739","v":"0_7"},null,null,null,null,{"$f":"IF(C730=0,0,E739/C730)","v":0},null,0,7]
[{"$f":"C727&\"_\"&I740","v":"0_8"},null,null,null,null,{"$f":"IF(C730=0,0,E740/C730)","v":0},null,0,8]
[{"$f":"C727&\"_\"&I741","v":"0_9"},null,null,null,null,{"$f":"IF(C730=0,0,E741/C730)","v":0},null,0,9]
[{"$f":"C727&\"_\"&I742","v":"0_10"},null,null,null,null,{"$f":"IF(C730=0,0,E742/C730)","v":0},null,0,10]
[null,null,"Total",{"$f":"SUM(D733:E742)","v":0},null,{"$f":"IF(C730=0,0,E743/C730)","v":0},"Total",{"$f":"SUM(H733:H742)","v":0}]
[]
[]
[]
[]
[]
[]
[]
[]
[null,"Objectif:",{"$f":"Objectifs!C44","v":0}]
[null,"Secteur:",{"$f":"Objectifs!B44","v":0}]
[null,"Economie d'énergie (GWh/an):",{"$f":"Objectifs!E44","v":0}]
[null,"Réduction des émissions (tCO2eq/an):",{"$f":"Objectifs!F44","v":0}]
[]
[null,"Indicateur","Valeur cible","Réduction des émissions (tCO2eq/an)",null,"Part de l'objectif","Valeur au moment du suivi","Réduction des émissions (tCO2eq/an)"]
[{"$f":"C752&\"_\"&I758","v":"0_1"},null,null,null,null,{"$f":"IF(C755=0,0,D758/C755)","v":0},null,{"$f":"IF(C758=0,0,D758/C758*G758)","v":0},1]
[{"$f":"C752&\"_\"&I759","v":"0_2"},null,null,null,null,{"$f":"IF(C755=0,0,E759/C755)","v":0},null,{"$f":"IF(C759=0,0,E759/C759*G759)","v":0},2]
[{"$f":"C752&\"_\"&I760","v":"0_3"},null,null,null,null,{"$f":"IF(C755=0,0,E760/C755)","v":0},null,0,3]
[{"$f":"C752&\"_\"&I761","v":"0_4"},null,null,null,null,{"$f":"IF(C755=0,0,E761/C755)","v":0},null,0,4]
[{"$f":"C752&\"_\"&I762","v":"0_5"},null,null,null,null,{"$f":"IF(C755=0,0,E762/C755)","v":0},null,0,5]
[{"$f":"C752&\"_\"&I763","v":"0_6"},null,null,null,null,{"$f":"IF(C755=0,0,E763/C755)","v":0},null,0,6]
[{"$f":"C752&\"_\"&I764","v":"0_7"},null,null,null,null,{"$f":"IF(C755=0,0,E764/C755)","v":0},null,0,7]
[{"$f":"C752&\"_\"&I765","v":"0_8"},null,null,null,null,{"$f":"IF(C755=0,0,E765/C755)","v":0},null,0,8]
[{"$f":"C752&\"_\"&I766","v":"0_9"},null,null,null,null,{"$f":"IF(C755=0,0,E766/C755)","v":0},null,0,9]
[{"$f":"C752&\"_\"&I767","v":"0_10"},null,null,null,null,{"$f":"IF(C755=0,0,E767/C755)","v":0},null,0,10]
[null,null,"Total",{"$f":"SUM(D758:E767)","v":0},null,{"$f":"IF(C755=0,0,E768/C755)","v":0},"Total",{"$f":"SUM(H758:H767)","v":0}]
[]
[]
[]
[]
[]
[]
[]
[]
[null,"Objectif:",{"$f":"Objectifs!C45","v":0}]
[null,"Secteur:",{"$f":"Objectifs!B45","v":0}]
[null,"Economie d'énergie (GWh/an):",{"$f":"Objectifs!E45","v":0}]
[null,"Réduction des émissions (tCO2eq/an):",{"$f":"Objectifs!F45","v":0}]
[]
[null,"Indicateur","Valeur cible","Réduction des émissions (tCO2eq/an)",null,"Part de l'objectif","Valeur au moment du suivi","Réduction des émissions (tCO2eq/an)"]
[{"$f":"C777&\"_\"&I783","v":"0_1"},null,null,null,null,{"$f":"IF(C780=0,0,D783/C780)","v":0},null,{"$f":"IF(C783=0,0,D783/C783*G783)","v":0},1]
[{"$f":"C777&\"_\"&I784","v":"0_2"},null,null,null,null,{"$f":"IF(C780=0,0,E784/C780)","v":0},null,{"$f":"IF(C784=0,0,E784/C784*G784)","v":0},2]
[{"$f":"C777&\"_\"&I785","v":"0_3"},null,null,null,null,{"$f":"IF(C780=0,0,E785/C780)","v":0},null,0,3]
[{"$f":"C777&\"_\"&I786","v":"0_4"},null,null,null,null,{"$f":"IF(C780=0,0,E786/C780)","v":0},null,0,4]
[{"$f":"C777&\"_\"&I787","v":"0_5"},null,null,null,null,{"$f":"IF(C780=0,0,E787/C780)","v":0},null,0,5]
[{"$f":"C777&\"_\"&I788","v":"0_6"},null,null,null,null,{"$f":"IF(C780=0,0,E788/C780)","v":0},null,0,6]
[{"$f":"C777&\"_\"&I789","v":"0_7"},null,null,null,null,{"$f":"IF(C780=0,0,E789/C780)","v":0},null,0,7]
[{"$f":"C777&\"_\"&I790","v":"0_8"},null,null,null,null,{"$f":"IF(C780=0,0,E790/C780)","v":0},null,0,8]
[{"$f":"C777&\"_\"&I791","v":"0_9"},null,null,null,null,{"$f":"IF(C780=0,0,E791/C780)","v":0},null,0,9]
[{"$f":"C777&\"_\"&I792","v":"0_10"},null,null,null,null,{"$f":"IF(C780=0,0,E792/C780)","v":0},null,0,10]
[null,null,"Total",{"$f":"SUM(D783:E792)","v":0},null,{"$f":"IF(C780=0,0,E793/C780)","v":0},"Total",{"$f":"SUM(H783:H792)","v":0}]
[]
[]
[]
[]
[]
[]
[]
[]
[null,"Objectif:",{"$f":"Objectifs!C46","v":0}]
[null,"Secteur:",{"$f":"Objectifs!B46","v":0}]
[null,"Economie d'énergie (GWh/an):",{"$f":"Objectifs!E46","v":0}]
[null,"Réduction des émissions (tCO2eq/an):",{"$f":"Objectifs!F46","v":0}]
[]
[null,"Indicateur","Valeur cible","Réduction des émissions (tCO2eq/an)",null,"Part de l'objectif","Valeur au moment du suivi","Réduction des émissions (tCO2eq/an)"]
[{"$f":"C802&\"_\"&I808","v":"0_1"},null,null,null,null,{"$f":"IF(C805=0,0,D808/C805)","v":0},null,{"$f":"IF(C808=0,0,D808/C808*G808)","v":0},1]
[{"$f":"C802&\"_\"&I809","v":"0_2"},null,null,null,null,{"$f":"IF(C805=0,0,E809/C805)","v":0},null,{"$f":"IF(C809=0,0,E809/C809*G809)","v":0},2]
[{"$f":"C802&\"_\"&I810","v":"0_3"},null,null,null,null,{"$f":"IF(C805=0,0,E810/C805)","v":0},null,0,3]
[{"$f":"C802&\"_\"&I811","v":"0_4"},null,null,null,null,{"$f":"IF(C805=0,0,E811/C805)","v":0},null,0,4]
[{"$f":"C802&\"_\"&I812","v":"0_5"},null,null,null,null,{"$f":"IF(C805=0,0,E812/C805)","v":0},null,0,5]
[{"$f":"C802&\"_\"&I813","v":"0_6"},null,null,null,null,{"$f":"IF(C805=0,0,E813/C805)","v":0},null,0,6]
[{"$f":"C802&\"_\"&I814","v":"0_7"},null,null,null,null,{"$f":"IF(C805=0,0,E814/C805)","v":0},null,0,7]
[{"$f":"C802&\"_\"&I815","v":"0_8"},null,null,null,null,{"$f":"IF(C805=0,0,E815/C805)","v":0},null,0,8]
[{"$f":"C802&\"_\"&I816","v":"0_9"},null,null,null,null,{"$f":"IF(C805=0,0,E816/C805)","v":0},null,0,9]
[{"$f":"C802&\"_\"&I817","v":"0_10"},null,null,null,null,{"$f":"IF(C805=0,0,E817/C805)","v":0},null,0,10]
[null,null,"Total",{"$f":"SUM(D808:E817)","v":0},null,{"$f":"IF(C805=0,0,E818/C805)","v":0},"Total",{"$f":"SUM(H808:H817)","v":0}]

{"sheet":"Actions","index":10,"n_rows":83,"n_cols":42,"rows_kept":83,"cut":false,"hidden":false,"merged":[]}
[null,"Actions"]
[]
[null,"N°","Titre de l'action ","Secteur","Objectif ciblé 1","Participation à l'objectif 1 (%)","Objectif ciblé 2","Participation à l'objectif 2 (%)","Objectif ciblé 3","Participation à l'objectif 3 (%)","Type d'acteur à l'initiative de l'action","Nom de l'acteur à l'initiative de l'action","Service responsable","Début","Fin","Etat d'avancement","Dépensé à ce jour","Coût estimé","Type de dépense","Subside","Type de subsde","Gain financier annuel","Action affectant l'adaptation","Source","Subside","Concat",null,"Ressources","Contrôle","Contrôle 2","Contrôle indicateur","Etat ","E2","% subside"]
["A1",1,{"$f":"Actions_FPC!A2","v":0},{"$f":"IF(ISNA(VLOOKUP(AP4,Objectifs!$M$1:$N$10,2,0)),\"\",VLOOKUP(AP4,Objectifs!$M$1:$N$10,2,0))","v":""},{"$f":"IF(ISNA(VLOOKUP(D4,Objectifs!$B$8:$D$15,2,0)),D4,VLOOKUP(D4,Objectifs!$B$8:$D$15,2,0))","v":""},null,null,null,null,null,null,{"$f":"IF(C4=0,\"\",\"Administration communale\")","v":""},null,null,null,{"$f":"Actions_FPC!B2","v":0},null,null,null,null,null,null,null,{"$f":"IF(K4=\"#REF!\",\"Autre\",IF(K4=\"Commune\",K4,\"Autre\"))","v":"Autre"},{"$f":"IF(P4=\"Finalisée\",T4,0)","v":0},{"$f":"CONCATENATE(S4,\"_\",U4)","v":"_"},{"$f":"CONCATENATE(\"A\",B4)","v":"A1"},{"$f":"IF(ISERROR(INDIRECT(\"'\"&$A4&\"'!b$21\")),0,INDIRECT(\"'\"&$A4&\"'!b$21\"))","v":0},{"$f":"IF(ISERROR(INDIRECT(\"'\"&A4&\"'!b$7\")),0,IF(AND(E4<>0,INDIRECT(\"'\"&A4&\"'!b$7\")=0),1,0)+IF(AND(G4<>0,INDIRECT(\"'\"&A4&\"'!c$7\")=0),1,0)+IF(AND(I4<>0,INDIRECT(\"'\"&A4&\"'!b$7\")=0),1,0))","v":0},{"$f":"IF(AC4<>0,1,0)","v":0},{"$f":"IF(ISERROR(INDIRECT(\"'\"&A4&\"'!b$28\")),0,IF(INDIRECT(\"'\"&A4&\"'!b$28\")=0,1,0))","v":0},{"$f":"IF(IF(ISERROR(INDIRECT(\"'\"&A4&\"'!b$28\")),0,INDIRECT(\"'\"&A4&\"'!b$28\"))=0,0,IF(ISERROR(INDIRECT(\"'\"&A4&\"'!b$29\")),0,INDIRECT(\"'\"&A4&\"'!b$29\"))/IF(ISERROR(INDIRECT(\"'\"&A4&\"'!b$28\")),0,INDIRECT(\"'\"&A4&\"'!b$28\")))","v":0},{"$f":"IF(ISERROR(INDIRECT(\"'\"&$A4&\"'!E$2\")),0,INDIRECT(\"'\"&$A4&\"'!E$2\"))","v":0},{"$f":"IF(R4=0,0,T4/R4)","v":0},null,{"$f":"Objectifs!C8","v":"Objectif Industrie non-ETS"},"Administration communale",2006,"A faire ","OUI","Commune ",{"$f":"Actions_FPC!F2","v":0}]
["A2",2,{"$f":"Actions_FPC!A3","v":0},{"$f":"IF(ISNA(VLOOKUP(AP5,Objectifs!$M$1:$N$10,2,0)),\"\",VLOOKUP(AP5,Objectifs!$M$1:$N$10,2,0))","v":""},{"$f":"IF(ISNA(VLOOKUP(D5,Objectifs!$B$8:$D$15,2,0)),D5,VLOOKUP(D5,Objectifs!$B$8:$D$15,2,0))","v":""},null,null,null,null,null,null,"",null,null,null,{"$f":"Actions_FPC!B3","v":0},null,null,null,null,null,null,null,"Autre",null,"_","A2",{"$f":"IF(ISERROR(INDIRECT(\"'\"&$A5&\"'!b$21\")),0,INDIRECT(\"'\"&$A5&\"'!b$21\"))","v":0},0,{"$f":"IF(AC5<>0,1,0)","v":0},0,0,{"$f":"IF(ISERROR(INDIRECT(\"'\"&$A5&\"'!E$2\")),0,INDIRECT(\"'\"&$A5&\"'!E$2\"))","v":0},0,null,{"$f":"Objectifs!C9","v":"Objectif Tertiaire"},"Tertiaire",2007,"En cours ","NON","Structure supra-locale POLLEC",{"$f":"Actions_FPC!F3","v":0}]
["A3",3,{"$f":"Actions_FPC!A4","v":0},{"$f":"IF(ISNA(VLOOKUP(AP6,Objectifs!$M$1:$N$10,2,0)),\"\",VLOOKUP(AP6,Objectifs!$M$1:$N$10,2,0))","v":""},{"$f":"IF(ISNA(VLOOKUP(D6,Objectifs!$B$8:$D$15,2,0)),D6,VLOOKUP(D6,Objectifs!$B$8:$D$15,2,0))","v":""},null,null,null,null,null,null,"",null,null,null,{"$f":"Actions_FPC!B4","v":0},null,null,null,null,null,null,null,"Autre",null,"_","A3",0,0,{"$f":"IF(AC6<>0,1,0)","v":0},0,0,0,0,null,{"$f":"Objectifs!C10","v":"Objectif Administration communale"},"Logement",2008,"Finalisée",null,"Autre ",{"$f":"Actions_FPC!F4","v":0}]
["A4",4,{"$f":"Actions_FPC!A5","v":0},{"$f":"IF(ISNA(VLOOKUP(AP7,Objectifs!$M$1:$N$10,2,0)),\"\",VLOOKUP(AP7,Objectifs!$M$1:$N$10,2,0))","v":""},{"$f":"IF(ISNA(VLOOKUP(D7,Objectifs!$B$8:$D$15,2,0)),D7,VLOOKUP(D7,Objectifs!$B$8:$D$15,2,0))","v":""},null,null,null,null,null,null,"",null,null,null,{"$f":"Actions_FPC!B5","v":0},null,null,null,null,null,null,null,"Autre",null,"_","A4",0,0,0,0,0,0,0,null,{"$f":"Objectifs!C11","v":"Objectif Eclairage public"},"Eclairage public",2009,null,null,"Indéterminé",{"$f":"Actions_FPC!F5","v":0}]
["A5",5,{"$f":"Actions_FPC!A6","v":0},{"$f":"IF(ISNA(VLOOKUP(AP8,Objectifs!$M$1:$N$10,2,0)),\"\",VLOOKUP(AP8,Objectifs!$M$1:$N$10,2,0))","v":""},{"$f":"IF(ISNA(VLOOKUP(D8,Objectifs!$B$8:$D$15,2,0)),D8,VLOOKUP(D8,Objectifs!$B$8:$D$15,2,0))","v":""},null,null,null,null,null,null,"",null,null,null,{"$f":"Actions_FPC!B6","v":0},null,null,null,null,null,null,null,"Autre",null,"_","A5",0,0,0,0,0,0,0,null,{"$f":"Objectifs!C12","v":"Objectif Logement"},"Industrie non-ETS",2010,null,null,null,{"$f":"Actions_FPC!F6","v":0}]
["A6",6,{"$f":"Actions_FPC!A7","v":0},{"$f":"IF(ISNA(VLOOKUP(AP9,Objectifs!$M$1:$N$10,2,0)),\"\",VLOOKUP(AP9,Objectifs!$M$1:$N$10,2,0))","v":""},{"$f":"IF(ISNA(VLOOKUP(D9,Objectifs!$B$8:$D$15,2,0)),D9,VLOOKUP(D9,Objectifs!$B$8:$D$15,2,0))","v":""},null,null,null,null,null,null,"",null,null,null,{"$f":"Actions_FPC!B7","v":0},null,null,null,null,null,null,null,"Autre",null,"_","A6",0,0,0,0,0,0,0,null,{"$f":"Objectifs!C13","v":"Objectif Agriculture"},"Transport",2011,null,null,null,{"$f":"Actions_FPC!F7","v":0}]
["A7",7,{"$f":"Actions_FPC!A8","v":0},{"$f":"IF(ISNA(VLOOKUP(AP10,Objectifs!$M$1:$N$10,2,0)),\"\",VLOOKUP(AP10,Objectifs!$M$1:$N$10,2,0))","v":""},{"$f":"IF(ISNA(VLOOKUP(D10,Objectifs!$B$8:$D$15,2,0)),D10,VLOOKUP(D10,Objectifs!$B$8:$D$15,2,0))","v":""},null,null,null,null,null,null,"",null,null,null,{"$f":"Actions_FPC!B8","v":0},null,null,null,null,null,null,null,"Autre",null,"_","A7",0,0,0,0,0,0,0,null,{"$f":"Objectifs!C14","v":"Objectif Transport"},"Production d'électricité",2012,null,null,null,{"$f":"Actions_FPC!F8","v":0}]
["A8",8,{"$f":"Actions_FPC!A9","v":0},{"$f":"IF(ISNA(VLOOKUP(AP11,Objectifs!$M$1:$N$10,2,0)),\"\",VLOOKUP(AP11,Objectifs!$M$1:$N$10,2,0))","v":""},{"$f":"IF(ISNA(VLOOKUP(D11,Objectifs!$B$8:$D$15,2,0)),D11,VLOOKUP(D11,Objectifs!$B$8:$D$15,2,0))","v":""},null,null,null,null,null,null,"",null,null,null,{"$f":"Actions_FPC!B9","v":0},null,null,null,null,null,null,null,"Autre",null,"_","A8",0,0,0,0,0,0,0,null,{"$f":"Objectifs!C15","v":"Objectif Véhicules communaux"},"Production de chaleur",2013,null,null,null,{"$f":"Actions_FPC!F9","v":0}]
["A9",9,{"$f":"Actions_FPC!A10","v":0},{"$f":"IF(ISNA(VLOOKUP(AP12,Objectifs!$M$1:$N$10,2,0)),\"\",VLOOKUP(AP12,Objectifs!$M$1:$N$10,2,0))","v":""},{"$f":"IF(ISNA(VLOOKUP(D12,Objectifs!$B$8:$D$15,2,0)),D12,VLOOKUP(D12,Objectifs!$B$8:$D$15,2,0))","v":""},null,null,null,null,null,null,"",null,null,null,{"$f":"Actions_FPC!B10","v":0},null,null,null,null,null,null,null,"Autre",null,"_","A9",0,0,0,0,0,0,0,null,{"$f":"Objectifs!C16","v":0},"Agriculture",2014,null,null,null,{"$f":"Actions_FPC!F10","v":0}]
["A10",10,{"$f":"Actions_FPC!A11","v":0},{"$f":"IF(ISNA(VLOOKUP(AP13,Objectifs!$M$1:$N$10,2,0)),\"\",VLOOKUP(AP13,Objectifs!$M$1:$N$10,2,0))","v":""},{"$f":"IF(ISNA(VLOOKUP(D13,Objectifs!$B$8:$D$15,2,0)),D13,VLOOKUP(D13,Objectifs!$B$8:$D$15,2,0))","v":""},null,null,null,null,null,null,"",null,null,null,{"$f":"Actions_FPC!B11","v":0},null,null,null,null,null,null,null,"Autre",null,"_","A10",0,0,0,0,0,0,0,null,{"$f":"Objectifs!C17","v":0},"Véhicules communaux",2015,null,null,null,{"$f":"Actions_FPC!F11","v":0}]
["A11",11,{"$f":"Actions_FPC!A12","v":0},{"$f":"IF(ISNA(VLOOKUP(AP14,Objectifs!$M$1:$N$10,2,0)),\"\",VLOOKUP(AP14,Objectifs!$M$1:$N$10,2,0))","v":""},{"$f":"IF(ISNA(VLOOKUP(D14,Objectifs!$B$8:$D$15,2,0)),D14,VLOOKUP(D14,Objectifs!$B$8:$D$15,2,0))","v":""},null,null,null,null,null,null,"",null,null,null,{"$f":"Actions_FPC!B12","v":0},null,null,null,null,null,null,null,"Autre",null,"_","A11",0,0,0,0,0,0,0,null,{"$f":"Objectifs!C18","v":0},"Cogénération",2016,null,null,null,{"$f":"Actions_FPC!F12","v":0}]
["A12",12,{"$f":"Actions_FPC!A13","v":0},{"$f":"IF(ISNA(VLOOKUP(AP15,Objectifs!$M$1:$N$10,2,0)),\"\",VLOOKUP(AP15,Objectifs!$M$1:$N$10,2,0))","v":""},{"$f":"IF(ISNA(VLOOKUP(D15,Objectifs!$B$8:$D$15,2,0)),D15,VLOOKUP(D15,Objectifs!$B$8:$D$15,2,0))","v":""},null,null,null,null,null,null,"",null,null,null,{"$f":"Actions_FPC!B13","v":0},null,null,null,null,null,null,null,"Autre",null,"_","A12",0,0,0,0,0,0,0,null,{"$f":"Objectifs!C19","v":0},"Traitement des déchets ",2017,null,null,null,{"$f":"Actions_FPC!F13","v":0}]
["A13",13,{"$f":"Actions_FPC!A14","v":0},{"$f":"IF(ISNA(VLOOKUP(AP16,Objectifs!$M$1:$N$10,2,0)),\"\",VLOOKUP(AP16,Objectifs!$M$1:$N$10,2,0))","v":""},{"$f":"IF(ISNA(VLOOKUP(D16,Objectifs!$B$8:$D$15,2,0)),D16,VLOOKUP(D16,Objectifs!$B$8:$D$15,2,0))","v":""},null,null,null,null,null,null,"",null,null,null,{"$f":"Actions_FPC!B14","v":0},null,null,null,null,null,null,null,"Autre",null,"_","A13",0,0,0,0,0,0,0,null,{"$f":"Objectifs!C20","v":0},"Traitement des eaux usées ",2018,null,null,null,{"$f":"Actions_FPC!F14","v":0}]
["A14",14,{"$f":"Actions_FPC!A15","v":0},{"$f":"IF(ISNA(VLOOKUP(AP17,Objectifs!$M$1:$N$10,2,0)),\"\",VLOOKUP(AP17,Objectifs!$M$1:$N$10,2,0))","v":""},{"$f":"IF(ISNA(VLOOKUP(D17,Objectifs!$B$8:$D$15,2,0)),D17,VLOOKUP(D17,Objectifs!$B$8:$D$15,2,0))","v":""},null,null,null,null,null,null,"",null,null,null,{"$f":"Actions_FPC!B15","v":0},null,null,null,null,null,null,null,"Autre",null,"_","A14",0,0,0,0,0,0,0,null,{"$f":"Objectifs!C21","v":0},"Autres non énergétiques",2019,null,null,null,{"$f":"Actions_FPC!F15","v":0}]
["A15",15,{"$f":"Actions_FPC!A16","v":0},{"$f":"IF(ISNA(VLOOKUP(AP18,Objectifs!$M$1:$N$10,2,0)),\"\",VLOOKUP(AP18,Objectifs!$M$1:$N$10,2,0))","v":""},{"$f":"IF(ISNA(VLOOKUP(D18,Objectifs!$B$8:$D$15,2,0)),D18,VLOOKUP(D18,Objectifs!$B$8:$D$15,2,0))","v":""},null,null,null,null,null,null,"",null,null,null,{"$f":"Actions_FPC!B16","v":0},null,null,null,null,null,null,null,"Autre",null,"_","A15",0,0,0,0,0,0,0,null,{"$f":"Objectifs!C22","v":0},"Tous",2020,null,null,null,{"$f":"Actions_FPC!F16","v":0}]
["A16",16,{"$f":"Actions_FPC!A17","v":0},{"$f":"IF(ISNA(VLOOKUP(AP19,Objectifs!$M$1:$N$10,2,0)),\"\",VLOOKUP(AP19,Objectifs!$M$1:$N$10,2,0))","v":""},{"$f":"IF(ISNA(VLOOKUP(D19,Objectifs!$B$8:$D$15,2,0)),D19,VLOOKUP(D19,Objectifs!$B$8:$D$15,2,0))","v":""},null,null,null,null,null,null,"",null,null,null,{"$f":"Actions_FPC!B17","v":0},null,null,null,null,null,null,null,"Autre",null,"_","A16",0,0,0,0,0,0,0,null,{"$f":"Objectifs!C23","v":0},null,2021,null,null,null,{"$f":"Actions_FPC!F17","v":0}]
["A17",17,{"$f":"Actions_FPC!A18","v":0},{"$f":"IF(ISNA(VLOOKUP(AP20,Objectifs!$M$1:$N$10,2,0)),\"\",VLOOKUP(AP20,Objectifs!$M$1:$N$10,2,0))","v":""},{"$f":"IF(ISNA(VLOOKUP(D20,Objectifs!$B$8:$D$15,2,0)),D20,VLOOKUP(D20,Objectifs!$B$8:$D$15,2,0))","v":""},null,null,null,null,null,null,"",null,null,null,{"$f":"Actions_FPC!B18","v":0},null,null,null,null,null,null,null,"Autre",null,"_","A17",0,0,0,0,0,0,0,null,{"$f":"Objectifs!C24","v":0},null,2022,null,null,null,{"$f":"Actions_FPC!F18","v":0}]
["A18",18,{"$f":"Actions_FPC!A19","v":0},{"$f":"IF(ISNA(VLOOKUP(AP21,Objectifs!$M$1:$N$10,2,0)),\"\",VLOOKUP(AP21,Objectifs!$M$1:$N$10,2,0))","v":""},{"$f":"IF(ISNA(VLOOKUP(D21,Objectifs!$B$8:$D$15,2,0)),D21,VLOOKUP(D21,Objectifs!$B$8:$D$15,2,0))","v":""},null,null,null,null,null,null,"",null,null,null,{"$f":"Actions_FPC!B19","v":0},null,null,null,null,null,null,null,"Autre",null,"_","A18",0,0,0,0,0,0,0,null,{"$f":"Objectifs!C25","v":0},null,2023,null,null,null,{"$f":"Actions_FPC!F19","v":0}]
["A19",19,{"$f":"Actions_FPC!A20","v":0},{"$f":"IF(ISNA(VLOOKUP(AP22,Objectifs!$M$1:$N$10,2,0)),\"\",VLOOKUP(AP22,Objectifs!$M$1:$N$10,2,0))","v":""},{"$f":"IF(ISNA(VLOOKUP(D22,Objectifs!$B$8:$D$15,2,0)),D22,VLOOKUP(D22,Objectifs!$B$8:$D$15,2,0))","v":""},null,null,null,null,null,null,"",null,null,null,{"$f":"Actions_FPC!B20","v":0},null,null,null,null,null,null,null,"Autre",null,"_","A19",0,0,0,0,0,0,0,null,{"$f":"Objectifs!C26","v":0},null,2024,null,null,null,{"$f":"Actions_FPC!F20","v":0}]
["A20",20,{"$f":"Actions_FPC!A21","v":0},{"$f":"IF(ISNA(VLOOKUP(AP23,Objectifs!$M$1:$N$10,2,0)),\"\",VLOOKUP(AP23,Objectifs!$M$1:$N$10,2,0))","v":""},{"$f":"IF(ISNA(VLOOKUP(D23,Objectifs!$B$8:$D$15,2,0)),D23,VLOOKUP(D23,Objectifs!$B$8:$D$15,2,0))","v":""},null,null,null,null,null,null,"",null,null,null,{"$f":"Actions_FPC!B21","v":0},null,null,null,null,null,null,null,"Autre",null,"_","A20",0,0,0,0,0,0,0,null,{"$f":"Objectifs!C27","v":0},null,2025,null,null,null,{"$f":"Actions_FPC!F21","v":0}]
["A21",21,{"$f":"Actions_FPC!A22","v":0},{"$f":"IF(ISNA(VLOOKUP(AP24,Objectifs!$M$1:$N$10,2,0)),\"\",VLOOKUP(AP24,Objectifs!$M$1:$N$10,2,0))","v":""},{"$f":"IF(ISNA(VLOOKUP(D24,Objectifs!$B$8:$D$15,2,0)),D24,VLOOKUP(D24,Objectifs!$B$8:$D$15,2,0))","v":""},null,null,null,null,null,null,"",null,null,null,{"$f":"Actions_FPC!B22","v":0},null,null,null,null,null,null,null,"Autre",null,"_","A21",0,0,0,0,0,0,0,null,{"$f":"Objectifs!C31","v":"Production de chaleur"},null,2026,null,null,null,{"$f":"Actions_FPC!F22","v":0}]
["A22",22,{"$f":"Actions_FPC!A23","v":0},{"$f":"IF(ISNA(VLOOKUP(AP25,Objectifs!$M$1:$N$10,2,0)),\"\",VLOOKUP(AP25,Objectifs!$M$1:$N$10,2,0))","v":""},{"$f":"IF(ISNA(VLOOKUP(D25,Objectifs!$B$8:$D$15,2,0)),D25,VLOOKUP(D25,Objectifs!$B$8:$D$15,2,0))","v":""},null,null,null,null,null,null,"",null,null,null,{"$f":"Actions_FPC!B23","v":0},null,null,null,null,null,null,null,"Autre",null,"_","A22",0,0,0,0,0,0,0,null,{"$f":"Objectifs!C32","v":"Production d'électricité"},null,2027,null,null,null,{"$f":"Actions_FPC!F23","v":0}]
["A23",23,{"$f":"Actions_FPC!A24","v":0},{"$f":"IF(ISNA(VLOOKUP(AP26,Objectifs!$M$1:$N$10,2,0)),\"\",VLOOKUP(AP26,Objectifs!$M$1:$N$10,2,0))","v":""},{"$f":"IF(ISNA(VLOOKUP(D26,Objectifs!$B$8:$D$15,2,0)),D26,VLOOKUP(D26,Objectifs!$B$8:$D$15,2,0))","v":""},null,null,null,null,null,null,"",null,null,null,{"$f":"Actions_FPC!B24","v":0},null,null,null,null,null,null,null,"Autre",null,"_","A23",0,0,0,0,0,0,0,null,{"$f":"Objectifs!C33","v":"Cogénération"},null,2028,null,null,null,{"$f":"Actions_FPC!F24","v":0}]
["A24",24,{"$f":"Actions_FPC!A25","v":0},{"$f":"IF(ISNA(VLOOKUP(AP27,Objectifs!$M$1:$N$10,2,0)),\"\",VLOOKUP(AP27,Objectifs!$M$1:$N$10,2,0))","v":""},{"$f":"IF(ISNA(VLOOKUP(D27,Objectifs!$B$8:$D$15,2,0)),D27,VLOOKUP(D27,Objectifs!$B$8:$D$15,2,0))","v":""},null,null,null,null,null,null,"",null,null,null,{"$f":"Actions_FPC!B25","v":0},null,null,null,null,null,null,null,"Autre",null,"_","A24",0,0,0,0,0,0,0,null,{"$f":"Objectifs!C34","v":0},null,2029,null,null,null,{"$f":"Actions_FPC!F25","v":0}]
["A25",25,{"$f":"Actions_FPC!A26","v":0},{"$f":"IF(ISNA(VLOOKUP(AP28,Objectifs!$M$1:$N$10,2,0)),\"\",VLOOKUP(AP28,Objectifs!$M$1:$N$10,2,0))","v":""},{"$f":"IF(ISNA(VLOOKUP(D28,Objectifs!$B$8:$D$15,2,0)),D28,VLOOKUP(D28,Objectifs!$B$8:$D$15,2,0))","v":""},null,null,null,null,null,null,"",null,null,null,{"$f":"Actions_FPC!B26","v":0},null,null,null,null,null,null,null,"Autre",null,"_","A25",0,0,0,0,0,0,0,null,{"$f":"Objectifs!C35","v":0},null,2030,null,null,null,{"$f":"Actions_FPC!F26","v":0}]
["A26",26,{"$f":"Actions_FPC!A27","v":0},{"$f":"IF(ISNA(VLOOKUP(AP29,Objectifs!$M$1:$N$10,2,0)),\"\",VLOOKUP(AP29,Objectifs!$M$1:$N$10,2,0))","v":""},{"$f":"IF(ISNA(VLOOKUP(D29,Objectifs!$B$8:$D$15,2,0)),D29,VLOOKUP(D29,Objectifs!$B$8:$D$15,2,0))","v":""},null,null,null,null,null,null,"",null,null,null,{"$f":"Actions_FPC!B27","v":0},null,null,null,null,null,null,null,"Autre",null,"_","A26",0,0,0,0,0,0,0,null,{"$f":"Objectifs!C36","v":0},null,null,null,null,null,{"$f":"Actions_FPC!F27","v":0}]
["A27",27,{"$f":"Actions_FPC!A28","v":0},{"$f":"IF(ISNA(VLOOKUP(AP30,Objectifs!$M$1:$N$10,2,0)),\"\",VLOOKUP(AP30,Objectifs!$M$1:$N$10,2,0))","v":""},{"$f":"IF(ISNA(VLOOKUP(D30,Objectifs!$B$8:$D$15,2,0)),D30,VLOOKUP(D30,Objectifs!$B$8:$D$15,2,0))","v":""},null,null,null,null,null,null,"",null,null,null,{"$f":"Actions_FPC!B28","v":0},null,null,null,null,null,null,null,"Autre",null,"_","A27",0,0,0,0,0,0,0,null,{"$f":"Objectifs!C37","v":0},null,null,null,null,null,{"$f":"Actions_FPC!F28","v":0}]
["A28",28,{"$f":"Actions_FPC!A29","v":0},{"$f":"IF(ISNA(VLOOKUP(AP31,Objectifs!$M$1:$N$10,2,0)),\"\",VLOOKUP(AP31,Objectifs!$M$1:$N$10,2,0))","v":""},{"$f":"IF(ISNA(VLOOKUP(D31,Objectifs!$B$8:$D$15,2,0)),D31,VLOOKUP(D31,Objectifs!$B$8:$D$15,2,0))","v":""},null,null,null,null,null,null,"",null,null,null,{"$f":"Actions_FPC!B29","v":0},null,null,null,null,null,null,null,"Autre",null,"_","A28",0,0,0,0,0,0,0,null,{"$f":"Objectifs!C38","v":0},null,null,null,null,null,{"$f":"Actions_FPC!F29","v":0}]
["A29",29,{"$f":"Actions_FPC!A30","v":0},{"$f":"IF(ISNA(VLOOKUP(AP32,Objectifs!$M$1:$N$10,2,0)),\"\",VLOOKUP(AP32,Objectifs!$M$1:$N$10,2,0))","v":""},{"$f":"IF(ISNA(VLOOKUP(D32,Objectifs!$B$8:$D$15,2,0)),D32,VLOOKUP(D32,Objectifs!$B$8:$D$15,2,0))","v":""},null,null,null,null,null,null,"",null,null,null,{"$f":"Actions_FPC!B30","v":0},null,null,null,null,null,null,null,"Autre",null,"_","A29",0,0,0,0,0,0,0,null,{"$f":"Objectifs!C42","v":0},null,null,null,null,null,{"$f":"Actions_FPC!F30","v":0}]
["A30",30,{"$f":"Actions_FPC!A31","v":0},{"$f":"IF(ISNA(VLOOKUP(AP33,Objectifs!$M$1:$N$10,2,0)),\"\",VLOOKUP(AP33,Objectifs!$M$1:$N$10,2,0))","v":""},{"$f":"IF(ISNA(VLOOKUP(D33,Objectifs!$B$8:$D$15,2,0)),D33,VLOOKUP(D33,Objectifs!$B$8:$D$15,2,0))","v":""},null,null,null,null,null,null,"",null,null,null,{"$f":"Actions_FPC!B31","v":0},null,null,null,null,null,null,null,"Autre",null,"_","A30",0,0,0,0,0,0,0,null,{"$f":"Objectifs!C43","v":0},null,null,null,null,null,{"$f":"Actions_FPC!F31","v":0}]
["A31",31,{"$f":"Actions_FPC!A32","v":0},{"$f":"IF(ISNA(VLOOKUP(AP34,Objectifs!$M$1:$N$10,2,0)),\"\",VLOOKUP(AP34,Objectifs!$M$1:$N$10,2,0))","v":""},{"$f":"IF(ISNA(VLOOKUP(D34,Objectifs!$B$8:$D$15,2,0)),D34,VLOOKUP(D34,Objectifs!$B$8:$D$15,2,0))","v":""},null,null,null,null,null,null,"",null,null,null,{"$f":"Actions_FPC!B32","v":0},null,null,null,null,null,null,null,"Autre",null,"_","A31",0,0,0,0,0,0,0,null,{"$f":"Objectifs!C44","v":0},null,null,null,null,null,{"$f":"Actions_FPC!F32","v":0}]
["A32",32,{"$f":"Actions_FPC!A33","v":0},{"$f":"IF(ISNA(VLOOKUP(AP35,Objectifs!$M$1:$N$10,2,0)),\"\",VLOOKUP(AP35,Objectifs!$M$1:$N$10,2,0))","v":""},{"$f":"IF(ISNA(VLOOKUP(D35,Objectifs!$B$8:$D$15,2,0)),D35,VLOOKUP(D35,Objectifs!$B$8:$D$15,2,0))","v":""},null,null,null,null,null,null,"",null,null,null,{"$f":"Actions_FPC!B33","v":0},null,null,null,null,null,null,null,"Autre",null,"_","A32",0,0,0,0,0,0,0,null,{"$f":"Objectifs!C45","v":0},null,null,null,null,null,{"$f":"Actions_FPC!F33","v":0}]
["A33",33,{"$f":"Actions_FPC!A34","v":0},{"$f":"IF(ISNA(VLOOKUP(AP36,Objectifs!$M$1:$N$10,2,0)),\"\",VLOOKUP(AP36,Objectifs!$M$1:$N$10,2,0))","v":""},{"$f":"IF(ISNA(VLOOKUP(D36,Objectifs!$B$8:$D$15,2,0)),D36,VLOOKUP(D36,Objectifs!$B$8:$D$15,2,0))","v":""},null,null,null,null,null,null,"",null,null,null,{"$f":"Actions_FPC!B34","v":0},null,null,null,null,null,null,null,"Autre",null,"_","A33",0,0,0,0,0,0,0,null,{"$f":"Objectifs!C46","v":0},null,null,null,null,null,{"$f":"Actions_FPC!F34","v":0}]
["A34",34,{"$f":"Actions_FPC!A35","v":0},{"$f":"IF(ISNA(VLOOKUP(AP37,Objectifs!$M$1:$N$10,2,0)),\"\",VLOOKUP(AP37,Objectifs!$M$1:$N$10,2,0))","v":""},{"$f":"IF(ISNA(VLOOKUP(D37,Objectifs!$B$8:$D$15,2,0)),D37,VLOOKUP(D37,Objectifs!$B$8:$D$15,2,0))","v":""},null,null,null,null,null,null,"",null,null,null,{"$f":"Actions_FPC!B35","v":0},null,null,null,null,null,null,null,"Autre",null,"_","A34",0,0,0,0,0,0,0,null,null,null,null,null,null,null,{"$f":"Actions_FPC!F35","v":0}]
["A35",35,{"$f":"Actions_FPC!A36","v":0},{"$f":"IF(ISNA(VLOOKUP(AP38,Objectifs!$M$1:$N$10,2,0)),\"\",VLOOKUP(AP38,Objectifs!$M$1:$N$10,2,0))","v":""},{"$f":"IF(ISNA(VLOOKUP(D38,Objectifs!$B$8:$D$15,2,0)),D38,VLOOKUP(D38,Objectifs!$B$8:$D$15,2,0))","v":""},null,null,null,null,null,null,"",null,null,null,{"$f":"Actions_FPC!B36","v":0},null,null,null,null,null,null,null,"Autre",null,"_","A35",0,0,0,0,0,0,0,null,null,null,null,null,null,null,{"$f":"Actions_FPC!F36","v":0}]
["A36",36,{"$f":"Actions_FPC!A37","v":0},{"$f":"IF(ISNA(VLOOKUP(AP39,Objectifs!$M$1:$N$10,2,0)),\"\",VLOOKUP(AP39,Objectifs!$M$1:$N$10,2,0))","v":""},{"$f":"IF(ISNA(VLOOKUP(D39,Objectifs!$B$8:$D$15,2,0)),D39,VLOOKUP(D39,Objectifs!$B$8:$D$15,2,0))","v":""},null,null,null,null,null,null,"",null,null,null,{"$f":"Actions_FPC!B37","v":0},null,null,null,null,null,null,null,"Autre",null,"_","A36",0,0,0,0,0,0,0,null,null,null,null,null,null,null,{"$f":"Actions_FPC!F37","v":0}]
["A37",37,{"$f":"Actions_FPC!A38","v":0},{"$f":"IF(ISNA(VLOOKUP(AP40,Objectifs!$M$1:$N$10,2,0)),\"\",VLOOKUP(AP40,Objectifs!$M$1:$N$10,2,0))","v":""},{"$f":"IF(ISNA(VLOOKUP(D40,Objectifs!$B$8:$D$15,2,0)),D40,VLOOKUP(D40,Objectifs!$B$8:$D$15,2,0))","v":""},null,null,null,null,null,null,"",null,null,null,{"$f":"Actions_FPC!B38","v":0},null,null,null,null,null,null,null,"Autre",null,"_","A37",0,0,0,0,0,0,0,null,null,null,null,null,null,null,{"$f":"Actions_FPC!F38","v":0}]
["A38",38,{"$f":"Actions_FPC!A39","v":0},{"$f":"IF(ISNA(VLOOKUP(AP41,Objectifs!$M$1:$N$10,2,0)),\"\",VLOOKUP(AP41,Objectifs!$M$1:$N$10,2,0))","v":""},{"$f":"IF(ISNA(VLOOKUP(D41,Objectifs!$B$8:$D$15,2,0)),D41,VLOOKUP(D41,Objectifs!$B$8:$D$15,2,0))","v":""},null,null,null,null,null,null,"",null,null,null,{"$f":"Actions_FPC!B39","v":0},null,null,null,null,null,null,null,"Autre",null,"_","A38",0,0,0,0,0,0,0,null,null,null,null,null,null,null,{"$f":"Actions_FPC!F39","v":0}]
["A39",39,{"$f":"Actions_FPC!A40","v":0},{"$f":"IF(ISNA(VLOOKUP(AP42,Objectifs!$M$1:$N$10,2,0)),\"\",VLOOKUP(AP42,Objectifs!$M$1:$N$10,2,0))","v":""},{"$f":"IF(ISNA(VLOOKUP(D42,Objectifs!$B$8:$D$15,2,0)),D42,VLOOKUP(D42,Objectifs!$B$8:$D$15,2,0))","v":""},null,null,null,null,null,null,"",null,null,null,{"$f":"Actions_FPC!B40","v":0},null,null,null,null,null,null,null,"Autre",null,"_","A39",0,0,0,0,0,0,0,null,null,null,null,null,null,null,{"$f":"Actions_FPC!F40","v":0}]
["A40",40,{"$f":"Actions_FPC!A41","v":0},{"$f":"IF(ISNA(VLOOKUP(AP43,Objectifs!$M$1:$N$10,2,0)),\"\",VLOOKUP(AP43,Objectifs!$M$1:$N$10,2,0))","v":""},{"$f":"IF(ISNA(VLOOKUP(D43,Objectifs!$B$8:$D$15,2,0)),D43,VLOOKUP(D43,Objectifs!$B$8:$D$15,2,0))","v":""},null,null,null,null,null,null,"",null,null,null,{"$f":"Actions_FPC!B41","v":0},null,null,null,null,null,null,null,"Autre",null,"_","A40",0,0,0,0,0,0,0,null,null,null,null,null,null,null,{"$f":"Actions_FPC!F41","v":0}]
["A41",41,{"$f":"Actions_FPC!A42","v":0},{"$f":"IF(ISNA(VLOOKUP(AP44,Objectifs!$M$1:$N$10,2,0)),\"\",VLOOKUP(AP44,Objectifs!$M$1:$N$10,2,0))","v":""},{"$f":"IF(ISNA(VLOOKUP(D44,Objectifs!$B$8:$D$15,2,0)),D44,VLOOKUP(D44,Objectifs!$B$8:$D$15,2,0))","v":""},null,null,null,null,null,null,"",null,null,null,{"$f":"Actions_FPC!B42","v":0},null,null,null,null,null,null,null,"Autre",null,"_","A41",0,0,0,0,0,0,0,null,null,null,null,null,null,null,{"$f":"Actions_FPC!F42","v":0}]
["A42",42,{"$f":"Actions_FPC!A43","v":0},{"$f":"IF(ISNA(VLOOKUP(AP45,Objectifs!$M$1:$N$10,2,0)),\"\",VLOOKUP(AP45,Objectifs!$M$1:$N$10,2,0))","v":""},{"$f":"IF(ISNA(VLOOKUP(D45,Objectifs!$B$8:$D$15,2,0)),D45,VLOOKUP(D45,Objectifs!$B$8:$D$15,2,0))","v":""},null,null,null,null,null,null,"",null,null,null,{"$f":"Actions_FPC!B43","v":0},null,null,null,null,null,null,null,"Autre",null,"_","A42",0,0,0,0,0,0,0,null,null,null,null,null,null,null,{"$f":"Actions_FPC!F43","v":0}]
["A43",43,{"$f":"Actions_FPC!A44","v":0},{"$f":"IF(ISNA(VLOOKUP(AP46,Objectifs!$M$1:$N$10,2,0)),\"\",VLOOKUP(AP46,Objectifs!$M$1:$N$10,2,0))","v":""},{"$f":"IF(ISNA(VLOOKUP(D46,Objectifs!$B$8:$D$15,2,0)),D46,VLOOKUP(D46,Objectifs!$B$8:$D$15,2,0))","v":""},null,null,null,null,null,null,"",null,null,null,{"$f":"Actions_FPC!B44","v":0},null,null,null,null,null,null,null,"Autre",null,"_","A43",0,0,0,0,0,0,0,null,null,null,null,null,null,null,{"$f":"Actions_FPC!F44","v":0}]
["A44",44,{"$f":"Actions_FPC!A45","v":0},{"$f":"IF(ISNA(VLOOKUP(AP47,Objectifs!$M$1:$N$10,2,0)),\"\",VLOOKUP(AP47,Objectifs!$M$1:$N$10,2,0))","v":""},{"$f":"IF(ISNA(VLOOKUP(D47,Objectifs!$B$8:$D$15,2,0)),D47,VLOOKUP(D47,Objectifs!$B$8:$D$15,2,0))","v":""},null,null,null,null,null,null,"",null,null,null,{"$f":"Actions_FPC!B45","v":0},null,null,null,null,null,null,null,"Autre",null,"_","A44",0,0,0,0,0,0,0,null,null,null,null,null,null,null,{"$f":"Actions_FPC!F45","v":0}]
["A45",45,{"$f":"Actions_FPC!A46","v":0},{"$f":"IF(ISNA(VLOOKUP(AP48,Objectifs!$M$1:$N$10,2,0)),\"\",VLOOKUP(AP48,Objectifs!$M$1:$N$10,2,0))","v":""},{"$f":"IF(ISNA(VLOOKUP(D48,Objectifs!$B$8:$D$15,2,0)),D48,VLOOKUP(D48,Objectifs!$B$8:$D$15,2,0))","v":""},null,null,null,null,null,null,"",null,null,null,{"$f":"Actions_FPC!B46","v":0},null,null,null,null,null,null,null,"Autre",null,"_","A45",0,0,0,0,0,0,0,null,null,null,null,null,null,null,{"$f":"Actions_FPC!F46","v":0}]
[null,46,{"$f":"Actions_FPC!A47","v":0},{"$f":"IF(ISNA(VLOOKUP(AP49,Objectifs!$M$1:$N$10,2,0)),\"\",VLOOKUP(AP49,Objectifs!$M$1:$N$10,2,0))","v":""},{"$f":"IF(ISNA(VLOOKUP(D49,Objectifs!$B$8:$D$15,2,0)),D49,VLOOKUP(D49,Objectifs!$B$8:$D$15,2,0))","v":""},null,null,null,null,null,null,{"$f":"IF(C49=0,\"\",\"Administration communale\")","v":""},null,null,null,{"$f":"Actions_FPC!B47","v":0}]
[null,47,{"$f":"Actions_FPC!A48","v":0},{"$f":"IF(ISNA(VLOOKUP(AP50,Objectifs!$M$1:$N$10,2,0)),\"\",VLOOKUP(AP50,Objectifs!$M$1:$N$10,2,0))","v":""},{"$f":"IF(ISNA(VLOOKUP(D50,Objectifs!$B$8:$D$15,2,0)),D50,VLOOKUP(D50,Objectifs!$B$8:$D$15,2,0))","v":""},null,null,null,null,null,null,"",null,null,null,{"$f":"Actions_FPC!B48","v":0}]
[null,48,{"$f":"Actions_FPC!A49","v":0},{"$f":"IF(ISNA(VLOOKUP(AP51,Objectifs!$M$1:$N$10,2,0)),\"\",VLOOKUP(AP51,Objectifs!$M$1:$N$10,2,0))","v":""},{"$f":"IF(ISNA(VLOOKUP(D51,Objectifs!$B$8:$D$15,2,0)),D51,VLOOKUP(D51,Objectifs!$B$8:$D$15,2,0))","v":""},null,null,null,null,null,null,"",null,null,null,{"$f":"Actions_FPC!B49","v":0}]
[null,49,{"$f":"Actions_FPC!A50","v":0},{"$f":"IF(ISNA(VLOOKUP(AP52,Objectifs!$M$1:$N$10,2,0)),\"\",VLOOKUP(AP52,Objectifs!$M$1:$N$10,2,0))","v":""},{"$f":"IF(ISNA(VLOOKUP(D52,Objectifs!$B$8:$D$15,2,0)),D52,VLOOKUP(D52,Objectifs!$B$8:$D$15,2,0))","v":""},null,null,null,null,null,null,"",null,null,null,{"$f":"Actions_FPC!B50","v":0}]
[null,50,{"$f":"Actions_FPC!A51","v":0},{"$f":"IF(ISNA(VLOOKUP(AP53,Objectifs!$M$1:$N$10,2,0)),\"\",VLOOKUP(AP53,Objectifs!$M$1:$N$10,2,0))","v":""},{"$f":"IF(ISNA(VLOOKUP(D53,Objectifs!$B$8:$D$15,2,0)),D53,VLOOKUP(D53,Objectifs!$B$8:$D$15,2,0))","v":""},null,null,null,null,null,null,"",null,null,null,{"$f":"Actions_FPC!B51","v":0}]
[null,51,{"$f":"Actions_FPC!A52","v":0},{"$f":"IF(ISNA(VLOOKUP(AP54,Objectifs!$M$1:$N$10,2,0)),\"\",VLOOKUP(AP54,Objectifs!$M$1:$N$10,2,0))","v":""},{"$f":"IF(ISNA(VLOOKUP(D54,Objectifs!$B$8:$D$15,2,0)),D54,VLOOKUP(D54,Objectifs!$B$8:$D$15,2,0))","v":""},null,null,null,null,null,null,"",null,null,null,{"$f":"Actions_FPC!B52","v":0}]
[null,52,{"$f":"Actions_FPC!A53","v":0},{"$f":"IF(ISNA(VLOOKUP(AP55,Objectifs!$M$1:$N$10,2,0)),\"\",VLOOKUP(AP55,Objectifs!$M$1:$N$10,2,0))","v":""},{"$f":"IF(ISNA(VLOOKUP(D55,Objectifs!$B$8:$D$15,2,0)),D55,VLOOKUP(D55,Objectifs!$B$8:$D$15,2,0))","v":""},null,null,null,null,null,null,"",null,null,null,{"$f":"Actions_FPC!B53","v":0}]
[null,53,{"$f":"Actions_FPC!A54","v":0},{"$f":"IF(ISNA(VLOOKUP(AP56,Objectifs!$M$1:$N$10,2,0)),\"\",VLOOKUP(AP56,Objectifs!$M$1:$N$10,2,0))","v":""},{"$f":"IF(ISNA(VLOOKUP(D56,Objectifs!$B$8:$D$15,2,0)),D56,VLOOKUP(D56,Objectifs!$B$8:$D$15,2,0))","v":""},null,null,null,null,null,null,"",null,null,null,{"$f":"Actions_FPC!B54","v":0}]
[null,54,{"$f":"Actions_FPC!A55","v":0},{"$f":"IF(ISNA(VLOOKUP(AP57,Objectifs!$M$1:$N$10,2,0)),\"\",VLOOKUP(AP57,Objectifs!$M$1:$N$10,2,0))","v":""},{"$f":"IF(ISNA(VLOOKUP(D57,Objectifs!$B$8:$D$15,2,0)),D57,VLOOKUP(D57,Objectifs!$B$8:$D$15,2,0))","v":""},null,null,null,null,null,null,"",null,null,null,{"$f":"Actions_FPC!B55","v":0}]
[null,55,{"$f":"Actions_FPC!A56","v":0},{"$f":"IF(ISNA(VLOOKUP(AP58,Objectifs!$M$1:$N$10,2,0)),\"\",VLOOKUP(AP58,Objectifs!$M$1:$N$10,2,0))","v":""},{"$f":"IF(ISNA(VLOOKUP(D58,Objectifs!$B$8:$D$15,2,0)),D58,VLOOKUP(D58,Objectifs!$B$8:$D$15,2,0))","v":""},null,null,null,null,null,null,"",null,null,null,{"$f":"Actions_FPC!B56","v":0}]
[null,56,{"$f":"Actions_FPC!A57","v":0},{"$f":"IF(ISNA(VLOOKUP(AP59,Objectifs!$M$1:$N$10,2,0)),\"\",VLOOKUP(AP59,Objectifs!$M$1:$N$10,2,0))","v":""},{"$f":"IF(ISNA(VLOOKUP(D59,Objectifs!$B$8:$D$15,2,0)),D59,VLOOKUP(D59,Objectifs!$B$8:$D$15,2,0))","v":""},null,null,null,null,null,null,"",null,null,null,{"$f":"Actions_FPC!B57","v":0}]
[null,57,{"$f":"Actions_FPC!A58","v":0},{"$f":"IF(ISNA(VLOOKUP(AP60,Objectifs!$M$1:$N$10,2,0)),\"\",VLOOKUP(AP60,Objectifs!$M$1:$N$10,2,0))","v":""},{"$f":"IF(ISNA(VLOOKUP(D60,Objectifs!$B$8:$D$15,2,0)),D60,VLOOKUP(D60,Objectifs!$B$8:$D$15,2,0))","v":""},null,null,null,null,null,null,"",null,null,null,{"$f":"Actions_FPC!B58","v":0}]
[null,58,{"$f":"Actions_FPC!A59","v":0},{"$f":"IF(ISNA(VLOOKUP(AP61,Objectifs!$M$1:$N$10,2,0)),\"\",VLOOKUP(AP61,Objectifs!$M$1:$N$10,2,0))","v":""},{"$f":"IF(ISNA(VLOOKUP(D61,Objectifs!$B$8:$D$15,2,0)),D61,VLOOKUP(D61,Objectifs!$B$8:$D$15,2,0))","v":""},null,null,null,null,null,null,"",null,null,null,{"$f":"Actions_FPC!B59","v":0}]
[null,59,{"$f":"Actions_FPC!A60","v":0},{"$f":"IF(ISNA(VLOOKUP(AP62,Objectifs!$M$1:$N$10,2,0)),\"\",VLOOKUP(AP62,Objectifs!$M$1:$N$10,2,0))","v":""},{"$f":"IF(ISNA(VLOOKUP(D62,Objectifs!$B$8:$D$15,2,0)),D62,VLOOKUP(D62,Objectifs!$B$8:$D$15,2,0))","v":""},null,null,null,null,null,null,"",null,null,null,{"$f":"Actions_FPC!B60","v":0}]
[null,60,{"$f":"Actions_FPC!A61","v":0},{"$f":"IF(ISNA(VLOOKUP(AP63,Objectifs!$M$1:$N$10,2,0)),\"\",VLOOKUP(AP63,Objectifs!$M$1:$N$10,2,0))","v":""},{"$f":"IF(ISNA(VLOOKUP(D63,Objectifs!$B$8:$D$15,2,0)),D63,VLOOKUP(D63,Objectifs!$B$8:$D$15,2,0))","v":""},null,null,null,null,null,null,"",null,null,null,{"$f":"Actions_FPC!B61","v":0}]
[null,61,{"$f":"Actions_FPC!A62","v":0},{"$f":"IF(ISNA(VLOOKUP(AP64,Objectifs!$M$1:$N$10,2,0)),\"\",VLOOKUP(AP64,Objectifs!$M$1:$N$10,2,0))","v":""},{"$f":"IF(ISNA(VLOOKUP(D64,Objectifs!$B$8:$D$15,2,0)),D64,VLOOKUP(D64,Objectifs!$B$8:$D$15,2,0))","v":""},null,null,null,null,null,null,"",null,null,null,{"$f":"Actions_FPC!B62","v":0}]
[null,62,{"$f":"Actions_FPC!A63","v":0},{"$f":"IF(ISNA(VLOOKUP(AP65,Objectifs!$M$1:$N$10,2,0)),\"\",VLOOKUP(AP65,Objectifs!$M$1:$N$10,2,0))","v":""},{"$f":"IF(ISNA(VLOOKUP(D65,Objectifs!$B$8:$D$15,2,0)),D65,VLOOKUP(D65,Objectifs!$B$8:$D$15,2,0))","v":""},null,null,null,null,null,null,"",null,null,null,{"$f":"Actions_FPC!B63","v":0}]
[null,63,{"$f":"Actions_FPC!A64","v":0},{"$f":"IF(ISNA(VLOOKUP(AP66,Objectifs!$M$1:$N$10,2,0)),\"\",VLOOKUP(AP66,Objectifs!$M$1:$N$10,2,0))","v":""},{"$f":"IF(ISNA(VLOOKUP(D66,Objectifs!$B$8:$D$15,2,0)),D66,VLOOKUP(D66,Objectifs!$B$8:$D$15,2,0))","v":""},null,null,null,null,null,null,"",null,null,null,{"$f":"Actions_FPC!B64","v":0}]
[null,64,{"$f":"Actions_FPC!A65","v":0},{"$f":"IF(ISNA(VLOOKUP(AP67,Objectifs!$M$1:$N$10,2,0)),\"\",VLOOKUP(AP67,Objectifs!$M$1:$N$10,2,0))","v":""},{"$f":"IF(ISNA(VLOOKUP(D67,Objectifs!$B$8:$D$15,2,0)),D67,VLOOKUP(D67,Objectifs!$B$8:$D$15,2,0))","v":""},null,null,null,null,null,null,"",null,null,null,{"$f":"Actions_FPC!B65","v":0}]
[null,65,{"$f":"Actions_FPC!A66","v":0},{"$f":"IF(ISNA(VLOOKUP(AP68,Objectifs!$M$1:$N$10,2,0)),\"\",VLOOKUP(AP68,Objectifs!$M$1:$N$10,2,0))","v":""},{"$f":"IF(ISNA(VLOOKUP(D68,Objectifs!$B$8:$D$15,2,0)),D68,VLOOKUP(D68,Objectifs!$B$8:$D$15,2,0))","v":""},null,null,null,null,null,null,{"$f":"IF(C68=0,\"\",\"Administration communale\")","v":""},null,null,null,{"$f":"Actions_FPC!B66","v":0}]
[null,66,{"$f":"Actions_FPC!A67","v":0},{"$f":"IF(ISNA(VLOOKUP(AP69,Objectifs!$M$1:$N$10,2,0)),\"\",VLOOKUP(AP69,Objectifs!$M$1:$N$10,2,0))","v":""},{"$f":"IF(ISNA(VLOOKUP(D69,Objectifs!$B$8:$D$15,2,0)),D69,VLOOKUP(D69,Objectifs!$B$8:$D$15,2,0))","v":""},null,null,null,null,null,null,"",null,null,null,{"$f":"Actions_FPC!B67","v":0}]
[null,67,{"$f":"Actions_FPC!A68","v":0},{"$f":"IF(ISNA(VLOOKUP(AP70,Objectifs!$M$1:$N$10,2,0)),\"\",VLOOKUP(AP70,Objectifs!$M$1:$N$10,2,0))","v":""},{"$f":"IF(ISNA(VLOOKUP(D70,Objectifs!$B$8:$D$15,2,0)),D70,VLOOKUP(D70,Objectifs!$B$8:$D$15,2,0))","v":""},null,null,null,null,null,null,"",null,null,null,{"$f":"Actions_FPC!B68","v":0}]
[null,68,{"$f":"Actions_FPC!A69","v":0},{"$f":"IF(ISNA(VLOOKUP(AP71,Objectifs!$M$1:$N$10,2,0)),\"\",VLOOKUP(AP71,Objectifs!$M$1:$N$10,2,0))","v":""},{"$f":"IF(ISNA(VLOOKUP(D71,Objectifs!$B$8:$D$15,2,0)),D71,VLOOKUP(D71,Objectifs!$B$8:$D$15,2,0))","v":""},null,null,null,null,null,null,"",null,null,null,{"$f":"Actions_FPC!B69","v":0}]
[null,69,{"$f":"Actions_FPC!A70","v":0},{"$f":"IF(ISNA(VLOOKUP(AP72,Objectifs!$M$1:$N$10,2,0)),\"\",VLOOKUP(AP72,Objectifs!$M$1:$N$10,2,0))","v":""},{"$f":"IF(ISNA(VLOOKUP(D72,Objectifs!$B$8:$D$15,2,0)),D72,VLOOKUP(D72,Objectifs!$B$8:$D$15,2,0))","v":""},null,null,null,null,null,null,"",null,null,null,{"$f":"Actions_FPC!B70","v":0}]
[null,70,{"$f":"Actions_FPC!A71","v":0},{"$f":"IF(ISNA(VLOOKUP(AP73,Objectifs!$M$1:$N$10,2,0)),\"\",VLOOKUP(AP73,Objectifs!$M$1:$N$10,2,0))","v":""},{"$f":"IF(ISNA(VLOOKUP(D73,Objectifs!$B$8:$D$15,2,0)),D73,VLOOKUP(D73,Objectifs!$B$8:$D$15,2,0))","v":""},null,null,null,null,null,null,"",null,null,null,{"$f":"Actions_FPC!B71","v":0}]
[null,71,{"$f":"Actions_FPC!A72","v":0},{"$f":"IF(ISNA(VLOOKUP(AP74,Objectifs!$M$1:$N$10,2,0)),\"\",VLOOKUP(AP74,Objectifs!$M$1:$N$10,2,0))","v":""},{"$f":"IF(ISNA(VLOOKUP(D74,Objectifs!$B$8:$D$15,2,0)),D74,VLOOKUP(D74,Objectifs!$B$8:$D$15,2,0))","v":""},null,null,null,null,null,null,"",null,null,null,{"$f":"Actions_FPC!B72","v":0}]
[null,72,{"$f":"Actions_FPC!A73","v":0},{"$f":"IF(ISNA(VLOOKUP(AP75,Objectifs!$M$1:$N$10,2,0)),\"\",VLOOKUP(AP75,Objectifs!$M$1:$N$10,2,0))","v":""},{"$f":"IF(ISNA(VLOOKUP(D75,Objectifs!$B$8:$D$15,2,0)),D75,VLOOKUP(D75,Objectifs!$B$8:$D$15,2,0))","v":""},null,null,null,null,null,null,"",null,null,null,{"$f":"Actions_FPC!B73","v":0}]
[null,73,{"$f":"Actions_FPC!A74","v":0},{"$f":"IF(ISNA(VLOOKUP(AP76,Objectifs!$M$1:$N$10,2,0)),\"\",VLOOKUP(AP76,Objectifs!$M$1:$N$10,2,0))","v":""},{"$f":"IF(ISNA(VLOOKUP(D76,Objectifs!$B$8:$D$15,2,0)),D76,VLOOKUP(D76,Objectifs!$B$8:$D$15,2,0))","v":""},null,null,null,null,null,null,"",null,null,null,{"$f":"Actions_FPC!B74","v":0}]
[null,74,{"$f":"Actions_FPC!A75","v":0},{"$f":"IF(ISNA(VLOOKUP(AP77,Objectifs!$M$1:$N$10,2,0)),\"\",VLOOKUP(AP77,Objectifs!$M$1:$N$10,2,0))","v":""},{"$f":"IF(ISNA(VLOOKUP(D77,Objectifs!$B$8:$D$15,2,0)),D77,VLOOKUP(D77,Objectifs!$B$8:$D$15,2,0))","v":""},null,null,null,null,null,null,"",null,null,null,{"$f":"Actions_FPC!B75","v":0}]
[null,75,{"$f":"Actions_FPC!A76","v":0},{"$f":"IF(ISNA(VLOOKUP(AP78,Objectifs!$M$1:$N$10,2,0)),\"\",VLOOKUP(AP78,Objectifs!$M$1:$N$10,2,0))","v":""},{"$f":"IF(ISNA(VLOOKUP(D78,Objectifs!$B$8:$D$15,2,0)),D78,VLOOKUP(D78,Objectifs!$B$8:$D$15,2,0))","v":""},null,null,null,null,null,null,"",null,null,null,{"$f":"Actions_FPC!B76","v":0}]
[null,76,{"$f":"Actions_FPC!A77","v":0},{"$f":"IF(ISNA(VLOOKUP(AP79,Objectifs!$M$1:$N$10,2,0)),\"\",VLOOKUP(AP79,Objectifs!$M$1:$N$10,2,0))","v":""},{"$f":"IF(ISNA(VLOOKUP(D79,Objectifs!$B$8:$D$15,2,0)),D79,VLOOKUP(D79,Objectifs!$B$8:$D$15,2,0))","v":""},null,null,null,null,null,null,"",null,null,null,{"$f":"Actions_FPC!B77","v":0}]
[null,77,{"$f":"Actions_FPC!A78","v":0},{"$f":"IF(ISNA(VLOOKUP(AP80,Objectifs!$M$1:$N$10,2,0)),\"\",VLOOKUP(AP80,Objectifs!$M$1:$N$10,2,0))","v":""},{"$f":"IF(ISNA(VLOOKUP(D80,Objectifs!$B$8:$D$15,2,0)),D80,VLOOKUP(D80,Objectifs!$B$8:$D$15,2,0))","v":""},null,null,null,null,null,null,"",null,null,null,{"$f":"Actions_FPC!B78","v":0}]
[null,78,{"$f":"Actions_FPC!A79","v":0},{"$f":"IF(ISNA(VLOOKUP(AP81,Objectifs!$M$1:$N$10,2,0)),\"\",VLOOKUP(AP81,Objectifs!$M$1:$N$10,2,0))","v":""},{"$f":"IF(ISNA(VLOOKUP(D81,Objectifs!$B$8:$D$15,2,0)),D81,VLOOKUP(D81,Objectifs!$B$8:$D$15,2,0))","v":""},null,null,null,null,null,null,"",null,null,null,{"$f":"Actions_FPC!B79","v":0}]
[null,79,{"$f":"Actions_FPC!A80","v":0},{"$f":"IF(ISNA(VLOOKUP(AP82,Objectifs!$M$1:$N$10,2,0)),\"\",VLOOKUP(AP82,Objectifs!$M$1:$N$10,2,0))","v":""},{"$f":"IF(ISNA(VLOOKUP(D82,Objectifs!$B$8:$D$15,2,0)),D82,VLOOKUP(D82,Objectifs!$B$8:$D$15,2,0))","v":""},null,null,null,null,null,null,"",null,null,null,{"$f":"Actions_FPC!B80","v":0}]
[null,80,{"$f":"Actions_FPC!A81","v":0},{"$f":"IF(ISNA(VLOOKUP(AP83,Objectifs!$M$1:$N$10,2,0)),\"\",VLOOKUP(AP83,Objectifs!$M$1:$N$10,2,0))","v":""},{"$f":"IF(ISNA(VLOOKUP(D83,Objectifs!$B$8:$D$15,2,0)),D83,VLOOKUP(D83,Objectifs!$B$8:$D$15,2,0))","v":""},null,null,null,null,null,null,"",null,null,null,{"$f":"Actions_FPC!B81","v":0}]

{"sheet":"Actions_FPC","index":11,"n_rows":1,"n_cols":6,"rows_kept":1,"cut":false,"hidden":true,"merged":[]}
["Nom","Statut","Personne responsable","Type","Confidentialité","Secteur"]

{"sheet":"UREBA VS CdM","index":12,"n_rows":107,"n_cols":3,"rows_kept":107,"cut":false,"hidden":true,"merged":[]}
[null,"Domaine d'intervention CdM","Traduction"]
["1000_Comptabilité énergétique","Action intégrée (tout ci-dessus)",{"$f":"VLOOKUP(B2,Categories!$B$84:$D$119,2,0)","v":"Integrated action (all above)"}]
["2000_Audit énergétique","Action intégrée (tout ci-dessus)",{"$f":"VLOOKUP(B3,Categories!$B$84:$D$119,2,0)","v":"Integrated action (all above)"}]
["2100_Audit chauffage","Efficacité énergétique dans le chauffage et l'eau chaude sanitaire",{"$f":"VLOOKUP(B4,Categories!$B$84:$D$119,2,0)","v":"Energy efficiency in space heating and hot water"}]
["2200_Audit éclairage","Efficacité énergétique des systèmes d'éclairage",{"$f":"VLOOKUP(B5,Categories!$B$84:$D$119,2,0)","v":"Energy efficient lighting systems"}]
["3000_Etude de préfaisabilité","Autre",{"$f":"VLOOKUP(B6,Categories!$B$84:$D$119,2,0)","v":"Other"}]
["3100_Etude chauffe-eau solaire","Energie renouvelable pour le chauffage et l'eau chaude sanitaire",{"$f":"VLOOKUP(B7,Categories!$B$84:$D$119,2,0)","v":"Renewable energy for space heating and hot water"}]
["3200_Etude cogénération","Cogénération fossile",{"$f":"VLOOKUP(B8,Categories!$B$84:$D$119,2,0)","v":"Combined Heat and Power"}]
["3300_Etude chaufferie bois","Energie renouvelable pour le chauffage et l'eau chaude sanitaire",{"$f":"VLOOKUP(B9,Categories!$B$84:$D$119,2,0)","v":"Renewable energy for space heating and hot water"}]
["3400_Etude de biométhanisation","Cogénération biomasse",{"$f":"VLOOKUP(B10,Categories!$B$84:$D$119,2,0)","v":"Biomass power plant"}]
["4100_Isolation de structures","Enveloppe bâtiment",{"$f":"VLOOKUP(B11,Categories!$B$84:$D$119,2,0)","v":"Building envelope"}]
["4110_Isolation de murs extérieurs","Enveloppe bâtiment",{"$f":"VLOOKUP(B12,Categories!$B$84:$D$119,2,0)","v":"Building envelope"}]
["4111_Isolation de murs extérieurs par L.M.","Enveloppe bâtiment",{"$f":"VLOOKUP(B13,Categories!$B$84:$D$119,2,0)","v":"Building envelope"}]
["4112_Isolation de murs extérieurs par PS","Enveloppe bâtiment",{"$f":"VLOOKUP(B14,Categories!$B$84:$D$119,2,0)","v":"Building envelope"}]
["4113_Isolation de murs extérieurs par PUR","Enveloppe bâtiment",{"$f":"VLOOKUP(B15,Categories!$B$84:$D$119,2,0)","v":"Building envelope"}]
["4114_Isolation de murs extérieurs par V.C.","Enveloppe bâtiment",{"$f":"VLOOKUP(B16,Categories!$B$84:$D$119,2,0)","v":"Building envelope"}]
["4115_Placement de réflecteurs au dos des radiateurs","Enveloppe bâtiment",{"$f":"VLOOKUP(B17,Categories!$B$84:$D$119,2,0)","v":"Building envelope"}]
["4116_Isolation de murs extérieurs par fibre de bois","Enveloppe bâtiment",{"$f":"VLOOKUP(B18,Categories!$B$84:$D$119,2,0)","v":"Building envelope"}]
["4120_Isolation de sols","Enveloppe bâtiment",{"$f":"VLOOKUP(B19,Categories!$B$84:$D$119,2,0)","v":"Building envelope"}]
["4121_Isolation de sols par L.M.","Enveloppe bâtiment",{"$f":"VLOOKUP(B20,Categories!$B$84:$D$119,2,0)","v":"Building envelope"}]
["4122_Isolation de sols par PS","Enveloppe bâtiment",{"$f":"VLOOKUP(B21,Categories!$B$84:$D$119,2,0)","v":"Building envelope"}]
["4123_Isolation de sols par PUR","Enveloppe bâtiment",{"$f":"VLOOKUP(B22,Categories!$B$84:$D$119,2,0)","v":"Building envelope"}]
["4124_Isolation de sols par V.C.","Enveloppe bâtiment",{"$f":"VLOOKUP(B23,Categories!$B$84:$D$119,2,0)","v":"Building envelope"}]
["4125_Isolation de sols par vermiculite","Enveloppe bâtiment",{"$f":"VLOOKUP(B24,Categories!$B$84:$D$119,2,0)","v":"Building envelope"}]
["4126_Isolation de sols par panneaux de liège","Enveloppe bâtiment",{"$f":"VLOOKUP(B25,Categories!$B$84:$D$119,2,0)","v":"Building envelope"}]
["4130_Isolation de planchers","Enveloppe bâtiment",{"$f":"VLOOKUP(B26,Categories!$B$84:$D$119,2,0)","v":"Building envelope"}]
["4131_Isolation de planchers par L.M.","Enveloppe bâtiment",{"$f":"VLOOKUP(B27,Categories!$B$84:$D$119,2,0)","v":"Building envelope"}]
["4132_Isolation de planchers par PS","Enveloppe bâtiment",{"$f":"VLOOKUP(B28,Categories!$B$84:$D$119,2,0)","v":"Building envelope"}]
["4133_Isolation de planchers par PUR","Enveloppe bâtiment",{"$f":"VLOOKUP(B29,Categories!$B$84:$D$119,2,0)","v":"Building envelope"}]
["4134_Isolation de planchers par V.C.","Enveloppe bâtiment",{"$f":"VLOOKUP(B30,Categories!$B$84:$D$119,2,0)","v":"Building envelope"}]
["4135_Isolation de planchers par fibre de bois","Enveloppe bâtiment",{"$f":"VLOOKUP(B31,Categories!$B$84:$D$119,2,0)","v":"Building envelope"}]
["4140_Isolation de toitures plates","Enveloppe bâtiment",{"$f":"VLOOKUP(B32,Categories!$B$84:$D$119,2,0)","v":"Building envelope"}]
["4141_Isolation de toitures plates par L.M.","Enveloppe bâtiment",{"$f":"VLOOKUP(B33,Categories!$B$84:$D$119,2,0)","v":"Building envelope"}]
["4142_Isolation de toitures plates par PS","Enveloppe bâtiment",{"$f":"VLOOKUP(B34,Categories!$B$84:$D$119,2,0)","v":"Building envelope"}]
["4143_isolation de toitures plates par PUR","Enveloppe bâtiment",{"$f":"VLOOKUP(B35,Categories!$B$84:$D$119,2,0)","v":"Building envelope"}]
["4144_Isolation de toitures plates par V.C.","Enveloppe bâtiment",{"$f":"VLOOKUP(B36,Categories!$B$84:$D$119,2,0)","v":"Building envelope"}]
["4145_Isolation de toitures plates par ouate de cellulose","Enveloppe bâtiment",{"$f":"VLOOKUP(B37,Categories!$B$84:$D$119,2,0)","v":"Building envelope"}]
["4150_Isolation de versants de toiture","Enveloppe bâtiment",{"$f":"VLOOKUP(B38,Categories!$B$84:$D$119,2,0)","v":"Building envelope"}]
["4151_Isolation de versants de toiture par L.M.","Enveloppe bâtiment",{"$f":"VLOOKUP(B39,Categories!$B$84:$D$119,2,0)","v":"Building envelope"}]
["4152_Isolation de versants de toiture par PS","Enveloppe bâtiment",{"$f":"VLOOKUP(B40,Categories!$B$84:$D$119,2,0)","v":"Building envelope"}]
["4153_Isolation de versants de toiture par PUR","Enveloppe bâtiment",{"$f":"VLOOKUP(B41,Categories!$B$84:$D$119,2,0)","v":"Building envelope"}]
["4154_Isolation de versants de toiture par V.C.","Enveloppe bâtiment",{"$f":"VLOOKUP(B42,Categories!$B$84:$D$119,2,0)","v":"Building envelope"}]
["4155_Isolation de versants de toiture par ouate de cellulose","Enveloppe bâtiment",{"$f":"VLOOKUP(B43,Categories!$B$84:$D$119,2,0)","v":"Building envelope"}]
["4156_Isolation de versants par mousse résolique (phénolique)","Enveloppe bâtiment",{"$f":"VLOOKUP(B44,Categories!$B$84:$D$119,2,0)","v":"Building envelope"}]
["4160_Placement de couvertures flottantes sur plan d'eau","Autre",{"$f":"VLOOKUP(B45,Categories!$B$84:$D$119,2,0)","v":"Other"}]
["4200_Châssis-Vitrages","Enveloppe bâtiment",{"$f":"VLOOKUP(B46,Categories!$B$84:$D$119,2,0)","v":"Building envelope"}]
["4210_Remplacement de châssis et vitrages","Enveloppe bâtiment",{"$f":"VLOOKUP(B47,Categories!$B$84:$D$119,2,0)","v":"Building envelope"}]
["4220_Remplacement de vitrages seuls","Enveloppe bâtiment",{"$f":"VLOOKUP(B48,Categories!$B$84:$D$119,2,0)","v":"Building envelope"}]
["4230_Placement de lanterneaux","Enveloppe bâtiment",{"$f":"VLOOKUP(B49,Categories!$B$84:$D$119,2,0)","v":"Building envelope"}]
["4240_Placement de stores occultants","Enveloppe bâtiment",{"$f":"VLOOKUP(B50,Categories!$B$84:$D$119,2,0)","v":"Building envelope"}]
["4250_Création d'un sas","Enveloppe bâtiment",{"$f":"VLOOKUP(B51,Categories!$B$84:$D$119,2,0)","v":"Building envelope"}]
["4260_Placement de portes sectionnelles","Enveloppe bâtiment",{"$f":"VLOOKUP(B52,Categories!$B$84:$D$119,2,0)","v":"Building envelope"}]
["4300_Faux-plafonds isolants","Enveloppe bâtiment",{"$f":"VLOOKUP(B53,Categories!$B$84:$D$119,2,0)","v":"Building envelope"}]
["4411_Chaudières fuel","Efficacité énergétique dans le chauffage et l'eau chaude sanitaire",{"$f":"VLOOKUP(B54,Categories!$B$84:$D$119,2,0)","v":"Energy efficiency in space heating and hot water"}]
["4412_Chaudières fuel à condensation ou avec récupérateur","Efficacité énergétique dans le chauffage et l'eau chaude sanitaire",{"$f":"VLOOKUP(B55,Categories!$B$84:$D$119,2,0)","v":"Energy efficiency in space heating and hot water"}]
["4413_Chaudières au Gaz","Efficacité énergétique dans le chauffage et l'eau chaude sanitaire",{"$f":"VLOOKUP(B56,Categories!$B$84:$D$119,2,0)","v":"Energy efficiency in space heating and hot water"}]
["4414_Chaudières au Gaz à condensation","Efficacité énergétique dans le chauffage et l'eau chaude sanitaire",{"$f":"VLOOKUP(B57,Categories!$B$84:$D$119,2,0)","v":"Energy efficiency in space heating and hot water"}]
["4415_Rénovation complète au fuel avec ECS","Efficacité énergétique dans le chauffage et l'eau chaude sanitaire",{"$f":"VLOOKUP(B58,Categories!$B$84:$D$119,2,0)","v":"Energy efficiency in space heating and hot water"}]
["4416_Rénovation complète au fuel avec échangeur et ECS","Efficacité énergétique dans le chauffage et l'eau chaude sanitaire",{"$f":"VLOOKUP(B59,Categories!$B$84:$D$119,2,0)","v":"Energy efficiency in space heating and hot water"}]
["4417_Rénovation complète au G.N. avec ECS","Efficacité énergétique dans le chauffage et l'eau chaude sanitaire",{"$f":"VLOOKUP(B60,Categories!$B$84:$D$119,2,0)","v":"Energy efficiency in space heating and hot water"}]
["4418_Rénovation complète au G.N. à condensation avec ECS","Efficacité énergétique dans le chauffage et l'eau chaude sanitaire",{"$f":"VLOOKUP(B61,Categories!$B$84:$D$119,2,0)","v":"Energy efficiency in space heating and hot water"}]
["4419_Placement de groupes de pulsion","Efficacité énergétique dans le chauffage et l'eau chaude sanitaire",{"$f":"VLOOKUP(B62,Categories!$B$84:$D$119,2,0)","v":"Energy efficiency in space heating and hot water"}]
["4421_Placement de préparateurs d'ECS à condensation","Efficacité énergétique dans le chauffage et l'eau chaude sanitaire",{"$f":"VLOOKUP(B63,Categories!$B$84:$D$119,2,0)","v":"Energy efficiency in space heating and hot water"}]
["4422_Récupérateurs d'énergie sur ECS","Efficacité énergétique dans le chauffage et l'eau chaude sanitaire",{"$f":"VLOOKUP(B64,Categories!$B$84:$D$119,2,0)","v":"Energy efficiency in space heating and hot water"}]
["4423_Placement de ventilo-convecteurs à eau chaude","Efficacité énergétique dans le chauffage et l'eau chaude sanitaire",{"$f":"VLOOKUP(B65,Categories!$B$84:$D$119,2,0)","v":"Energy efficiency in space heating and hot water"}]
["4424_Placement de convecteurs au gaz","Efficacité énergétique dans le chauffage et l'eau chaude sanitaire",{"$f":"VLOOKUP(B66,Categories!$B$84:$D$119,2,0)","v":"Energy efficiency in space heating and hot water"}]
["4430_Calorifugeage de tuyauteries","Efficacité énergétique dans le chauffage et l'eau chaude sanitaire",{"$f":"VLOOKUP(B67,Categories!$B$84:$D$119,2,0)","v":"Energy efficiency in space heating and hot water"}]
["4440_Placement de déstratificateur","Efficacité énergétique dans le chauffage et l'eau chaude sanitaire",{"$f":"VLOOKUP(B68,Categories!$B$84:$D$119,2,0)","v":"Energy efficiency in space heating and hot water"}]
["4450_Remplacement de brûleur","Efficacité énergétique dans le chauffage et l'eau chaude sanitaire",{"$f":"VLOOKUP(B69,Categories!$B$84:$D$119,2,0)","v":"Energy efficiency in space heating and hot water"}]
["4460_Placement de récupérateurs sur fumées","Efficacité énergétique dans le chauffage et l'eau chaude sanitaire",{"$f":"VLOOKUP(B70,Categories!$B$84:$D$119,2,0)","v":"Energy efficiency in space heating and hot water"}]
["4470_Machines frigorifiques à haute performance","Efficacité énergétique des équipements électriques",{"$f":"VLOOKUP(B71,Categories!$B$84:$D$119,2,0)","v":"Energy efficient electrical appliances"}]
["4500_Régulation","Efficacité énergétique dans le chauffage et l'eau chaude sanitaire",{"$f":"VLOOKUP(B72,Categories!$B$84:$D$119,2,0)","v":"Energy efficiency in space heating and hot water"}]
["4501_Placement d'une GTC (gestion technique centralisée)","Efficacité énergétique dans le chauffage et l'eau chaude sanitaire",{"$f":"VLOOKUP(B73,Categories!$B$84:$D$119,2,0)","v":"Energy efficiency in space heating and hot water"}]
["4510_Régulation de la production de chaleur","Efficacité énergétique dans le chauffage et l'eau chaude sanitaire",{"$f":"VLOOKUP(B74,Categories!$B$84:$D$119,2,0)","v":"Energy efficiency in space heating and hot water"}]
["4520_Régulation de la distribution de chaleur","Efficacité énergétique dans le chauffage et l'eau chaude sanitaire",{"$f":"VLOOKUP(B75,Categories!$B$84:$D$119,2,0)","v":"Energy efficiency in space heating and hot water"}]
["4521_Régulation de la distribution d'eau de chauffage","Efficacité énergétique dans le chauffage et l'eau chaude sanitaire",{"$f":"VLOOKUP(B76,Categories!$B$84:$D$119,2,0)","v":"Energy efficiency in space heating and hot water"}]
["4522_Placement de circulateurs à vitesse variable","Efficacité énergétique dans le chauffage et l'eau chaude sanitaire",{"$f":"VLOOKUP(B77,Categories!$B$84:$D$119,2,0)","v":"Energy efficiency in space heating and hot water"}]
["4523_Placement de vannes thermostatiques","Efficacité énergétique dans le chauffage et l'eau chaude sanitaire",{"$f":"VLOOKUP(B78,Categories!$B$84:$D$119,2,0)","v":"Energy efficiency in space heating and hot water"}]
["4524_Régulation de la distribution d'eau glacée","Efficacité énergétique dans le chauffage et l'eau chaude sanitaire",{"$f":"VLOOKUP(B79,Categories!$B$84:$D$119,2,0)","v":"Energy efficiency in space heating and hot water"}]
["4525_Placement de batteries de récupération","Efficacité énergétique dans le chauffage et l'eau chaude sanitaire",{"$f":"VLOOKUP(B80,Categories!$B$84:$D$119,2,0)","v":"Energy efficiency in space heating and hot water"}]
["4526_Placement d'une ventilation double flux (et/ou VMC)","Efficacité énergétique dans le chauffage et l'eau chaude sanitaire",{"$f":"VLOOKUP(B81,Categories!$B$84:$D$119,2,0)","v":"Energy efficiency in space heating and hot water"}]
["4527_Placement de groupes de pulsion avec récupérateur","Efficacité énergétique dans le chauffage et l'eau chaude sanitaire",{"$f":"VLOOKUP(B82,Categories!$B$84:$D$119,2,0)","v":"Energy efficiency in space heating and hot water"}]
["4528_Aérothermes au gaz à condensation","Efficacité énergétique dans le chauffage et l'eau chaude sanitaire",{"$f":"VLOOKUP(B83,Categories!$B$84:$D$119,2,0)","v":"Energy efficiency in space heating and hot water"}]
["4529_Aérothermes au gaz","Efficacité énergétique dans le chauffage et l'eau chaude sanitaire",{"$f":"VLOOKUP(B84,Categories!$B$84:$D$119,2,0)","v":"Energy efficiency in space heating and hot water"}]
["4530_Aérothermes au fuel","Efficacité énergétique dans le chauffage et l'eau chaude sanitaire",{"$f":"VLOOKUP(B85,Categories!$B$84:$D$119,2,0)","v":"Energy efficiency in space heating and hot water"}]
["4540_Tubes radiants au G.N.","Efficacité énergétique dans le chauffage et l'eau chaude sanitaire",{"$f":"VLOOKUP(B86,Categories!$B$84:$D$119,2,0)","v":"Energy efficiency in space heating and hot water"}]
["4610_Remplacement de luminaires","Efficacité énergétique des systèmes d'éclairage",{"$f":"VLOOKUP(B87,Categories!$B$84:$D$119,2,0)","v":"Energy efficient lighting systems"}]
["4620_Optimisation des installations d'éclairage","Efficacité énergétique des systèmes d'éclairage",{"$f":"VLOOKUP(B88,Categories!$B$84:$D$119,2,0)","v":"Energy efficient lighting systems"}]
["4710_Remplacement de transfos HT/BT","Changements de comportements",{"$f":"VLOOKUP(B89,Categories!$B$84:$D$119,2,0)","v":"Behavioural changes"}]
["4800_Placement d'une PAC","Efficacité énergétique dans le chauffage et l'eau chaude sanitaire",{"$f":"VLOOKUP(B90,Categories!$B$84:$D$119,2,0)","v":"Energy efficiency in space heating and hot water"}]
["4810_Placement d'une PAC sur pieux géothermiques","Energie renouvelable pour le chauffage et l'eau chaude sanitaire",{"$f":"VLOOKUP(B91,Categories!$B$84:$D$119,2,0)","v":"Renewable energy for space heating and hot water"}]
["4820_Placement d'une PAC sur panneaux solaires avec stockage","Energie renouvelable pour le chauffage et l'eau chaude sanitaire",{"$f":"VLOOKUP(B92,Categories!$B$84:$D$119,2,0)","v":"Renewable energy for space heating and hot water"}]
["4850_Système de récupération d'énergie avec PAC","Efficacité énergétique dans le chauffage et l'eau chaude sanitaire",{"$f":"VLOOKUP(B93,Categories!$B$84:$D$119,2,0)","v":"Energy efficiency in space heating and hot water"}]
["4900_Placement d'un réseau de chaleur","Efficacité énergétique dans le chauffage et l'eau chaude sanitaire",{"$f":"VLOOKUP(B94,Categories!$B$84:$D$119,2,0)","v":"Energy efficiency in space heating and hot water"}]
["5110_Placement d'une cogénération au G.N.","Cogénération fossile",{"$f":"VLOOKUP(B95,Categories!$B$84:$D$119,2,0)","v":"Combined Heat and Power"}]
["5120_Placement d'une cogénération par gazéification","Cogénération biomasse",{"$f":"VLOOKUP(B96,Categories!$B$84:$D$119,2,0)","v":"Biomass power plant"}]
["5130_Placement d'une cogénération à l'huile de colza","Cogénération biomasse",{"$f":"VLOOKUP(B97,Categories!$B$84:$D$119,2,0)","v":"Biomass power plant"}]
["5200_Placement d'une chaudière au bois","Energie renouvelable pour le chauffage et l'eau chaude sanitaire",{"$f":"VLOOKUP(B98,Categories!$B$84:$D$119,2,0)","v":"Renewable energy for space heating and hot water"}]
["5210_Placement de poëles à pellets","Energie renouvelable pour le chauffage et l'eau chaude sanitaire",{"$f":"VLOOKUP(B99,Categories!$B$84:$D$119,2,0)","v":"Renewable energy for space heating and hot water"}]
["5300_Placement d'un chauffe-eau solaire","Energie renouvelable pour le chauffage et l'eau chaude sanitaire",{"$f":"VLOOKUP(B100,Categories!$B$84:$D$119,2,0)","v":"Renewable energy for space heating and hot water"}]
["5400_Placement de panneaux photovoltaïques","Photovoltaïque",{"$f":"VLOOKUP(B101,Categories!$B$84:$D$119,2,0)","v":"Photovoltaics"}]
["5450_Placement d'une éolienne","Eolien",{"$f":"VLOOKUP(B102,Categories!$B$84:$D$119,2,0)","v":"Wind power"}]
["5500_Placement de sondes géothermiques","Energie renouvelable pour le chauffage et l'eau chaude sanitaire",{"$f":"VLOOKUP(B103,Categories!$B$84:$D$119,2,0)","v":"Renewable energy for space heating and hot water"}]
["6030_Régulation et traitement d'eau de piscine","Autre",{"$f":"VLOOKUP(B104,Categories!$B$84:$D$119,2,0)","v":"Other"}]
["6100_Réseau de chaleur","Efficacité énergétique dans le chauffage et l'eau chaude sanitaire",{"$f":"VLOOKUP(B105,Categories!$B$84:$D$119,2,0)","v":"Energy efficiency in space heating and hot water"}]
["6110_Réseau de chaleur sur unité de biométhanisation","Energie renouvelable pour le chauffage et l'eau chaude sanitaire",{"$f":"VLOOKUP(B106,Categories!$B$84:$D$119,2,0)","v":"Renewable energy for space heating and hot water"}]
["9013_Autres","Autre",{"$f":"VLOOKUP(B107,Categories!$B$84:$D$119,2,0)","v":"Other"}]

{"sheet":"Hypothèses & Méthodo","index":13,"n_rows":65,"n_cols":13,"rows_kept":65,"cut":false,"hidden":true,"merged":[[64,0,64,2],[4,0,4,6],[46,0,48,0],[46,1,48,1],[28,0,29,3],[40,0,40,3]]}
[]
[]
["Hypothèses et méthodologie"]
[]
["Les tableaux ci-desous reprennent les valeurs utilisées dans l'outil. Notez néanmoins que ce ne sont pas les cellules de la présente feuille qui utilisées par l'outil. Leur modification par vos soins n'aurait donc aucun impact sur les résultats produits par l'outil. "]
[]
["Facteurs d'émissions",null,null,"Pouvoir calorifique"]
["Vecteur","Facteur d'émission CO2 (t/MWh) ",null,"Vecteur","PCI (kWh/x)"]
["Lignite",0.36610920000000002,null,"Essence",9.0399999999999991,"/litre"]
["Gaz naturel (m³)",0.2026798378561297,null,"Diesel, Mazout",10.01,"litre"]
["Charbon",0.34307972553621952,null,"Propane, butane, LPG",8.3486111111111114,"/litre"]
["Essence",0.26135979091216727,null,"Electricité",1,"/kWh"]
["Diesel, Mazout",0.26819978544017159,null,"Gaz naturel (kWh PCS)",0.90500000000000003,"/kWh PCS"]
["Fuel lourd",0.27576000000000001,null,"Gaz naturel (m³)",8.3486111111111114,"/m³"]
["Propane, butane, LPG",0.23723981020815182,null,"Bois pellets",4700,"/tonne"]
["Gaz naturel (kWh PCS)",0.2026798378561297,null,"Bois copeaux",3500,"/tonne"]
["Kérosène",0.26140000000000002]
["Autres combustibles fossiles",0.26542368]
["Bois pellets",3.1319974944020043E-2]
["Bois copeaux",3.1319974944020043E-2]
["Bois",3.1319974944020043E-2]
["Biocarburants",1.5436799999999997E-3]
["Biogaz",2.1599982720013821E-3]
[]
[]
[null,2006,2007,2008,2010,2011,2012,2013,2014,2015,2016,2017,2018]
["Facteur national d'émissions de l'électricité (tCO2éq/MWh)",0.27900000000000003,0.27900000000000003,0.27900000000000003,0.27900000000000003,0.27900000000000003,0.27900000000000003,0.26200000000000001,0.26200000000000001,0.26200000000000001,0.26200000000000001,0.26200000000000001,0.26200000000000001]
[]
["Conformément aux exigences de la Convention des Maires, le facteur d'émissions relatif à la consommation locale d'électricité est calculé pour tenir compte de la production locale d'électricité. La formule suivante est appliquée:"]
[]
[]
[]
[]
[]
[]
[]
[]
[]
[]
[]
["Dans le cas exceptionnel où la commune est exportatrice nette d'électricité, la formule de calcul est la suivante:"]
[]
[]
[]
[]
[]
["Électricité produite localement                                                 (à l'exclusion des installations relevant du système d'échange de quotas  d'émission, et toutes les centrales/unités > 20 MW)","Facteurs d'émission équiv. CO2 [t/MWh]"]
[]
[]
["Énergie éolienne",7.0000000000000001E-3]
["Énergie hydro-électrique",2.4E-2]
["Installations photovoltaïques",0.03]
["Biogaz",{"$f":"0.0001548/0.277778","v":5.5727955417635654E-4}]
[]
["Degrés-jours 15-15"]
["Normale",2006,2007,2008,2010,2011,2012,2013,2014,2015,2016,2017]
[1913,1795,1578,1830,1820,1515,1913,2138,1424,1688,1947,1780]
[]
["Secteur","% normalisation"]
["Logement",0.7,"Variant"]
["Tertiaire",0.5,"Variant"]
[]
[]
[]
["Indicateurs de suivi prédéfinis"]

{"sheet":"Calcul obj relatif","index":14,"n_rows":274,"n_cols":5,"rows_kept":274,"cut":false,"hidden":true,"merged":[[9,0,9,4]]}
[null,2006,"2030 (PAEDC)"]
["Population (nb d'habitants)",{"$f":"'Inventaire Référence'!D5","v":0},{"$f":"VLOOKUP(Accueil!E23,'Calcul obj relatif'!A13:E274,5,0)","v":{"$error":"#N/A"}}]
["Emissions (tCO2)",{"$f":"'Inventaire Référence'!S103","v":0},{"$f":"C2*C4","v":{"$error":"#N/A"}},null,{"$error":"#DIV/0!"}]
["Emissions relatives (tCO2/hab)",{"$f":"B3/B2","v":{"$error":"#DIV/0!"}},{"$f":"B4*0.6","v":{"$error":"#DIV/0!"}}]
[null,"Objectif (tCO2)",{"$f":"B3-C3","v":{"$error":"#N/A"}}]
[null,"Objectif absolu (% par rapport à 2006)",{"$f":"C5/B3","v":{"$error":"#N/A"}}]
[null,"Objectif relatif (% par rapport à 2006)",{"$f":"(B4-C4)/B4","v":{"$error":"#DIV/0!"}}]
[null,"Choix",{"$error":"#DIV/0!"}]
[]
["Perspectives de population et des ménages en Wallonie  -  IWEPS (calibrées sur les Perspectives du Bureau fédéral du Plan de janvier 2019)"]
["Année 2030"]
["Nom Commune","Code INS Commune","Code INS Arrond.","Province","Population totale"]
["BEAUVECHAIN",25005,25,"BW",8218.6756053923673]
["BRAINE-L ALLEUD",25014,25,"BW",40208.114357459759]
["BRAINE-LE-CHATEAU",25015,25,"BW",11562.646686611024]
["CHAUMONT-GISTOUX",25018,25,"BW",11628.210550638363]
["COURT-SAINT-ETIENNE",25023,25,"BW",11376.056905068595]
["GENAPPE",25031,25,"BW",15608.481937378101]
["GREZ-DOICEAU",25037,25,"BW",14414.548447909296]
["INCOURT",25043,25,"BW",6614.9723798452678]
["ITTRE",25044,25,"BW",7603.5765366986798]
["JODOIGNE",25048,25,"BW",15211.455774767117]
["LA HULPE",25050,25,"BW",6867.0680331223202]
["MONT-SAINT-GUIBERT",25068,25,"BW",8871.35137965373]
["NIVELLES",25072,25,"BW",31586.603795002698]
["PERWEZ",25084,25,"BW",11792.612856191508]
["RIXENSART",25091,25,"BW",23405.755366424506]
["TUBIZE",25105,25,"BW",29188.000813884224]
["VILLERS-LA-VILLE",25107,25,"BW",11711.919678139353]
["WATERLOO",25110,25,"BW",31486.51122566991]
["WAVRE",25112,25,"BW",36153.426685382517]
["CHASTRE",25117,25,"BW",8349.6499752130057]
["HELECINE",25118,25,"BW",4096.2630502916727]
["LASNE",25119,25,"BW",13858.975528632065]
["ORP-JAUCHE",25120,25,"BW",9925.340502125784]
["OTTIGNIES-LOUVAIN-LA-NEUVE",25121,25,"BW",30307.942699924602]
["RAMILLIES",25122,25,"BW",7158.3991494643833]
["REBECQ",25123,25,"BW",11450.162014584139]
["WALHAIN",25124,25,"BW",8824.2780645250314]
["ATH",51004,51,"HAI",30816.49635421305]
["BELOEIL",51008,51,"HAI",14853.296237402121]
["BERNISSART",51009,51,"HAI",12040.389428570641]
["BRUGELETTE",51012,51,"HAI",3992.2093209085015]
["CHIEVRES",51014,51,"HAI",7112.6223203920053]
["ELLEZELLES",51017,51,"HAI",6252.949434548279]
["FLOBECQ",51019,51,"HAI",3370.8859012385155]
["FRASNES-LEZ-ANVAING",51065,51,"HAI",12265.751002726885]
["CHAPELLE-LEZ-HERLAIMONT",52010,52,"HAI",15482.409802980943]
["CHARLEROI",52011,52,"HAI",198609.41179676066]
["CHATELET",52012,52,"HAI",35487.71230483464]
["COURCELLES",52015,52,"HAI",33361.821984359223]
["FARCIENNES",52018,52,"HAI",11215.738781052434]
["FLEURUS",52021,52,"HAI",22878.035062554893]
["FONTAINE-L'EVEQUE",52022,52,"HAI",19122.195618352867]
["GERPINNES",52025,52,"HAI",13210.114993137093]
["MANAGE",52043,52,"HAI",23948.408903589348]
["MONTIGNY-LE-TILLEUL",52048,52,"HAI",10203.062192205218]
["PONT-A-CELLES",52055,52,"HAI",18359.568675487681]
["SENEFFE",52063,52,"HAI",11953.361422183971]
["AISEAU-PRESLES",52074,52,"HAI",10907.198841889642]
["LES BONS VILLERS",52075,52,"HAI",10187.959620611438]
["BOUSSU",53014,53,"HAI",20061.139821523211]
["DOUR",53020,53,"HAI",16103.378647610301]
["FRAMERIES",53028,53,"HAI",22581.274462906953]
["HENSIES",53039,53,"HAI",6802.9603022526162]
["JURBISE",53044,53,"HAI",10881.976193966982]
["LENS",53046,53,"HAI",5183.3043803000583]
["MONS",53053,53,"HAI",97924.292546244309]
["QUAREGNON",53065,53,"HAI",19669.603531081793]
["QUIEVRAIN",53068,53,"HAI",6766.3164998211105]
["SAINT-GHISLAIN",53070,53,"HAI",23964.644983184258]
["COLFONTAINE",53082,53,"HAI",21424.091904635745]
["HONNELLES",53083,53,"HAI",5112.304281810294]
["QUEVY",53084,53,"HAI",8458.9124446623791]
["MOUSCRON",54007,54,"HAI",60878.772564425599]
["COMINES-WARNETON",54010,54,"HAI",17469.027435574397]
["BRAINE-LE-COMTE",55004,55,"HAI",21933.152092247732]
["ENGHIEN",55010,55,"HAI",14865.994660374963]
["LA LOUVIERE",55022,55,"HAI",82885.375146247825]
["LESSINES",55023,55,"HAI",18605.856533510381]
["LE ROEULX",55035,55,"HAI",9666.5331629114298]
["SILLY",55039,55,"HAI",8728.8779018695495]
["SOIGNIES",55040,55,"HAI",29465.696037238966]
["ECAUSSINES",55050,55,"HAI",12325.714465599147]
["ANDERLUES",56001,56,"HAI",13245.398357408621]
["BEAUMONT",56005,56,"HAI",7398.2628203716331]
["BINCHE",56011,56,"HAI",35126.648164729108]
["CHIMAY",56016,56,"HAI",9847.3509507787003]
["ERQUELINNES",56022,56,"HAI",10454.015099733762]
["FROID-CHAPELLE",56029,56,"HAI",4071.8601439187319]
["LOBBES",56044,56,"HAI",6335.1040798953736]
["MERBES-LE-CHATEAU",56049,56,"HAI",4339.9247866778924]
["MOMIGNIES",56051,56,"HAI",5282.269877410039]
["THUIN",56078,56,"HAI",14618.848627510055]
["ESTINNES",56085,56,"HAI",7702.0195672505115]
["HAM-SUR-HEURE-NALINNES",56086,56,"HAI",13486.220840481556]
["MORLANWELZ",56087,56,"HAI",19257.808649213592]
["SIVRY-RANCE",56088,56,"HAI",4668.068034620429]
["ANTOING",57003,57,"HAI",7954.9319119194533]
["CELLES",57018,57,"HAI",5934.859441649397]
["ESTAIMPUIS",57027,57,"HAI",11507.781156332328]
["PECQ",57062,57,"HAI",5583.324611576807]
["PERUWELZ",57064,57,"HAI",16619.57378464712]
["RUMES",57072,57,"HAI",5016.4526562484461]
["TOURNAI",57081,57,"HAI",69256.600594397809]
["BRUNEHAUT",57093,57,"HAI",8477.2201042802426]
["LEUZE-EN-HAINAUT",57094,57,"HAI",14788.530685673637]
["MONT-DE-L ENCLUS",57095,57,"HAI",4209.1250532747772]
["AMAY",61003,61,"LIE",15144.948423369429]
["BURDINNE",61010,61,"LIE",3928.0139406343283]
["CLAVIER",61012,61,"LIE",4946.9183600357328]
["FERRIERES",61019,61,"LIE",5281.8917322835405]
["HAMOIR",61024,61,"LIE",3880.6401183287835]
["HERON",61028,61,"LIE",5801.4339742079474]
["HUY",61031,61,"LIE",21037.300239567699]
["MARCHIN",61039,61,"LIE",5648.4685890346191]
["MODAVE",61041,61,"LIE",4493.1869684292387]
["NANDRIN",61043,61,"LIE",5837.0498790366182]
["OUFFET",61048,61,"LIE",2850.3944226454901]
["VERLAINE",61063,61,"LIE",4639.8636990781633]
["VILLERS-LE-BOUILLET",61068,61,"LIE",6675.5604955506451]
["WANZE",61072,61,"LIE",13851.487113608771]
["ANTHISNES",61079,61,"LIE",4400.9882518324775]
["ENGIS",61080,61,"LIE",6929.974042370488]
["TINLOT",61081,61,"LIE",3080.8797499860211]
["ANS",62003,62,"LIE",28541.18966207355]
["AWANS",62006,62,"LIE",10013.405365541101]
["AYWAILLE",62009,62,"LIE",13645.947764049572]
["BASSENGE",62011,62,"LIE",9203.8344771068623]
["BEYNE-HEUSAY",62015,62,"LIE",11947.214159955656]
["CHAUDFONTAINE",62022,62,"LIE",20695.902151569353]
["COMBLAIN-AU-PONT",62026,62,"LIE",5558.8431648749038]
["DALHEM",62027,62,"LIE",8244.7757492336332]
["ESNEUX",62032,62,"LIE",11915.737846814782]
["FLERON",62038,62,"LIE",16536.141552085461]
["HERSTAL",62051,62,"LIE",42465.22650460968]
["JUPRELLE",62060,62,"LIE",9740.7743441718721]
["LIEGE",62063,62,"LIE",199939.02874886556]
["OUPEYE",62079,62,"LIE",27160.42069728053]
["SAINT-NICOLAS",62093,62,"LIE",25836.696326608911]
["SERAING",62096,62,"LIE",65527.549223521077]
["SOUMAGNE",62099,62,"LIE",17888.591450248914]
["SPRIMONT",62100,62,"LIE",15903.563867598814]
["VISE",62108,62,"LIE",18455.064865693461]
["GRACE-HOLLOGNE",62118,62,"LIE",24136.575847923359]
["BLEGNY",62119,62,"LIE",13559.507582083888]
["FLEMALLE",62120,62,"LIE",27262.620374904727]
["NEUPRE",62121,62,"LIE",10356.635272067428]
["TROOZ",62122,62,"LIE",8192.7530011169074]
["AMBLEVE",63001,63,"LIE",5385.3114932471244]
["AUBEL",63003,63,"LIE",4302.7440152002109]
["BAELEN",63004,63,"LIE",4825.2449043443794]
["BULLANGE",63012,63,"LIE",5261.0901245413725]
["BUTGENBACH",63013,63,"LIE",5241.8380832512184]
["DISON",63020,63,"LIE",16710.744531978602]
["EUPEN",63023,63,"LIE",20478.570698416359]
["HERVE",63035,63,"LIE",18300.511218198306]
["JALHAY",63038,63,"LIE",8817.2640432237713]
["LA CALAMINE",63040,63,"LIE",11296.785716167606]
["LIERNEUX",63045,63,"LIE",3880.397990847734]
["LIMBOURG",63046,63,"LIE",6290.9213360105605]
["LONTZEN",63048,63,"LIE",5810.2923698835993]
["MALMEDY",63049,63,"LIE",13401.504657112453]
["OLNE",63057,63,"LIE",4724.281672678906]
["PEPINSTER",63058,63,"LIE",9825.5804360832808]
["RAEREN",63061,63,"LIE",10879.431739394689]
["SAINT-VITH",63067,63,"LIE",9974.1944279056261]
["SPA",63072,63,"LIE",10140.270636314997]
["STAVELOT",63073,63,"LIE",7324.8316787929507]
["STOUMONT",63075,63,"LIE",3106.1583483173072]
["THEUX",63076,63,"LIE",11793.063642439078]
["VERVIERS",63079,63,"LIE",53818.365391789543]
["WAIMES",63080,63,"LIE",7906.5086066303102]
["WELKENRAEDT",63084,63,"LIE",10074.350137637874]
["TROIS-PONTS",63086,63,"LIE",2771.5223097114872]
["BURG-REULAND",63087,63,"LIE",3731.6853471924082]
["PLOMBIERES",63088,63,"LIE",11486.37102117902]
["THIMISTER-CLERMONT",63089,63,"LIE",5985.9634215092356]
["BERLOZ",64008,64,"LIE",3227.0723707487823]
["BRAIVES",64015,64,"LIE",7106.8685980361388]
["CRISNEE",64021,64,"LIE",4080.3219748633469]
["DONCEEL",64023,64,"LIE",3270.7474758237086]
["FEXHE-LE-HAUT-CLOCHER",64025,64,"LIE",3174.9824461209078]
["GEER",64029,64,"LIE",4016.1578234470344]
["HANNUT",64034,64,"LIE",18072.410173952838]
["LINCENT",64047,64,"LIE",3383.3629716138103]
["OREYE",64056,64,"LIE",4511.8474927269945]
["REMICOURT",64063,64,"LIE",6267.9110280277246]
["SAINT-GEORGES-SUR-MEUSE",64065,64,"LIE",7354.6332585610016]
["WAREMME",64074,64,"LIE",16265.291633216788]
["WASSEIGES",64075,64,"LIE",3550.2189678426635]
["FAIMES",64076,64,"LIE",4353.1737850182635]
["ARLON",81001,81,"LUX",30859.39280457914]
["ATTERT",81003,81,"LUX",6158.2099407927226]
["AUBANGE",81004,81,"LUX",17653.569092931219]
["MARTELANGE",81013,81,"LUX",1925.5602806560535]
["MESSANCY",81015,81,"LUX",7810.0678810408663]
["BASTOGNE",82003,82,"LUX",17292.679992547295]
["BERTOGNE",82005,82,"LUX",4358.0007902473526]
["FAUVILLERS",82009,82,"LUX",2370.6482954505454]
["HOUFFALIZE",82014,82,"LUX",5443.3364808434571]
["VIELSALM",82032,82,"LUX",8251.17579528848]
["VAUX-SUR-SURE",82036,82,"LUX",6656.0881299524772]
["GOUVY",82037,82,"LUX",5611.2091085654411]
["SAINTE-ODE",82038,82,"LUX",2767.4614071049477]
["DURBUY",83012,83,"LUX",11523.883146636224]
["EREZEE",83013,83,"LUX",3331.9428802000939]
["HOTTON",83028,83,"LUX",5591.2114853687717]
["LA-ROCHE-EN-ARDENNE",83031,83,"LUX",4228.6744194906332]
["MARCHE-EN-FAMENNE",83034,83,"LUX",17039.610011688794]
["NASSOGNE",83040,83,"LUX",5579.2258977286174]
["RENDEUX",83044,83,"LUX",2702.8090550279276]
["TENNEVILLE",83049,83,"LUX",2943.3236037297984]
["MANHAY",83055,83,"LUX",4101.5195001291404]
["BERTRIX",84009,84,"LUX",9176.3310461784768]
["BOUILLON",84010,84,"LUX",5109.6033028883512]
["DAVERDISSE",84016,84,"LUX",1342.5436159724593]
["HERBEUMONT",84029,84,"LUX",1823.4367648805448]
["LEGLISE",84033,84,"LUX",6703.1545255211622]
["LIBIN",84035,84,"LUX",5744.5925396960174]
["NEUFCHATEAU",84043,84,"LUX",8539.8249774297637]
["PALISEUL",84050,84,"LUX",5576.4326614730062]
["SAINT-HUBERT",84059,84,"LUX",5301.6843595809023]
["TELLIN",84068,84,"LUX",2428.2952867225827]
["WELLIN",84075,84,"LUX",3215.9401313547232]
["LIBRAMONT-CHEVIGNY",84077,84,"LUX",11775.36078830201]
["CHINY",85007,85,"LUX",5157.4958080782826]
["ETALLE",85009,85,"LUX",6207.2181193337774]
["FLORENVILLE",85011,85,"LUX",5886.3501695105888]
["MEIX-DEVANT-VIRTON",85024,85,"LUX",2912.1970678797425]
["MUSSON",85026,85,"LUX",4518.0377741682123]
["SAINT-LEGER",85034,85,"LUX",4049.0990940664137]
["TINTIGNY",85039,85,"LUX",5078.5322885708865]
["VIRTON",85045,85,"LUX",10687.479747250291]
["HABAY",85046,85,"LUX",8690.7782518789936]
["ROUVROY",85047,85,"LUX",2147.8116792628098]
["ANHEE",91005,91,"NAM",7141.1896017822555]
["BEAURAING",91013,91,"NAM",9787.795282838737]
["BIEVRE",91015,91,"NAM",3586.8673880555712]
["CINEY",91030,91,"NAM",17834.768267789685]
["DINANT",91034,91,"NAM",12934.253503619639]
["GEDINNE",91054,91,"NAM",4703.8989651131315]
["HAMOIS",91059,91,"NAM",7918.2406972523058]
["HAVELANGE",91064,91,"NAM",5369.6354207401291]
["HOUYET",91072,91,"NAM",5385.8941783383561]
["ONHAYE",91103,91,"NAM",3323.3378285914459]
["ROCHEFORT",91114,91,"NAM",12598.554167920702]
["SOMME-LEUZE",91120,91,"NAM",6744.5313204816784]
["YVOIR",91141,91,"NAM",9648.5919228690436]
["HASTIERE",91142,91,"NAM",6161.5703941195115]
["VRESSE-SUR-SEMOIS",91143,91,"NAM",2498.4710604878069]
["ANDENNE",92003,92,"NAM",30585.64902958741]
["ASSESSE",92006,92,"NAM",7313.3261276801904]
["EGHEZEE",92035,92,"NAM",18175.821114389779]
["FLOREFFE",92045,92,"NAM",8674.8262386763763]
["FOSSES-LA-VILLE",92048,92,"NAM",11230.114175056495]
["GESVES",92054,92,"NAM",7589.4395138960981]
["METTET",92087,92,"NAM",13315.164986935952]
["NAMUR",92094,92,"NAM",110978.32389588714]
["OHEY",92097,92,"NAM",5620.4950675582159]
["PROFONDEVILLE",92101,92,"NAM",13143.253109440526]
["SOMBREFFE",92114,92,"NAM",9106.2010158362227]
["SAMBREVILLE",92137,92,"NAM",29934.699390521568]
["FERNELMONT",92138,92,"NAM",9321.5831844104505]
["JEMEPPE-SUR-SAMBRE",92140,92,"NAM",19935.495277227456]
["LA BRUYERE",92141,92,"NAM",9707.3712329140944]
["GEMBLOUX",92142,92,"NAM",29477.436639982032]
["CERFONTAINE",93010,93,"NAM",5007.4507574610234]
["COUVIN",93014,93,"NAM",13005.006124281113]
["DOISCHE",93018,93,"NAM",3067.0726416236025]
["FLORENNES",93022,93,"NAM",11750.231196312809]
["PHILIPPEVILLE",93056,93,"NAM",9270.3160560920096]
["WALCOURT",93088,93,"NAM",18126.985379243008]
["VIROINVAL",93090,93,"NAM",5509.1378449864314]

{"sheet":"Hypothèses","index":15,"n_rows":34,"n_cols":27,"rows_kept":34,"cut":false,"hidden":true,"merged":[[27,0,29,0],[27,1,29,1]]}
[null,"Facteur d'émission CO2 (t/MWh) "]
["Lignite",0.36610920000000002,null,null,null,null,null,null,null,null,"Industrie non-ETS"]
["Gaz naturel (m³)",0.2026798378561297,null,null,null,null,null,null,null,null,"Tertiaire"]
["Charbon",0.34307972553621952,null,null,null,null,null,null,null,null,"Administration communale"]
["Essence",0.26135979091216727,null,null,"PCI (kJ/l)","PCI (kWh/l)",null,null,null,null,"Eclairage public"]
["Diesel, Mazout",0.26819978544017159,null,"Essence",35475,9.0399999999999991,"litres",null,null,null,"Logement"]
["Fuel lourd",0.27576000000000001,null,"Diesel, Mazout",38080,10.01,"litres",null,null,null,"Agriculture"]
["Propane, butane, LPG",0.23723981020815182,null,"Propane, butane, LPG",30055,{"$f":"E8/(0.0036*1000000)","v":8.3486111111111114},"litres",null,null,null,"Transport"]
["Gaz naturel (kWh PCS)",0.2026798378561297,null,"Electricité",null,1,"kWh",null,null,null,"Véhicules communaux"]
[null,null,null,"Gaz naturel (kWh PCS)",null,0.90500000000000003,"kWh"]
["Kérosène",0.26140000000000002,null,"Gaz naturel (m³)",null,{"$f":"F8","v":8.3486111111111114},"m³"]
["Autres combustibles fossiles",0.26542368,null,"Bois pellets",null,{"$f":"4700","v":4700},"tonnes"]
["Bois pellets",3.1319974944020043E-2,null,"Bois copeaux",null,3500,"tonnes"]
["Bois copeaux",3.1319974944020043E-2]
["Bois",3.1319974944020043E-2]
["Biocarburants",{"$f":"((10*25)+(0.6*298))*3.6/1000000","v":1.5436799999999997E-3}]
["Biogaz",2.1599982720013821E-3]
[]
[null,2006,2007,2008,2010,2011,2012,2013,2014,2015,2016,2017,2018,2019,2020]
["Facteur national d'émissions de l'électricité",0.27900000000000003,0.27900000000000003,0.27900000000000003,0.27900000000000003,0.27900000000000003,0.27900000000000003,0.26200000000000001,0.26200000000000001,0.26200000000000001,0.26200000000000001,0.26200000000000001,0.26200000000000001,0.26200000000000001,0.26200000000000001]
[]
["DJ 15/15"]
["Moyenne",1990,1995,2000,2005,2006,2007,2008,2010,2011,2012,2013,2014,2015,2016,2017,2018,2019,2020,2021,2022,2023,2024,2025,2026,2027,2028]
[1913,1723,1922,1713.8,1828.6000000000001,1795,1578,1830,1820,1515,1913,2138,1424,1688,1947,1780,1424,null,null,null,null,null,null,null,null,null,1715]
["Logement",{"$f":"(1-$E$29+$E$29/B24*$A$24)","v":1.077190946024376},{"$f":"(1-$E$29+$E$29/C24*$A$24)","v":0.99672216441207084},{"$f":"(1-$E$29+$E$29/D24*$A$24)","v":1.0813630528649785},{"$f":"(1-$E$29+$E$29/E24*$A$24)","v":1.0323088701739034},{"$f":"(1-$E$29+$E$29/F24*$A$24)","v":1.046016713091922},{"$f":"(1-$E$29+$E$29/G24*$A$24)","v":1.1486058301647655},1.0317486338797814,1.0357692307692308,1.183894389438944,1,0.92633302151543495,1.2403792134831459,1.0933056872037916,0.98777606574216736,1.0523033707865168,1.2403792134831459,{"$error":"#DIV/0!"},{"$error":"#DIV/0!"},{"$error":"#DIV/0!"},{"$error":"#DIV/0!"},{"$error":"#DIV/0!"},{"$error":"#DIV/0!"},{"$error":"#DIV/0!"},{"$error":"#DIV/0!"},{"$error":"#DIV/0!"},1.0808163265306123]
["Tertiaire",{"$f":"(1-$E$30+$E$30/B24*$A$24)","v":1.0551363900174113},{"$f":"(1-$E$30+$E$30/C24*$A$24)","v":0.99765868886576481},{"$f":"(1-$E$30+$E$30/D24*$A$24)","v":1.0581164663321276},{"$f":"(1-$E$30+$E$30/E24*$A$24)","v":1.0230777644099311},{"$f":"(1-$E$30+$E$30/F24*$A$24)","v":1.0328690807799443},{"$f":"(1-$E$30+$E$30/G24*$A$24)","v":1.1061470215462612},1.0226775956284153,1.0255494505494505,1.1313531353135313,1,0.94738072965388209,1.1716994382022472,1.0666469194312795,0.99126861838726255,1.0373595505617978,1.1716994382022472,{"$error":"#DIV/0!"},{"$error":"#DIV/0!"},{"$error":"#DIV/0!"},{"$error":"#DIV/0!"},{"$error":"#DIV/0!"},{"$error":"#DIV/0!"},{"$error":"#DIV/0!"},{"$error":"#DIV/0!"},{"$error":"#DIV/0!"},1.0577259475218659]
[]
["Électricité produite localement                                                 (à l'exclusion des installations relevant du système d'échange de quotas  d'émission, et toutes les centrales/unités > 20 MW)","Facteurs d'émission équiv. CO2 [t/MWh]",null,"Secteur","% normalisation"]
[null,null,null,"Logement",0.7]
[null,null,null,"Tertiaire",0.5]
["Énergie éolienne",7.0000000000000001E-3]
["Énergie hydro-électrique",2.4E-2]
["Installations photovoltaïques",0.03]
["Biogaz",{"$f":"0.0001548/0.277778","v":5.5727955417635654E-4}]

{"sheet":"Categories","index":16,"n_rows":119,"n_cols":31,"rows_kept":119,"cut":false,"hidden":true,"merged":[[0,0,0,15],[39,6,40,6],[41,6,42,6],[43,6,44,6]]}
["Categories"]
[]
[]
["A","AREA OF INTERVENTION",null,null,null,null,null,"B","POLICY INSTRUMENT",null,null,null,null,null,null,"C","Origin of the action",null,"BoE",null,null,null,null,"Sector","Sect",null,null,null,null,null,"Investisseur"]
[null,null,null,null,null,null,null,null,null,null,null,null,null,null,null,null,null,null,"ê",null,null,null,null,"MUNICIPAL BUILDINGS, EQUIPMENT/FACILITIES","Administration communale","Administration communale","EE","Autres non-énergétiques",null,null,"Agriculteurs"]
["A1","Municipal - Residential - Tertiary Buildings",null,null,null,null,null,"B1","Buildings",null,null,null,null,null,null,"C1","Local authority","Commune","Autorité locale",null,null,null,null,"TERTIARY BUILDINGS, EQUIPMENT/FACILITIES","Tertiaire","Tertiaire","EE",null,null,null,"Citoyens"]
["A11","Building envelope","Enveloppe bâtiment",null,null,null,null,"B11","Awareness raising / training","Sensibilisation/information",null,null,null,null,null,"C2","Covenant Territorial Coordiantor","Structure supra-locale POLLEC",null,null,null,null,null,"RESIDENTIAL BUILDINGS","Logement","Logement","EE",null,null,null,"Commune"]
["A12","Renewable energy for space heating and hot water","Energie renouvelable pour le chauffage et l'eau chaude sanitaire",null,null,null,null,"B12","Energy management","Gestion de l'énergie",null,null,null,null,null,"C3","Other (national, regional,…)","Autre ",null,null,null,null,null,"PUBLIC LIGHTING","Eclairage public","Eclairage public","EE",null,null,null,"Commune & Citoyens"]
["A13","Energy efficiency in space heating and hot water","Efficacité énergétique dans le chauffage et l'eau chaude sanitaire",null,null,null,null,"B13","Energy certification / labelling ","Certification / Labélisation",null,null,null,null,null,"C4","Not possible to say","Impossible à déterminer",null,null,null,null,null,"INDUSTRY","Industrie","Industrie non-ETS","EE",null,null,null,"Commune & entreprise extérieure"]
["A14","Energy efficient lighting systems","Efficacité énergétique des systèmes d'éclairage",null,null,null,null,"B14","Energy suppliers obligations","Obligations de services publics",null,null,null,null,null,null,null,null,null,null,null,null,null,"TRANSPORT","Transport","Transport","EE",null,null,null,"Commune & entreprise locale"]
["A15","Energy efficient electrical appliances","Efficacité énergétique des équipements électriques",null,null,null,null,"B15","Energy / carbon taxes","Taxe carbone",null,null,null,null,null,null,"Commune","Local authority",null,null,null,null,null,"LOCAL ELECTRICITY PRODUCTION","Production renouvelable","Production d'électricité","SER",null,null,null,"Commune, citoyens & entreprise"]
["A16","Integrated action (all above)","Action intégrée (tout ci-dessus)",null,null,null,null,"B16","Grants and subsidies","Primes et subventions",null,null,null,null,null,null,"Structure supra-locale POLLEC","Covenant Territorial Coordiantor",null,null,null,null,null,"LOCAL HEAT/COLD PRODUCTION","Production renouvelable","Production de chaleur","SER",null,null,null,"Entreprises extérieures"]
["A17","Information and Communication Technologies","Technologies de l'Information et de la Communication",null,null,null,null,"B17","Third party financing. PPP","Tiers financement, partenariat public-privé",null,null,null,null,null,null,"Autre ","Other (national, regional,…)",null,null,null,null,null,"OTHERS","Agriculture","Agriculture","EE",null,null,null,"Entreprises locales"]
["A18","Behavioural changes","Changements de comportements",null,null,null,null,"B18","Public procurement","Marchés publics",null,null,null,null,null,null,"Impossible à déterminer","Not possible to say",null,null,null,null,null,"TRANSPORT","Véhicules communaux","Véhicules communaux","EE",null,null,null,"Intercommunale"]
["A19","Other","Autre",null,null,null,null,"B19","Building standards","Normes de construction",null,null,null,null,null,null,null,null,null,null,null,null,null,"OTHERS",null,"Cogénération","SER",null,null,null,"Province "]
[null,null,null,null,null,null,null,"B110","Land use planning regulation","Planification de l'aménagement du territoire",null,null,null,null,null,null,null,null,null,null,null,null,null,null,null,"Tous",null,null,null,null,"Autre"]
[null,null,null,null,null,null,null,"B111","Not applicable","Pas applicable ",null,null,null,null,null,null,null,null,null,null,null,null,null,null,null,{"$f":"#REF!","v":{"$error":"#REF!"}}]
[null,null,null,null,null,null,null,"B112","Other","Autre",null,null,null,null,null,null,null,null,null,null,null,null,null,null,null,{"$f":"#REF!","v":{"$error":"#REF!"}}]
[null,null,null,null,null,null,null,null,null,null,null,null,null,null,null,null,null,null,null,null,null,null,null,null,null,{"$f":"#REF!","v":{"$error":"#REF!"}}]
["A2","Public Lighting",null,null,null,null,null,"B2","Public Lighting",null,null,null,null,null,null,null,null,null,null,null,null,null,null,"Eolien","Production d'électricité"]
["A21","Energy efficiency ","Efficacité énergétique",null,null,null,null,"B21","Energy management","Gestion énergétique",null,null,null,null,null,null,null,null,null,null,null,null,null,"Solaire PV","Production d'électricité"]
["A23","Integrated renewable power","Production renouvelable intégrée",null,null,null,null,"B22","Energy suppliers obligations","Obligations de services publics",null,null,null,null,null,null,null,null,null,null,null,null,null,"Solaire thermique","Production de chaleur"]
["A24","Information and Communication Technologies","Technologies de l'Information et de la Communication",null,null,null,null,"B23","Third party financing. PPP","Tiers financement, partenariat public-privé",null,null,null,null,null,null,null,null,null,null,null,null,null,"Biométhanisation","Cogénération"]
["A25","Other","Autre",null,null,null,null,"B24","Public procurement","Marchés publics",null,null,null,null,null,null,null,null,null,null,null,null,null,"Hydroénergie","Production d'électricité"]
[null,null,null,null,null,null,null,"B25","Not applicable","Pas applicable ",null,null,null,null,null,null,null,null,null,null,null,null,null,"Bois énergie","Production de chaleur"]
[null,null,null,null,null,null,null,"B26","Other","Autre"]
[]
["A3","Industry ",null,null,null,null,null,"B3","Industry",null,null,null,null,null,null,null,null,null,null,null,null,null,null,"  National Funds & Programmes"]
["A31","     Energy efficiency in industrial processes","Eficacité énergétique de procédés industriels",null,null,null,null,"B31","Awareness raising / training","Sensibilisation/information",null,null,null,null,null,null,null,null,null,null,null,null,null,"  EU Funds & Programmes"]
["A32","     Energy efficiency in buildings","Efficacité énergétique des bâtiments",null,null,null,null,"B32","Energy management","Gestion de l'énergie"]
["A33","     Renewable energy ","Energies renouvelables",null,null,null,null,"B33","Energy certification / labelling ","Certification / Labélisation"]
["A34","     Information and Communication Technologies","Technologies de l'Information et de la Communication",null,null,null,null,"B34","Energy performance standards","Normes de performances énergétiques"]
["A35","     Other","Autre",null,null,null,null,"B35","Energy / carbon taxes","Taxe carbone"]
[null,null,null,null,null,null,null,"B36","Grants and subsidies","Primes et subventions"]
[null,null,null,null,null,null,null,"B37","Third party financing. PPP","Tiers financement, partenariat public-privé"]
[null,null,null,null,null,null,null,"B38","Not applicable","Pas applicable "]
[null,null,null,null,null,null,null,"B39","Other","Autre"]
[]
["A4","Municipal - Public - Private Transport",null,null,null,null,null,"B4","Transport"]
["A41","Cleaner/efficient vehicles","Véhicules plus efficients/propres",null,null,null,null,"B41","Awareness raising/training","Sensibilisation/information"]
["A42","Electric vehicles (incl. infrastructure)","Véhicules électriques (incl. Infractructures)",null,null,null,null,"B42","Integrated ticketing and charging","Ticketing et facturation intégrés"]
["A43","Modal shift to public transport","Transfert modal vers les transports en commun",null,null,null,null,"B43","Grants and subsidies","Primes et subventions"]
["A44","Modal shift to walking & cycling ","Transfert modal vers la mobilité douce",null,null,null,null,"B44","Road pricing","Payage routier"]
["A45","Car sharing/pooling","Covoiturage",null,null,null,null,"B45","Land use planning regulation","Planification de l'aménagement du territoire"]
["A46","Improvement of logistics and urban freight transport","Rationalisation du transport de biens",null,null,null,null,"B46","Transport / mobility planning regulation","Planification de la mobilité"]
["A47","Road network optimisation","Optimisation du réseau routier",null,null,null,null,"B47","Public procurement","Marchés publics"]
["A48","Mixed use development and sprawl containment","Multimodalité et limitation de l'étalement",null,null,null,null,"B48","Voluntary agreements with stakeholders","Accords avec parties-prenantes"]
["A49","Information and Communication Technologies","Technologies de l'Information et de la Communication",null,null,null,null,"B49","Not applicable","Pas applicable"]
["A410","Eco-driving","Eco-conduite",null,null,null,null,"B410","Other","Autre"]
["A411","Other","Autre"]
[]
["A5","Local Electricity Production",null,null,null,null,null,"B5","Local Electricity Production"]
["A51","Hydroelectric power","Hydroénergie",null,null,null,null,"B51","Awareness raising / training","Sensibilisation/information"]
["A52","Wind power","Eolien",null,null,null,null,"B52","Energy suppliers obligations ","Obligations de services publics"]
["A53","Photovoltaics","Photovoltaïque",null,null,null,null,"B53","Grants and subsidies","Primes et subventions"]
["A54","Biomass power plant","Cogénération biomasse",null,null,null,null,"B54","Third party financing. PPP","Tiers financement, partenariat public-privé"]
["A55","Combined Heat and Power","Cogénération fossile",null,null,null,null,"B55","Public procurement","Marchés publics"]
["A56","Smart grids","Réseaux intelligents",null,null,null,null,"B56","Building standards","Normes de construction"]
["A57","Other","Autre",null,null,null,null,"B57","Land use planning","Planification de l'aménagement du territoire"]
[null,null,null,null,null,null,null,"B58","Not applicable","Pas applicable "]
[null,null,null,null,null,null,null,"B59","Other","Autre"]
[]
[]
["A6","Local heat/cold Production",null,null,null,null,null,"B6","Local heat/cold Production"]
["A61","Combined Heat and Power","Cogénération",null,null,null,null,"B61","Awareness raising / training","Sensibilisation/information"]
["A62","District heating/cooling plant","Réseau de chaleur",null,null,null,null,"B62","Energy suppliers obligations ","Obligations de services publics"]
["A63","District heating/cooling network (new, expansion, refurbishment)","Réseau de chaleur",null,null,null,null,"B63","Grants and subsidies","Primes et subventions"]
["A64","Other","Autre",null,null,null,null,"B64","Third party financing. PPP","Tiers financement, partenariat public-privé"]
[null,null,null,null,null,null,null,"B65","Building standards","Normes de construction"]
[null,null,null,null,null,null,null,"B66","Land use planning regulation","Aménagement du territoire"]
[null,null,null,null,null,null,null,"B67","Not applicable","Pas applicable "]
[null,null,null,null,null,null,null,"B68","Other","Autre"]
[]
["A7","Other",null,null,null,null,null,"B7","Other"]
["A71","Urban regeneration","Regénération urbaine ",null,null,null,null,"B71","Awareness raising / training","Sensibilisation/information"]
["A72","Waste & wastewater management","Gestion des déchets et eaux usées",null,null,null,null,"B72","Land use planning","Planification de l'aménagement du territoire"]
["A73","Tree planting in urban areas","Développement d'espaces verts",null,null,null,null,"B73","Not applicable","Pas applicable "]
["A74","Agriculture and forestry related","Agriculture et foresterie",null,null,null,null,"B74","Other","Autre"]
["A75","Other","Autre"]
[]
[]
[]
[]
[null,"Enveloppe bâtiment","Building envelope",null,null,null,null,null,"Sensibilisation/information","Awareness raising / training"]
[null,"Energie renouvelable pour le chauffage et l'eau chaude sanitaire","Renewable energy for space heating and hot water",null,null,null,null,null,"Gestion de l'énergie","Energy management"]
[null,"Efficacité énergétique dans le chauffage et l'eau chaude sanitaire","Energy efficiency in space heating and hot water",null,null,null,null,null,"Certification / Labélisation","Energy certification / labelling "]
[null,"Efficacité énergétique des systèmes d'éclairage","Energy efficient lighting systems",null,null,null,null,null,"Obligations de services publics","Energy suppliers obligations"]
[null,"Efficacité énergétique des équipements électriques","Energy efficient electrical appliances",null,null,null,null,null,"Taxe carbone","Energy / carbon taxes"]
[null,"Action intégrée (tout ci-dessus)","Integrated action (all above)",null,null,null,null,null,"Primes et subventions","Grants and subsidies"]
[null,"Technologies de l'Information et de la Communication","Information and Communication Technologies",null,null,null,null,null,"Tiers financement, partenariat public-privé","Third party financing. PPP"]
[null,"Changements de comportements","Behavioural changes",null,null,null,null,null,"Marchés publics","Public procurement"]
[null,"Efficacité énergétique","Energy efficiency ",null,null,null,null,null,"Normes de construction","Building standards"]
[null,"Production renouvelable intégrée","Integrated renewable power",null,null,null,null,null,"Planification de l'aménagement du territoire","Land use planning regulation"]
[null,"Eficacité énergétique de procédés industriels","     Energy efficiency in industrial processes",null,null,null,null,null,"Pas applicable ","Not applicable"]
[null,"Efficacité énergétique des bâtiments","     Energy efficiency in buildings",null,null,null,null,null,"Gestion énergétique","Energy management"]
[null,"Energies renouvelables","     Renewable energy ",null,null,null,null,null,"Normes de performances énergétiques","Energy performance standards"]
[null,"Technologies de l'Information et de la Communication","     Information and Communication Technologies",null,null,null,null,null,"Sensibilisation/information","Awareness raising/training"]
[null,"Véhicules plus efficients/propres","Cleaner/efficient vehicles",null,null,null,null,null,"Ticketing et facturation intégrés","Integrated ticketing and charging"]
[null,"Véhicules électriques (incl. Infractructures)","Electric vehicles (incl. infrastructure)",null,null,null,null,null,"Payage routier","Road pricing"]
[null,"Transfert modal vers les transports en commun","Modal shift to public transport",null,null,null,null,null,"Planification de la mobilité","Transport / mobility planning regulation"]
[null,"Transfert modal vers la mobilité douce","Modal shift to walking & cycling ",null,null,null,null,null,"Accords avec parties-prenantes","Voluntary agreements with stakeholders"]
[null,"Covoiturage","Car sharing/pooling",null,null,null,null,null,"Pas applicable","Not applicable"]
[null,"Rationalisation du transport de biens","Improvement of logistics and urban freight transport",null,null,null,null,null,"Planification de l'aménagement du territoire","Land use planning"]
[null,"Optimisation du réseau routier","Road network optimisation",null,null,null,null,null,"Aménagement du territoire","Land use planning regulation"]
[null,"Multimodalité et limitation de l'étalement","Mixed use development and sprawl containment",null,null,null,null,null,"Autre","Other"]
[null,"Eco-conduite","Eco-driving"]
[null,"Hydroénergie","Hydroelectric power"]
[null,"Eolien","Wind power"]
[null,"Photovoltaïque","Photovoltaics"]
[null,"Cogénération biomasse","Biomass power plant"]
[null,"Cogénération fossile","Combined Heat and Power"]
[null,"Réseaux intelligents","Smart grids"]
[null,"Cogénération","Combined Heat and Power"]
[null,"Réseau de chaleur","District heating/cooling plant"]
[null,"Regénération urbaine ","Urban regeneration"]
[null,"Gestion des déchets et eaux usées","Waste & wastewater management"]
[null,"Développement d'espaces verts","Tree planting in urban areas"]
[null,"Agriculture et foresterie","Agriculture and forestry related"]
[null,"Autre","Other"]

{"sheet":"Suivi objectifs","index":17,"n_rows":34,"n_cols":9,"rows_kept":34,"cut":false,"hidden":true,"merged":[]}
["Secteur_action","Secteur","Objectif","Economie d'énergie (MWh)","Réduction des émissions (tCO2)","Etat d'avancement","Economie d'énergie","Réduction des émissions"]
[{"$f":"B2","v":"Industrie non-ETS"},{"$f":"Objectifs!B8","v":"Industrie non-ETS"},{"$f":"IF(Objectifs!E8=0,0,Objectifs!C8&\" dans le secteur '\"&B2&\"'\")","v":0},{"$f":"Objectifs!E8*1000","v":0},{"$f":"Objectifs!F8","v":0},{"$f":"Objectifs!G8","v":0},{"$f":"D2*F2","v":0},{"$f":"E2*F2","v":0},{"$f":"A2","v":"Industrie non-ETS"}]
["Tertiaire",{"$f":"Objectifs!B9","v":"Tertiaire"},{"$f":"IF(Objectifs!E9=0,0,Objectifs!C9&\" dans le secteur '\"&B3&\"'\")","v":0},{"$f":"Objectifs!E9*1000","v":0},{"$f":"Objectifs!F9","v":0},{"$f":"Objectifs!G9","v":0},0,0,"Tertiaire"]
["Administration communale",{"$f":"Objectifs!B10","v":"Administration communale"},{"$f":"IF(Objectifs!E10=0,0,Objectifs!C10&\" dans le secteur '\"&B4&\"'\")","v":0},{"$f":"Objectifs!E10*1000","v":0},{"$f":"Objectifs!F10","v":0},{"$f":"Objectifs!G10","v":0},0,0,"Administration communale"]
["Eclairage public",{"$f":"Objectifs!B11","v":"Eclairage public"},{"$f":"IF(Objectifs!E11=0,0,Objectifs!C11&\" dans le secteur '\"&B5&\"'\")","v":0},{"$f":"Objectifs!E11*1000","v":0},{"$f":"Objectifs!F11","v":0},{"$f":"Objectifs!G11","v":0},0,0,"Eclairage public"]
["Logement",{"$f":"Objectifs!B12","v":"Logement"},{"$f":"IF(Objectifs!E12=0,0,Objectifs!C12&\" dans le secteur '\"&B6&\"'\")","v":0},{"$f":"Objectifs!E12*1000","v":0},{"$f":"Objectifs!F12","v":0},{"$f":"Objectifs!G12","v":0},0,0,"Logement"]
["Agriculture",{"$f":"Objectifs!B13","v":"Agriculture"},{"$f":"IF(Objectifs!E13=0,0,Objectifs!C13&\" dans le secteur '\"&B7&\"'\")","v":0},{"$f":"Objectifs!E13*1000","v":0},{"$f":"Objectifs!F13","v":0},{"$f":"Objectifs!G13","v":0},0,0,"Agriculture"]
["Transport",{"$f":"Objectifs!B14","v":"Transport"},{"$f":"IF(Objectifs!E14=0,0,Objectifs!C14&\" dans le secteur '\"&B8&\"'\")","v":0},{"$f":"Objectifs!E14*1000","v":0},{"$f":"Objectifs!F14","v":0},{"$f":"Objectifs!G14","v":0},0,0,"Transport"]
["Véhicules communaux",{"$f":"Objectifs!B15","v":"Véhicules communaux"},{"$f":"Objectifs!C15","v":"Objectif Véhicules communaux"},{"$f":"Objectifs!E15*1000","v":0},{"$f":"Objectifs!F15","v":0},{"$f":"Objectifs!G15","v":0},0,0,"Véhicules communaux"]
[0,{"$f":"Objectifs!B16","v":0},{"$f":"Objectifs!C16","v":0},{"$f":"Objectifs!E16*1000","v":0},{"$f":"Objectifs!F16","v":0},{"$f":"Objectifs!G16","v":0},0,0,0]
[0,{"$f":"Objectifs!B17","v":0},{"$f":"Objectifs!C17","v":0},{"$f":"Objectifs!E17*1000","v":0},{"$f":"Objectifs!F17","v":0},{"$f":"Objectifs!G17","v":0},0,0,0]
[0,{"$f":"Objectifs!B18","v":0},{"$f":"Objectifs!C18","v":0},{"$f":"Objectifs!E18*1000","v":0},{"$f":"Objectifs!F18","v":0},{"$f":"Objectifs!G18","v":0},0,0,0]
[0,{"$f":"Objectifs!B19","v":0},{"$f":"Objectifs!C19","v":0},{"$f":"Objectifs!E19*1000","v":0},{"$f":"Objectifs!F19","v":0},{"$f":"Objectifs!G19","v":0},0,0,0]
[0,{"$f":"Objectifs!B20","v":0},{"$f":"Objectifs!C20","v":0},{"$f":"Objectifs!E20*1000","v":0},{"$f":"Objectifs!F20","v":0},{"$f":"Objectifs!G20","v":0},0,0,0]
[0,{"$f":"Objectifs!B21","v":0},{"$f":"Objectifs!C21","v":0},{"$f":"Objectifs!E21*1000","v":0},{"$f":"Objectifs!F21","v":0},{"$f":"Objectifs!G21","v":0},0,0,0]
[0,{"$f":"Objectifs!B22","v":0},{"$f":"Objectifs!C22","v":0},{"$f":"Objectifs!E22*1000","v":0},{"$f":"Objectifs!F22","v":0},{"$f":"Objectifs!G22","v":0},0,0,0]
[0,{"$f":"Objectifs!B23","v":0},{"$f":"Objectifs!C23","v":0},{"$f":"Objectifs!E23*1000","v":0},{"$f":"Objectifs!F23","v":0},{"$f":"Objectifs!G23","v":0},0,0,0]
[0,{"$f":"Objectifs!B24","v":0},{"$f":"Objectifs!C24","v":0},{"$f":"Objectifs!E24*1000","v":0},{"$f":"Objectifs!F24","v":0},{"$f":"Objectifs!G24","v":0},0,0,0]
[0,{"$f":"Objectifs!B25","v":0},{"$f":"Objectifs!C25","v":0},{"$f":"Objectifs!E25*1000","v":0},{"$f":"Objectifs!F25","v":0},{"$f":"Objectifs!G25","v":0},0,0,0]
[0,{"$f":"Objectifs!B26","v":0},{"$f":"Objectifs!C26","v":0},{"$f":"Objectifs!E26*1000","v":0},{"$f":"Objectifs!F26","v":0},{"$f":"Objectifs!G26","v":0},0,0,0]
[0,{"$f":"Objectifs!B27","v":0},{"$f":"Objectifs!C27","v":0},{"$f":"Objectifs!E27*1000","v":0},{"$f":"Objectifs!F27","v":0},{"$f":"Objectifs!G27","v":0},0,0,0]
[{"$f":"IF(ISNA(VLOOKUP(B22,Categories!$X$20:$Y$25,2,0)),0,VLOOKUP(B22,Categories!$X$20:$Y$25,2,0))","v":0},{"$f":"Objectifs!B31","v":0},{"$f":"Objectifs!C31","v":"Production de chaleur"},{"$f":"Objectifs!E31*1000","v":0},{"$f":"Objectifs!F31","v":0},{"$f":"Objectifs!G31","v":0},0,0,0]
[{"$f":"IF(ISNA(VLOOKUP(B23,Categories!$X$20:$Y$25,2,0)),0,VLOOKUP(B23,Categories!$X$20:$Y$25,2,0))","v":0},{"$f":"Objectifs!B32","v":0},{"$f":"Objectifs!C32","v":"Production d'électricité"},{"$f":"Objectifs!E32*1000","v":0},{"$f":"Objectifs!F32","v":0},{"$f":"SUMIF(Actions!$E$4:$E$48,'Suivi objectifs'!C23,Actions!$F$4:$F$48)+SUMIF(Actions!$G$4:$G$48,'Suivi objectifs'!C23,Actions!$H$4:$H$48)+SUMIF(Actions!$I$4:$I$48,'Suivi objectifs'!C23,Actions!$J$4:$J$48)","v":0},0,0,0]
[{"$f":"IF(ISNA(VLOOKUP(B24,Categories!$X$20:$Y$25,2,0)),0,VLOOKUP(B24,Categories!$X$20:$Y$25,2,0))","v":0},{"$f":"Objectifs!B33","v":0},{"$f":"Objectifs!C33","v":"Cogénération"},{"$f":"Objectifs!E33","v":0},{"$f":"Objectifs!F33","v":0},{"$f":"SUMIF(Actions!$E$4:$E$48,'Suivi objectifs'!C24,Actions!$F$4:$F$48)+SUMIF(Actions!$G$4:$G$48,'Suivi objectifs'!C24,Actions!$H$4:$H$48)+SUMIF(Actions!$I$4:$I$48,'Suivi objectifs'!C24,Actions!$J$4:$J$48)","v":0},0,0,0]
[{"$f":"IF(ISNA(VLOOKUP(B25,Categories!$X$20:$Y$25,2,0)),0,VLOOKUP(B25,Categories!$X$20:$Y$25,2,0))","v":0},{"$f":"Objectifs!B34","v":0},{"$f":"Objectifs!C34","v":0},{"$f":"Objectifs!E34","v":0},{"$f":"Objectifs!F34","v":0},{"$f":"SUMIF(Actions!$E$4:$E$48,'Suivi objectifs'!C25,Actions!$F$4:$F$48)+SUMIF(Actions!$G$4:$G$48,'Suivi objectifs'!C25,Actions!$H$4:$H$48)+SUMIF(Actions!$I$4:$I$48,'Suivi objectifs'!C25,Actions!$J$4:$J$48)","v":0},0,0,0]
[{"$f":"IF(ISNA(VLOOKUP(B26,Categories!$X$20:$Y$25,2,0)),0,VLOOKUP(B26,Categories!$X$20:$Y$25,2,0))","v":0},{"$f":"Objectifs!B35","v":0},{"$f":"Objectifs!C35","v":0},{"$f":"Objectifs!E35","v":0},{"$f":"Objectifs!F35","v":0},{"$f":"SUMIF(Actions!$E$4:$E$48,'Suivi objectifs'!C26,Actions!$F$4:$F$48)+SUMIF(Actions!$G$4:$G$48,'Suivi objectifs'!C26,Actions!$H$4:$H$48)+SUMIF(Actions!$I$4:$I$48,'Suivi objectifs'!C26,Actions!$J$4:$J$48)","v":0},0,0,0]
[{"$f":"IF(ISNA(VLOOKUP(B27,Categories!$X$20:$Y$25,2,0)),0,VLOOKUP(B27,Categories!$X$20:$Y$25,2,0))","v":0},{"$f":"Objectifs!B36","v":0},{"$f":"Objectifs!C36","v":0},{"$f":"Objectifs!E36","v":0},{"$f":"Objectifs!F36","v":0},{"$f":"SUMIF(Actions!$E$4:$E$48,'Suivi objectifs'!C27,Actions!$F$4:$F$48)+SUMIF(Actions!$G$4:$G$48,'Suivi objectifs'!C27,Actions!$H$4:$H$48)+SUMIF(Actions!$I$4:$I$48,'Suivi objectifs'!C27,Actions!$J$4:$J$48)","v":0},0,0,0]
[{"$f":"IF(ISNA(VLOOKUP(B28,Categories!$X$20:$Y$25,2,0)),0,VLOOKUP(B28,Categories!$X$20:$Y$25,2,0))","v":0},{"$f":"Objectifs!B37","v":0},{"$f":"Objectifs!C37","v":0},{"$f":"Objectifs!E37","v":0},{"$f":"Objectifs!F37","v":0},{"$f":"SUMIF(Actions!$E$4:$E$48,'Suivi objectifs'!C28,Actions!$F$4:$F$48)+SUMIF(Actions!$G$4:$G$48,'Suivi objectifs'!C28,Actions!$H$4:$H$48)+SUMIF(Actions!$I$4:$I$48,'Suivi objectifs'!C28,Actions!$J$4:$J$48)","v":0},0,0,0]
[{"$f":"IF(ISNA(VLOOKUP(B29,Categories!$X$20:$Y$25,2,0)),0,VLOOKUP(B29,Categories!$X$20:$Y$25,2,0))","v":0},{"$f":"Objectifs!B38","v":0},{"$f":"Objectifs!C38","v":0},{"$f":"Objectifs!E38","v":0},{"$f":"Objectifs!F38","v":0},{"$f":"SUMIF(Actions!$E$4:$E$48,'Suivi objectifs'!C29,Actions!$F$4:$F$48)+SUMIF(Actions!$G$4:$G$48,'Suivi objectifs'!C29,Actions!$H$4:$H$48)+SUMIF(Actions!$I$4:$I$48,'Suivi objectifs'!C29,Actions!$J$4:$J$48)","v":0},0,0,0]
[{"$f":"B30","v":0},{"$f":"Objectifs!B42","v":0},{"$f":"Objectifs!C42","v":0},null,{"$f":"Objectifs!F42","v":0},{"$f":"SUMIF(Actions!$E$4:$E$48,'Suivi objectifs'!C30,Actions!$F$4:$F$48)+SUMIF(Actions!$G$4:$G$48,'Suivi objectifs'!C30,Actions!$H$4:$H$48)+SUMIF(Actions!$I$4:$I$48,'Suivi objectifs'!C30,Actions!$J$4:$J$48)","v":0},0,0,0]
[{"$f":"B31","v":0},{"$f":"Objectifs!B43","v":0},{"$f":"Objectifs!C43","v":0},null,{"$f":"Objectifs!F43","v":0},{"$f":"SUMIF(Actions!$E$4:$E$48,'Suivi objectifs'!C31,Actions!$F$4:$F$48)+SUMIF(Actions!$G$4:$G$48,'Suivi objectifs'!C31,Actions!$H$4:$H$48)+SUMIF(Actions!$I$4:$I$48,'Suivi objectifs'!C31,Actions!$J$4:$J$48)","v":0},0,0,0]
[{"$f":"B32","v":0},{"$f":"Objectifs!B44","v":0},{"$f":"Objectifs!C44","v":0},null,{"$f":"Objectifs!F44","v":0},{"$f":"SUMIF(Actions!$E$4:$E$48,'Suivi objectifs'!C32,Actions!$F$4:$F$48)+SUMIF(Actions!$G$4:$G$48,'Suivi objectifs'!C32,Actions!$H$4:$H$48)+SUMIF(Actions!$I$4:$I$48,'Suivi objectifs'!C32,Actions!$J$4:$J$48)","v":0},0,0,0]
[{"$f":"B33","v":0},{"$f":"Objectifs!B45","v":0},{"$f":"Objectifs!C45","v":0},null,{"$f":"Objectifs!F45","v":0},{"$f":"SUMIF(Actions!$E$4:$E$48,'Suivi objectifs'!C33,Actions!$F$4:$F$48)+SUMIF(Actions!$G$4:$G$48,'Suivi objectifs'!C33,Actions!$H$4:$H$48)+SUMIF(Actions!$I$4:$I$48,'Suivi objectifs'!C33,Actions!$J$4:$J$48)","v":0},0,0,0]
[{"$f":"B34","v":0},{"$f":"Objectifs!B46","v":0},{"$f":"Objectifs!C46","v":0},null,{"$f":"Objectifs!F46","v":0},{"$f":"SUMIF(Actions!$E$4:$E$48,'Suivi objectifs'!C34,Actions!$F$4:$F$48)+SUMIF(Actions!$G$4:$G$48,'Suivi objectifs'!C34,Actions!$H$4:$H$48)+SUMIF(Actions!$I$4:$I$48,'Suivi objectifs'!C34,Actions!$J$4:$J$48)","v":0},0,0,0]

{"sheet":"ldv","index":18,"n_rows":585,"n_cols":21,"rows_kept":585,"cut":false,"hidden":true,"merged":[]}
[]
["Logement","AMAY",1990,"Réel","OUI","Absolu",0.01,{"$f":"\"Economie d'énergie de \"&G2*100&\"% par rapport à \"&Accueil!#REF!","v":{"$error":"#REF!"}},{"$f":"G2","v":0.01},"Eolien","En cours","Commune","Subvention nationale/régionale","Investissement",null,"En cours","Ongoing",null,2010,null,"ADMINI. COMMUN. + CPAS"]
["Tertiaire","ANDENNE",1991,"Normalisé","NON","Relatif",0.02,{"$f":"\"Economie d'énergie de \"&G3*100&\"% par rapport à \"&Accueil!#REF!","v":{"$error":"#REF!"}},{"$f":"G3","v":0.02},"Solaire PV","Finalisée","Structure supra-locale POLLEC","Programme européen","Non-investissement",null,"Finalisée","Completed",null,2011,null,"AUTRES SERVICES SPORTIFS OU CULTURELS"]
["Transport","ANDERLECHT",1992,null,null,null,0.03,{"$f":"\"Economie d'énergie de \"&G4*100&\"% par rapport à \"&Accueil!#REF!","v":{"$error":"#REF!"}},0.03,"Solaire thermique","Reportée","Autre ",null,null,null,"Reportée","Postponed",null,2012,null,"BIBLIOTHEQUES, ARCHIVES, MUSEE"]
["Entreprises","ANDERLUES",1993,null,null,null,0.04,{"$f":"\"Economie d'énergie de \"&G5*100&\"% par rapport à \"&Accueil!#REF!","v":{"$error":"#REF!"}},0.04,"Biométhanisation","A faire","Impossible à déterminer",null,null,null,"A faire","Not started",null,2013,null,"CRECHES, HEBERGEMENT SOCIAL"]
["Agriculture","ANHEE",1994,null,null,null,0.05,{"$f":"\"Economie d'énergie de \"&G6*100&\"% par rapport à \"&Accueil!#REF!","v":{"$error":"#REF!"}},0.05,"Hydroénergie","Nouvelle",null,null,null,null,"Nouvelle","New",null,2014,null,"EAU: CAPTAGE, TRANSPORT"]
[null,"ANS",1995,null,null,null,0.06,{"$f":"\"Economie d'énergie de \"&G7*100&\"% par rapport à \"&Accueil!#REF!","v":{"$error":"#REF!"}},0.06,"Bois énergie",null,null,null,null,null,null,null,null,2015,null,"ECLAIRAGE PUBLIC"]
[null,"ANTHISNES",1996,null,null,null,7.0000000000000007E-2,{"$f":"\"Economie d'énergie de \"&G8*100&\"% par rapport à \"&Accueil!#REF!","v":{"$error":"#REF!"}},7.0000000000000007E-2,null,null,null,null,null,null,null,null,null,2016,null,"ENSEIGNEMENT LIBRE, PRIVE"]
[null,"ANTOING",1997,null,null,null,0.08,{"$f":"\"Economie d'énergie de \"&G9*100&\"% par rapport à \"&Accueil!#REF!","v":{"$error":"#REF!"}},0.08,null,null,null,null,null,null,null,null,null,2017,null,"ENSEIGNEMENT NON PRECISE"]
[null,"ANTWERPEN",1998,null,null,null,0.09,{"$f":"\"Economie d'énergie de \"&G10*100&\"% par rapport à \"&Accueil!#REF!","v":{"$error":"#REF!"}},0.09,null,null,null,null,null,null,null,null,null,2018,null,"ENSEIGNEMENT OFFICIEL"]
[null,"ANZEGEM",1999,null,null,null,0.1,{"$f":"\"Economie d'énergie de \"&G11*100&\"% par rapport à \"&Accueil!#REF!","v":{"$error":"#REF!"}},0.1,null,null,null,null,null,null,null,null,null,2019,null,"HOPITAUX"]
[null,"ARENDONK",2000,null,null,null,0.11,{"$f":"\"Economie d'énergie de \"&G12*100&\"% par rapport à \"&Accueil!#REF!","v":{"$error":"#REF!"}},0.11,null,null,null,null,null,null,null,null,null,2020,null,"LOGEMENT"]
[null,"ARLON",2001,null,null,null,0.12,{"$f":"\"Economie d'énergie de \"&G13*100&\"% par rapport à \"&Accueil!#REF!","v":{"$error":"#REF!"}},0.12,null,null,null,null,null,null,null,null,null,2021,null,"MAISONS DE RETRAITE"]
[null,"AS",2002,null,null,null,0.13,{"$f":"\"Economie d'énergie de \"&G14*100&\"% par rapport à \"&Accueil!#REF!","v":{"$error":"#REF!"}},0.13,null,null,null,null,null,null,null,null,null,2022,null,"PISCINES"]
[null,"ASSE",2003,null,null,null,0.14000000000000001,{"$f":"\"Economie d'énergie de \"&G15*100&\"% par rapport à \"&Accueil!#REF!","v":{"$error":"#REF!"}},0.14000000000000001,null,null,null,null,null,null,null,null,null,2023,null,"POLYCLINIQUES, LABORATOIRES"]
[null,"ASSENEDE",2004,null,null,null,0.15,{"$f":"\"Economie d'énergie de \"&G16*100&\"% par rapport à \"&Accueil!#REF!","v":{"$error":"#REF!"}},0.15,null,null,null,null,null,null,null,null,null,2024,null,"SOINS, SANTE NON PRECISE"]
[null,"ASSESSE",2005,null,null,null,0.16,{"$f":"\"Economie d'énergie de \"&G17*100&\"% par rapport à \"&Accueil!#REF!","v":{"$error":"#REF!"}},0.16,null,null,null,null,null,null,null,null,null,2025,null,"TOURISME"]
[null,"ATH",2006,null,null,null,0.17,{"$f":"\"Economie d'énergie de \"&G18*100&\"% par rapport à \"&Accueil!#REF!","v":{"$error":"#REF!"}},0.17,null,null,null,null,null,null,null,null,null,2026,null,"TRAITEMENT DES DECHETS"]
[null,"ATTERT",2007,null,null,null,0.18,{"$f":"\"Economie d'énergie de \"&G19*100&\"% par rapport à \"&Accueil!#REF!","v":{"$error":"#REF!"}},0.18,null,null,null,null,null,null,null,null,null,2027]
[null,"AUBANGE",2008,null,null,null,0.19,{"$f":"\"Economie d'énergie de \"&G20*100&\"% par rapport à \"&Accueil!#REF!","v":{"$error":"#REF!"}},0.19,null,null,null,null,null,null,null,null,null,2028]
[null,"AUBEL",2009,null,null,null,0.2,{"$f":"\"Economie d'énergie de \"&G21*100&\"% par rapport à \"&Accueil!#REF!","v":{"$error":"#REF!"}},0.2,null,null,null,null,null,null,null,null,null,2029]
[null,"AUDERGHEM",2010,null,null,null,0.21,{"$f":"\"Economie d'énergie de \"&G22*100&\"% par rapport à \"&Accueil!#REF!","v":{"$error":"#REF!"}},0.21,null,null,null,null,null,null,null,null,null,2030]
[null,"AVELGEM",2011,null,null,null,0.22,{"$f":"\"Economie d'énergie de \"&G23*100&\"% par rapport à \"&Accueil!#REF!","v":{"$error":"#REF!"}},0.22]
[null,"AWANS",2012,null,null,null,0.23,{"$f":"\"Economie d'énergie de \"&G24*100&\"% par rapport à \"&Accueil!#REF!","v":{"$error":"#REF!"}},0.23]
[null,"AYWAILLE",2013,null,null,null,0.24,{"$f":"\"Economie d'énergie de \"&G25*100&\"% par rapport à \"&Accueil!#REF!","v":{"$error":"#REF!"}},0.24]
[null,"BAARLE-HERTOG",2014,null,null,null,0.25,{"$f":"\"Economie d'énergie de \"&G26*100&\"% par rapport à \"&Accueil!#REF!","v":{"$error":"#REF!"}},0.25]
[null,"BAELEN",2015,null,null,null,0.26,{"$f":"\"Economie d'énergie de \"&G27*100&\"% par rapport à \"&Accueil!#REF!","v":{"$error":"#REF!"}},0.26]
[null,"BALEN",2016,null,null,null,0.27,{"$f":"\"Economie d'énergie de \"&G28*100&\"% par rapport à \"&Accueil!#REF!","v":{"$error":"#REF!"}},0.27]
[null,"BASSENGE",2017,null,null,null,0.28000000000000003,{"$f":"\"Economie d'énergie de \"&G29*100&\"% par rapport à \"&Accueil!#REF!","v":{"$error":"#REF!"}},0.28000000000000003]
[null,"BASTOGNE",2018,null,null,null,0.28999999999999998,{"$f":"\"Economie d'énergie de \"&G30*100&\"% par rapport à \"&Accueil!#REF!","v":{"$error":"#REF!"}},0.28999999999999998]
[null,"BEAUMONT",2019,null,null,null,0.3,{"$f":"\"Economie d'énergie de \"&G31*100&\"% par rapport à \"&Accueil!#REF!","v":{"$error":"#REF!"}},0.3]
[null,"BEAURAING",2020,null,null,null,0.31,{"$f":"\"Economie d'énergie de \"&G32*100&\"% par rapport à \"&Accueil!#REF!","v":{"$error":"#REF!"}},0.31]
[null,"BEAUVECHAIN",2021,null,null,null,0.32,{"$f":"\"Economie d'énergie de \"&G33*100&\"% par rapport à \"&Accueil!#REF!","v":{"$error":"#REF!"}},0.32]
[null,"BEERNEM",2022,null,null,null,0.33,{"$f":"\"Economie d'énergie de \"&G34*100&\"% par rapport à \"&Accueil!#REF!","v":{"$error":"#REF!"}},0.33]
[null,"BEERSE",2023,null,null,null,0.34,{"$f":"\"Economie d'énergie de \"&G35*100&\"% par rapport à \"&Accueil!#REF!","v":{"$error":"#REF!"}},0.34]
[null,"BEERSEL",2024,null,null,null,0.35,{"$f":"\"Economie d'énergie de \"&G36*100&\"% par rapport à \"&Accueil!#REF!","v":{"$error":"#REF!"}},0.35]
[null,"BEGIJNENDIJK",2025,null,null,null,0.36,{"$f":"\"Economie d'énergie de \"&G37*100&\"% par rapport à \"&Accueil!#REF!","v":{"$error":"#REF!"}},0.36]
[null,"BEKKEVOORT",2026,null,null,null,0.37,{"$f":"\"Economie d'énergie de \"&G38*100&\"% par rapport à \"&Accueil!#REF!","v":{"$error":"#REF!"}},0.37]
[null,"BELOEIL",2027,null,null,null,0.38,{"$f":"\"Economie d'énergie de \"&G39*100&\"% par rapport à \"&Accueil!#REF!","v":{"$error":"#REF!"}},0.38]
[null,"BERCHEM-SAINTE-AGATHE",2028,null,null,null,0.39,{"$f":"\"Economie d'énergie de \"&G40*100&\"% par rapport à \"&Accueil!#REF!","v":{"$error":"#REF!"}},0.39]
[null,"BERINGEN",2029,null,null,null,0.4,{"$f":"\"Economie d'énergie de \"&G41*100&\"% par rapport à \"&Accueil!#REF!","v":{"$error":"#REF!"}},0.4]
[null,"BERLAAR",2030,null,null,null,0.41,{"$f":"\"Economie d'énergie de \"&G42*100&\"% par rapport à \"&Accueil!#REF!","v":{"$error":"#REF!"}},0.41]
[null,"BERLARE",null,null,null,null,0.42,{"$f":"\"Economie d'énergie de \"&G43*100&\"% par rapport à \"&Accueil!#REF!","v":{"$error":"#REF!"}},0.42]
[null,"BERLOZ",null,null,null,null,0.43,{"$f":"\"Economie d'énergie de \"&G44*100&\"% par rapport à \"&Accueil!#REF!","v":{"$error":"#REF!"}},0.43]
[null,"BERNISSART",null,null,null,null,0.44,{"$f":"\"Economie d'énergie de \"&G45*100&\"% par rapport à \"&Accueil!#REF!","v":{"$error":"#REF!"}},0.44]
[null,"BERTEM",null,null,null,null,0.45,{"$f":"\"Economie d'énergie de \"&G46*100&\"% par rapport à \"&Accueil!#REF!","v":{"$error":"#REF!"}},0.45]
[null,"BERTOGNE",null,null,null,null,0.46,{"$f":"\"Economie d'énergie de \"&G47*100&\"% par rapport à \"&Accueil!#REF!","v":{"$error":"#REF!"}},0.46]
[null,"BERTRIX",null,null,null,null,0.47,{"$f":"\"Economie d'énergie de \"&G48*100&\"% par rapport à \"&Accueil!#REF!","v":{"$error":"#REF!"}},0.47]
[null,"BEVER",null,null,null,null,0.48,{"$f":"\"Economie d'énergie de \"&G49*100&\"% par rapport à \"&Accueil!#REF!","v":{"$error":"#REF!"}},0.48]
[null,"BEVEREN",null,null,null,null,0.49,{"$f":"\"Economie d'énergie de \"&G50*100&\"% par rapport à \"&Accueil!#REF!","v":{"$error":"#REF!"}},0.49]
[null,"BEYNE-HEUSAY",null,null,null,null,0.5,{"$f":"\"Economie d'énergie de \"&G51*100&\"% par rapport à \"&Accueil!#REF!","v":{"$error":"#REF!"}},0.5]
[null,"BIERBEEK",null,null,null,null,0.51,{"$f":"\"Economie d'énergie de \"&G52*100&\"% par rapport à \"&Accueil!#REF!","v":{"$error":"#REF!"}},0.51]
[null,"BIEVRE",null,null,null,null,0.52,{"$f":"\"Economie d'énergie de \"&G53*100&\"% par rapport à \"&Accueil!#REF!","v":{"$error":"#REF!"}},0.52]
[null,"BILZEN",null,null,null,null,0.53,{"$f":"\"Economie d'énergie de \"&G54*100&\"% par rapport à \"&Accueil!#REF!","v":{"$error":"#REF!"}},0.53]
[null,"BINCHE",null,null,null,null,0.54,{"$f":"\"Economie d'énergie de \"&G55*100&\"% par rapport à \"&Accueil!#REF!","v":{"$error":"#REF!"}},0.54]
[null,"BLANKENBERGE",null,null,null,null,0.55000000000000004,{"$f":"\"Economie d'énergie de \"&G56*100&\"% par rapport à \"&Accueil!#REF!","v":{"$error":"#REF!"}},0.55000000000000004]
[null,"BLEGNY",null,null,null,null,0.56000000000000005,{"$f":"\"Economie d'énergie de \"&G57*100&\"% par rapport à \"&Accueil!#REF!","v":{"$error":"#REF!"}},0.56000000000000005]
[null,"BOCHOLT",null,null,null,null,0.56999999999999995,{"$f":"\"Economie d'énergie de \"&G58*100&\"% par rapport à \"&Accueil!#REF!","v":{"$error":"#REF!"}},0.56999999999999995]
[null,"BOECHOUT",null,null,null,null,0.57999999999999996,{"$f":"\"Economie d'énergie de \"&G59*100&\"% par rapport à \"&Accueil!#REF!","v":{"$error":"#REF!"}},0.57999999999999996]
[null,"BONHEIDEN",null,null,null,null,0.59,{"$f":"\"Economie d'énergie de \"&G60*100&\"% par rapport à \"&Accueil!#REF!","v":{"$error":"#REF!"}},0.59]
[null,"BOOM",null,null,null,null,0.6,{"$f":"\"Economie d'énergie de \"&G61*100&\"% par rapport à \"&Accueil!#REF!","v":{"$error":"#REF!"}},0.6]
[null,"BOORTMEERBEEK",null,null,null,null,0.61,{"$f":"\"Economie d'énergie de \"&G62*100&\"% par rapport à \"&Accueil!#REF!","v":{"$error":"#REF!"}},0.61]
[null,"BORGLOON",null,null,null,null,0.62,{"$f":"\"Economie d'énergie de \"&G63*100&\"% par rapport à \"&Accueil!#REF!","v":{"$error":"#REF!"}},0.62]
[null,"BORNEM",null,null,null,null,0.63,{"$f":"\"Economie d'énergie de \"&G64*100&\"% par rapport à \"&Accueil!#REF!","v":{"$error":"#REF!"}},0.63]
[null,"BORSBEEK",null,null,null,null,0.64,{"$f":"\"Economie d'énergie de \"&G65*100&\"% par rapport à \"&Accueil!#REF!","v":{"$error":"#REF!"}},0.64]
[null,"BOUILLON",null,null,null,null,0.65,{"$f":"\"Economie d'énergie de \"&G66*100&\"% par rapport à \"&Accueil!#REF!","v":{"$error":"#REF!"}},0.65]
[null,"BOUSSU",null,null,null,null,0.66,{"$f":"\"Economie d'énergie de \"&G67*100&\"% par rapport à \"&Accueil!#REF!","v":{"$error":"#REF!"}},{"$f":"G67","v":0.66}]
[null,"BOUTERSEM",null,null,null,null,0.67,{"$f":"\"Economie d'énergie de \"&G68*100&\"% par rapport à \"&Accueil!#REF!","v":{"$error":"#REF!"}},0.67]
[null,"BRAINE-L'ALLEUD",null,null,null,null,0.68,{"$f":"\"Economie d'énergie de \"&G69*100&\"% par rapport à \"&Accueil!#REF!","v":{"$error":"#REF!"}},0.68]
[null,"BRAINE-LE-CHATEAU",null,null,null,null,0.69,{"$f":"\"Economie d'énergie de \"&G70*100&\"% par rapport à \"&Accueil!#REF!","v":{"$error":"#REF!"}},0.69]
[null,"BRAINE-LE-COMTE",null,null,null,null,0.7,{"$f":"\"Economie d'énergie de \"&G71*100&\"% par rapport à \"&Accueil!#REF!","v":{"$error":"#REF!"}},0.7]
[null,"BRAIVES",null,null,null,null,0.71,{"$f":"\"Economie d'énergie de \"&G72*100&\"% par rapport à \"&Accueil!#REF!","v":{"$error":"#REF!"}},0.71]
[null,"BRAKEL",null,null,null,null,0.72,{"$f":"\"Economie d'énergie de \"&G73*100&\"% par rapport à \"&Accueil!#REF!","v":{"$error":"#REF!"}},0.72]
[null,"BRASSCHAAT",null,null,null,null,0.73,{"$f":"\"Economie d'énergie de \"&G74*100&\"% par rapport à \"&Accueil!#REF!","v":{"$error":"#REF!"}},0.73]
[null,"BRECHT",null,null,null,null,0.74,{"$f":"\"Economie d'énergie de \"&G75*100&\"% par rapport à \"&Accueil!#REF!","v":{"$error":"#REF!"}},0.74]
[null,"BREDENE",null,null,null,null,0.75,{"$f":"\"Economie d'énergie de \"&G76*100&\"% par rapport à \"&Accueil!#REF!","v":{"$error":"#REF!"}},0.75]
[null,"BREE",null,null,null,null,0.76,{"$f":"\"Economie d'énergie de \"&G77*100&\"% par rapport à \"&Accueil!#REF!","v":{"$error":"#REF!"}},0.76]
[null,"BRUGELETTE",null,null,null,null,0.77,{"$f":"\"Economie d'énergie de \"&G78*100&\"% par rapport à \"&Accueil!#REF!","v":{"$error":"#REF!"}},0.77]
[null,"BRUGGE",null,null,null,null,0.78,{"$f":"\"Economie d'énergie de \"&G79*100&\"% par rapport à \"&Accueil!#REF!","v":{"$error":"#REF!"}},0.78]
[null,"BRUNEHAUT",null,null,null,null,0.79,{"$f":"\"Economie d'énergie de \"&G80*100&\"% par rapport à \"&Accueil!#REF!","v":{"$error":"#REF!"}},0.79]
[null,"BRUXELLES",null,null,null,null,0.8,{"$f":"\"Economie d'énergie de \"&G81*100&\"% par rapport à \"&Accueil!#REF!","v":{"$error":"#REF!"}},0.8]
[null,"BUGGENHOUT",null,null,null,null,0.81,{"$f":"\"Economie d'énergie de \"&G82*100&\"% par rapport à \"&Accueil!#REF!","v":{"$error":"#REF!"}},0.81]
[null,"BÜLLINGEN",null,null,null,null,0.82,{"$f":"\"Economie d'énergie de \"&G83*100&\"% par rapport à \"&Accueil!#REF!","v":{"$error":"#REF!"}},0.82]
[null,"BURDINNE",null,null,null,null,0.83,{"$f":"\"Economie d'énergie de \"&G84*100&\"% par rapport à \"&Accueil!#REF!","v":{"$error":"#REF!"}},0.83]
[null,"BURG-REULAND",null,null,null,null,0.84,{"$f":"\"Economie d'énergie de \"&G85*100&\"% par rapport à \"&Accueil!#REF!","v":{"$error":"#REF!"}},0.84]
[null,"BÜTGENBACH",null,null,null,null,0.85,{"$f":"\"Economie d'énergie de \"&G86*100&\"% par rapport à \"&Accueil!#REF!","v":{"$error":"#REF!"}},0.85]
[null,"CELLES",null,null,null,null,0.86,{"$f":"\"Economie d'énergie de \"&G87*100&\"% par rapport à \"&Accueil!#REF!","v":{"$error":"#REF!"}},0.86]
[null,"CERFONTAINE",null,null,null,null,0.87,{"$f":"\"Economie d'énergie de \"&G88*100&\"% par rapport à \"&Accueil!#REF!","v":{"$error":"#REF!"}},0.87]
[null,"CHAPELLE-LEZ-HERLAIMONT",null,null,null,null,0.88,{"$f":"\"Economie d'énergie de \"&G89*100&\"% par rapport à \"&Accueil!#REF!","v":{"$error":"#REF!"}},0.88]
[null,"CHARLEROI",null,null,null,null,0.89,{"$f":"\"Economie d'énergie de \"&G90*100&\"% par rapport à \"&Accueil!#REF!","v":{"$error":"#REF!"}},0.89]
[null,"CHASTRE",null,null,null,null,0.9,{"$f":"\"Economie d'énergie de \"&G91*100&\"% par rapport à \"&Accueil!#REF!","v":{"$error":"#REF!"}},0.9]
[null,"CHATELET",null,null,null,null,0.91,{"$f":"\"Economie d'énergie de \"&G92*100&\"% par rapport à \"&Accueil!#REF!","v":{"$error":"#REF!"}},0.91]
[null,"CHAUDFONTAINE",null,null,null,null,0.92,{"$f":"\"Economie d'énergie de \"&G93*100&\"% par rapport à \"&Accueil!#REF!","v":{"$error":"#REF!"}},0.92]
[null,"CHAUMONT-GISTOUX",null,null,null,null,0.93,{"$f":"\"Economie d'énergie de \"&G94*100&\"% par rapport à \"&Accueil!#REF!","v":{"$error":"#REF!"}},0.93]
[null,"CHIEVRES",null,null,null,null,0.94,{"$f":"\"Economie d'énergie de \"&G95*100&\"% par rapport à \"&Accueil!#REF!","v":{"$error":"#REF!"}},0.94]
[null,"CHIMAY",null,null,null,null,0.95,{"$f":"\"Economie d'énergie de \"&G96*100&\"% par rapport à \"&Accueil!#REF!","v":{"$error":"#REF!"}},0.95]
[null,"CHINY",null,null,null,null,0.96,{"$f":"\"Economie d'énergie de \"&G97*100&\"% par rapport à \"&Accueil!#REF!","v":{"$error":"#REF!"}},0.96]
[null,"CINEY",null,null,null,null,0.97,{"$f":"\"Economie d'énergie de \"&G98*100&\"% par rapport à \"&Accueil!#REF!","v":{"$error":"#REF!"}},0.97]
[null,"CLAVIER",null,null,null,null,0.98,{"$f":"\"Economie d'énergie de \"&G99*100&\"% par rapport à \"&Accueil!#REF!","v":{"$error":"#REF!"}},0.98]
[null,"COLFONTAINE",null,null,null,null,0.99,{"$f":"\"Economie d'énergie de \"&G100*100&\"% par rapport à \"&Accueil!#REF!","v":{"$error":"#REF!"}},0.99]
[null,"COMBLAIN-AU-PONT",null,null,null,null,1,{"$f":"\"Economie d'énergie de \"&G101*100&\"% par rapport à \"&Accueil!#REF!","v":{"$error":"#REF!"}},1]
[null,"COMINES-WARNETON"]
[null,"Commune fictive"]
[null,"Commune XXX"]
[null,"COURCELLES"]
[null,"COURT-SAINT-ETIENNE"]
[null,"COUVIN"]
[null,"CRISNEE"]
[null,"DALHEM"]
[null,"DAMME"]
[null,"DAVERDISSE"]
[null,"DE HAAN"]
[null,"DE PANNE"]
[null,"DE PINTE"]
[null,"DEERLIJK"]
[null,"DEINZE"]
[null,"DENDERLEEUW"]
[null,"DENDERMONDE"]
[null,"DENTERGEM"]
[null,"DESSEL"]
[null,"DESTELBERGEN"]
[null,"DIEPENBEEK"]
[null,"DIEST"]
[null,"DIKSMUIDE"]
[null,"DILBEEK"]
[null,"DILSEN-STOKKEM"]
[null,"DINANT"]
[null,"DISON"]
[null,"DOISCHE"]
[null,"DONCEEL"]
[null,"DOUR"]
[null,"DROGENBOS"]
[null,"DUFFEL"]
[null,"DURBUY"]
[null,"ECAUSSINNES"]
[null,"EDEGEM"]
[null,"EEKLO"]
[null,"EGHEZEE"]
[null,"ELLEZELLES"]
[null,"ENGHIEN"]
[null,"ENGIS"]
[null,"EREZEE"]
[null,"ERPE-MERE"]
[null,"ERQUELINNES"]
[null,"ESNEUX"]
[null,"ESSEN"]
[null,"ESTAIMPUIS"]
[null,"ESTINNES"]
[null,"ETALLE"]
[null,"ETTERBEEK"]
[null,"EUPEN"]
[null,"EVERE"]
[null,"EVERGEM"]
[null,"FAIMES"]
[null,"FARCIENNES"]
[null,"FAUVILLERS"]
[null,"FERNELMONT"]
[null,"FERRIERES"]
[null,"FEXHE-LE-HAUT-CLOCHER"]
[null,"FLEMALLE"]
[null,"FLERON"]
[null,"FLEURUS"]
[null,"FLOBECQ"]
[null,"FLOREFFE"]
[null,"FLORENNES"]
[null,"FLORENVILLE"]
[null,"FONTAINE-L'EVEQUE"]
[null,"FOREST"]
[null,"FOSSES-LA-VILLE"]
[null,"FRAMERIES"]
[null,"FRASNES-LEZ-ANVAING"]
[null,"FROIDCHAPELLE"]
[null,"GALMAARDEN"]
[null,"GANSHOREN"]
[null,"GAVERE"]
[null,"GEDINNE"]
[null,"GEEL"]
[null,"GEER"]
[null,"GEETBETS"]
[null,"GEMBLOUX"]
[null,"GENAPPE"]
[null,"GENK"]
[null,"GENT"]
[null,"GERAARDSBERGEN"]
[null,"GERPINNES"]
[null,"GESVES"]
[null,"GINGELOM"]
[null,"GISTEL"]
[null,"GLABBEEK"]
[null,"GOOIK"]
[null,"GOUVY"]
[null,"GRACE-HOLLOGNE"]
[null,"GREZ-DOICEAU"]
[null,"GRIMBERGEN"]
[null,"GROBBENDONK"]
[null,"Groupe BEP"]
[null,"HAACHT"]
[null,"HAALTERT"]
[null,"HABAY"]
[null,"HALEN"]
[null,"HALLE"]
[null,"HAM"]
[null,"HAMME"]
[null,"HAMOIR"]
[null,"HAMOIS"]
[null,"HAMONT-ACHEL"]
[null,"HAM-SUR-HEURE-NALINNES"]
[null,"HANNUT"]
[null,"HARELBEKE"]
[null,"HASSELT"]
[null,"HASTIERE"]
[null,"HAVELANGE"]
[null,"HECHTEL-EKSEL"]
[null,"HEERS"]
[null,"HEIST-OP-DEN-BERG"]
[null,"HELECINE"]
[null,"HEMIKSEM"]
[null,"HENSIES"]
[null,"HERBEUMONT"]
[null,"HERENT"]
[null,"HERENTALS"]
[null,"HERENTHOUT"]
[null,"HERK-DE-STAD"]
[null,"HERNE"]
[null,"HERON"]
[null,"HERSELT"]
[null,"HERSTAL"]
[null,"HERSTAPPE"]
[null,"HERVE"]
[null,"HERZELE"]
[null,"HEUSDEN-ZOLDER"]
[null,"HEUVELLAND"]
[null,"HOEGAARDEN"]
[null,"HOEILAART"]
[null,"HOESELT"]
[null,"HOLSBEEK"]
[null,"HONNELLES"]
[null,"HOOGLEDE"]
[null,"HOOGSTRATEN"]
[null,"HOREBEKE"]
[null,"HOTTON"]
[null,"HOUFFALIZE"]
[null,"HOUTHALEN-HELCHTEREN"]
[null,"HOUTHULST"]
[null,"HOUYET"]
[null,"HOVE"]
[null,"HULDENBERG"]
[null,"HULSHOUT"]
[null,"HUY"]
[null,"ICHTEGEM"]
[null,"IEPER"]
[null,"INCOURT"]
[null,"INGELMUNSTER"]
[null,"ITTRE"]
[null,"IXELLES"]
[null,"IZEGEM"]
[null,"JABBEKE"]
[null,"JALHAY"]
[null,"JEMEPPE-SUR-SAMBRE"]
[null,"JETTE"]
[null,"JODOIGNE"]
[null,"JUPRELLE"]
[null,"JURBISE"]
[null,"KALMTHOUT"]
[null,"KAMPENHOUT"]
[null,"KAPELLEN"]
[null,"KAPELLE-OP-DEN-BOS"]
[null,"KAPRIJKE"]
[null,"KASTERLEE"]
[null,"KEERBERGEN"]
[null,"KELMIS"]
[null,"KINROOI"]
[null,"KLUISBERGEN"]
[null,"KNESSELARE"]
[null,"KNOKKE-HEIST"]
[null,"KOEKELARE"]
[null,"KOEKELBERG"]
[null,"KOKSIJDE"]
[null,"KONTICH"]
[null,"KORTEMARK"]
[null,"KORTENAKEN"]
[null,"KORTENBERG"]
[null,"KORTESSEM"]
[null,"KORTRIJK"]
[null,"KRAAINEM"]
[null,"KRUIBEKE"]
[null,"KRUISHOUTEM"]
[null,"KUURNE"]
[null,"LA BRUYERE"]
[null,"LA HULPE"]
[null,"LA LOUVIERE"]
[null,"LA ROCHE-EN-ARDENNE"]
[null,"LAAKDAL"]
[null,"LAARNE"]
[null,"LANAKEN"]
[null,"LANDEN"]
[null,"LANGEMARK-POELKAPELLE"]
[null,"LASNE"]
[null,"LE ROEULX"]
[null,"LEBBEKE"]
[null,"LEDE"]
[null,"LEDEGEM"]
[null,"LEGLISE"]
[null,"LENDELEDE"]
[null,"LENNIK"]
[null,"LENS"]
[null,"LEOPOLDSBURG"]
[null,"LES BONS VILLERS"]
[null,"LESSINES"]
[null,"LEUVEN"]
[null,"LEUZE-EN-HAINAUT"]
[null,"LIBIN"]
[null,"LIBRAMONT-CHEVIGNY"]
[null,"LICHTERVELDE"]
[null,"LIEDEKERKE"]
[null,"LIEGE"]
[null,"LIER"]
[null,"LIERDE"]
[null,"LIERNEUX"]
[null,"LILLE"]
[null,"LIMBOURG"]
[null,"LINCENT"]
[null,"LINKEBEEK"]
[null,"LINT"]
[null,"LINTER"]
[null,"LOBBES"]
[null,"LOCHRISTI"]
[null,"LOMMEL"]
[null,"LONDERZEEL"]
[null,"LONTZEN"]
[null,"LO-RENINGE"]
[null,"LOVENDEGEM"]
[null,"LUBBEEK"]
[null,"LUMMEN"]
[null,"MAARKEDAL"]
[null,"MAASEIK"]
[null,"MAASMECHELEN"]
[null,"MACHELEN"]
[null,"MALDEGEM"]
[null,"MALLE"]
[null,"MALMEDY"]
[null,"MANAGE"]
[null,"MANHAY"]
[null,"MARCHE-EN-FAMENNE"]
[null,"MARCHIN"]
[null,"MARTELANGE"]
[null,"MECHELEN"]
[null,"MEERHOUT"]
[null,"MEEUWEN-GRUITRODE"]
[null,"MEISE"]
[null,"MEIX-DEVANT-VIRTON"]
[null,"MELLE"]
[null,"MENEN"]
[null,"MERBES-LE-CHATEAU"]
[null,"MERCHTEM"]
[null,"MERELBEKE"]
[null,"MERKSPLAS"]
[null,"MESEN"]
[null,"MESSANCY"]
[null,"METTET"]
[null,"MEULEBEKE"]
[null,"MIDDELKERKE"]
[null,"MODAVE"]
[null,"MOERBEKE"]
[null,"MOL"]
[null,"MOLENBEEK-SAINT-JEAN"]
[null,"MOMIGNIES"]
[null,"MONS"]
[null,"MONT-DE-L'ENCLUS"]
[null,"MONTIGNY-LE-TILLEUL"]
[null,"MONT-SAINT-GUIBERT"]
[null,"MOORSLEDE"]
[null,"MORLANWELZ"]
[null,"MORTSEL"]
[null,"MOUSCRON"]
[null,"MUSSON"]
[null,"NAMUR"]
[null,"NANDRIN"]
[null,"NASSOGNE"]
[null,"NAZARETH"]
[null,"NEERPELT"]
[null,"NEUFCHATEAU"]
[null,"NEUPRE"]
[null,"NEVELE"]
[null,"NIEL"]
[null,"NIEUWERKERKEN"]
[null,"NIEUWPOORT"]
[null,"NIJLEN"]
[null,"NINOVE"]
[null,"NIVELLES"]
[null,"OHEY"]
[null,"OLEN"]
[null,"OLNE"]
[null,"ONHAYE"]
[null,"OOSTENDE"]
[null,"OOSTERZELE"]
[null,"OOSTKAMP"]
[null,"OOSTROZEBEKE"]
[null,"OPGLABBEEK"]
[null,"OPWIJK"]
[null,"OREYE"]
[null,"ORP-JAUCHE"]
[null,"OTTIGNIES-LOUVAIN-LA-NEUVE"]
[null,"OUDENAARDE"]
[null,"OUDENBURG"]
[null,"OUD-HEVERLEE"]
[null,"OUD-TURNHOUT"]
[null,"OUFFET"]
[null,"OUPEYE"]
[null,"OVERIJSE"]
[null,"OVERPELT"]
[null,"PALISEUL"]
[null,"Pays des Condruses"]
[null,"PECQ"]
[null,"PEER"]
[null,"PEPINGEN"]
[null,"PEPINSTER"]
[null,"PERUWELZ"]
[null,"PERWEZ"]
[null,"PHILIPPEVILLE"]
[null,"PITTEM"]
[null,"PLOMBIERES"]
[null,"PONT-A-CELLES"]
[null,"POPERINGE"]
[null,"PROFONDEVILLE"]
[null,"Province de Liège"]
[null,"Province de namur"]
[null,"PUTTE"]
[null,"PUURS"]
[null,"QUAREGNON"]
[null,"QUEVY"]
[null,"QUIEVRAIN"]
[null,"RAEREN"]
[null,"RAMILLIES"]
[null,"RANST"]
[null,"RAVELS"]
[null,"REBECQ"]
[null,"REMICOURT"]
[null,"RENDEUX"]
[null,"RETIE"]
[null,"RIEMST"]
[null,"RIJKEVORSEL"]
[null,"RIXENSART"]
[null,"ROCHEFORT"]
[null,"ROESELARE"]
[null,"RONSE"]
[null,"ROOSDAAL"]
[null,"ROTSELAAR"]
[null,"ROUVROY"]
[null,"RUISELEDE"]
[null,"RUMES"]
[null,"RUMST"]
[null,"SAINTE-ODE"]
[null,"SAINT-GEORGES-SUR-MEUSE"]
[null,"SAINT-GHISLAIN"]
[null,"SAINT-GILLES"]
[null,"SAINT-HUBERT"]
[null,"SAINT-JOSSE-TEN-NOODE"]
[null,"SAINT-LEGER"]
[null,"SAINT-NICOLAS"]
[null,"SAMBREVILLE"]
[null,"SANKT VITH"]
[null,"SCHAERBEEK"]
[null,"SCHELLE"]
[null,"SCHERPENHEUVEL-ZICHEM"]
[null,"SCHILDE"]
[null,"SCHOTEN"]
[null,"SENEFFE"]
[null,"SERAING"]
[null,"SILLY"]
[null,"SINT-AMANDS"]
[null,"SINT-GENESIUS-RODE"]
[null,"SINT-GILLIS-WAAS"]
[null,"SINT-KATELIJNE-WAVER"]
[null,"SINT-LAUREINS"]
[null,"SINT-LIEVENS-HOUTEM"]
[null,"SINT-MARTENS-LATEM"]
[null,"SINT-NIKLAAS"]
[null,"SINT-PIETERS-LEEUW"]
[null,"SINT-TRUIDEN"]
[null,"SIVRY-RANCE"]
[null,"SOIGNIES"]
[null,"SOMBREFFE"]
[null,"SOMME-LEUZE"]
[null,"SOUMAGNE"]
[null,"SPA"]
[null,"SPIERE-HELKIJN"]
[null,"SPRIMONT"]
[null,"STABROEK"]
[null,"STADEN"]
[null,"STAVELOT"]
[null,"STEENOKKERZEEL"]
[null,"STEKENE"]
[null,"STOUMONT"]
[null,"TELLIN"]
[null,"TEMSE"]
[null,"TENNEVILLE"]
[null,"TERNAT"]
[null,"TERVUREN"]
[null,"TESSENDERLO"]
[null,"THEUX"]
[null,"THIMISTER-CLERMONT"]
[null,"THUIN"]
[null,"TIELT"]
[null,"TIELT-WINGE"]
[null,"TIENEN"]
[null,"TINLOT"]
[null,"TINTIGNY"]
[null,"TONGEREN"]
[null,"TORHOUT"]
[null,"TOURNAI"]
[null,"TREMELO"]
[null,"TROIS-PONTS"]
[null,"TROOZ"]
[null,"TUBIZE"]
[null,"TURNHOUT"]
[null,"UCCLE"]
[null,"VAUX-SUR-SURE"]
[null,"VERLAINE"]
[null,"VERVIERS"]
[null,"VEURNE"]
[null,"VIELSALM"]
[null,"VILLERS-LA-VILLE"]
[null,"VILLERS-LE-BOUILLET"]
[null,"VILVOORDE"]
[null,"VIROINVAL"]
[null,"VIRTON"]
[null,"VISE"]
[null,"VLETEREN"]
[null,"VOEREN"]
[null,"VORSELAAR"]
[null,"VOSSELAAR"]
[null,"VRESSE-SUR-SEMOIS"]
[null,"WAARSCHOOT"]
[null,"WAASMUNSTER"]
[null,"WACHTEBEKE"]
[null,"WAIMES"]
[null,"WALCOURT"]
[null,"WALHAIN"]
[null,"WANZE"]
[null,"WAREGEM"]
[null,"WAREMME"]
[null,"WASSEIGES"]
[null,"WATERLOO"]
[null,"WATERMAEL-BOITSFORT"]
[null,"WAVRE"]
[null,"WELKENRAEDT"]
[null,"WELLEN"]
[null,"WELLIN"]
[null,"WEMMEL"]
[null,"WERVIK"]
[null,"WESTERLO"]
[null,"WETTEREN"]
[null,"WEVELGEM"]
[null,"WEZEMBEEK-OPPEM"]
[null,"WICHELEN"]
[null,"WIELSBEKE"]
[null,"WIJNEGEM"]
[null,"WILLEBROEK"]
[null,"WINGENE"]
[null,"WOLUWE-SAINT-LAMBERT"]
[null,"WOLUWE-SAINT-PIERRE"]
[null,"WOMMELGEM"]
[null,"WORTEGEM-PETEGEM"]
[null,"WUUSTWEZEL"]
[null,"YVOIR"]
[null,"ZANDHOVEN"]
[null,"ZAVENTEM"]
[null,"ZEDELGEM"]
[null,"ZELE"]
[null,"ZELZATE"]
[null,"ZEMST"]
[null,"ZINGEM"]
[null,"ZOERSEL"]
[null,"ZOMERGEM"]
[null,"ZONHOVEN"]
[null,"ZONNEBEKE"]
[null,"ZOTTEGEM"]
[null,"ZOUTLEEUW"]
[null,"ZUIENKERKE"]
[null,"ZULTE"]
[null,"ZUTENDAAL"]
[null,"ZWALM"]
[null,"ZWEVEGEM"]
[null,"ZWIJNDRECHT"]